{"text_format":"1","workbook":"xlsx","n_sheets":13,"sheets":["Mode d'emploi","Général","Bourges 05-03","Cheverny 26-03","sortie (3)","sortie (4)","sortie (5)","sortie (6)","sortie (7)","sortie (8)","sortie (9)","sortie (10)","Allocation Points"],"not_rendered":{"charts":0,"images":0,"macros":1,"external_links":0,"defined_names":11,"comments":0,"pivot_tables":0},"unopened":[],"bounds":{"document_bytes":16777216,"sheet_cells":100000,"rows_first":2000,"rows_last":500,"rows_between":2000,"halvings":0,"cell_chars":16384,"cell_head_chars":4096},"cells_cut":0,"cells_raw":0,"read":"whole","date_system":"1900"}

{"sheet":"Mode d'emploi","index":0,"n_rows":14,"n_cols":10,"rows_kept":14,"cut":false,"hidden":false,"merged":[[2,7,5,7]]}
[]
[null,"Lors d'une nouvelle sortie"]
[null,null,"Prendre une feuille non remplie",null,null,null,null,"Lignes 2 à 38 uniquement"]
[null,null,"Renseigner le golf / la date / Slope / SSS"]
[null,null,"Saisir les noms/prénoms des participants, leur index"]
[null,null,"Saisir les cartes de score"]
[]
[]
[null,null,"Les classements en NET / BRUT / STROKE sont automatiquement générés sur l'onglet de la sortie",null,null,null,null,null,null,"Lignes 45 à 77"]
[]
[null,null,"Les statistiques personnelles sont automatiquement générées dans l'onglet de la sortie",null,null,null,null,null,null,"Lignes 87 à 776"]
[]
[]
[null,null,"Le classement général en NET/BRUT/STROKE est généré automatiquement dans l'onglet \"Général\"  en cliquant sur le bouton correspondant"]

{"sheet":"Général","index":1,"n_rows":303,"n_cols":30,"rows_kept":303,"cut":false,"hidden":false,"merged":[[1,27,1,29]]}
[]
[null,null,"Classement",null,{"$f":"W4","v":"Bourges"},{"$f":"W34","v":"Cheverny"},{"$f":"W64","v":"B"},{"$f":"W94","v":"C"},{"$f":"W124","v":"D"},{"$f":"W154","v":"E"},{"$f":"W184","v":"F"},{"$f":"W214","v":"G"},{"$f":"W244","v":"H"},{"$f":"W274","v":"I"},null,null,null,null,null,null,null,null,null,null,null,null,null,"Points"]
[null,null,"STROKE","TOTAL",{"$f":"X4","v":"2022-03-05"},{"$f":"X34","v":"2022-03-26"},{"$f":"X64","v":"00:00:00"},{"$f":"X94","v":"00:00:00"},{"$f":"X125","v":"00:00:00"},{"$f":"X155","v":"00:00:00"},{"$f":"X185","v":"00:00:00"},{"$f":"X215","v":"00:00:00"},{"$f":"X245","v":"00:00:00"},{"$f":"X275","v":"00:00:00"},null,null,null,null,null,null,null,null,"Lieu","Date","Nom","Prénom","Concat","NET","BRUT","STROKE"]
[null,1,"MORALES José",{"$f":"SUM(E4:N4)","v":50},{"$f":"SUMIFS(IF($C$3=\"NET\",$AB$4:$AB$303,IF($C$3=\"BRUT\",$AC$4:$AC$303,$AD$4:$AD$303)),$W$4:$W$303,E$2,$X$4:$X$303,E$3,$AA$4:$AA$303,$C4)","v":25},25,0,0,0,0,0,0,0,0,null,null,null,null,null,null,null,null,{"$f":"'Bourges 05-03'!$D$2","v":"Bourges"},{"$f":"'Bourges 05-03'!$D$3","v":"2022-03-05"},{"$f":"'Bourges 05-03'!C9","v":"BINVAULT"},{"$f":"'Bourges 05-03'!D9","v":"Dominique"},{"$f":"CONCATENATE(Y4,\" \",Z4)","v":"BINVAULT Dominique"},{"$f":"'Bourges 05-03'!AF9","v":6},{"$f":"'Bourges 05-03'!AK9","v":2},{"$f":"'Bourges 05-03'!AP9","v":1}]
[null,2,"HERRAULT Sébastien",45,15,30,0,0,0,0,0,0,0,0,null,null,null,null,null,null,null,null,{"$f":"'Bourges 05-03'!$D$2","v":"Bourges"},{"$f":"'Bourges 05-03'!$D$3","v":"2022-03-05"},{"$f":"'Bourges 05-03'!C10","v":"CHRETIEN"},{"$f":"'Bourges 05-03'!D10","v":"Fabrice"},"CHRETIEN Fabrice",{"$f":"'Bourges 05-03'!AF10","v":1},{"$f":"'Bourges 05-03'!AK10","v":5},{"$f":"'Bourges 05-03'!AP10","v":7}]
[null,3,"DIOT Alexandre",31,20,11,0,0,0,0,0,0,0,0,null,null,null,null,null,null,null,null,{"$f":"'Bourges 05-03'!$D$2","v":"Bourges"},{"$f":"'Bourges 05-03'!$D$3","v":"2022-03-05"},{"$f":"'Bourges 05-03'!C11","v":"DELOUCHE"},{"$f":"'Bourges 05-03'!D11","v":"Yannick"},"DELOUCHE Yannick",{"$f":"'Bourges 05-03'!AF11","v":15},{"$f":"'Bourges 05-03'!AK11","v":1},{"$f":"'Bourges 05-03'!AP11","v":1}]
[null,4,"RONDEL François",30,30,0,0,0,0,0,0,0,0,0,null,null,null,null,null,null,null,null,{"$f":"'Bourges 05-03'!$D$2","v":"Bourges"},{"$f":"'Bourges 05-03'!$D$3","v":"2022-03-05"},{"$f":"'Bourges 05-03'!C12","v":"DIOT"},{"$f":"'Bourges 05-03'!D12","v":"Alexandre"},"DIOT Alexandre",{"$f":"'Bourges 05-03'!AF12","v":1},{"$f":"'Bourges 05-03'!AK12","v":20},{"$f":"'Bourges 05-03'!AP12","v":20}]
[null,5,"JACQUEMIN Franck",29,9,20,0,0,0,0,0,0,0,0,null,null,null,null,null,null,null,null,{"$f":"'Bourges 05-03'!$D$2","v":"Bourges"},{"$f":"'Bourges 05-03'!$D$3","v":"2022-03-05"},{"$f":"'Bourges 05-03'!C13","v":"GAUTHIER"},{"$f":"'Bourges 05-03'!D13","v":"Patrice"},"GAUTHIER Patrice",{"$f":"'Bourges 05-03'!AF13","v":8},{"$f":"'Bourges 05-03'!AK13","v":7},{"$f":"'Bourges 05-03'!AP13","v":8}]
[null,6,"ZIAR Yacine",21,10,11,0,0,0,0,0,0,0,0,null,null,null,null,null,null,null,null,{"$f":"'Bourges 05-03'!$D$2","v":"Bourges"},{"$f":"'Bourges 05-03'!$D$3","v":"2022-03-05"},{"$f":"'Bourges 05-03'!C14","v":"HERRAULT"},{"$f":"'Bourges 05-03'!D14","v":"Sébastien"},"HERRAULT Sébastien",{"$f":"'Bourges 05-03'!AF14","v":2},{"$f":"'Bourges 05-03'!AK14","v":12},{"$f":"'Bourges 05-03'!AP14","v":15}]
[null,7,"VERRIER Alexandre",17,6,11,0,0,0,0,0,0,0,0,null,null,null,null,null,null,null,null,{"$f":"'Bourges 05-03'!$D$2","v":"Bourges"},{"$f":"'Bourges 05-03'!$D$3","v":"2022-03-05"},{"$f":"'Bourges 05-03'!C15","v":"HODEAU"},{"$f":"'Bourges 05-03'!D15","v":"Cédric"},"HODEAU Cédric",{"$f":"'Bourges 05-03'!AF15","v":27},{"$f":"'Bourges 05-03'!AK15","v":4},{"$f":"'Bourges 05-03'!AP15","v":4}]
[null,8,"CHRETIEN Fabrice",13,7,6,0,0,0,0,0,0,0,0,null,null,null,null,null,null,null,null,{"$f":"'Bourges 05-03'!$D$2","v":"Bourges"},{"$f":"'Bourges 05-03'!$D$3","v":"2022-03-05"},{"$f":"'Bourges 05-03'!C16","v":"JACQUEMIN"},{"$f":"'Bourges 05-03'!D16","v":"Franck"},"JACQUEMIN Franck",{"$f":"'Bourges 05-03'!AF16","v":5},{"$f":"'Bourges 05-03'!AK16","v":9},{"$f":"'Bourges 05-03'!AP16","v":9}]
[null,9,"GAUTHIER Patrice",8,8,0,0,0,0,0,0,0,0,0,null,null,null,null,null,null,null,null,{"$f":"'Bourges 05-03'!$D$2","v":"Bourges"},{"$f":"'Bourges 05-03'!$D$3","v":"2022-03-05"},{"$f":"'Bourges 05-03'!C17","v":"LEFEU"},{"$f":"'Bourges 05-03'!D17","v":"Jean-Marie"},"LEFEU Jean-Marie",{"$f":"'Bourges 05-03'!AF17","v":1},{"$f":"'Bourges 05-03'!AK17","v":1},{"$f":"'Bourges 05-03'!AP17","v":1}]
[null,10,"HODEAU Cédric",8,4,4,0,0,0,0,0,0,0,0,null,null,null,null,null,null,null,null,{"$f":"'Bourges 05-03'!$D$2","v":"Bourges"},{"$f":"'Bourges 05-03'!$D$3","v":"2022-03-05"},{"$f":"'Bourges 05-03'!C18","v":"LEVEQUE"},{"$f":"'Bourges 05-03'!D18","v":"Claude"},"LEVEQUE Claude",{"$f":"'Bourges 05-03'!AF18","v":1},{"$f":"'Bourges 05-03'!AK18","v":1},{"$f":"'Bourges 05-03'!AP18","v":1}]
[null,11,"VIALLETON Loïc",8,{"$f":"SUMIFS(IF($C$3=\"NET\",$AB$4:$AB$303,IF($C$3=\"BRUT\",$AC$4:$AC$303,$AD$4:$AD$303)),$W$4:$W$303,E$2,$X$4:$X$303,E$3,$AA$4:$AA$303,$C14)","v":0},8,0,0,0,0,0,0,0,0,null,null,null,null,null,null,null,null,{"$f":"'Bourges 05-03'!$D$2","v":"Bourges"},{"$f":"'Bourges 05-03'!$D$3","v":"2022-03-05"},{"$f":"'Bourges 05-03'!C19","v":"MICHEL"},{"$f":"'Bourges 05-03'!D19","v":"Eric"},"MICHEL Eric",{"$f":"'Bourges 05-03'!AF19","v":20},{"$f":"'Bourges 05-03'!AK19","v":1},{"$f":"'Bourges 05-03'!AP19","v":1}]
[null,12,"MAITRE Benoît",7,0,7,0,0,0,0,0,0,0,0,null,null,null,null,null,null,null,null,{"$f":"'Bourges 05-03'!$D$2","v":"Bourges"},{"$f":"'Bourges 05-03'!$D$3","v":"2022-03-05"},{"$f":"'Bourges 05-03'!C20","v":"MORALES"},{"$f":"'Bourges 05-03'!D20","v":"José"},"MORALES José",{"$f":"'Bourges 05-03'!AF20","v":9},{"$f":"'Bourges 05-03'!AK20","v":25},{"$f":"'Bourges 05-03'!AP20","v":25}]
[null,13,"ROBERT Jean-Christophe",6,5,1,0,0,0,0,0,0,0,0,null,null,null,null,null,null,null,null,{"$f":"'Bourges 05-03'!$D$2","v":"Bourges"},{"$f":"'Bourges 05-03'!$D$3","v":"2022-03-05"},{"$f":"'Bourges 05-03'!C21","v":"NOTTIN"},{"$f":"'Bourges 05-03'!D21","v":"Eric"},"NOTTIN Eric",{"$f":"'Bourges 05-03'!AF21","v":9},{"$f":"'Bourges 05-03'!AK21","v":2},{"$f":"'Bourges 05-03'!AP21","v":3}]
[null,14,"FARE Loïc",5,0,5,0,0,0,0,0,0,0,0,null,null,null,null,null,null,null,null,{"$f":"'Bourges 05-03'!$D$2","v":"Bourges"},{"$f":"'Bourges 05-03'!$D$3","v":"2022-03-05"},{"$f":"'Bourges 05-03'!C22","v":"ROBERT"},{"$f":"'Bourges 05-03'!D22","v":"Jean-Christophe"},"ROBERT Jean-Christophe",{"$f":"'Bourges 05-03'!AF22","v":4},{"$f":"'Bourges 05-03'!AK22","v":5},{"$f":"'Bourges 05-03'!AP22","v":5}]
[null,15,"NOTTIN Eric",3,3,0,0,0,0,0,0,0,0,0,null,null,null,null,null,null,null,null,{"$f":"'Bourges 05-03'!$D$2","v":"Bourges"},{"$f":"'Bourges 05-03'!$D$3","v":"2022-03-05"},{"$f":"'Bourges 05-03'!C23","v":"RONDEL"},{"$f":"'Bourges 05-03'!D23","v":"François"},"RONDEL François",{"$f":"'Bourges 05-03'!AF23","v":3},{"$f":"'Bourges 05-03'!AK23","v":30},{"$f":"'Bourges 05-03'!AP23","v":30}]
[null,16,"DAVID Paul",3,0,3,0,0,0,0,0,0,0,0,null,null,null,null,null,null,null,null,{"$f":"'Bourges 05-03'!$D$2","v":"Bourges"},{"$f":"'Bourges 05-03'!$D$3","v":"2022-03-05"},{"$f":"'Bourges 05-03'!C24","v":"VERRIER"},{"$f":"'Bourges 05-03'!D24","v":"Alexandre"},"VERRIER Alexandre",{"$f":"'Bourges 05-03'!AF24","v":1},{"$f":"'Bourges 05-03'!AK24","v":8},{"$f":"'Bourges 05-03'!AP24","v":6}]
[null,17,"BINVAULT Dominique",2,1,1,0,0,0,0,0,0,0,0,null,null,null,null,null,null,null,null,{"$f":"'Bourges 05-03'!$D$2","v":"Bourges"},{"$f":"'Bourges 05-03'!$D$3","v":"2022-03-05"},{"$f":"'Bourges 05-03'!C25","v":"VICENTE"},{"$f":"'Bourges 05-03'!D25","v":"Paulo"},"VICENTE Paulo",{"$f":"'Bourges 05-03'!AF25","v":27},{"$f":"'Bourges 05-03'!AK25","v":1},{"$f":"'Bourges 05-03'!AP25","v":1}]
[null,18,"DELOUCHE Yannick",2,1,1,0,0,0,0,0,0,0,0,null,null,null,null,null,null,null,null,{"$f":"'Bourges 05-03'!$D$2","v":"Bourges"},{"$f":"'Bourges 05-03'!$D$3","v":"2022-03-05"},{"$f":"'Bourges 05-03'!C26","v":"ZIAR"},{"$f":"'Bourges 05-03'!D26","v":"Yacine"},"ZIAR Yacine",{"$f":"'Bourges 05-03'!AF26","v":6},{"$f":"'Bourges 05-03'!AK26","v":12},{"$f":"'Bourges 05-03'!AP26","v":10}]
[null,19,"LEFEU Jean-Marie",2,1,1,0,0,0,0,0,0,0,0,null,null,null,null,null,null,null,null,{"$f":"'Bourges 05-03'!$D$2","v":"Bourges"},{"$f":"'Bourges 05-03'!$D$3","v":"2022-03-05"},{"$f":"'Bourges 05-03'!C27","v":0},{"$f":"'Bourges 05-03'!D27","v":0},"0 0",{"$f":"'Bourges 05-03'!AF27","v":0},{"$f":"'Bourges 05-03'!AK27","v":0},{"$f":"'Bourges 05-03'!AP27","v":0}]
[null,20,"LEVEQUE Claude",2,1,1,0,0,0,0,0,0,0,0,null,null,null,null,null,null,null,null,{"$f":"'Bourges 05-03'!$D$2","v":"Bourges"},{"$f":"'Bourges 05-03'!$D$3","v":"2022-03-05"},{"$f":"'Bourges 05-03'!C28","v":0},{"$f":"'Bourges 05-03'!D28","v":0},"0 0",{"$f":"'Bourges 05-03'!AF28","v":0},{"$f":"'Bourges 05-03'!AK28","v":0},{"$f":"'Bourges 05-03'!AP28","v":0}]
[null,21,"MICHEL Eric",2,{"$f":"SUMIFS(IF($C$3=\"NET\",$AB$4:$AB$303,IF($C$3=\"BRUT\",$AC$4:$AC$303,$AD$4:$AD$303)),$W$4:$W$303,E$2,$X$4:$X$303,E$3,$AA$4:$AA$303,$C24)","v":1},1,0,0,0,0,0,0,0,0,null,null,null,null,null,null,null,null,{"$f":"'Bourges 05-03'!$D$2","v":"Bourges"},{"$f":"'Bourges 05-03'!$D$3","v":"2022-03-05"},{"$f":"'Bourges 05-03'!C29","v":0},{"$f":"'Bourges 05-03'!D29","v":0},"0 0",{"$f":"'Bourges 05-03'!AF29","v":0},{"$f":"'Bourges 05-03'!AK29","v":0},{"$f":"'Bourges 05-03'!AP29","v":0}]
[null,22,"VICENTE Paulo",2,1,1,0,0,0,0,0,0,0,0,null,null,null,null,null,null,null,null,{"$f":"'Bourges 05-03'!$D$2","v":"Bourges"},{"$f":"'Bourges 05-03'!$D$3","v":"2022-03-05"},{"$f":"'Bourges 05-03'!C30","v":0},{"$f":"'Bourges 05-03'!D30","v":0},"0 0",{"$f":"'Bourges 05-03'!AF30","v":0},{"$f":"'Bourges 05-03'!AK30","v":0},{"$f":"'Bourges 05-03'!AP30","v":0}]
[null,23,"LANDIER Marc",1,0,1,0,0,0,0,0,0,0,0,null,null,null,null,null,null,null,null,{"$f":"'Bourges 05-03'!$D$2","v":"Bourges"},{"$f":"'Bourges 05-03'!$D$3","v":"2022-03-05"},{"$f":"'Bourges 05-03'!C31","v":0},{"$f":"'Bourges 05-03'!D31","v":0},"0 0",{"$f":"'Bourges 05-03'!AF31","v":0},{"$f":"'Bourges 05-03'!AK31","v":0},{"$f":"'Bourges 05-03'!AP31","v":0}]
[null,24,"VILLATTE Joël",1,0,1,0,0,0,0,0,0,0,0,null,null,null,null,null,null,null,null,{"$f":"'Bourges 05-03'!$D$2","v":"Bourges"},{"$f":"'Bourges 05-03'!$D$3","v":"2022-03-05"},{"$f":"'Bourges 05-03'!C32","v":0},{"$f":"'Bourges 05-03'!D32","v":0},"0 0",{"$f":"'Bourges 05-03'!AF32","v":0},{"$f":"'Bourges 05-03'!AK32","v":0},{"$f":"'Bourges 05-03'!AP32","v":0}]
[null,25,"PORTRON Inès",1,0,1,0,0,0,0,0,0,0,0,null,null,null,null,null,null,null,null,{"$f":"'Bourges 05-03'!$D$2","v":"Bourges"},{"$f":"'Bourges 05-03'!$D$3","v":"2022-03-05"},{"$f":"'Bourges 05-03'!C33","v":0},{"$f":"'Bourges 05-03'!D33","v":0},"0 0",{"$f":"'Bourges 05-03'!AF33","v":0},{"$f":"'Bourges 05-03'!AK33","v":0},{"$f":"'Bourges 05-03'!AP33","v":0}]
[null,26,"LAHOREAU Patrice",1,0,1,0,0,0,0,0,0,0,0,null,null,null,null,null,null,null,null,{"$f":"'Bourges 05-03'!$D$2","v":"Bourges"},{"$f":"'Bourges 05-03'!$D$3","v":"2022-03-05"},{"$f":"'Bourges 05-03'!C34","v":0},{"$f":"'Bourges 05-03'!D34","v":0},"0 0",{"$f":"'Bourges 05-03'!AF34","v":0},{"$f":"'Bourges 05-03'!AK34","v":0},{"$f":"'Bourges 05-03'!AP34","v":0}]
[null,27,"0 0",0,0,0,0,0,0,0,0,0,0,0,null,null,null,null,null,null,null,null,{"$f":"'Bourges 05-03'!$D$2","v":"Bourges"},{"$f":"'Bourges 05-03'!$D$3","v":"2022-03-05"},{"$f":"'Bourges 05-03'!C35","v":0},{"$f":"'Bourges 05-03'!D35","v":0},"0 0",{"$f":"'Bourges 05-03'!AF35","v":0},{"$f":"'Bourges 05-03'!AK35","v":0},{"$f":"'Bourges 05-03'!AP35","v":0}]
[null,28,null,0,0,0,0,0,0,0,0,0,0,0,null,null,null,null,null,null,null,null,{"$f":"'Bourges 05-03'!$D$2","v":"Bourges"},{"$f":"'Bourges 05-03'!$D$3","v":"2022-03-05"},{"$f":"'Bourges 05-03'!C36","v":0},{"$f":"'Bourges 05-03'!D36","v":0},"0 0",{"$f":"'Bourges 05-03'!AF36","v":0},{"$f":"'Bourges 05-03'!AK36","v":0},{"$f":"'Bourges 05-03'!AP36","v":0}]
[null,29,null,0,0,0,0,0,0,0,0,0,0,0,null,null,null,null,null,null,null,null,{"$f":"'Bourges 05-03'!$D$2","v":"Bourges"},{"$f":"'Bourges 05-03'!$D$3","v":"2022-03-05"},{"$f":"'Bourges 05-03'!C37","v":0},{"$f":"'Bourges 05-03'!D37","v":0},"0 0",{"$f":"'Bourges 05-03'!AF37","v":0},{"$f":"'Bourges 05-03'!AK37","v":0},{"$f":"'Bourges 05-03'!AP37","v":0}]
[null,30,null,0,0,0,0,0,0,0,0,0,0,0,null,null,null,null,null,null,null,null,{"$f":"'Bourges 05-03'!$D$2","v":"Bourges"},{"$f":"'Bourges 05-03'!$D$3","v":"2022-03-05"},{"$f":"'Bourges 05-03'!C38","v":0},{"$f":"'Bourges 05-03'!D38","v":0},"0 0",{"$f":"'Bourges 05-03'!AF38","v":0},{"$f":"'Bourges 05-03'!AK38","v":0},{"$f":"'Bourges 05-03'!AP38","v":0}]
[null,31,null,0,{"$f":"SUMIFS(IF($C$3=\"NET\",$AB$4:$AB$303,IF($C$3=\"BRUT\",$AC$4:$AC$303,$AD$4:$AD$303)),$W$4:$W$303,E$2,$X$4:$X$303,E$3,$AA$4:$AA$303,$C34)","v":0},0,0,0,0,0,0,0,0,0,null,null,null,null,null,null,null,null,{"$f":"'Cheverny 26-03'!$D$2","v":"Cheverny"},{"$f":"'Cheverny 26-03'!$D$3","v":"2022-03-26"},{"$f":"'Cheverny 26-03'!C9","v":"CHRETIEN"},{"$f":"'Cheverny 26-03'!D9","v":"Fabrice"},"CHRETIEN Fabrice",{"$f":"'Cheverny 26-03'!AF9","v":1},{"$f":"'Cheverny 26-03'!AK9","v":6},{"$f":"'Cheverny 26-03'!AP9","v":6}]
[null,32,null,0,0,0,0,0,0,0,0,0,0,0,null,null,null,null,null,null,null,null,{"$f":"'Cheverny 26-03'!$D$2","v":"Cheverny"},{"$f":"'Cheverny 26-03'!$D$3","v":"2022-03-26"},{"$f":"'Cheverny 26-03'!C10","v":"DELOUCHE"},{"$f":"'Cheverny 26-03'!D10","v":"Yannick"},"DELOUCHE Yannick",{"$f":"'Cheverny 26-03'!AF10","v":15},{"$f":"'Cheverny 26-03'!AK10","v":1},{"$f":"'Cheverny 26-03'!AP10","v":1}]
[null,33,null,{"$f":"SUM(E36:N36)","v":0},0,0,0,0,0,0,0,0,0,0,null,null,null,null,null,null,null,null,{"$f":"'Cheverny 26-03'!$D$2","v":"Cheverny"},{"$f":"'Cheverny 26-03'!$D$3","v":"2022-03-26"},{"$f":"'Cheverny 26-03'!C11","v":"LANDIER"},{"$f":"'Cheverny 26-03'!D11","v":"Marc"},{"$f":"CONCATENATE(Y36,\" \",Z36)","v":"LANDIER Marc"},{"$f":"'Cheverny 26-03'!AF11","v":1},{"$f":"'Cheverny 26-03'!AK11","v":1},{"$f":"'Cheverny 26-03'!AP11","v":1}]
[null,34,null,0,0,0,0,0,0,0,0,0,0,0,null,null,null,null,null,null,null,null,{"$f":"'Cheverny 26-03'!$D$2","v":"Cheverny"},{"$f":"'Cheverny 26-03'!$D$3","v":"2022-03-26"},{"$f":"'Cheverny 26-03'!C12","v":"HODEAU"},{"$f":"'Cheverny 26-03'!D12","v":"Cédric"},"HODEAU Cédric",{"$f":"'Cheverny 26-03'!AF12","v":25},{"$f":"'Cheverny 26-03'!AK12","v":5},{"$f":"'Cheverny 26-03'!AP12","v":4}]
[null,35,null,0,0,0,0,0,0,0,0,0,0,0,null,null,null,null,null,null,null,null,{"$f":"'Cheverny 26-03'!$D$2","v":"Cheverny"},{"$f":"'Cheverny 26-03'!$D$3","v":"2022-03-26"},{"$f":"'Cheverny 26-03'!C13","v":"FARE"},{"$f":"'Cheverny 26-03'!D13","v":"Loïc"},"FARE Loïc",{"$f":"'Cheverny 26-03'!AF13","v":6},{"$f":"'Cheverny 26-03'!AK13","v":4},{"$f":"'Cheverny 26-03'!AP13","v":5}]
[null,36,null,0,0,0,0,0,0,0,0,0,0,0,null,null,null,null,null,null,null,null,{"$f":"'Cheverny 26-03'!$D$2","v":"Cheverny"},{"$f":"'Cheverny 26-03'!$D$3","v":"2022-03-26"},{"$f":"'Cheverny 26-03'!C14","v":"MORALES"},{"$f":"'Cheverny 26-03'!D14","v":"José"},"MORALES José",{"$f":"'Cheverny 26-03'!AF14","v":6},{"$f":"'Cheverny 26-03'!AK14","v":25},{"$f":"'Cheverny 26-03'!AP14","v":25}]
[null,37,null,0,0,0,0,0,0,0,0,0,0,0,null,null,null,null,null,null,null,null,{"$f":"'Cheverny 26-03'!$D$2","v":"Cheverny"},{"$f":"'Cheverny 26-03'!$D$3","v":"2022-03-26"},{"$f":"'Cheverny 26-03'!C15","v":"ROBERT"},{"$f":"'Cheverny 26-03'!D15","v":"Jean-Christophe"},"ROBERT Jean-Christophe",{"$f":"'Cheverny 26-03'!AF15","v":1},{"$f":"'Cheverny 26-03'!AK15","v":2},{"$f":"'Cheverny 26-03'!AP15","v":1}]
[null,38,null,0,0,0,0,0,0,0,0,0,0,0,null,null,null,null,null,null,null,null,{"$f":"'Cheverny 26-03'!$D$2","v":"Cheverny"},{"$f":"'Cheverny 26-03'!$D$3","v":"2022-03-26"},{"$f":"'Cheverny 26-03'!C16","v":"BINVAULT"},{"$f":"'Cheverny 26-03'!D16","v":"Dominique"},"BINVAULT Dominique",{"$f":"'Cheverny 26-03'!AF16","v":1},{"$f":"'Cheverny 26-03'!AK16","v":1},{"$f":"'Cheverny 26-03'!AP16","v":1}]
[null,39,null,0,0,0,0,0,0,0,0,0,0,0,null,null,null,null,null,null,null,null,{"$f":"'Cheverny 26-03'!$D$2","v":"Cheverny"},{"$f":"'Cheverny 26-03'!$D$3","v":"2022-03-26"},{"$f":"'Cheverny 26-03'!C17","v":"DIOT"},{"$f":"'Cheverny 26-03'!D17","v":"Alexandre"},"DIOT Alexandre",{"$f":"'Cheverny 26-03'!AF17","v":1},{"$f":"'Cheverny 26-03'!AK17","v":12},{"$f":"'Cheverny 26-03'!AP17","v":11}]
[null,40,null,0,0,0,0,0,0,0,0,0,0,0,null,null,null,null,null,null,null,null,{"$f":"'Cheverny 26-03'!$D$2","v":"Cheverny"},{"$f":"'Cheverny 26-03'!$D$3","v":"2022-03-26"},{"$f":"'Cheverny 26-03'!C18","v":"VILLATTE"},{"$f":"'Cheverny 26-03'!D18","v":"Joël"},"VILLATTE Joël",{"$f":"'Cheverny 26-03'!AF18","v":1},{"$f":"'Cheverny 26-03'!AK18","v":1},{"$f":"'Cheverny 26-03'!AP18","v":1}]
[null,41,null,0,{"$f":"SUMIFS(IF($C$3=\"NET\",$AB$4:$AB$303,IF($C$3=\"BRUT\",$AC$4:$AC$303,$AD$4:$AD$303)),$W$4:$W$303,E$2,$X$4:$X$303,E$3,$AA$4:$AA$303,$C44)","v":0},0,0,0,0,0,0,0,0,0,null,null,null,null,null,null,null,null,{"$f":"'Cheverny 26-03'!$D$2","v":"Cheverny"},{"$f":"'Cheverny 26-03'!$D$3","v":"2022-03-26"},{"$f":"'Cheverny 26-03'!C19","v":"VICENTE"},{"$f":"'Cheverny 26-03'!D19","v":"Paulo"},"VICENTE Paulo",{"$f":"'Cheverny 26-03'!AF19","v":30},{"$f":"'Cheverny 26-03'!AK19","v":1},{"$f":"'Cheverny 26-03'!AP19","v":1}]
[null,42,null,0,0,0,0,0,0,0,0,0,0,0,null,null,null,null,null,null,null,null,{"$f":"'Cheverny 26-03'!$D$2","v":"Cheverny"},{"$f":"'Cheverny 26-03'!$D$3","v":"2022-03-26"},{"$f":"'Cheverny 26-03'!C20","v":"HERRAULT"},{"$f":"'Cheverny 26-03'!D20","v":"Sébastien"},"HERRAULT Sébastien",{"$f":"'Cheverny 26-03'!AF20","v":6},{"$f":"'Cheverny 26-03'!AK20","v":30},{"$f":"'Cheverny 26-03'!AP20","v":30}]
[null,43,null,0,0,0,0,0,0,0,0,0,0,0,null,null,null,null,null,null,null,null,{"$f":"'Cheverny 26-03'!$D$2","v":"Cheverny"},{"$f":"'Cheverny 26-03'!$D$3","v":"2022-03-26"},{"$f":"'Cheverny 26-03'!C21","v":"MAITRE"},{"$f":"'Cheverny 26-03'!D21","v":"Benoît"},"MAITRE Benoît",{"$f":"'Cheverny 26-03'!AF21","v":9},{"$f":"'Cheverny 26-03'!AK21","v":7},{"$f":"'Cheverny 26-03'!AP21","v":7}]
[null,44,null,0,0,0,0,0,0,0,0,0,0,0,null,null,null,null,null,null,null,null,{"$f":"'Cheverny 26-03'!$D$2","v":"Cheverny"},{"$f":"'Cheverny 26-03'!$D$3","v":"2022-03-26"},{"$f":"'Cheverny 26-03'!C22","v":"LEVEQUE"},{"$f":"'Cheverny 26-03'!D22","v":"Claude"},"LEVEQUE Claude",{"$f":"'Cheverny 26-03'!AF22","v":1},{"$f":"'Cheverny 26-03'!AK22","v":1},{"$f":"'Cheverny 26-03'!AP22","v":1}]
[null,45,null,0,0,0,0,0,0,0,0,0,0,0,null,null,null,null,null,null,null,null,{"$f":"'Cheverny 26-03'!$D$2","v":"Cheverny"},{"$f":"'Cheverny 26-03'!$D$3","v":"2022-03-26"},{"$f":"'Cheverny 26-03'!C23","v":"VERRIER"},{"$f":"'Cheverny 26-03'!D23","v":"Alexandre"},"VERRIER Alexandre",{"$f":"'Cheverny 26-03'!AF23","v":3},{"$f":"'Cheverny 26-03'!AK23","v":9},{"$f":"'Cheverny 26-03'!AP23","v":11}]
[null,46,null,0,0,0,0,0,0,0,0,0,0,0,null,null,null,null,null,null,null,null,{"$f":"'Cheverny 26-03'!$D$2","v":"Cheverny"},{"$f":"'Cheverny 26-03'!$D$3","v":"2022-03-26"},{"$f":"'Cheverny 26-03'!C24","v":"MICHEL"},{"$f":"'Cheverny 26-03'!D24","v":"Eric"},"MICHEL Eric",{"$f":"'Cheverny 26-03'!AF24","v":9},{"$f":"'Cheverny 26-03'!AK24","v":1},{"$f":"'Cheverny 26-03'!AP24","v":1}]
[null,47,null,0,0,0,0,0,0,0,0,0,0,0,null,null,null,null,null,null,null,null,{"$f":"'Cheverny 26-03'!$D$2","v":"Cheverny"},{"$f":"'Cheverny 26-03'!$D$3","v":"2022-03-26"},{"$f":"'Cheverny 26-03'!C25","v":"PORTRON"},{"$f":"'Cheverny 26-03'!D25","v":"Inès"},"PORTRON Inès",{"$f":"'Cheverny 26-03'!AF25","v":3},{"$f":"'Cheverny 26-03'!AK25","v":1},{"$f":"'Cheverny 26-03'!AP25","v":1}]
[null,48,null,0,0,0,0,0,0,0,0,0,0,0,null,null,null,null,null,null,null,null,{"$f":"'Cheverny 26-03'!$D$2","v":"Cheverny"},{"$f":"'Cheverny 26-03'!$D$3","v":"2022-03-26"},{"$f":"'Cheverny 26-03'!C26","v":"VIALLETON"},{"$f":"'Cheverny 26-03'!D26","v":"Loïc"},"VIALLETON Loïc",{"$f":"'Cheverny 26-03'!AF26","v":2},{"$f":"'Cheverny 26-03'!AK26","v":8},{"$f":"'Cheverny 26-03'!AP26","v":8}]
[null,49,null,0,0,0,0,0,0,0,0,0,0,0,null,null,null,null,null,null,null,null,{"$f":"'Cheverny 26-03'!$D$2","v":"Cheverny"},{"$f":"'Cheverny 26-03'!$D$3","v":"2022-03-26"},{"$f":"'Cheverny 26-03'!C27","v":"DAVID"},{"$f":"'Cheverny 26-03'!D27","v":"Paul"},"DAVID Paul",{"$f":"'Cheverny 26-03'!AF27","v":1},{"$f":"'Cheverny 26-03'!AK27","v":3},{"$f":"'Cheverny 26-03'!AP27","v":3}]
[null,50,null,0,0,0,0,0,0,0,0,0,0,0,null,null,null,null,null,null,null,null,{"$f":"'Cheverny 26-03'!$D$2","v":"Cheverny"},{"$f":"'Cheverny 26-03'!$D$3","v":"2022-03-26"},{"$f":"'Cheverny 26-03'!C28","v":"LEFEU"},{"$f":"'Cheverny 26-03'!D28","v":"Jean-Marie"},"LEFEU Jean-Marie",{"$f":"'Cheverny 26-03'!AF28","v":1},{"$f":"'Cheverny 26-03'!AK28","v":1},{"$f":"'Cheverny 26-03'!AP28","v":1}]
[null,51,null,0,{"$f":"SUMIFS(IF($C$3=\"NET\",$AB$4:$AB$303,IF($C$3=\"BRUT\",$AC$4:$AC$303,$AD$4:$AD$303)),$W$4:$W$303,E$2,$X$4:$X$303,E$3,$AA$4:$AA$303,$C54)","v":0},0,0,0,0,0,0,0,0,0,null,null,null,null,null,null,null,null,{"$f":"'Cheverny 26-03'!$D$2","v":"Cheverny"},{"$f":"'Cheverny 26-03'!$D$3","v":"2022-03-26"},{"$f":"'Cheverny 26-03'!C29","v":"ZIAR"},{"$f":"'Cheverny 26-03'!D29","v":"Yacine"},"ZIAR Yacine",{"$f":"'Cheverny 26-03'!AF29","v":6},{"$f":"'Cheverny 26-03'!AK29","v":12},{"$f":"'Cheverny 26-03'!AP29","v":11}]
[null,52,null,0,0,0,0,0,0,0,0,0,0,0,null,null,null,null,null,null,null,null,{"$f":"'Cheverny 26-03'!$D$2","v":"Cheverny"},{"$f":"'Cheverny 26-03'!$D$3","v":"2022-03-26"},{"$f":"'Cheverny 26-03'!C30","v":"JACQUEMIN"},{"$f":"'Cheverny 26-03'!D30","v":"Franck"},"JACQUEMIN Franck",{"$f":"'Cheverny 26-03'!AF30","v":20},{"$f":"'Cheverny 26-03'!AK30","v":20},{"$f":"'Cheverny 26-03'!AP30","v":20}]
[null,53,null,0,0,0,0,0,0,0,0,0,0,0,null,null,null,null,null,null,null,null,{"$f":"'Cheverny 26-03'!$D$2","v":"Cheverny"},{"$f":"'Cheverny 26-03'!$D$3","v":"2022-03-26"},{"$f":"'Cheverny 26-03'!C31","v":"LAHOREAU"},{"$f":"'Cheverny 26-03'!D31","v":"Patrice"},"LAHOREAU Patrice",{"$f":"'Cheverny 26-03'!AF31","v":1},{"$f":"'Cheverny 26-03'!AK31","v":1},{"$f":"'Cheverny 26-03'!AP31","v":1}]
[null,54,null,0,0,0,0,0,0,0,0,0,0,0,null,null,null,null,null,null,null,null,{"$f":"'Cheverny 26-03'!$D$2","v":"Cheverny"},{"$f":"'Cheverny 26-03'!$D$3","v":"2022-03-26"},{"$f":"'Cheverny 26-03'!C32","v":0},{"$f":"'Cheverny 26-03'!D32","v":0},"0 0",{"$f":"'Cheverny 26-03'!AF32","v":0},{"$f":"'Cheverny 26-03'!AK32","v":0},{"$f":"'Cheverny 26-03'!AP32","v":0}]
[null,55,null,0,0,0,0,0,0,0,0,0,0,0,null,null,null,null,null,null,null,null,{"$f":"'Cheverny 26-03'!$D$2","v":"Cheverny"},{"$f":"'Cheverny 26-03'!$D$3","v":"2022-03-26"},{"$f":"'Cheverny 26-03'!C33","v":0},{"$f":"'Cheverny 26-03'!D33","v":0},"0 0",{"$f":"'Cheverny 26-03'!AF33","v":0},{"$f":"'Cheverny 26-03'!AK33","v":0},{"$f":"'Cheverny 26-03'!AP33","v":0}]
[null,56,null,0,0,0,0,0,0,0,0,0,0,0,null,null,null,null,null,null,null,null,{"$f":"'Cheverny 26-03'!$D$2","v":"Cheverny"},{"$f":"'Cheverny 26-03'!$D$3","v":"2022-03-26"},{"$f":"'Cheverny 26-03'!C34","v":0},{"$f":"'Cheverny 26-03'!D34","v":0},"0 0",{"$f":"'Cheverny 26-03'!AF34","v":0},{"$f":"'Cheverny 26-03'!AK34","v":0},{"$f":"'Cheverny 26-03'!AP34","v":0}]
[null,57,null,0,0,0,0,0,0,0,0,0,0,0,null,null,null,null,null,null,null,null,{"$f":"'Cheverny 26-03'!$D$2","v":"Cheverny"},{"$f":"'Cheverny 26-03'!$D$3","v":"2022-03-26"},{"$f":"'Cheverny 26-03'!C35","v":0},{"$f":"'Cheverny 26-03'!D35","v":0},"0 0",{"$f":"'Cheverny 26-03'!AF35","v":0},{"$f":"'Cheverny 26-03'!AK35","v":0},{"$f":"'Cheverny 26-03'!AP35","v":0}]
[null,58,null,0,0,0,0,0,0,0,0,0,0,0,null,null,null,null,null,null,null,null,{"$f":"'Cheverny 26-03'!$D$2","v":"Cheverny"},{"$f":"'Cheverny 26-03'!$D$3","v":"2022-03-26"},{"$f":"'Cheverny 26-03'!C36","v":0},{"$f":"'Cheverny 26-03'!D36","v":0},"0 0",{"$f":"'Cheverny 26-03'!AF36","v":0},{"$f":"'Cheverny 26-03'!AK36","v":0},{"$f":"'Cheverny 26-03'!AP36","v":0}]
[null,59,null,0,0,0,0,0,0,0,0,0,0,0,null,null,null,null,null,null,null,null,{"$f":"'Cheverny 26-03'!$D$2","v":"Cheverny"},{"$f":"'Cheverny 26-03'!$D$3","v":"2022-03-26"},{"$f":"'Cheverny 26-03'!C37","v":0},{"$f":"'Cheverny 26-03'!D37","v":0},"0 0",{"$f":"'Cheverny 26-03'!AF37","v":0},{"$f":"'Cheverny 26-03'!AK37","v":0},{"$f":"'Cheverny 26-03'!AP37","v":0}]
[null,60,null,0,0,0,0,0,0,0,0,0,0,0,null,null,null,null,null,null,null,null,{"$f":"'Cheverny 26-03'!$D$2","v":"Cheverny"},{"$f":"'Cheverny 26-03'!$D$3","v":"2022-03-26"},{"$f":"'Cheverny 26-03'!C38","v":0},{"$f":"'Cheverny 26-03'!D38","v":0},"0 0",{"$f":"'Cheverny 26-03'!AF38","v":0},{"$f":"'Cheverny 26-03'!AK38","v":0},{"$f":"'Cheverny 26-03'!AP38","v":0}]
[null,61,null,0,0,0,0,0,0,0,0,0,0,0,null,null,null,null,null,null,null,null,{"$f":"'sortie (3)'!$D$2","v":"B"},{"$f":"'sortie (3)'!$D$3","v":"00:00:00"},{"$f":"'sortie (3)'!C9","v":0},{"$f":"'sortie (3)'!D9","v":0},"0 0",{"$f":"'sortie (3)'!AF9","v":0},{"$f":"'sortie (3)'!AK9","v":0},{"$f":"'sortie (3)'!AP9","v":0}]
[null,62,null,0,0,0,0,0,0,0,0,0,0,0,null,null,null,null,null,null,null,null,{"$f":"'sortie (3)'!$D$2","v":"B"},{"$f":"'sortie (3)'!$D$3","v":"00:00:00"},{"$f":"'sortie (3)'!C10","v":0},{"$f":"'sortie (3)'!D10","v":0},"0 0",{"$f":"'sortie (3)'!AF10","v":0},{"$f":"'sortie (3)'!AK10","v":0},{"$f":"'sortie (3)'!AP10","v":0}]
[null,null,null,null,null,null,null,null,null,null,null,null,null,null,null,null,null,null,null,null,null,null,{"$f":"'sortie (3)'!$D$2","v":"B"},{"$f":"'sortie (3)'!$D$3","v":"00:00:00"},{"$f":"'sortie (3)'!C11","v":0},{"$f":"'sortie (3)'!D11","v":0},{"$f":"CONCATENATE(Y66,\" \",Z66)","v":"0 0"},{"$f":"'sortie (3)'!AF11","v":0},{"$f":"'sortie (3)'!AK11","v":0},{"$f":"'sortie (3)'!AP11","v":0}]
[null,null,null,null,null,null,null,null,null,null,null,null,null,null,null,null,null,null,null,null,null,null,{"$f":"'sortie (3)'!$D$2","v":"B"},{"$f":"'sortie (3)'!$D$3","v":"00:00:00"},{"$f":"'sortie (3)'!C12","v":0},{"$f":"'sortie (3)'!D12","v":0},"0 0",{"$f":"'sortie (3)'!AF12","v":0},{"$f":"'sortie (3)'!AK12","v":0},{"$f":"'sortie (3)'!AP12","v":0}]
[null,null,null,null,null,null,null,null,null,null,null,null,null,null,null,null,null,null,null,null,null,null,{"$f":"'sortie (3)'!$D$2","v":"B"},{"$f":"'sortie (3)'!$D$3","v":"00:00:00"},{"$f":"'sortie (3)'!C13","v":0},{"$f":"'sortie (3)'!D13","v":0},"0 0",{"$f":"'sortie (3)'!AF13","v":0},{"$f":"'sortie (3)'!AK13","v":0},{"$f":"'sortie (3)'!AP13","v":0}]
[null,null,null,null,null,null,null,null,null,null,null,null,null,null,null,null,null,null,null,null,null,null,{"$f":"'sortie (3)'!$D$2","v":"B"},{"$f":"'sortie (3)'!$D$3","v":"00:00:00"},{"$f":"'sortie (3)'!C14","v":0},{"$f":"'sortie (3)'!D14","v":0},{"$f":"CONCATENATE(Y69,\" \",Z69)","v":"0 0"},{"$f":"'sortie (3)'!AF14","v":0},{"$f":"'sortie (3)'!AK14","v":0},{"$f":"'sortie (3)'!AP14","v":0}]
[null,null,null,null,null,null,null,null,null,null,null,null,null,null,null,null,null,null,null,null,null,null,{"$f":"'sortie (3)'!$D$2","v":"B"},{"$f":"'sortie (3)'!$D$3","v":"00:00:00"},{"$f":"'sortie (3)'!C15","v":0},{"$f":"'sortie (3)'!D15","v":0},"0 0",{"$f":"'sortie (3)'!AF15","v":0},{"$f":"'sortie (3)'!AK15","v":0},{"$f":"'sortie (3)'!AP15","v":0}]
[null,null,null,null,null,null,null,null,null,null,null,null,null,null,null,null,null,null,null,null,null,null,{"$f":"'sortie (3)'!$D$2","v":"B"},{"$f":"'sortie (3)'!$D$3","v":"00:00:00"},{"$f":"'sortie (3)'!C16","v":0},{"$f":"'sortie (3)'!D16","v":0},"0 0",{"$f":"'sortie (3)'!AF16","v":0},{"$f":"'sortie (3)'!AK16","v":0},{"$f":"'sortie (3)'!AP16","v":0}]
[null,null,null,null,null,null,null,null,null,null,null,null,null,null,null,null,null,null,null,null,null,null,{"$f":"'sortie (3)'!$D$2","v":"B"},{"$f":"'sortie (3)'!$D$3","v":"00:00:00"},{"$f":"'sortie (3)'!C17","v":0},{"$f":"'sortie (3)'!D17","v":0},"0 0",{"$f":"'sortie (3)'!AF17","v":0},{"$f":"'sortie (3)'!AK17","v":0},{"$f":"'sortie (3)'!AP17","v":0}]
[null,null,null,null,null,null,null,null,null,null,null,null,null,null,null,null,null,null,null,null,null,null,{"$f":"'sortie (3)'!$D$2","v":"B"},{"$f":"'sortie (3)'!$D$3","v":"00:00:00"},{"$f":"'sortie (3)'!C18","v":0},{"$f":"'sortie (3)'!D18","v":0},"0 0",{"$f":"'sortie (3)'!AF18","v":0},{"$f":"'sortie (3)'!AK18","v":0},{"$f":"'sortie (3)'!AP18","v":0}]
[null,null,null,null,null,null,null,null,null,null,null,null,null,null,null,null,null,null,null,null,null,null,{"$f":"'sortie (3)'!$D$2","v":"B"},{"$f":"'sortie (3)'!$D$3","v":"00:00:00"},{"$f":"'sortie (3)'!C19","v":0},{"$f":"'sortie (3)'!D19","v":0},"0 0",{"$f":"'sortie (3)'!AF19","v":0},{"$f":"'sortie (3)'!AK19","v":0},{"$f":"'sortie (3)'!AP19","v":0}]
[null,null,null,null,null,null,null,null,null,null,null,null,null,null,null,null,null,null,null,null,null,null,{"$f":"'sortie (3)'!$D$2","v":"B"},{"$f":"'sortie (3)'!$D$3","v":"00:00:00"},{"$f":"'sortie (3)'!C20","v":0},{"$f":"'sortie (3)'!D20","v":0},"0 0",{"$f":"'sortie (3)'!AF20","v":0},{"$f":"'sortie (3)'!AK20","v":0},{"$f":"'sortie (3)'!AP20","v":0}]
[null,null,null,null,null,null,null,null,null,null,null,null,null,null,null,null,null,null,null,null,null,null,{"$f":"'sortie (3)'!$D$2","v":"B"},{"$f":"'sortie (3)'!$D$3","v":"00:00:00"},{"$f":"'sortie (3)'!C21","v":0},{"$f":"'sortie (3)'!D21","v":0},"0 0",{"$f":"'sortie (3)'!AF21","v":0},{"$f":"'sortie (3)'!AK21","v":0},{"$f":"'sortie (3)'!AP21","v":0}]
[null,null,null,null,null,null,null,null,null,null,null,null,null,null,null,null,null,null,null,null,null,null,{"$f":"'sortie (3)'!$D$2","v":"B"},{"$f":"'sortie (3)'!$D$3","v":"00:00:00"},{"$f":"'sortie (3)'!C22","v":0},{"$f":"'sortie (3)'!D22","v":0},"0 0",{"$f":"'sortie (3)'!AF22","v":0},{"$f":"'sortie (3)'!AK22","v":0},{"$f":"'sortie (3)'!AP22","v":0}]
[null,null,null,null,null,null,null,null,null,null,null,null,null,null,null,null,null,null,null,null,null,null,{"$f":"'sortie (3)'!$D$2","v":"B"},{"$f":"'sortie (3)'!$D$3","v":"00:00:00"},{"$f":"'sortie (3)'!C23","v":0},{"$f":"'sortie (3)'!D23","v":0},"0 0",{"$f":"'sortie (3)'!AF23","v":0},{"$f":"'sortie (3)'!AK23","v":0},{"$f":"'sortie (3)'!AP23","v":0}]
[null,null,null,null,null,null,null,null,null,null,null,null,null,null,null,null,null,null,null,null,null,null,{"$f":"'sortie (3)'!$D$2","v":"B"},{"$f":"'sortie (3)'!$D$3","v":"00:00:00"},{"$f":"'sortie (3)'!C24","v":0},{"$f":"'sortie (3)'!D24","v":0},"0 0",{"$f":"'sortie (3)'!AF24","v":0},{"$f":"'sortie (3)'!AK24","v":0},{"$f":"'sortie (3)'!AP24","v":0}]
[null,null,null,null,null,null,null,null,null,null,null,null,null,null,null,null,null,null,null,null,null,null,{"$f":"'sortie (3)'!$D$2","v":"B"},{"$f":"'sortie (3)'!$D$3","v":"00:00:00"},{"$f":"'sortie (3)'!C25","v":0},{"$f":"'sortie (3)'!D25","v":0},"0 0",{"$f":"'sortie (3)'!AF25","v":0},{"$f":"'sortie (3)'!AK25","v":0},{"$f":"'sortie (3)'!AP25","v":0}]
[null,null,null,null,null,null,null,null,null,null,null,null,null,null,null,null,null,null,null,null,null,null,{"$f":"'sortie (3)'!$D$2","v":"B"},{"$f":"'sortie (3)'!$D$3","v":"00:00:00"},{"$f":"'sortie (3)'!C26","v":0},{"$f":"'sortie (3)'!D26","v":0},"0 0",{"$f":"'sortie (3)'!AF26","v":0},{"$f":"'sortie (3)'!AK26","v":0},{"$f":"'sortie (3)'!AP26","v":0}]
[null,null,null,null,null,null,null,null,null,null,null,null,null,null,null,null,null,null,null,null,null,null,{"$f":"'sortie (3)'!$D$2","v":"B"},{"$f":"'sortie (3)'!$D$3","v":"00:00:00"},{"$f":"'sortie (3)'!C27","v":0},{"$f":"'sortie (3)'!D27","v":0},"0 0",{"$f":"'sortie (3)'!AF27","v":0},{"$f":"'sortie (3)'!AK27","v":0},{"$f":"'sortie (3)'!AP27","v":0}]
[null,null,null,null,null,null,null,null,null,null,null,null,null,null,null,null,null,null,null,null,null,null,{"$f":"'sortie (3)'!$D$2","v":"B"},{"$f":"'sortie (3)'!$D$3","v":"00:00:00"},{"$f":"'sortie (3)'!C28","v":0},{"$f":"'sortie (3)'!D28","v":0},"0 0",{"$f":"'sortie (3)'!AF28","v":0},{"$f":"'sortie (3)'!AK28","v":0},{"$f":"'sortie (3)'!AP28","v":0}]
[null,null,null,null,null,null,null,null,null,null,null,null,null,null,null,null,null,null,null,null,null,null,{"$f":"'sortie (3)'!$D$2","v":"B"},{"$f":"'sortie (3)'!$D$3","v":"00:00:00"},{"$f":"'sortie (3)'!C29","v":0},{"$f":"'sortie (3)'!D29","v":0},"0 0",{"$f":"'sortie (3)'!AF29","v":0},{"$f":"'sortie (3)'!AK29","v":0},{"$f":"'sortie (3)'!AP29","v":0}]
[null,null,null,null,null,null,null,null,null,null,null,null,null,null,null,null,null,null,null,null,null,null,{"$f":"'sortie (3)'!$D$2","v":"B"},{"$f":"'sortie (3)'!$D$3","v":"00:00:00"},{"$f":"'sortie (3)'!C30","v":0},{"$f":"'sortie (3)'!D30","v":0},"0 0",{"$f":"'sortie (3)'!AF30","v":0},{"$f":"'sortie (3)'!AK30","v":0},{"$f":"'sortie (3)'!AP30","v":0}]
[null,null,null,null,null,null,null,null,null,null,null,null,null,null,null,null,null,null,null,null,null,null,{"$f":"'sortie (3)'!$D$2","v":"B"},{"$f":"'sortie (3)'!$D$3","v":"00:00:00"},{"$f":"'sortie (3)'!C31","v":0},{"$f":"'sortie (3)'!D31","v":0},"0 0",{"$f":"'sortie (3)'!AF31","v":0},{"$f":"'sortie (3)'!AK31","v":0},{"$f":"'sortie (3)'!AP31","v":0}]
[null,null,null,null,null,null,null,null,null,null,null,null,null,null,null,null,null,null,null,null,null,null,{"$f":"'sortie (3)'!$D$2","v":"B"},{"$f":"'sortie (3)'!$D$3","v":"00:00:00"},{"$f":"'sortie (3)'!C32","v":0},{"$f":"'sortie (3)'!D32","v":0},"0 0",{"$f":"'sortie (3)'!AF32","v":0},{"$f":"'sortie (3)'!AK32","v":0},{"$f":"'sortie (3)'!AP32","v":0}]
[null,null,null,null,null,null,null,null,null,null,null,null,null,null,null,null,null,null,null,null,null,null,{"$f":"'sortie (3)'!$D$2","v":"B"},{"$f":"'sortie (3)'!$D$3","v":"00:00:00"},{"$f":"'sortie (3)'!C33","v":0},{"$f":"'sortie (3)'!D33","v":0},"0 0",{"$f":"'sortie (3)'!AF33","v":0},{"$f":"'sortie (3)'!AK33","v":0},{"$f":"'sortie (3)'!AP33","v":0}]
[null,null,null,null,null,null,null,null,null,null,null,null,null,null,null,null,null,null,null,null,null,null,{"$f":"'sortie (3)'!$D$2","v":"B"},{"$f":"'sortie (3)'!$D$3","v":"00:00:00"},{"$f":"'sortie (3)'!C34","v":0},{"$f":"'sortie (3)'!D34","v":0},"0 0",{"$f":"'sortie (3)'!AF34","v":0},{"$f":"'sortie (3)'!AK34","v":0},{"$f":"'sortie (3)'!AP34","v":0}]
[null,null,null,null,null,null,null,null,null,null,null,null,null,null,null,null,null,null,null,null,null,null,{"$f":"'sortie (3)'!$D$2","v":"B"},{"$f":"'sortie (3)'!$D$3","v":"00:00:00"},{"$f":"'sortie (3)'!C35","v":0},{"$f":"'sortie (3)'!D35","v":0},"0 0",{"$f":"'sortie (3)'!AF35","v":0},{"$f":"'sortie (3)'!AK35","v":0},{"$f":"'sortie (3)'!AP35","v":0}]
[null,null,null,null,null,null,null,null,null,null,null,null,null,null,null,null,null,null,null,null,null,null,{"$f":"'sortie (3)'!$D$2","v":"B"},{"$f":"'sortie (3)'!$D$3","v":"00:00:00"},{"$f":"'sortie (3)'!C36","v":0},{"$f":"'sortie (3)'!D36","v":0},"0 0",{"$f":"'sortie (3)'!AF36","v":0},{"$f":"'sortie (3)'!AK36","v":0},{"$f":"'sortie (3)'!AP36","v":0}]
[null,null,null,null,null,null,null,null,null,null,null,null,null,null,null,null,null,null,null,null,null,null,{"$f":"'sortie (3)'!$D$2","v":"B"},{"$f":"'sortie (3)'!$D$3","v":"00:00:00"},{"$f":"'sortie (3)'!C37","v":0},{"$f":"'sortie (3)'!D37","v":0},"0 0",{"$f":"'sortie (3)'!AF37","v":0},{"$f":"'sortie (3)'!AK37","v":0},{"$f":"'sortie (3)'!AP37","v":0}]
[null,null,null,null,null,null,null,null,null,null,null,null,null,null,null,null,null,null,null,null,null,null,{"$f":"'sortie (3)'!$D$2","v":"B"},{"$f":"'sortie (3)'!$D$3","v":"00:00:00"},{"$f":"'sortie (3)'!C38","v":0},{"$f":"'sortie (3)'!D38","v":0},"0 0",{"$f":"'sortie (3)'!AF38","v":0},{"$f":"'sortie (3)'!AK38","v":0},{"$f":"'sortie (3)'!AP38","v":0}]
[null,null,null,null,null,null,null,null,null,null,null,null,null,null,null,null,null,null,null,null,null,null,{"$f":"'sortie (4)'!$D$2","v":"C"},{"$f":"'sortie (4)'!$D$3","v":"00:00:00"},{"$f":"'sortie (4)'!C9","v":0},{"$f":"'sortie (4)'!D9","v":0},"0 0",{"$f":"'sortie (4)'!AF9","v":0},{"$f":"'sortie (4)'!AK9","v":0},{"$f":"'sortie (4)'!AP9","v":0}]
[null,null,null,null,null,null,null,null,null,null,null,null,null,null,null,null,null,null,null,null,null,null,{"$f":"'sortie (4)'!$D$2","v":"C"},{"$f":"'sortie (4)'!$D$3","v":"00:00:00"},{"$f":"'sortie (4)'!C10","v":0},{"$f":"'sortie (4)'!D10","v":0},"0 0",{"$f":"'sortie (4)'!AF10","v":0},{"$f":"'sortie (4)'!AK10","v":0},{"$f":"'sortie (4)'!AP10","v":0}]
[null,null,null,null,null,null,null,null,null,null,null,null,null,null,null,null,null,null,null,null,null,null,{"$f":"'sortie (4)'!$D$2","v":"C"},{"$f":"'sortie (4)'!$D$3","v":"00:00:00"},{"$f":"'sortie (4)'!C11","v":0},{"$f":"'sortie (4)'!D11","v":0},"0 0",{"$f":"'sortie (4)'!AF11","v":0},{"$f":"'sortie (4)'!AK11","v":0},{"$f":"'sortie (4)'!AP11","v":0}]
[null,null,null,null,null,null,null,null,null,null,null,null,null,null,null,null,null,null,null,null,null,null,{"$f":"'sortie (4)'!$D$2","v":"C"},{"$f":"'sortie (4)'!$D$3","v":"00:00:00"},{"$f":"'sortie (4)'!C12","v":0},{"$f":"'sortie (4)'!D12","v":0},"0 0",{"$f":"'sortie (4)'!AF12","v":0},{"$f":"'sortie (4)'!AK12","v":0},{"$f":"'sortie (4)'!AP12","v":0}]
[null,null,null,null,null,null,null,null,null,null,null,null,null,null,null,null,null,null,null,null,null,null,{"$f":"'sortie (4)'!$D$2","v":"C"},{"$f":"'sortie (4)'!$D$3","v":"00:00:00"},{"$f":"'sortie (4)'!C13","v":0},{"$f":"'sortie (4)'!D13","v":0},"0 0",{"$f":"'sortie (4)'!AF13","v":0},{"$f":"'sortie (4)'!AK13","v":0},{"$f":"'sortie (4)'!AP13","v":0}]
[null,null,null,null,null,null,null,null,null,null,null,null,null,null,null,null,null,null,null,null,null,null,{"$f":"'sortie (4)'!$D$2","v":"C"},{"$f":"'sortie (4)'!$D$3","v":"00:00:00"},{"$f":"'sortie (4)'!C14","v":0},{"$f":"'sortie (4)'!D14","v":0},"0 0",{"$f":"'sortie (4)'!AF14","v":0},{"$f":"'sortie (4)'!AK14","v":0},{"$f":"'sortie (4)'!AP14","v":0}]
[null,null,null,null,null,null,null,null,null,null,null,null,null,null,null,null,null,null,null,null,null,null,{"$f":"'sortie (4)'!$D$2","v":"C"},{"$f":"'sortie (4)'!$D$3","v":"00:00:00"},{"$f":"'sortie (4)'!C15","v":0},{"$f":"'sortie (4)'!D15","v":0},"0 0",{"$f":"'sortie (4)'!AF15","v":0},{"$f":"'sortie (4)'!AK15","v":0},{"$f":"'sortie (4)'!AP15","v":0}]
[null,null,null,null,null,null,null,null,null,null,null,null,null,null,null,null,null,null,null,null,null,null,{"$f":"'sortie (4)'!$D$2","v":"C"},{"$f":"'sortie (4)'!$D$3","v":"00:00:00"},{"$f":"'sortie (4)'!C16","v":0},{"$f":"'sortie (4)'!D16","v":0},"0 0",{"$f":"'sortie (4)'!AF16","v":0},{"$f":"'sortie (4)'!AK16","v":0},{"$f":"'sortie (4)'!AP16","v":0}]
[null,null,null,null,null,null,null,null,null,null,null,null,null,null,null,null,null,null,null,null,null,null,{"$f":"'sortie (4)'!$D$2","v":"C"},{"$f":"'sortie (4)'!$D$3","v":"00:00:00"},{"$f":"'sortie (4)'!C17","v":0},{"$f":"'sortie (4)'!D17","v":0},"0 0",{"$f":"'sortie (4)'!AF17","v":0},{"$f":"'sortie (4)'!AK17","v":0},{"$f":"'sortie (4)'!AP17","v":0}]
[null,null,null,null,null,null,null,null,null,null,null,null,null,null,null,null,null,null,null,null,null,null,{"$f":"'sortie (4)'!$D$2","v":"C"},{"$f":"'sortie (4)'!$D$3","v":"00:00:00"},{"$f":"'sortie (4)'!C18","v":0},{"$f":"'sortie (4)'!D18","v":0},"0 0",{"$f":"'sortie (4)'!AF18","v":0},{"$f":"'sortie (4)'!AK18","v":0},{"$f":"'sortie (4)'!AP18","v":0}]
[null,null,null,null,null,null,null,null,null,null,null,null,null,null,null,null,null,null,null,null,null,null,{"$f":"'sortie (4)'!$D$2","v":"C"},{"$f":"'sortie (4)'!$D$3","v":"00:00:00"},{"$f":"'sortie (4)'!C19","v":0},{"$f":"'sortie (4)'!D19","v":0},"0 0",{"$f":"'sortie (4)'!AF19","v":0},{"$f":"'sortie (4)'!AK19","v":0},{"$f":"'sortie (4)'!AP19","v":0}]
[null,null,null,null,null,null,null,null,null,null,null,null,null,null,null,null,null,null,null,null,null,null,{"$f":"'sortie (4)'!$D$2","v":"C"},{"$f":"'sortie (4)'!$D$3","v":"00:00:00"},{"$f":"'sortie (4)'!C20","v":0},{"$f":"'sortie (4)'!D20","v":0},"0 0",{"$f":"'sortie (4)'!AF20","v":0},{"$f":"'sortie (4)'!AK20","v":0},{"$f":"'sortie (4)'!AP20","v":0}]
[null,null,null,null,null,null,null,null,null,null,null,null,null,null,null,null,null,null,null,null,null,null,{"$f":"'sortie (4)'!$D$2","v":"C"},{"$f":"'sortie (4)'!$D$3","v":"00:00:00"},{"$f":"'sortie (4)'!C21","v":0},{"$f":"'sortie (4)'!D21","v":0},"0 0",{"$f":"'sortie (4)'!AF21","v":0},{"$f":"'sortie (4)'!AK21","v":0},{"$f":"'sortie (4)'!AP21","v":0}]
[null,null,null,null,null,null,null,null,null,null,null,null,null,null,null,null,null,null,null,null,null,null,{"$f":"'sortie (4)'!$D$2","v":"C"},{"$f":"'sortie (4)'!$D$3","v":"00:00:00"},{"$f":"'sortie (4)'!C22","v":0},{"$f":"'sortie (4)'!D22","v":0},"0 0",{"$f":"'sortie (4)'!AF22","v":0},{"$f":"'sortie (4)'!AK22","v":0},{"$f":"'sortie (4)'!AP22","v":0}]
[null,null,null,null,null,null,null,null,null,null,null,null,null,null,null,null,null,null,null,null,null,null,{"$f":"'sortie (4)'!$D$2","v":"C"},{"$f":"'sortie (4)'!$D$3","v":"00:00:00"},{"$f":"'sortie (4)'!C23","v":0},{"$f":"'sortie (4)'!D23","v":0},"0 0",{"$f":"'sortie (4)'!AF23","v":0},{"$f":"'sortie (4)'!AK23","v":0},{"$f":"'sortie (4)'!AP23","v":0}]
[null,null,null,null,null,null,null,null,null,null,null,null,null,null,null,null,null,null,null,null,null,null,{"$f":"'sortie (4)'!$D$2","v":"C"},{"$f":"'sortie (4)'!$D$3","v":"00:00:00"},{"$f":"'sortie (4)'!C24","v":0},{"$f":"'sortie (4)'!D24","v":0},"0 0",{"$f":"'sortie (4)'!AF24","v":0},{"$f":"'sortie (4)'!AK24","v":0},{"$f":"'sortie (4)'!AP24","v":0}]
[null,null,null,null,null,null,null,null,null,null,null,null,null,null,null,null,null,null,null,null,null,null,{"$f":"'sortie (4)'!$D$2","v":"C"},{"$f":"'sortie (4)'!$D$3","v":"00:00:00"},{"$f":"'sortie (4)'!C25","v":0},{"$f":"'sortie (4)'!D25","v":0},"0 0",{"$f":"'sortie (4)'!AF25","v":0},{"$f":"'sortie (4)'!AK25","v":0},{"$f":"'sortie (4)'!AP25","v":0}]
[null,null,null,null,null,null,null,null,null,null,null,null,null,null,null,null,null,null,null,null,null,null,{"$f":"'sortie (4)'!$D$2","v":"C"},{"$f":"'sortie (4)'!$D$3","v":"00:00:00"},{"$f":"'sortie (4)'!C26","v":0},{"$f":"'sortie (4)'!D26","v":0},"0 0",{"$f":"'sortie (4)'!AF26","v":0},{"$f":"'sortie (4)'!AK26","v":0},{"$f":"'sortie (4)'!AP26","v":0}]
[null,null,null,null,null,null,null,null,null,null,null,null,null,null,null,null,null,null,null,null,null,null,{"$f":"'sortie (4)'!$D$2","v":"C"},{"$f":"'sortie (4)'!$D$3","v":"00:00:00"},{"$f":"'sortie (4)'!C27","v":0},{"$f":"'sortie (4)'!D27","v":0},"0 0",{"$f":"'sortie (4)'!AF27","v":0},{"$f":"'sortie (4)'!AK27","v":0},{"$f":"'sortie (4)'!AP27","v":0}]
[null,null,null,null,null,null,null,null,null,null,null,null,null,null,null,null,null,null,null,null,null,null,{"$f":"'sortie (4)'!$D$2","v":"C"},{"$f":"'sortie (4)'!$D$3","v":"00:00:00"},{"$f":"'sortie (4)'!C28","v":0},{"$f":"'sortie (4)'!D28","v":0},"0 0",{"$f":"'sortie (4)'!AF28","v":0},{"$f":"'sortie (4)'!AK28","v":0},{"$f":"'sortie (4)'!AP28","v":0}]
[null,null,null,null,null,null,null,null,null,null,null,null,null,null,null,null,null,null,null,null,null,null,{"$f":"'sortie (4)'!$D$2","v":"C"},{"$f":"'sortie (4)'!$D$3","v":"00:00:00"},{"$f":"'sortie (4)'!C29","v":0},{"$f":"'sortie (4)'!D29","v":0},"0 0",{"$f":"'sortie (4)'!AF29","v":0},{"$f":"'sortie (4)'!AK29","v":0},{"$f":"'sortie (4)'!AP29","v":0}]
[null,null,null,null,null,null,null,null,null,null,null,null,null,null,null,null,null,null,null,null,null,null,{"$f":"'sortie (4)'!$D$2","v":"C"},{"$f":"'sortie (4)'!$D$3","v":"00:00:00"},{"$f":"'sortie (4)'!C30","v":0},{"$f":"'sortie (4)'!D30","v":0},"0 0",{"$f":"'sortie (4)'!AF30","v":0},{"$f":"'sortie (4)'!AK30","v":0},{"$f":"'sortie (4)'!AP30","v":0}]
[null,null,null,null,null,null,null,null,null,null,null,null,null,null,null,null,null,null,null,null,null,null,{"$f":"'sortie (4)'!$D$2","v":"C"},{"$f":"'sortie (4)'!$D$3","v":"00:00:00"},{"$f":"'sortie (4)'!C31","v":0},{"$f":"'sortie (4)'!D31","v":0},"0 0",{"$f":"'sortie (4)'!AF31","v":0},{"$f":"'sortie (4)'!AK31","v":0},{"$f":"'sortie (4)'!AP31","v":0}]
[null,null,null,null,null,null,null,null,null,null,null,null,null,null,null,null,null,null,null,null,null,null,{"$f":"'sortie (4)'!$D$2","v":"C"},{"$f":"'sortie (4)'!$D$3","v":"00:00:00"},{"$f":"'sortie (4)'!C32","v":0},{"$f":"'sortie (4)'!D32","v":0},"0 0",{"$f":"'sortie (4)'!AF32","v":0},{"$f":"'sortie (4)'!AK32","v":0},{"$f":"'sortie (4)'!AP32","v":0}]
[null,null,null,null,null,null,null,null,null,null,null,null,null,null,null,null,null,null,null,null,null,null,{"$f":"'sortie (4)'!$D$2","v":"C"},{"$f":"'sortie (4)'!$D$3","v":"00:00:00"},{"$f":"'sortie (4)'!C33","v":0},{"$f":"'sortie (4)'!D33","v":0},"0 0",{"$f":"'sortie (4)'!AF33","v":0},{"$f":"'sortie (4)'!AK33","v":0},{"$f":"'sortie (4)'!AP33","v":0}]
[null,null,null,null,null,null,null,null,null,null,null,null,null,null,null,null,null,null,null,null,null,null,{"$f":"'sortie (4)'!$D$2","v":"C"},{"$f":"'sortie (4)'!$D$3","v":"00:00:00"},{"$f":"'sortie (4)'!C34","v":0},{"$f":"'sortie (4)'!D34","v":0},"0 0",{"$f":"'sortie (4)'!AF34","v":0},{"$f":"'sortie (4)'!AK34","v":0},{"$f":"'sortie (4)'!AP34","v":0}]
[null,null,null,null,null,null,null,null,null,null,null,null,null,null,null,null,null,null,null,null,null,null,{"$f":"'sortie (4)'!$D$2","v":"C"},{"$f":"'sortie (4)'!$D$3","v":"00:00:00"},{"$f":"'sortie (4)'!C35","v":0},{"$f":"'sortie (4)'!D35","v":0},"0 0",{"$f":"'sortie (4)'!AF35","v":0},{"$f":"'sortie (4)'!AK35","v":0},{"$f":"'sortie (4)'!AP35","v":0}]
[null,null,null,null,null,null,null,null,null,null,null,null,null,null,null,null,null,null,null,null,null,null,{"$f":"'sortie (4)'!$D$2","v":"C"},{"$f":"'sortie (4)'!$D$3","v":"00:00:00"},{"$f":"'sortie (4)'!C36","v":0},{"$f":"'sortie (4)'!D36","v":0},"0 0",{"$f":"'sortie (4)'!AF36","v":0},{"$f":"'sortie (4)'!AK36","v":0},{"$f":"'sortie (4)'!AP36","v":0}]
[null,null,null,null,null,null,null,null,null,null,null,null,null,null,null,null,null,null,null,null,null,null,{"$f":"'sortie (4)'!$D$2","v":"C"},{"$f":"'sortie (4)'!$D$3","v":"00:00:00"},{"$f":"'sortie (4)'!C37","v":0},{"$f":"'sortie (4)'!D37","v":0},"0 0",{"$f":"'sortie (4)'!AF37","v":0},{"$f":"'sortie (4)'!AK37","v":0},{"$f":"'sortie (4)'!AP37","v":0}]
[null,null,null,null,null,null,null,null,null,null,null,null,null,null,null,null,null,null,null,null,null,null,{"$f":"'sortie (4)'!$D$2","v":"C"},{"$f":"'sortie (4)'!$D$3","v":"00:00:00"},{"$f":"'sortie (4)'!C38","v":0},{"$f":"'sortie (4)'!D38","v":0},"0 0",{"$f":"'sortie (4)'!AF38","v":0},{"$f":"'sortie (4)'!AK38","v":0},{"$f":"'sortie (4)'!AP38","v":0}]
[null,null,null,null,null,null,null,null,null,null,null,null,null,null,null,null,null,null,null,null,null,null,{"$f":"'sortie (5)'!$D$2","v":"D"},{"$f":"'sortie (5)'!$D$3","v":"00:00:00"},{"$f":"'sortie (5)'!C9","v":0},{"$f":"'sortie (5)'!D9","v":0},"0 0",{"$f":"'sortie (5)'!AF9","v":0},{"$f":"'sortie (5)'!AK9","v":0},{"$f":"'sortie (5)'!AP9","v":0}]
[null,null,null,null,null,null,null,null,null,null,null,null,null,null,null,null,null,null,null,null,null,null,{"$f":"'sortie (5)'!$D$2","v":"D"},{"$f":"'sortie (5)'!$D$3","v":"00:00:00"},{"$f":"'sortie (5)'!C10","v":0},{"$f":"'sortie (5)'!D10","v":0},"0 0",{"$f":"'sortie (5)'!AF10","v":0},{"$f":"'sortie (5)'!AK10","v":0},{"$f":"'sortie (5)'!AP10","v":0}]
[null,null,null,null,null,null,null,null,null,null,null,null,null,null,null,null,null,null,null,null,null,null,{"$f":"'sortie (5)'!$D$2","v":"D"},{"$f":"'sortie (5)'!$D$3","v":"00:00:00"},{"$f":"'sortie (5)'!C11","v":0},{"$f":"'sortie (5)'!D11","v":0},"0 0",{"$f":"'sortie (5)'!AF11","v":0},{"$f":"'sortie (5)'!AK11","v":0},{"$f":"'sortie (5)'!AP11","v":0}]
[null,null,null,null,null,null,null,null,null,null,null,null,null,null,null,null,null,null,null,null,null,null,{"$f":"'sortie (5)'!$D$2","v":"D"},{"$f":"'sortie (5)'!$D$3","v":"00:00:00"},{"$f":"'sortie (5)'!C12","v":0},{"$f":"'sortie (5)'!D12","v":0},"0 0",{"$f":"'sortie (5)'!AF12","v":0},{"$f":"'sortie (5)'!AK12","v":0},{"$f":"'sortie (5)'!AP12","v":0}]
[null,null,null,null,null,null,null,null,null,null,null,null,null,null,null,null,null,null,null,null,null,null,{"$f":"'sortie (5)'!$D$2","v":"D"},{"$f":"'sortie (5)'!$D$3","v":"00:00:00"},{"$f":"'sortie (5)'!C13","v":0},{"$f":"'sortie (5)'!D13","v":0},"0 0",{"$f":"'sortie (5)'!AF13","v":0},{"$f":"'sortie (5)'!AK13","v":0},{"$f":"'sortie (5)'!AP13","v":0}]
[null,null,null,null,null,null,null,null,null,null,null,null,null,null,null,null,null,null,null,null,null,null,{"$f":"'sortie (5)'!$D$2","v":"D"},{"$f":"'sortie (5)'!$D$3","v":"00:00:00"},{"$f":"'sortie (5)'!C14","v":0},{"$f":"'sortie (5)'!D14","v":0},"0 0",{"$f":"'sortie (5)'!AF14","v":0},{"$f":"'sortie (5)'!AK14","v":0},{"$f":"'sortie (5)'!AP14","v":0}]
[null,null,null,null,null,null,null,null,null,null,null,null,null,null,null,null,null,null,null,null,null,null,{"$f":"'sortie (5)'!$D$2","v":"D"},{"$f":"'sortie (5)'!$D$3","v":"00:00:00"},{"$f":"'sortie (5)'!C15","v":0},{"$f":"'sortie (5)'!D15","v":0},"0 0",{"$f":"'sortie (5)'!AF15","v":0},{"$f":"'sortie (5)'!AK15","v":0},{"$f":"'sortie (5)'!AP15","v":0}]
[null,null,null,null,null,null,null,null,null,null,null,null,null,null,null,null,null,null,null,null,null,null,{"$f":"'sortie (5)'!$D$2","v":"D"},{"$f":"'sortie (5)'!$D$3","v":"00:00:00"},{"$f":"'sortie (5)'!C16","v":0},{"$f":"'sortie (5)'!D16","v":0},"0 0",{"$f":"'sortie (5)'!AF16","v":0},{"$f":"'sortie (5)'!AK16","v":0},{"$f":"'sortie (5)'!AP16","v":0}]
[null,null,null,null,null,null,null,null,null,null,null,null,null,null,null,null,null,null,null,null,null,null,{"$f":"'sortie (5)'!$D$2","v":"D"},{"$f":"'sortie (5)'!$D$3","v":"00:00:00"},{"$f":"'sortie (5)'!C17","v":0},{"$f":"'sortie (5)'!D17","v":0},"0 0",{"$f":"'sortie (5)'!AF17","v":0},{"$f":"'sortie (5)'!AK17","v":0},{"$f":"'sortie (5)'!AP17","v":0}]
[null,null,null,null,null,null,null,null,null,null,null,null,null,null,null,null,null,null,null,null,null,null,{"$f":"'sortie (5)'!$D$2","v":"D"},{"$f":"'sortie (5)'!$D$3","v":"00:00:00"},{"$f":"'sortie (5)'!C18","v":0},{"$f":"'sortie (5)'!D18","v":0},{"$f":"CONCATENATE(Y133,\" \",Z133)","v":"0 0"},{"$f":"'sortie (5)'!AF18","v":0},{"$f":"'sortie (5)'!AK18","v":0},{"$f":"'sortie (5)'!AP18","v":0}]
[null,null,null,null,null,null,null,null,null,null,null,null,null,null,null,null,null,null,null,null,null,null,{"$f":"'sortie (5)'!$D$2","v":"D"},{"$f":"'sortie (5)'!$D$3","v":"00:00:00"},{"$f":"'sortie (5)'!C19","v":0},{"$f":"'sortie (5)'!D19","v":0},"0 0",{"$f":"'sortie (5)'!AF19","v":0},{"$f":"'sortie (5)'!AK19","v":0},{"$f":"'sortie (5)'!AP19","v":0}]
[null,null,null,null,null,null,null,null,null,null,null,null,null,null,null,null,null,null,null,null,null,null,{"$f":"'sortie (5)'!$D$2","v":"D"},{"$f":"'sortie (5)'!$D$3","v":"00:00:00"},{"$f":"'sortie (5)'!C20","v":0},{"$f":"'sortie (5)'!D20","v":0},"0 0",{"$f":"'sortie (5)'!AF20","v":0},{"$f":"'sortie (5)'!AK20","v":0},{"$f":"'sortie (5)'!AP20","v":0}]
[null,null,null,null,null,null,null,null,null,null,null,null,null,null,null,null,null,null,null,null,null,null,{"$f":"'sortie (5)'!$D$2","v":"D"},{"$f":"'sortie (5)'!$D$3","v":"00:00:00"},{"$f":"'sortie (5)'!C21","v":0},{"$f":"'sortie (5)'!D21","v":0},"0 0",{"$f":"'sortie (5)'!AF21","v":0},{"$f":"'sortie (5)'!AK21","v":0},{"$f":"'sortie (5)'!AP21","v":0}]
[null,null,null,null,null,null,null,null,null,null,null,null,null,null,null,null,null,null,null,null,null,null,{"$f":"'sortie (5)'!$D$2","v":"D"},{"$f":"'sortie (5)'!$D$3","v":"00:00:00"},{"$f":"'sortie (5)'!C22","v":0},{"$f":"'sortie (5)'!D22","v":0},"0 0",{"$f":"'sortie (5)'!AF22","v":0},{"$f":"'sortie (5)'!AK22","v":0},{"$f":"'sortie (5)'!AP22","v":0}]
[null,null,null,null,null,null,null,null,null,null,null,null,null,null,null,null,null,null,null,null,null,null,{"$f":"'sortie (5)'!$D$2","v":"D"},{"$f":"'sortie (5)'!$D$3","v":"00:00:00"},{"$f":"'sortie (5)'!C23","v":0},{"$f":"'sortie (5)'!D23","v":0},"0 0",{"$f":"'sortie (5)'!AF23","v":0},{"$f":"'sortie (5)'!AK23","v":0},{"$f":"'sortie (5)'!AP23","v":0}]
[null,null,null,null,null,null,null,null,null,null,null,null,null,null,null,null,null,null,null,null,null,null,{"$f":"'sortie (5)'!$D$2","v":"D"},{"$f":"'sortie (5)'!$D$3","v":"00:00:00"},{"$f":"'sortie (5)'!C24","v":0},{"$f":"'sortie (5)'!D24","v":0},"0 0",{"$f":"'sortie (5)'!AF24","v":0},{"$f":"'sortie (5)'!AK24","v":0},{"$f":"'sortie (5)'!AP24","v":0}]
[null,null,null,null,null,null,null,null,null,null,null,null,null,null,null,null,null,null,null,null,null,null,{"$f":"'sortie (5)'!$D$2","v":"D"},{"$f":"'sortie (5)'!$D$3","v":"00:00:00"},{"$f":"'sortie (5)'!C25","v":0},{"$f":"'sortie (5)'!D25","v":0},"0 0",{"$f":"'sortie (5)'!AF25","v":0},{"$f":"'sortie (5)'!AK25","v":0},{"$f":"'sortie (5)'!AP25","v":0}]
[null,null,null,null,null,null,null,null,null,null,null,null,null,null,null,null,null,null,null,null,null,null,{"$f":"'sortie (5)'!$D$2","v":"D"},{"$f":"'sortie (5)'!$D$3","v":"00:00:00"},{"$f":"'sortie (5)'!C26","v":0},{"$f":"'sortie (5)'!D26","v":0},"0 0",{"$f":"'sortie (5)'!AF26","v":0},{"$f":"'sortie (5)'!AK26","v":0},{"$f":"'sortie (5)'!AP26","v":0}]
[null,null,null,null,null,null,null,null,null,null,null,null,null,null,null,null,null,null,null,null,null,null,{"$f":"'sortie (5)'!$D$2","v":"D"},{"$f":"'sortie (5)'!$D$3","v":"00:00:00"},{"$f":"'sortie (5)'!C27","v":0},{"$f":"'sortie (5)'!D27","v":0},"0 0",{"$f":"'sortie (5)'!AF27","v":0},{"$f":"'sortie (5)'!AK27","v":0},{"$f":"'sortie (5)'!AP27","v":0}]
[null,null,null,null,null,null,null,null,null,null,null,null,null,null,null,null,null,null,null,null,null,null,{"$f":"'sortie (5)'!$D$2","v":"D"},{"$f":"'sortie (5)'!$D$3","v":"00:00:00"},{"$f":"'sortie (5)'!C28","v":0},{"$f":"'sortie (5)'!D28","v":0},"0 0",{"$f":"'sortie (5)'!AF28","v":0},{"$f":"'sortie (5)'!AK28","v":0},{"$f":"'sortie (5)'!AP28","v":0}]
[null,null,null,null,null,null,null,null,null,null,null,null,null,null,null,null,null,null,null,null,null,null,{"$f":"'sortie (5)'!$D$2","v":"D"},{"$f":"'sortie (5)'!$D$3","v":"00:00:00"},{"$f":"'sortie (5)'!C29","v":0},{"$f":"'sortie (5)'!D29","v":0},"0 0",{"$f":"'sortie (5)'!AF29","v":0},{"$f":"'sortie (5)'!AK29","v":0},{"$f":"'sortie (5)'!AP29","v":0}]
[null,null,null,null,null,null,null,null,null,null,null,null,null,null,null,null,null,null,null,null,null,null,{"$f":"'sortie (5)'!$D$2","v":"D"},{"$f":"'sortie (5)'!$D$3","v":"00:00:00"},{"$f":"'sortie (5)'!C30","v":0},{"$f":"'sortie (5)'!D30","v":0},"0 0",{"$f":"'sortie (5)'!AF30","v":0},{"$f":"'sortie (5)'!AK30","v":0},{"$f":"'sortie (5)'!AP30","v":0}]
[null,null,null,null,null,null,null,null,null,null,null,null,null,null,null,null,null,null,null,null,null,null,{"$f":"'sortie (5)'!$D$2","v":"D"},{"$f":"'sortie (5)'!$D$3","v":"00:00:00"},{"$f":"'sortie (5)'!C31","v":0},{"$f":"'sortie (5)'!D31","v":0},"0 0",{"$f":"'sortie (5)'!AF31","v":0},{"$f":"'sortie (5)'!AK31","v":0},{"$f":"'sortie (5)'!AP31","v":0}]
[null,null,null,null,null,null,null,null,null,null,null,null,null,null,null,null,null,null,null,null,null,null,{"$f":"'sortie (5)'!$D$2","v":"D"},{"$f":"'sortie (5)'!$D$3","v":"00:00:00"},{"$f":"'sortie (5)'!C32","v":0},{"$f":"'sortie (5)'!D32","v":0},"0 0",{"$f":"'sortie (5)'!AF32","v":0},{"$f":"'sortie (5)'!AK32","v":0},{"$f":"'sortie (5)'!AP32","v":0}]
[null,null,null,null,null,null,null,null,null,null,null,null,null,null,null,null,null,null,null,null,null,null,{"$f":"'sortie (5)'!$D$2","v":"D"},{"$f":"'sortie (5)'!$D$3","v":"00:00:00"},{"$f":"'sortie (5)'!C33","v":0},{"$f":"'sortie (5)'!D33","v":0},"0 0",{"$f":"'sortie (5)'!AF33","v":0},{"$f":"'sortie (5)'!AK33","v":0},{"$f":"'sortie (5)'!AP33","v":0}]
[null,null,null,null,null,null,null,null,null,null,null,null,null,null,null,null,null,null,null,null,null,null,{"$f":"'sortie (5)'!$D$2","v":"D"},{"$f":"'sortie (5)'!$D$3","v":"00:00:00"},{"$f":"'sortie (5)'!C34","v":0},{"$f":"'sortie (5)'!D34","v":0},"0 0",{"$f":"'sortie (5)'!AF34","v":0},{"$f":"'sortie (5)'!AK34","v":0},{"$f":"'sortie (5)'!AP34","v":0}]
[null,null,null,null,null,null,null,null,null,null,null,null,null,null,null,null,null,null,null,null,null,null,{"$f":"'sortie (5)'!$D$2","v":"D"},{"$f":"'sortie (5)'!$D$3","v":"00:00:00"},{"$f":"'sortie (5)'!C35","v":0},{"$f":"'sortie (5)'!D35","v":0},"0 0",{"$f":"'sortie (5)'!AF35","v":0},{"$f":"'sortie (5)'!AK35","v":0},{"$f":"'sortie (5)'!AP35","v":0}]
[null,null,null,null,null,null,null,null,null,null,null,null,null,null,null,null,null,null,null,null,null,null,{"$f":"'sortie (5)'!$D$2","v":"D"},{"$f":"'sortie (5)'!$D$3","v":"00:00:00"},{"$f":"'sortie (5)'!C36","v":0},{"$f":"'sortie (5)'!D36","v":0},"0 0",{"$f":"'sortie (5)'!AF36","v":0},{"$f":"'sortie (5)'!AK36","v":0},{"$f":"'sortie (5)'!AP36","v":0}]
[null,null,null,null,null,null,null,null,null,null,null,null,null,null,null,null,null,null,null,null,null,null,{"$f":"'sortie (5)'!$D$2","v":"D"},{"$f":"'sortie (5)'!$D$3","v":"00:00:00"},{"$f":"'sortie (5)'!C37","v":0},{"$f":"'sortie (5)'!D37","v":0},"0 0",{"$f":"'sortie (5)'!AF37","v":0},{"$f":"'sortie (5)'!AK37","v":0},{"$f":"'sortie (5)'!AP37","v":0}]
[null,null,null,null,null,null,null,null,null,null,null,null,null,null,null,null,null,null,null,null,null,null,{"$f":"'sortie (5)'!$D$2","v":"D"},{"$f":"'sortie (5)'!$D$3","v":"00:00:00"},{"$f":"'sortie (5)'!C38","v":0},{"$f":"'sortie (5)'!D38","v":0},"0 0",{"$f":"'sortie (5)'!AF38","v":0},{"$f":"'sortie (5)'!AK38","v":0},{"$f":"'sortie (5)'!AP38","v":0}]
[null,null,null,null,null,null,null,null,null,null,null,null,null,null,null,null,null,null,null,null,null,null,{"$f":"'sortie (6)'!$D$2","v":"E"},{"$f":"'sortie (6)'!$D$3","v":"00:00:00"},{"$f":"'sortie (6)'!C9","v":0},{"$f":"'sortie (6)'!D9","v":0},"0 0",{"$f":"'sortie (6)'!AF9","v":0},{"$f":"'sortie (6)'!AK9","v":0},{"$f":"'sortie (6)'!AP9","v":0}]
[null,null,null,null,null,null,null,null,null,null,null,null,null,null,null,null,null,null,null,null,null,null,{"$f":"'sortie (6)'!$D$2","v":"E"},{"$f":"'sortie (6)'!$D$3","v":"00:00:00"},{"$f":"'sortie (6)'!C10","v":0},{"$f":"'sortie (6)'!D10","v":0},"0 0",{"$f":"'sortie (6)'!AF10","v":0},{"$f":"'sortie (6)'!AK10","v":0},{"$f":"'sortie (6)'!AP10","v":0}]
[null,null,null,null,null,null,null,null,null,null,null,null,null,null,null,null,null,null,null,null,null,null,{"$f":"'sortie (6)'!$D$2","v":"E"},{"$f":"'sortie (6)'!$D$3","v":"00:00:00"},{"$f":"'sortie (6)'!C11","v":0},{"$f":"'sortie (6)'!D11","v":0},"0 0",{"$f":"'sortie (6)'!AF11","v":0},{"$f":"'sortie (6)'!AK11","v":0},{"$f":"'sortie (6)'!AP11","v":0}]
[null,null,null,null,null,null,null,null,null,null,null,null,null,null,null,null,null,null,null,null,null,null,{"$f":"'sortie (6)'!$D$2","v":"E"},{"$f":"'sortie (6)'!$D$3","v":"00:00:00"},{"$f":"'sortie (6)'!C12","v":0},{"$f":"'sortie (6)'!D12","v":0},"0 0",{"$f":"'sortie (6)'!AF12","v":0},{"$f":"'sortie (6)'!AK12","v":0},{"$f":"'sortie (6)'!AP12","v":0}]
[null,null,null,null,null,null,null,null,null,null,null,null,null,null,null,null,null,null,null,null,null,null,{"$f":"'sortie (6)'!$D$2","v":"E"},{"$f":"'sortie (6)'!$D$3","v":"00:00:00"},{"$f":"'sortie (6)'!C13","v":0},{"$f":"'sortie (6)'!D13","v":0},"0 0",{"$f":"'sortie (6)'!AF13","v":0},{"$f":"'sortie (6)'!AK13","v":0},{"$f":"'sortie (6)'!AP13","v":0}]
[null,null,null,null,null,null,null,null,null,null,null,null,null,null,null,null,null,null,null,null,null,null,{"$f":"'sortie (6)'!$D$2","v":"E"},{"$f":"'sortie (6)'!$D$3","v":"00:00:00"},{"$f":"'sortie (6)'!C14","v":0},{"$f":"'sortie (6)'!D14","v":0},"0 0",{"$f":"'sortie (6)'!AF14","v":0},{"$f":"'sortie (6)'!AK14","v":0},{"$f":"'sortie (6)'!AP14","v":0}]
[null,null,null,null,null,null,null,null,null,null,null,null,null,null,null,null,null,null,null,null,null,null,{"$f":"'sortie (6)'!$D$2","v":"E"},{"$f":"'sortie (6)'!$D$3","v":"00:00:00"},{"$f":"'sortie (6)'!C15","v":0},{"$f":"'sortie (6)'!D15","v":0},"0 0",{"$f":"'sortie (6)'!AF15","v":0},{"$f":"'sortie (6)'!AK15","v":0},{"$f":"'sortie (6)'!AP15","v":0}]
[null,null,null,null,null,null,null,null,null,null,null,null,null,null,null,null,null,null,null,null,null,null,{"$f":"'sortie (6)'!$D$2","v":"E"},{"$f":"'sortie (6)'!$D$3","v":"00:00:00"},{"$f":"'sortie (6)'!C16","v":0},{"$f":"'sortie (6)'!D16","v":0},"0 0",{"$f":"'sortie (6)'!AF16","v":0},{"$f":"'sortie (6)'!AK16","v":0},{"$f":"'sortie (6)'!AP16","v":0}]
[null,null,null,null,null,null,null,null,null,null,null,null,null,null,null,null,null,null,null,null,null,null,{"$f":"'sortie (6)'!$D$2","v":"E"},{"$f":"'sortie (6)'!$D$3","v":"00:00:00"},{"$f":"'sortie (6)'!C17","v":0},{"$f":"'sortie (6)'!D17","v":0},"0 0",{"$f":"'sortie (6)'!AF17","v":0},{"$f":"'sortie (6)'!AK17","v":0},{"$f":"'sortie (6)'!AP17","v":0}]
[null,null,null,null,null,null,null,null,null,null,null,null,null,null,null,null,null,null,null,null,null,null,{"$f":"'sortie (6)'!$D$2","v":"E"},{"$f":"'sortie (6)'!$D$3","v":"00:00:00"},{"$f":"'sortie (6)'!C18","v":0},{"$f":"'sortie (6)'!D18","v":0},"0 0",{"$f":"'sortie (6)'!AF18","v":0},{"$f":"'sortie (6)'!AK18","v":0},{"$f":"'sortie (6)'!AP18","v":0}]
[null,null,null,null,null,null,null,null,null,null,null,null,null,null,null,null,null,null,null,null,null,null,{"$f":"'sortie (6)'!$D$2","v":"E"},{"$f":"'sortie (6)'!$D$3","v":"00:00:00"},{"$f":"'sortie (6)'!C19","v":0},{"$f":"'sortie (6)'!D19","v":0},"0 0",{"$f":"'sortie (6)'!AF19","v":0},{"$f":"'sortie (6)'!AK19","v":0},{"$f":"'sortie (6)'!AP19","v":0}]
[null,null,null,null,null,null,null,null,null,null,null,null,null,null,null,null,null,null,null,null,null,null,{"$f":"'sortie (6)'!$D$2","v":"E"},{"$f":"'sortie (6)'!$D$3","v":"00:00:00"},{"$f":"'sortie (6)'!C20","v":0},{"$f":"'sortie (6)'!D20","v":0},"0 0",{"$f":"'sortie (6)'!AF20","v":0},{"$f":"'sortie (6)'!AK20","v":0},{"$f":"'sortie (6)'!AP20","v":0}]
[null,null,null,null,null,null,null,null,null,null,null,null,null,null,null,null,null,null,null,null,null,null,{"$f":"'sortie (6)'!$D$2","v":"E"},{"$f":"'sortie (6)'!$D$3","v":"00:00:00"},{"$f":"'sortie (6)'!C21","v":0},{"$f":"'sortie (6)'!D21","v":0},"0 0",{"$f":"'sortie (6)'!AF21","v":0},{"$f":"'sortie (6)'!AK21","v":0},{"$f":"'sortie (6)'!AP21","v":0}]
[null,null,null,null,null,null,null,null,null,null,null,null,null,null,null,null,null,null,null,null,null,null,{"$f":"'sortie (6)'!$D$2","v":"E"},{"$f":"'sortie (6)'!$D$3","v":"00:00:00"},{"$f":"'sortie (6)'!C22","v":0},{"$f":"'sortie (6)'!D22","v":0},"0 0",{"$f":"'sortie (6)'!AF22","v":0},{"$f":"'sortie (6)'!AK22","v":0},{"$f":"'sortie (6)'!AP22","v":0}]
[null,null,null,null,null,null,null,null,null,null,null,null,null,null,null,null,null,null,null,null,null,null,{"$f":"'sortie (6)'!$D$2","v":"E"},{"$f":"'sortie (6)'!$D$3","v":"00:00:00"},{"$f":"'sortie (6)'!C23","v":0},{"$f":"'sortie (6)'!D23","v":0},"0 0",{"$f":"'sortie (6)'!AF23","v":0},{"$f":"'sortie (6)'!AK23","v":0},{"$f":"'sortie (6)'!AP23","v":0}]
[null,null,null,null,null,null,null,null,null,null,null,null,null,null,null,null,null,null,null,null,null,null,{"$f":"'sortie (6)'!$D$2","v":"E"},{"$f":"'sortie (6)'!$D$3","v":"00:00:00"},{"$f":"'sortie (6)'!C24","v":0},{"$f":"'sortie (6)'!D24","v":0},"0 0",{"$f":"'sortie (6)'!AF24","v":0},{"$f":"'sortie (6)'!AK24","v":0},{"$f":"'sortie (6)'!AP24","v":0}]
[null,null,null,null,null,null,null,null,null,null,null,null,null,null,null,null,null,null,null,null,null,null,{"$f":"'sortie (6)'!$D$2","v":"E"},{"$f":"'sortie (6)'!$D$3","v":"00:00:00"},{"$f":"'sortie (6)'!C25","v":0},{"$f":"'sortie (6)'!D25","v":0},"0 0",{"$f":"'sortie (6)'!AF25","v":0},{"$f":"'sortie (6)'!AK25","v":0},{"$f":"'sortie (6)'!AP25","v":0}]
[null,null,null,null,null,null,null,null,null,null,null,null,null,null,null,null,null,null,null,null,null,null,{"$f":"'sortie (6)'!$D$2","v":"E"},{"$f":"'sortie (6)'!$D$3","v":"00:00:00"},{"$f":"'sortie (6)'!C26","v":0},{"$f":"'sortie (6)'!D26","v":0},"0 0",{"$f":"'sortie (6)'!AF26","v":0},{"$f":"'sortie (6)'!AK26","v":0},{"$f":"'sortie (6)'!AP26","v":0}]
[null,null,null,null,null,null,null,null,null,null,null,null,null,null,null,null,null,null,null,null,null,null,{"$f":"'sortie (6)'!$D$2","v":"E"},{"$f":"'sortie (6)'!$D$3","v":"00:00:00"},{"$f":"'sortie (6)'!C27","v":0},{"$f":"'sortie (6)'!D27","v":0},"0 0",{"$f":"'sortie (6)'!AF27","v":0},{"$f":"'sortie (6)'!AK27","v":0},{"$f":"'sortie (6)'!AP27","v":0}]
[null,null,null,null,null,null,null,null,null,null,null,null,null,null,null,null,null,null,null,null,null,null,{"$f":"'sortie (6)'!$D$2","v":"E"},{"$f":"'sortie (6)'!$D$3","v":"00:00:00"},{"$f":"'sortie (6)'!C28","v":0},{"$f":"'sortie (6)'!D28","v":0},"0 0",{"$f":"'sortie (6)'!AF28","v":0},{"$f":"'sortie (6)'!AK28","v":0},{"$f":"'sortie (6)'!AP28","v":0}]
[null,null,null,null,null,null,null,null,null,null,null,null,null,null,null,null,null,null,null,null,null,null,{"$f":"'sortie (6)'!$D$2","v":"E"},{"$f":"'sortie (6)'!$D$3","v":"00:00:00"},{"$f":"'sortie (6)'!C29","v":0},{"$f":"'sortie (6)'!D29","v":0},"0 0",{"$f":"'sortie (6)'!AF29","v":0},{"$f":"'sortie (6)'!AK29","v":0},{"$f":"'sortie (6)'!AP29","v":0}]
[null,null,null,null,null,null,null,null,null,null,null,null,null,null,null,null,null,null,null,null,null,null,{"$f":"'sortie (6)'!$D$2","v":"E"},{"$f":"'sortie (6)'!$D$3","v":"00:00:00"},{"$f":"'sortie (6)'!C30","v":0},{"$f":"'sortie (6)'!D30","v":0},"0 0",{"$f":"'sortie (6)'!AF30","v":0},{"$f":"'sortie (6)'!AK30","v":0},{"$f":"'sortie (6)'!AP30","v":0}]
[null,null,null,null,null,null,null,null,null,null,null,null,null,null,null,null,null,null,null,null,null,null,{"$f":"'sortie (6)'!$D$2","v":"E"},{"$f":"'sortie (6)'!$D$3","v":"00:00:00"},{"$f":"'sortie (6)'!C31","v":0},{"$f":"'sortie (6)'!D31","v":0},"0 0",{"$f":"'sortie (6)'!AF31","v":0},{"$f":"'sortie (6)'!AK31","v":0},{"$f":"'sortie (6)'!AP31","v":0}]
[null,null,null,null,null,null,null,null,null,null,null,null,null,null,null,null,null,null,null,null,null,null,{"$f":"'sortie (6)'!$D$2","v":"E"},{"$f":"'sortie (6)'!$D$3","v":"00:00:00"},{"$f":"'sortie (6)'!C32","v":0},{"$f":"'sortie (6)'!D32","v":0},"0 0",{"$f":"'sortie (6)'!AF32","v":0},{"$f":"'sortie (6)'!AK32","v":0},{"$f":"'sortie (6)'!AP32","v":0}]
[null,null,null,null,null,null,null,null,null,null,null,null,null,null,null,null,null,null,null,null,null,null,{"$f":"'sortie (6)'!$D$2","v":"E"},{"$f":"'sortie (6)'!$D$3","v":"00:00:00"},{"$f":"'sortie (6)'!C33","v":0},{"$f":"'sortie (6)'!D33","v":0},"0 0",{"$f":"'sortie (6)'!AF33","v":0},{"$f":"'sortie (6)'!AK33","v":0},{"$f":"'sortie (6)'!AP33","v":0}]
[null,null,null,null,null,null,null,null,null,null,null,null,null,null,null,null,null,null,null,null,null,null,{"$f":"'sortie (6)'!$D$2","v":"E"},{"$f":"'sortie (6)'!$D$3","v":"00:00:00"},{"$f":"'sortie (6)'!C34","v":0},{"$f":"'sortie (6)'!D34","v":0},"0 0",{"$f":"'sortie (6)'!AF34","v":0},{"$f":"'sortie (6)'!AK34","v":0},{"$f":"'sortie (6)'!AP34","v":0}]
[null,null,null,null,null,null,null,null,null,null,null,null,null,null,null,null,null,null,null,null,null,null,{"$f":"'sortie (6)'!$D$2","v":"E"},{"$f":"'sortie (6)'!$D$3","v":"00:00:00"},{"$f":"'sortie (6)'!C35","v":0},{"$f":"'sortie (6)'!D35","v":0},"0 0",{"$f":"'sortie (6)'!AF35","v":0},{"$f":"'sortie (6)'!AK35","v":0},{"$f":"'sortie (6)'!AP35","v":0}]
[null,null,null,null,null,null,null,null,null,null,null,null,null,null,null,null,null,null,null,null,null,null,{"$f":"'sortie (6)'!$D$2","v":"E"},{"$f":"'sortie (6)'!$D$3","v":"00:00:00"},{"$f":"'sortie (6)'!C36","v":0},{"$f":"'sortie (6)'!D36","v":0},"0 0",{"$f":"'sortie (6)'!AF36","v":0},{"$f":"'sortie (6)'!AK36","v":0},{"$f":"'sortie (6)'!AP36","v":0}]
[null,null,null,null,null,null,null,null,null,null,null,null,null,null,null,null,null,null,null,null,null,null,{"$f":"'sortie (6)'!$D$2","v":"E"},{"$f":"'sortie (6)'!$D$3","v":"00:00:00"},{"$f":"'sortie (6)'!C37","v":0},{"$f":"'sortie (6)'!D37","v":0},"0 0",{"$f":"'sortie (6)'!AF37","v":0},{"$f":"'sortie (6)'!AK37","v":0},{"$f":"'sortie (6)'!AP37","v":0}]
[null,null,null,null,null,null,null,null,null,null,null,null,null,null,null,null,null,null,null,null,null,null,{"$f":"'sortie (6)'!$D$2","v":"E"},{"$f":"'sortie (6)'!$D$3","v":"00:00:00"},{"$f":"'sortie (6)'!C38","v":0},{"$f":"'sortie (6)'!D38","v":0},"0 0",{"$f":"'sortie (6)'!AF38","v":0},{"$f":"'sortie (6)'!AK38","v":0},{"$f":"'sortie (6)'!AP38","v":0}]
[null,null,null,null,null,null,null,null,null,null,null,null,null,null,null,null,null,null,null,null,null,null,{"$f":"'sortie (7)'!$D$2","v":"F"},{"$f":"'sortie (7)'!$D$3","v":"00:00:00"},{"$f":"'sortie (7)'!C9","v":0},{"$f":"'sortie (7)'!D9","v":0},"0 0",{"$f":"'sortie (7)'!AF9","v":0},{"$f":"'sortie (7)'!AK9","v":0},{"$f":"'sortie (7)'!AP9","v":0}]
[null,null,null,null,null,null,null,null,null,null,null,null,null,null,null,null,null,null,null,null,null,null,{"$f":"'sortie (7)'!$D$2","v":"F"},{"$f":"'sortie (7)'!$D$3","v":"00:00:00"},{"$f":"'sortie (7)'!C10","v":0},{"$f":"'sortie (7)'!D10","v":0},"0 0",{"$f":"'sortie (7)'!AF10","v":0},{"$f":"'sortie (7)'!AK10","v":0},{"$f":"'sortie (7)'!AP10","v":0}]
[null,null,null,null,null,null,null,null,null,null,null,null,null,null,null,null,null,null,null,null,null,null,{"$f":"'sortie (7)'!$D$2","v":"F"},{"$f":"'sortie (7)'!$D$3","v":"00:00:00"},{"$f":"'sortie (7)'!C11","v":0},{"$f":"'sortie (7)'!D11","v":0},"0 0",{"$f":"'sortie (7)'!AF11","v":0},{"$f":"'sortie (7)'!AK11","v":0},{"$f":"'sortie (7)'!AP11","v":0}]
[null,null,null,null,null,null,null,null,null,null,null,null,null,null,null,null,null,null,null,null,null,null,{"$f":"'sortie (7)'!$D$2","v":"F"},{"$f":"'sortie (7)'!$D$3","v":"00:00:00"},{"$f":"'sortie (7)'!C12","v":0},{"$f":"'sortie (7)'!D12","v":0},"0 0",{"$f":"'sortie (7)'!AF12","v":0},{"$f":"'sortie (7)'!AK12","v":0},{"$f":"'sortie (7)'!AP12","v":0}]
[null,null,null,null,null,null,null,null,null,null,null,null,null,null,null,null,null,null,null,null,null,null,{"$f":"'sortie (7)'!$D$2","v":"F"},{"$f":"'sortie (7)'!$D$3","v":"00:00:00"},{"$f":"'sortie (7)'!C13","v":0},{"$f":"'sortie (7)'!D13","v":0},"0 0",{"$f":"'sortie (7)'!AF13","v":0},{"$f":"'sortie (7)'!AK13","v":0},{"$f":"'sortie (7)'!AP13","v":0}]
[null,null,null,null,null,null,null,null,null,null,null,null,null,null,null,null,null,null,null,null,null,null,{"$f":"'sortie (7)'!$D$2","v":"F"},{"$f":"'sortie (7)'!$D$3","v":"00:00:00"},{"$f":"'sortie (7)'!C14","v":0},{"$f":"'sortie (7)'!D14","v":0},"0 0",{"$f":"'sortie (7)'!AF14","v":0},{"$f":"'sortie (7)'!AK14","v":0},{"$f":"'sortie (7)'!AP14","v":0}]
[null,null,null,null,null,null,null,null,null,null,null,null,null,null,null,null,null,null,null,null,null,null,{"$f":"'sortie (7)'!$D$2","v":"F"},{"$f":"'sortie (7)'!$D$3","v":"00:00:00"},{"$f":"'sortie (7)'!C15","v":0},{"$f":"'sortie (7)'!D15","v":0},"0 0",{"$f":"'sortie (7)'!AF15","v":0},{"$f":"'sortie (7)'!AK15","v":0},{"$f":"'sortie (7)'!AP15","v":0}]
[null,null,null,null,null,null,null,null,null,null,null,null,null,null,null,null,null,null,null,null,null,null,{"$f":"'sortie (7)'!$D$2","v":"F"},{"$f":"'sortie (7)'!$D$3","v":"00:00:00"},{"$f":"'sortie (7)'!C16","v":0},{"$f":"'sortie (7)'!D16","v":0},"0 0",{"$f":"'sortie (7)'!AF16","v":0},{"$f":"'sortie (7)'!AK16","v":0},{"$f":"'sortie (7)'!AP16","v":0}]
[null,null,null,null,null,null,null,null,null,null,null,null,null,null,null,null,null,null,null,null,null,null,{"$f":"'sortie (7)'!$D$2","v":"F"},{"$f":"'sortie (7)'!$D$3","v":"00:00:00"},{"$f":"'sortie (7)'!C17","v":0},{"$f":"'sortie (7)'!D17","v":0},"0 0",{"$f":"'sortie (7)'!AF17","v":0},{"$f":"'sortie (7)'!AK17","v":0},{"$f":"'sortie (7)'!AP17","v":0}]
[null,null,null,null,null,null,null,null,null,null,null,null,null,null,null,null,null,null,null,null,null,null,{"$f":"'sortie (7)'!$D$2","v":"F"},{"$f":"'sortie (7)'!$D$3","v":"00:00:00"},{"$f":"'sortie (7)'!C18","v":0},{"$f":"'sortie (7)'!D18","v":0},"0 0",{"$f":"'sortie (7)'!AF18","v":0},{"$f":"'sortie (7)'!AK18","v":0},{"$f":"'sortie (7)'!AP18","v":0}]
[null,null,null,null,null,null,null,null,null,null,null,null,null,null,null,null,null,null,null,null,null,null,{"$f":"'sortie (7)'!$D$2","v":"F"},{"$f":"'sortie (7)'!$D$3","v":"00:00:00"},{"$f":"'sortie (7)'!C19","v":0},{"$f":"'sortie (7)'!D19","v":0},"0 0",{"$f":"'sortie (7)'!AF19","v":0},{"$f":"'sortie (7)'!AK19","v":0},{"$f":"'sortie (7)'!AP19","v":0}]
[null,null,null,null,null,null,null,null,null,null,null,null,null,null,null,null,null,null,null,null,null,null,{"$f":"'sortie (7)'!$D$2","v":"F"},{"$f":"'sortie (7)'!$D$3","v":"00:00:00"},{"$f":"'sortie (7)'!C20","v":0},{"$f":"'sortie (7)'!D20","v":0},"0 0",{"$f":"'sortie (7)'!AF20","v":0},{"$f":"'sortie (7)'!AK20","v":0},{"$f":"'sortie (7)'!AP20","v":0}]
[null,null,null,null,null,null,null,null,null,null,null,null,null,null,null,null,null,null,null,null,null,null,{"$f":"'sortie (7)'!$D$2","v":"F"},{"$f":"'sortie (7)'!$D$3","v":"00:00:00"},{"$f":"'sortie (7)'!C21","v":0},{"$f":"'sortie (7)'!D21","v":0},"0 0",{"$f":"'sortie (7)'!AF21","v":0},{"$f":"'sortie (7)'!AK21","v":0},{"$f":"'sortie (7)'!AP21","v":0}]
[null,null,null,null,null,null,null,null,null,null,null,null,null,null,null,null,null,null,null,null,null,null,{"$f":"'sortie (7)'!$D$2","v":"F"},{"$f":"'sortie (7)'!$D$3","v":"00:00:00"},{"$f":"'sortie (7)'!C22","v":0},{"$f":"'sortie (7)'!D22","v":0},{"$f":"CONCATENATE(Y197,\" \",Z197)","v":"0 0"},{"$f":"'sortie (7)'!AF22","v":0},{"$f":"'sortie (7)'!AK22","v":0},{"$f":"'sortie (7)'!AP22","v":0}]
[null,null,null,null,null,null,null,null,null,null,null,null,null,null,null,null,null,null,null,null,null,null,{"$f":"'sortie (7)'!$D$2","v":"F"},{"$f":"'sortie (7)'!$D$3","v":"00:00:00"},{"$f":"'sortie (7)'!C23","v":0},{"$f":"'sortie (7)'!D23","v":0},"0 0",{"$f":"'sortie (7)'!AF23","v":0},{"$f":"'sortie (7)'!AK23","v":0},{"$f":"'sortie (7)'!AP23","v":0}]
[null,null,null,null,null,null,null,null,null,null,null,null,null,null,null,null,null,null,null,null,null,null,{"$f":"'sortie (7)'!$D$2","v":"F"},{"$f":"'sortie (7)'!$D$3","v":"00:00:00"},{"$f":"'sortie (7)'!C24","v":0},{"$f":"'sortie (7)'!D24","v":0},"0 0",{"$f":"'sortie (7)'!AF24","v":0},{"$f":"'sortie (7)'!AK24","v":0},{"$f":"'sortie (7)'!AP24","v":0}]
[null,null,null,null,null,null,null,null,null,null,null,null,null,null,null,null,null,null,null,null,null,null,{"$f":"'sortie (7)'!$D$2","v":"F"},{"$f":"'sortie (7)'!$D$3","v":"00:00:00"},{"$f":"'sortie (7)'!C25","v":0},{"$f":"'sortie (7)'!D25","v":0},"0 0",{"$f":"'sortie (7)'!AF25","v":0},{"$f":"'sortie (7)'!AK25","v":0},{"$f":"'sortie (7)'!AP25","v":0}]
[null,null,null,null,null,null,null,null,null,null,null,null,null,null,null,null,null,null,null,null,null,null,{"$f":"'sortie (7)'!$D$2","v":"F"},{"$f":"'sortie (7)'!$D$3","v":"00:00:00"},{"$f":"'sortie (7)'!C26","v":0},{"$f":"'sortie (7)'!D26","v":0},"0 0",{"$f":"'sortie (7)'!AF26","v":0},{"$f":"'sortie (7)'!AK26","v":0},{"$f":"'sortie (7)'!AP26","v":0}]
[null,null,null,null,null,null,null,null,null,null,null,null,null,null,null,null,null,null,null,null,null,null,{"$f":"'sortie (7)'!$D$2","v":"F"},{"$f":"'sortie (7)'!$D$3","v":"00:00:00"},{"$f":"'sortie (7)'!C27","v":0},{"$f":"'sortie (7)'!D27","v":0},"0 0",{"$f":"'sortie (7)'!AF27","v":0},{"$f":"'sortie (7)'!AK27","v":0},{"$f":"'sortie (7)'!AP27","v":0}]
[null,null,null,null,null,null,null,null,null,null,null,null,null,null,null,null,null,null,null,null,null,null,{"$f":"'sortie (7)'!$D$2","v":"F"},{"$f":"'sortie (7)'!$D$3","v":"00:00:00"},{"$f":"'sortie (7)'!C28","v":0},{"$f":"'sortie (7)'!D28","v":0},"0 0",{"$f":"'sortie (7)'!AF28","v":0},{"$f":"'sortie (7)'!AK28","v":0},{"$f":"'sortie (7)'!AP28","v":0}]
[null,null,null,null,null,null,null,null,null,null,null,null,null,null,null,null,null,null,null,null,null,null,{"$f":"'sortie (7)'!$D$2","v":"F"},{"$f":"'sortie (7)'!$D$3","v":"00:00:00"},{"$f":"'sortie (7)'!C29","v":0},{"$f":"'sortie (7)'!D29","v":0},"0 0",{"$f":"'sortie (7)'!AF29","v":0},{"$f":"'sortie (7)'!AK29","v":0},{"$f":"'sortie (7)'!AP29","v":0}]
[null,null,null,null,null,null,null,null,null,null,null,null,null,null,null,null,null,null,null,null,null,null,{"$f":"'sortie (7)'!$D$2","v":"F"},{"$f":"'sortie (7)'!$D$3","v":"00:00:00"},{"$f":"'sortie (7)'!C30","v":0},{"$f":"'sortie (7)'!D30","v":0},"0 0",{"$f":"'sortie (7)'!AF30","v":0},{"$f":"'sortie (7)'!AK30","v":0},{"$f":"'sortie (7)'!AP30","v":0}]
[null,null,null,null,null,null,null,null,null,null,null,null,null,null,null,null,null,null,null,null,null,null,{"$f":"'sortie (7)'!$D$2","v":"F"},{"$f":"'sortie (7)'!$D$3","v":"00:00:00"},{"$f":"'sortie (7)'!C31","v":0},{"$f":"'sortie (7)'!D31","v":0},"0 0",{"$f":"'sortie (7)'!AF31","v":0},{"$f":"'sortie (7)'!AK31","v":0},{"$f":"'sortie (7)'!AP31","v":0}]
[null,null,null,null,null,null,null,null,null,null,null,null,null,null,null,null,null,null,null,null,null,null,{"$f":"'sortie (7)'!$D$2","v":"F"},{"$f":"'sortie (7)'!$D$3","v":"00:00:00"},{"$f":"'sortie (7)'!C32","v":0},{"$f":"'sortie (7)'!D32","v":0},"0 0",{"$f":"'sortie (7)'!AF32","v":0},{"$f":"'sortie (7)'!AK32","v":0},{"$f":"'sortie (7)'!AP32","v":0}]
[null,null,null,null,null,null,null,null,null,null,null,null,null,null,null,null,null,null,null,null,null,null,{"$f":"'sortie (7)'!$D$2","v":"F"},{"$f":"'sortie (7)'!$D$3","v":"00:00:00"},{"$f":"'sortie (7)'!C33","v":0},{"$f":"'sortie (7)'!D33","v":0},"0 0",{"$f":"'sortie (7)'!AF33","v":0},{"$f":"'sortie (7)'!AK33","v":0},{"$f":"'sortie (7)'!AP33","v":0}]
[null,null,null,null,null,null,null,null,null,null,null,null,null,null,null,null,null,null,null,null,null,null,{"$f":"'sortie (7)'!$D$2","v":"F"},{"$f":"'sortie (7)'!$D$3","v":"00:00:00"},{"$f":"'sortie (7)'!C34","v":0},{"$f":"'sortie (7)'!D34","v":0},"0 0",{"$f":"'sortie (7)'!AF34","v":0},{"$f":"'sortie (7)'!AK34","v":0},{"$f":"'sortie (7)'!AP34","v":0}]
[null,null,null,null,null,null,null,null,null,null,null,null,null,null,null,null,null,null,null,null,null,null,{"$f":"'sortie (7)'!$D$2","v":"F"},{"$f":"'sortie (7)'!$D$3","v":"00:00:00"},{"$f":"'sortie (7)'!C35","v":0},{"$f":"'sortie (7)'!D35","v":0},"0 0",{"$f":"'sortie (7)'!AF35","v":0},{"$f":"'sortie (7)'!AK35","v":0},{"$f":"'sortie (7)'!AP35","v":0}]
[null,null,null,null,null,null,null,null,null,null,null,null,null,null,null,null,null,null,null,null,null,null,{"$f":"'sortie (7)'!$D$2","v":"F"},{"$f":"'sortie (7)'!$D$3","v":"00:00:00"},{"$f":"'sortie (7)'!C36","v":0},{"$f":"'sortie (7)'!D36","v":0},"0 0",{"$f":"'sortie (7)'!AF36","v":0},{"$f":"'sortie (7)'!AK36","v":0},{"$f":"'sortie (7)'!AP36","v":0}]
[null,null,null,null,null,null,null,null,null,null,null,null,null,null,null,null,null,null,null,null,null,null,{"$f":"'sortie (7)'!$D$2","v":"F"},{"$f":"'sortie (7)'!$D$3","v":"00:00:00"},{"$f":"'sortie (7)'!C37","v":0},{"$f":"'sortie (7)'!D37","v":0},"0 0",{"$f":"'sortie (7)'!AF37","v":0},{"$f":"'sortie (7)'!AK37","v":0},{"$f":"'sortie (7)'!AP37","v":0}]
[null,null,null,null,null,null,null,null,null,null,null,null,null,null,null,null,null,null,null,null,null,null,{"$f":"'sortie (7)'!$D$2","v":"F"},{"$f":"'sortie (7)'!$D$3","v":"00:00:00"},{"$f":"'sortie (7)'!C38","v":0},{"$f":"'sortie (7)'!D38","v":0},"0 0",{"$f":"'sortie (7)'!AF38","v":0},{"$f":"'sortie (7)'!AK38","v":0},{"$f":"'sortie (7)'!AP38","v":0}]
[null,null,null,null,null,null,null,null,null,null,null,null,null,null,null,null,null,null,null,null,null,null,{"$f":"'sortie (8)'!$D$2","v":"G"},{"$f":"'sortie (8)'!$D$3","v":"00:00:00"},{"$f":"'sortie (8)'!C9","v":0},{"$f":"'sortie (8)'!D9","v":0},"0 0",{"$f":"'sortie (8)'!AF9","v":0},{"$f":"'sortie (8)'!AK9","v":0},{"$f":"'sortie (8)'!AP9","v":0}]
[null,null,null,null,null,null,null,null,null,null,null,null,null,null,null,null,null,null,null,null,null,null,{"$f":"'sortie (8)'!$D$2","v":"G"},{"$f":"'sortie (8)'!$D$3","v":"00:00:00"},{"$f":"'sortie (8)'!C10","v":0},{"$f":"'sortie (8)'!D10","v":0},"0 0",{"$f":"'sortie (8)'!AF10","v":0},{"$f":"'sortie (8)'!AK10","v":0},{"$f":"'sortie (8)'!AP10","v":0}]
[null,null,null,null,null,null,null,null,null,null,null,null,null,null,null,null,null,null,null,null,null,null,{"$f":"'sortie (8)'!$D$2","v":"G"},{"$f":"'sortie (8)'!$D$3","v":"00:00:00"},{"$f":"'sortie (8)'!C11","v":0},{"$f":"'sortie (8)'!D11","v":0},"0 0",{"$f":"'sortie (8)'!AF11","v":0},{"$f":"'sortie (8)'!AK11","v":0},{"$f":"'sortie (8)'!AP11","v":0}]
[null,null,null,null,null,null,null,null,null,null,null,null,null,null,null,null,null,null,null,null,null,null,{"$f":"'sortie (8)'!$D$2","v":"G"},{"$f":"'sortie (8)'!$D$3","v":"00:00:00"},{"$f":"'sortie (8)'!C12","v":0},{"$f":"'sortie (8)'!D12","v":0},"0 0",{"$f":"'sortie (8)'!AF12","v":0},{"$f":"'sortie (8)'!AK12","v":0},{"$f":"'sortie (8)'!AP12","v":0}]
[null,null,null,null,null,null,null,null,null,null,null,null,null,null,null,null,null,null,null,null,null,null,{"$f":"'sortie (8)'!$D$2","v":"G"},{"$f":"'sortie (8)'!$D$3","v":"00:00:00"},{"$f":"'sortie (8)'!C13","v":0},{"$f":"'sortie (8)'!D13","v":0},"0 0",{"$f":"'sortie (8)'!AF13","v":0},{"$f":"'sortie (8)'!AK13","v":0},{"$f":"'sortie (8)'!AP13","v":0}]
[null,null,null,null,null,null,null,null,null,null,null,null,null,null,null,null,null,null,null,null,null,null,{"$f":"'sortie (8)'!$D$2","v":"G"},{"$f":"'sortie (8)'!$D$3","v":"00:00:00"},{"$f":"'sortie (8)'!C14","v":0},{"$f":"'sortie (8)'!D14","v":0},"0 0",{"$f":"'sortie (8)'!AF14","v":0},{"$f":"'sortie (8)'!AK14","v":0},{"$f":"'sortie (8)'!AP14","v":0}]
[null,null,null,null,null,null,null,null,null,null,null,null,null,null,null,null,null,null,null,null,null,null,{"$f":"'sortie (8)'!$D$2","v":"G"},{"$f":"'sortie (8)'!$D$3","v":"00:00:00"},{"$f":"'sortie (8)'!C15","v":0},{"$f":"'sortie (8)'!D15","v":0},"0 0",{"$f":"'sortie (8)'!AF15","v":0},{"$f":"'sortie (8)'!AK15","v":0},{"$f":"'sortie (8)'!AP15","v":0}]
[null,null,null,null,null,null,null,null,null,null,null,null,null,null,null,null,null,null,null,null,null,null,{"$f":"'sortie (8)'!$D$2","v":"G"},{"$f":"'sortie (8)'!$D$3","v":"00:00:00"},{"$f":"'sortie (8)'!C16","v":0},{"$f":"'sortie (8)'!D16","v":0},"0 0",{"$f":"'sortie (8)'!AF16","v":0},{"$f":"'sortie (8)'!AK16","v":0},{"$f":"'sortie (8)'!AP16","v":0}]
[null,null,null,null,null,null,null,null,null,null,null,null,null,null,null,null,null,null,null,null,null,null,{"$f":"'sortie (8)'!$D$2","v":"G"},{"$f":"'sortie (8)'!$D$3","v":"00:00:00"},{"$f":"'sortie (8)'!C17","v":0},{"$f":"'sortie (8)'!D17","v":0},"0 0",{"$f":"'sortie (8)'!AF17","v":0},{"$f":"'sortie (8)'!AK17","v":0},{"$f":"'sortie (8)'!AP17","v":0}]
[null,null,null,null,null,null,null,null,null,null,null,null,null,null,null,null,null,null,null,null,null,null,{"$f":"'sortie (8)'!$D$2","v":"G"},{"$f":"'sortie (8)'!$D$3","v":"00:00:00"},{"$f":"'sortie (8)'!C18","v":0},{"$f":"'sortie (8)'!D18","v":0},"0 0",{"$f":"'sortie (8)'!AF18","v":0},{"$f":"'sortie (8)'!AK18","v":0},{"$f":"'sortie (8)'!AP18","v":0}]
[null,null,null,null,null,null,null,null,null,null,null,null,null,null,null,null,null,null,null,null,null,null,{"$f":"'sortie (8)'!$D$2","v":"G"},{"$f":"'sortie (8)'!$D$3","v":"00:00:00"},{"$f":"'sortie (8)'!C19","v":0},{"$f":"'sortie (8)'!D19","v":0},"0 0",{"$f":"'sortie (8)'!AF19","v":0},{"$f":"'sortie (8)'!AK19","v":0},{"$f":"'sortie (8)'!AP19","v":0}]
[null,null,null,null,null,null,null,null,null,null,null,null,null,null,null,null,null,null,null,null,null,null,{"$f":"'sortie (8)'!$D$2","v":"G"},{"$f":"'sortie (8)'!$D$3","v":"00:00:00"},{"$f":"'sortie (8)'!C20","v":0},{"$f":"'sortie (8)'!D20","v":0},"0 0",{"$f":"'sortie (8)'!AF20","v":0},{"$f":"'sortie (8)'!AK20","v":0},{"$f":"'sortie (8)'!AP20","v":0}]
[null,null,null,null,null,null,null,null,null,null,null,null,null,null,null,null,null,null,null,null,null,null,{"$f":"'sortie (8)'!$D$2","v":"G"},{"$f":"'sortie (8)'!$D$3","v":"00:00:00"},{"$f":"'sortie (8)'!C21","v":0},{"$f":"'sortie (8)'!D21","v":0},"0 0",{"$f":"'sortie (8)'!AF21","v":0},{"$f":"'sortie (8)'!AK21","v":0},{"$f":"'sortie (8)'!AP21","v":0}]
[null,null,null,null,null,null,null,null,null,null,null,null,null,null,null,null,null,null,null,null,null,null,{"$f":"'sortie (8)'!$D$2","v":"G"},{"$f":"'sortie (8)'!$D$3","v":"00:00:00"},{"$f":"'sortie (8)'!C22","v":0},{"$f":"'sortie (8)'!D22","v":0},"0 0",{"$f":"'sortie (8)'!AF22","v":0},{"$f":"'sortie (8)'!AK22","v":0},{"$f":"'sortie (8)'!AP22","v":0}]
[null,null,null,null,null,null,null,null,null,null,null,null,null,null,null,null,null,null,null,null,null,null,{"$f":"'sortie (8)'!$D$2","v":"G"},{"$f":"'sortie (8)'!$D$3","v":"00:00:00"},{"$f":"'sortie (8)'!C23","v":0},{"$f":"'sortie (8)'!D23","v":0},"0 0",{"$f":"'sortie (8)'!AF23","v":0},{"$f":"'sortie (8)'!AK23","v":0},{"$f":"'sortie (8)'!AP23","v":0}]
[null,null,null,null,null,null,null,null,null,null,null,null,null,null,null,null,null,null,null,null,null,null,{"$f":"'sortie (8)'!$D$2","v":"G"},{"$f":"'sortie (8)'!$D$3","v":"00:00:00"},{"$f":"'sortie (8)'!C24","v":0},{"$f":"'sortie (8)'!D24","v":0},"0 0",{"$f":"'sortie (8)'!AF24","v":0},{"$f":"'sortie (8)'!AK24","v":0},{"$f":"'sortie (8)'!AP24","v":0}]
[null,null,null,null,null,null,null,null,null,null,null,null,null,null,null,null,null,null,null,null,null,null,{"$f":"'sortie (8)'!$D$2","v":"G"},{"$f":"'sortie (8)'!$D$3","v":"00:00:00"},{"$f":"'sortie (8)'!C25","v":0},{"$f":"'sortie (8)'!D25","v":0},"0 0",{"$f":"'sortie (8)'!AF25","v":0},{"$f":"'sortie (8)'!AK25","v":0},{"$f":"'sortie (8)'!AP25","v":0}]
[null,null,null,null,null,null,null,null,null,null,null,null,null,null,null,null,null,null,null,null,null,null,{"$f":"'sortie (8)'!$D$2","v":"G"},{"$f":"'sortie (8)'!$D$3","v":"00:00:00"},{"$f":"'sortie (8)'!C26","v":0},{"$f":"'sortie (8)'!D26","v":0},"0 0",{"$f":"'sortie (8)'!AF26","v":0},{"$f":"'sortie (8)'!AK26","v":0},{"$f":"'sortie (8)'!AP26","v":0}]
[null,null,null,null,null,null,null,null,null,null,null,null,null,null,null,null,null,null,null,null,null,null,{"$f":"'sortie (8)'!$D$2","v":"G"},{"$f":"'sortie (8)'!$D$3","v":"00:00:00"},{"$f":"'sortie (8)'!C27","v":0},{"$f":"'sortie (8)'!D27","v":0},"0 0",{"$f":"'sortie (8)'!AF27","v":0},{"$f":"'sortie (8)'!AK27","v":0},{"$f":"'sortie (8)'!AP27","v":0}]
[null,null,null,null,null,null,null,null,null,null,null,null,null,null,null,null,null,null,null,null,null,null,{"$f":"'sortie (8)'!$D$2","v":"G"},{"$f":"'sortie (8)'!$D$3","v":"00:00:00"},{"$f":"'sortie (8)'!C28","v":0},{"$f":"'sortie (8)'!D28","v":0},"0 0",{"$f":"'sortie (8)'!AF28","v":0},{"$f":"'sortie (8)'!AK28","v":0},{"$f":"'sortie (8)'!AP28","v":0}]
[null,null,null,null,null,null,null,null,null,null,null,null,null,null,null,null,null,null,null,null,null,null,{"$f":"'sortie (8)'!$D$2","v":"G"},{"$f":"'sortie (8)'!$D$3","v":"00:00:00"},{"$f":"'sortie (8)'!C29","v":0},{"$f":"'sortie (8)'!D29","v":0},"0 0",{"$f":"'sortie (8)'!AF29","v":0},{"$f":"'sortie (8)'!AK29","v":0},{"$f":"'sortie (8)'!AP29","v":0}]
[null,null,null,null,null,null,null,null,null,null,null,null,null,null,null,null,null,null,null,null,null,null,{"$f":"'sortie (8)'!$D$2","v":"G"},{"$f":"'sortie (8)'!$D$3","v":"00:00:00"},{"$f":"'sortie (8)'!C30","v":0},{"$f":"'sortie (8)'!D30","v":0},"0 0",{"$f":"'sortie (8)'!AF30","v":0},{"$f":"'sortie (8)'!AK30","v":0},{"$f":"'sortie (8)'!AP30","v":0}]
[null,null,null,null,null,null,null,null,null,null,null,null,null,null,null,null,null,null,null,null,null,null,{"$f":"'sortie (8)'!$D$2","v":"G"},{"$f":"'sortie (8)'!$D$3","v":"00:00:00"},{"$f":"'sortie (8)'!C31","v":0},{"$f":"'sortie (8)'!D31","v":0},"0 0",{"$f":"'sortie (8)'!AF31","v":0},{"$f":"'sortie (8)'!AK31","v":0},{"$f":"'sortie (8)'!AP31","v":0}]
[null,null,null,null,null,null,null,null,null,null,null,null,null,null,null,null,null,null,null,null,null,null,{"$f":"'sortie (8)'!$D$2","v":"G"},{"$f":"'sortie (8)'!$D$3","v":"00:00:00"},{"$f":"'sortie (8)'!C32","v":0},{"$f":"'sortie (8)'!D32","v":0},"0 0",{"$f":"'sortie (8)'!AF32","v":0},{"$f":"'sortie (8)'!AK32","v":0},{"$f":"'sortie (8)'!AP32","v":0}]
[null,null,null,null,null,null,null,null,null,null,null,null,null,null,null,null,null,null,null,null,null,null,{"$f":"'sortie (8)'!$D$2","v":"G"},{"$f":"'sortie (8)'!$D$3","v":"00:00:00"},{"$f":"'sortie (8)'!C33","v":0},{"$f":"'sortie (8)'!D33","v":0},"0 0",{"$f":"'sortie (8)'!AF33","v":0},{"$f":"'sortie (8)'!AK33","v":0},{"$f":"'sortie (8)'!AP33","v":0}]
[null,null,null,null,null,null,null,null,null,null,null,null,null,null,null,null,null,null,null,null,null,null,{"$f":"'sortie (8)'!$D$2","v":"G"},{"$f":"'sortie (8)'!$D$3","v":"00:00:00"},{"$f":"'sortie (8)'!C34","v":0},{"$f":"'sortie (8)'!D34","v":0},"0 0",{"$f":"'sortie (8)'!AF34","v":0},{"$f":"'sortie (8)'!AK34","v":0},{"$f":"'sortie (8)'!AP34","v":0}]
[null,null,null,null,null,null,null,null,null,null,null,null,null,null,null,null,null,null,null,null,null,null,{"$f":"'sortie (8)'!$D$2","v":"G"},{"$f":"'sortie (8)'!$D$3","v":"00:00:00"},{"$f":"'sortie (8)'!C35","v":0},{"$f":"'sortie (8)'!D35","v":0},"0 0",{"$f":"'sortie (8)'!AF35","v":0},{"$f":"'sortie (8)'!AK35","v":0},{"$f":"'sortie (8)'!AP35","v":0}]
[null,null,null,null,null,null,null,null,null,null,null,null,null,null,null,null,null,null,null,null,null,null,{"$f":"'sortie (8)'!$D$2","v":"G"},{"$f":"'sortie (8)'!$D$3","v":"00:00:00"},{"$f":"'sortie (8)'!C36","v":0},{"$f":"'sortie (8)'!D36","v":0},"0 0",{"$f":"'sortie (8)'!AF36","v":0},{"$f":"'sortie (8)'!AK36","v":0},{"$f":"'sortie (8)'!AP36","v":0}]
[null,null,null,null,null,null,null,null,null,null,null,null,null,null,null,null,null,null,null,null,null,null,{"$f":"'sortie (8)'!$D$2","v":"G"},{"$f":"'sortie (8)'!$D$3","v":"00:00:00"},{"$f":"'sortie (8)'!C37","v":0},{"$f":"'sortie (8)'!D37","v":0},"0 0",{"$f":"'sortie (8)'!AF37","v":0},{"$f":"'sortie (8)'!AK37","v":0},{"$f":"'sortie (8)'!AP37","v":0}]
[null,null,null,null,null,null,null,null,null,null,null,null,null,null,null,null,null,null,null,null,null,null,{"$f":"'sortie (8)'!$D$2","v":"G"},{"$f":"'sortie (8)'!$D$3","v":"00:00:00"},{"$f":"'sortie (8)'!C38","v":0},{"$f":"'sortie (8)'!D38","v":0},"0 0",{"$f":"'sortie (8)'!AF38","v":0},{"$f":"'sortie (8)'!AK38","v":0},{"$f":"'sortie (8)'!AP38","v":0}]
[null,null,null,null,null,null,null,null,null,null,null,null,null,null,null,null,null,null,null,null,null,null,{"$f":"'sortie (9)'!$D$2","v":"H"},{"$f":"'sortie (9)'!$D$3","v":"00:00:00"},{"$f":"'sortie (9)'!C9","v":0},{"$f":"'sortie (9)'!D9","v":0},"0 0",{"$f":"'sortie (9)'!AF9","v":0},{"$f":"'sortie (9)'!AK9","v":0},{"$f":"'sortie (9)'!AP9","v":0}]
[null,null,null,null,null,null,null,null,null,null,null,null,null,null,null,null,null,null,null,null,null,null,{"$f":"'sortie (9)'!$D$2","v":"H"},{"$f":"'sortie (9)'!$D$3","v":"00:00:00"},{"$f":"'sortie (9)'!C10","v":0},{"$f":"'sortie (9)'!D10","v":0},"0 0",{"$f":"'sortie (9)'!AF10","v":0},{"$f":"'sortie (9)'!AK10","v":0},{"$f":"'sortie (9)'!AP10","v":0}]
[null,null,null,null,null,null,null,null,null,null,null,null,null,null,null,null,null,null,null,null,null,null,{"$f":"'sortie (9)'!$D$2","v":"H"},{"$f":"'sortie (9)'!$D$3","v":"00:00:00"},{"$f":"'sortie (9)'!C11","v":0},{"$f":"'sortie (9)'!D11","v":0},"0 0",{"$f":"'sortie (9)'!AF11","v":0},{"$f":"'sortie (9)'!AK11","v":0},{"$f":"'sortie (9)'!AP11","v":0}]
[null,null,null,null,null,null,null,null,null,null,null,null,null,null,null,null,null,null,null,null,null,null,{"$f":"'sortie (9)'!$D$2","v":"H"},{"$f":"'sortie (9)'!$D$3","v":"00:00:00"},{"$f":"'sortie (9)'!C12","v":0},{"$f":"'sortie (9)'!D12","v":0},"0 0",{"$f":"'sortie (9)'!AF12","v":0},{"$f":"'sortie (9)'!AK12","v":0},{"$f":"'sortie (9)'!AP12","v":0}]
[null,null,null,null,null,null,null,null,null,null,null,null,null,null,null,null,null,null,null,null,null,null,{"$f":"'sortie (9)'!$D$2","v":"H"},{"$f":"'sortie (9)'!$D$3","v":"00:00:00"},{"$f":"'sortie (9)'!C13","v":0},{"$f":"'sortie (9)'!D13","v":0},"0 0",{"$f":"'sortie (9)'!AF13","v":0},{"$f":"'sortie (9)'!AK13","v":0},{"$f":"'sortie (9)'!AP13","v":0}]
[null,null,null,null,null,null,null,null,null,null,null,null,null,null,null,null,null,null,null,null,null,null,{"$f":"'sortie (9)'!$D$2","v":"H"},{"$f":"'sortie (9)'!$D$3","v":"00:00:00"},{"$f":"'sortie (9)'!C14","v":0},{"$f":"'sortie (9)'!D14","v":0},"0 0",{"$f":"'sortie (9)'!AF14","v":0},{"$f":"'sortie (9)'!AK14","v":0},{"$f":"'sortie (9)'!AP14","v":0}]
[null,null,null,null,null,null,null,null,null,null,null,null,null,null,null,null,null,null,null,null,null,null,{"$f":"'sortie (9)'!$D$2","v":"H"},{"$f":"'sortie (9)'!$D$3","v":"00:00:00"},{"$f":"'sortie (9)'!C15","v":0},{"$f":"'sortie (9)'!D15","v":0},"0 0",{"$f":"'sortie (9)'!AF15","v":0},{"$f":"'sortie (9)'!AK15","v":0},{"$f":"'sortie (9)'!AP15","v":0}]
[null,null,null,null,null,null,null,null,null,null,null,null,null,null,null,null,null,null,null,null,null,null,{"$f":"'sortie (9)'!$D$2","v":"H"},{"$f":"'sortie (9)'!$D$3","v":"00:00:00"},{"$f":"'sortie (9)'!C16","v":0},{"$f":"'sortie (9)'!D16","v":0},"0 0",{"$f":"'sortie (9)'!AF16","v":0},{"$f":"'sortie (9)'!AK16","v":0},{"$f":"'sortie (9)'!AP16","v":0}]
[null,null,null,null,null,null,null,null,null,null,null,null,null,null,null,null,null,null,null,null,null,null,{"$f":"'sortie (9)'!$D$2","v":"H"},{"$f":"'sortie (9)'!$D$3","v":"00:00:00"},{"$f":"'sortie (9)'!C17","v":0},{"$f":"'sortie (9)'!D17","v":0},"0 0",{"$f":"'sortie (9)'!AF17","v":0},{"$f":"'sortie (9)'!AK17","v":0},{"$f":"'sortie (9)'!AP17","v":0}]
[null,null,null,null,null,null,null,null,null,null,null,null,null,null,null,null,null,null,null,null,null,null,{"$f":"'sortie (9)'!$D$2","v":"H"},{"$f":"'sortie (9)'!$D$3","v":"00:00:00"},{"$f":"'sortie (9)'!C18","v":0},{"$f":"'sortie (9)'!D18","v":0},"0 0",{"$f":"'sortie (9)'!AF18","v":0},{"$f":"'sortie (9)'!AK18","v":0},{"$f":"'sortie (9)'!AP18","v":0}]
[null,null,null,null,null,null,null,null,null,null,null,null,null,null,null,null,null,null,null,null,null,null,{"$f":"'sortie (9)'!$D$2","v":"H"},{"$f":"'sortie (9)'!$D$3","v":"00:00:00"},{"$f":"'sortie (9)'!C19","v":0},{"$f":"'sortie (9)'!D19","v":0},"0 0",{"$f":"'sortie (9)'!AF19","v":0},{"$f":"'sortie (9)'!AK19","v":0},{"$f":"'sortie (9)'!AP19","v":0}]
[null,null,null,null,null,null,null,null,null,null,null,null,null,null,null,null,null,null,null,null,null,null,{"$f":"'sortie (9)'!$D$2","v":"H"},{"$f":"'sortie (9)'!$D$3","v":"00:00:00"},{"$f":"'sortie (9)'!C20","v":0},{"$f":"'sortie (9)'!D20","v":0},"0 0",{"$f":"'sortie (9)'!AF20","v":0},{"$f":"'sortie (9)'!AK20","v":0},{"$f":"'sortie (9)'!AP20","v":0}]
[null,null,null,null,null,null,null,null,null,null,null,null,null,null,null,null,null,null,null,null,null,null,{"$f":"'sortie (9)'!$D$2","v":"H"},{"$f":"'sortie (9)'!$D$3","v":"00:00:00"},{"$f":"'sortie (9)'!C21","v":0},{"$f":"'sortie (9)'!D21","v":0},"0 0",{"$f":"'sortie (9)'!AF21","v":0},{"$f":"'sortie (9)'!AK21","v":0},{"$f":"'sortie (9)'!AP21","v":0}]
[null,null,null,null,null,null,null,null,null,null,null,null,null,null,null,null,null,null,null,null,null,null,{"$f":"'sortie (9)'!$D$2","v":"H"},{"$f":"'sortie (9)'!$D$3","v":"00:00:00"},{"$f":"'sortie (9)'!C22","v":0},{"$f":"'sortie (9)'!D22","v":0},"0 0",{"$f":"'sortie (9)'!AF22","v":0},{"$f":"'sortie (9)'!AK22","v":0},{"$f":"'sortie (9)'!AP22","v":0}]
[null,null,null,null,null,null,null,null,null,null,null,null,null,null,null,null,null,null,null,null,null,null,{"$f":"'sortie (9)'!$D$2","v":"H"},{"$f":"'sortie (9)'!$D$3","v":"00:00:00"},{"$f":"'sortie (9)'!C23","v":0},{"$f":"'sortie (9)'!D23","v":0},"0 0",{"$f":"'sortie (9)'!AF23","v":0},{"$f":"'sortie (9)'!AK23","v":0},{"$f":"'sortie (9)'!AP23","v":0}]
[null,null,null,null,null,null,null,null,null,null,null,null,null,null,null,null,null,null,null,null,null,null,{"$f":"'sortie (9)'!$D$2","v":"H"},{"$f":"'sortie (9)'!$D$3","v":"00:00:00"},{"$f":"'sortie (9)'!C24","v":0},{"$f":"'sortie (9)'!D24","v":0},"0 0",{"$f":"'sortie (9)'!AF24","v":0},{"$f":"'sortie (9)'!AK24","v":0},{"$f":"'sortie (9)'!AP24","v":0}]
[null,null,null,null,null,null,null,null,null,null,null,null,null,null,null,null,null,null,null,null,null,null,{"$f":"'sortie (9)'!$D$2","v":"H"},{"$f":"'sortie (9)'!$D$3","v":"00:00:00"},{"$f":"'sortie (9)'!C25","v":0},{"$f":"'sortie (9)'!D25","v":0},"0 0",{"$f":"'sortie (9)'!AF25","v":0},{"$f":"'sortie (9)'!AK25","v":0},{"$f":"'sortie (9)'!AP25","v":0}]
[null,null,null,null,null,null,null,null,null,null,null,null,null,null,null,null,null,null,null,null,null,null,{"$f":"'sortie (9)'!$D$2","v":"H"},{"$f":"'sortie (9)'!$D$3","v":"00:00:00"},{"$f":"'sortie (9)'!C26","v":0},{"$f":"'sortie (9)'!D26","v":0},{"$f":"CONCATENATE(Y261,\" \",Z261)","v":"0 0"},{"$f":"'sortie (9)'!AF26","v":0},{"$f":"'sortie (9)'!AK26","v":0},{"$f":"'sortie (9)'!AP26","v":0}]
[null,null,null,null,null,null,null,null,null,null,null,null,null,null,null,null,null,null,null,null,null,null,{"$f":"'sortie (9)'!$D$2","v":"H"},{"$f":"'sortie (9)'!$D$3","v":"00:00:00"},{"$f":"'sortie (9)'!C27","v":0},{"$f":"'sortie (9)'!D27","v":0},"0 0",{"$f":"'sortie (9)'!AF27","v":0},{"$f":"'sortie (9)'!AK27","v":0},{"$f":"'sortie (9)'!AP27","v":0}]
[null,null,null,null,null,null,null,null,null,null,null,null,null,null,null,null,null,null,null,null,null,null,{"$f":"'sortie (9)'!$D$2","v":"H"},{"$f":"'sortie (9)'!$D$3","v":"00:00:00"},{"$f":"'sortie (9)'!C28","v":0},{"$f":"'sortie (9)'!D28","v":0},"0 0",{"$f":"'sortie (9)'!AF28","v":0},{"$f":"'sortie (9)'!AK28","v":0},{"$f":"'sortie (9)'!AP28","v":0}]
[null,null,null,null,null,null,null,null,null,null,null,null,null,null,null,null,null,null,null,null,null,null,{"$f":"'sortie (9)'!$D$2","v":"H"},{"$f":"'sortie (9)'!$D$3","v":"00:00:00"},{"$f":"'sortie (9)'!C29","v":0},{"$f":"'sortie (9)'!D29","v":0},"0 0",{"$f":"'sortie (9)'!AF29","v":0},{"$f":"'sortie (9)'!AK29","v":0},{"$f":"'sortie (9)'!AP29","v":0}]
[null,null,null,null,null,null,null,null,null,null,null,null,null,null,null,null,null,null,null,null,null,null,{"$f":"'sortie (9)'!$D$2","v":"H"},{"$f":"'sortie (9)'!$D$3","v":"00:00:00"},{"$f":"'sortie (9)'!C30","v":0},{"$f":"'sortie (9)'!D30","v":0},"0 0",{"$f":"'sortie (9)'!AF30","v":0},{"$f":"'sortie (9)'!AK30","v":0},{"$f":"'sortie (9)'!AP30","v":0}]
[null,null,null,null,null,null,null,null,null,null,null,null,null,null,null,null,null,null,null,null,null,null,{"$f":"'sortie (9)'!$D$2","v":"H"},{"$f":"'sortie (9)'!$D$3","v":"00:00:00"},{"$f":"'sortie (9)'!C31","v":0},{"$f":"'sortie (9)'!D31","v":0},"0 0",{"$f":"'sortie (9)'!AF31","v":0},{"$f":"'sortie (9)'!AK31","v":0},{"$f":"'sortie (9)'!AP31","v":0}]
[null,null,null,null,null,null,null,null,null,null,null,null,null,null,null,null,null,null,null,null,null,null,{"$f":"'sortie (9)'!$D$2","v":"H"},{"$f":"'sortie (9)'!$D$3","v":"00:00:00"},{"$f":"'sortie (9)'!C32","v":0},{"$f":"'sortie (9)'!D32","v":0},"0 0",{"$f":"'sortie (9)'!AF32","v":0},{"$f":"'sortie (9)'!AK32","v":0},{"$f":"'sortie (9)'!AP32","v":0}]
[null,null,null,null,null,null,null,null,null,null,null,null,null,null,null,null,null,null,null,null,null,null,{"$f":"'sortie (9)'!$D$2","v":"H"},{"$f":"'sortie (9)'!$D$3","v":"00:00:00"},{"$f":"'sortie (9)'!C33","v":0},{"$f":"'sortie (9)'!D33","v":0},"0 0",{"$f":"'sortie (9)'!AF33","v":0},{"$f":"'sortie (9)'!AK33","v":0},{"$f":"'sortie (9)'!AP33","v":0}]
[null,null,null,null,null,null,null,null,null,null,null,null,null,null,null,null,null,null,null,null,null,null,{"$f":"'sortie (9)'!$D$2","v":"H"},{"$f":"'sortie (9)'!$D$3","v":"00:00:00"},{"$f":"'sortie (9)'!C34","v":0},{"$f":"'sortie (9)'!D34","v":0},"0 0",{"$f":"'sortie (9)'!AF34","v":0},{"$f":"'sortie (9)'!AK34","v":0},{"$f":"'sortie (9)'!AP34","v":0}]
[null,null,null,null,null,null,null,null,null,null,null,null,null,null,null,null,null,null,null,null,null,null,{"$f":"'sortie (9)'!$D$2","v":"H"},{"$f":"'sortie (9)'!$D$3","v":"00:00:00"},{"$f":"'sortie (9)'!C35","v":0},{"$f":"'sortie (9)'!D35","v":0},"0 0",{"$f":"'sortie (9)'!AF35","v":0},{"$f":"'sortie (9)'!AK35","v":0},{"$f":"'sortie (9)'!AP35","v":0}]
[null,null,null,null,null,null,null,null,null,null,null,null,null,null,null,null,null,null,null,null,null,null,{"$f":"'sortie (9)'!$D$2","v":"H"},{"$f":"'sortie (9)'!$D$3","v":"00:00:00"},{"$f":"'sortie (9)'!C36","v":0},{"$f":"'sortie (9)'!D36","v":0},"0 0",{"$f":"'sortie (9)'!AF36","v":0},{"$f":"'sortie (9)'!AK36","v":0},{"$f":"'sortie (9)'!AP36","v":0}]
[null,null,null,null,null,null,null,null,null,null,null,null,null,null,null,null,null,null,null,null,null,null,{"$f":"'sortie (9)'!$D$2","v":"H"},{"$f":"'sortie (9)'!$D$3","v":"00:00:00"},{"$f":"'sortie (9)'!C37","v":0},{"$f":"'sortie (9)'!D37","v":0},"0 0",{"$f":"'sortie (9)'!AF37","v":0},{"$f":"'sortie (9)'!AK37","v":0},{"$f":"'sortie (9)'!AP37","v":0}]
[null,null,null,null,null,null,null,null,null,null,null,null,null,null,null,null,null,null,null,null,null,null,{"$f":"'sortie (9)'!$D$2","v":"H"},{"$f":"'sortie (9)'!$D$3","v":"00:00:00"},{"$f":"'sortie (9)'!C38","v":0},{"$f":"'sortie (9)'!D38","v":0},"0 0",{"$f":"'sortie (9)'!AF38","v":0},{"$f":"'sortie (9)'!AK38","v":0},{"$f":"'sortie (9)'!AP38","v":0}]
[null,null,null,null,null,null,null,null,null,null,null,null,null,null,null,null,null,null,null,null,null,null,{"$f":"'sortie (10)'!$D$2","v":"I"},{"$f":"'sortie (10)'!$D$3","v":"00:00:00"},{"$f":"'sortie (10)'!C9","v":0},{"$f":"'sortie (10)'!D9","v":0},"0 0",{"$f":"'sortie (10)'!AF9","v":0},{"$f":"'sortie (10)'!AK9","v":0},{"$f":"'sortie (10)'!AP9","v":0}]
[null,null,null,null,null,null,null,null,null,null,null,null,null,null,null,null,null,null,null,null,null,null,{"$f":"'sortie (10)'!$D$2","v":"I"},{"$f":"'sortie (10)'!$D$3","v":"00:00:00"},{"$f":"'sortie (10)'!C10","v":0},{"$f":"'sortie (10)'!D10","v":0},"0 0",{"$f":"'sortie (10)'!AF10","v":0},{"$f":"'sortie (10)'!AK10","v":0},{"$f":"'sortie (10)'!AP10","v":0}]
[null,null,null,null,null,null,null,null,null,null,null,null,null,null,null,null,null,null,null,null,null,null,{"$f":"'sortie (10)'!$D$2","v":"I"},{"$f":"'sortie (10)'!$D$3","v":"00:00:00"},{"$f":"'sortie (10)'!C11","v":0},{"$f":"'sortie (10)'!D11","v":0},"0 0",{"$f":"'sortie (10)'!AF11","v":0},{"$f":"'sortie (10)'!AK11","v":0},{"$f":"'sortie (10)'!AP11","v":0}]
[null,null,null,null,null,null,null,null,null,null,null,null,null,null,null,null,null,null,null,null,null,null,{"$f":"'sortie (10)'!$D$2","v":"I"},{"$f":"'sortie (10)'!$D$3","v":"00:00:00"},{"$f":"'sortie (10)'!C12","v":0},{"$f":"'sortie (10)'!D12","v":0},"0 0",{"$f":"'sortie (10)'!AF12","v":0},{"$f":"'sortie (10)'!AK12","v":0},{"$f":"'sortie (10)'!AP12","v":0}]
[null,null,null,null,null,null,null,null,null,null,null,null,null,null,null,null,null,null,null,null,null,null,{"$f":"'sortie (10)'!$D$2","v":"I"},{"$f":"'sortie (10)'!$D$3","v":"00:00:00"},{"$f":"'sortie (10)'!C13","v":0},{"$f":"'sortie (10)'!D13","v":0},"0 0",{"$f":"'sortie (10)'!AF13","v":0},{"$f":"'sortie (10)'!AK13","v":0},{"$f":"'sortie (10)'!AP13","v":0}]
[null,null,null,null,null,null,null,null,null,null,null,null,null,null,null,null,null,null,null,null,null,null,{"$f":"'sortie (10)'!$D$2","v":"I"},{"$f":"'sortie (10)'!$D$3","v":"00:00:00"},{"$f":"'sortie (10)'!C14","v":0},{"$f":"'sortie (10)'!D14","v":0},"0 0",{"$f":"'sortie (10)'!AF14","v":0},{"$f":"'sortie (10)'!AK14","v":0},{"$f":"'sortie (10)'!AP14","v":0}]
[null,null,null,null,null,null,null,null,null,null,null,null,null,null,null,null,null,null,null,null,null,null,{"$f":"'sortie (10)'!$D$2","v":"I"},{"$f":"'sortie (10)'!$D$3","v":"00:00:00"},{"$f":"'sortie (10)'!C15","v":0},{"$f":"'sortie (10)'!D15","v":0},"0 0",{"$f":"'sortie (10)'!AF15","v":0},{"$f":"'sortie (10)'!AK15","v":0},{"$f":"'sortie (10)'!AP15","v":0}]
[null,null,null,null,null,null,null,null,null,null,null,null,null,null,null,null,null,null,null,null,null,null,{"$f":"'sortie (10)'!$D$2","v":"I"},{"$f":"'sortie (10)'!$D$3","v":"00:00:00"},{"$f":"'sortie (10)'!C16","v":0},{"$f":"'sortie (10)'!D16","v":0},"0 0",{"$f":"'sortie (10)'!AF16","v":0},{"$f":"'sortie (10)'!AK16","v":0},{"$f":"'sortie (10)'!AP16","v":0}]
[null,null,null,null,null,null,null,null,null,null,null,null,null,null,null,null,null,null,null,null,null,null,{"$f":"'sortie (10)'!$D$2","v":"I"},{"$f":"'sortie (10)'!$D$3","v":"00:00:00"},{"$f":"'sortie (10)'!C17","v":0},{"$f":"'sortie (10)'!D17","v":0},"0 0",{"$f":"'sortie (10)'!AF17","v":0},{"$f":"'sortie (10)'!AK17","v":0},{"$f":"'sortie (10)'!AP17","v":0}]
[null,null,null,null,null,null,null,null,null,null,null,null,null,null,null,null,null,null,null,null,null,null,{"$f":"'sortie (10)'!$D$2","v":"I"},{"$f":"'sortie (10)'!$D$3","v":"00:00:00"},{"$f":"'sortie (10)'!C18","v":0},{"$f":"'sortie (10)'!D18","v":0},"0 0",{"$f":"'sortie (10)'!AF18","v":0},{"$f":"'sortie (10)'!AK18","v":0},{"$f":"'sortie (10)'!AP18","v":0}]
[null,null,null,null,null,null,null,null,null,null,null,null,null,null,null,null,null,null,null,null,null,null,{"$f":"'sortie (10)'!$D$2","v":"I"},{"$f":"'sortie (10)'!$D$3","v":"00:00:00"},{"$f":"'sortie (10)'!C19","v":0},{"$f":"'sortie (10)'!D19","v":0},"0 0",{"$f":"'sortie (10)'!AF19","v":0},{"$f":"'sortie (10)'!AK19","v":0},{"$f":"'sortie (10)'!AP19","v":0}]
[null,null,null,null,null,null,null,null,null,null,null,null,null,null,null,null,null,null,null,null,null,null,{"$f":"'sortie (10)'!$D$2","v":"I"},{"$f":"'sortie (10)'!$D$3","v":"00:00:00"},{"$f":"'sortie (10)'!C20","v":0},{"$f":"'sortie (10)'!D20","v":0},"0 0",{"$f":"'sortie (10)'!AF20","v":0},{"$f":"'sortie (10)'!AK20","v":0},{"$f":"'sortie (10)'!AP20","v":0}]
[null,null,null,null,null,null,null,null,null,null,null,null,null,null,null,null,null,null,null,null,null,null,{"$f":"'sortie (10)'!$D$2","v":"I"},{"$f":"'sortie (10)'!$D$3","v":"00:00:00"},{"$f":"'sortie (10)'!C21","v":0},{"$f":"'sortie (10)'!D21","v":0},"0 0",{"$f":"'sortie (10)'!AF21","v":0},{"$f":"'sortie (10)'!AK21","v":0},{"$f":"'sortie (10)'!AP21","v":0}]
[null,null,null,null,null,null,null,null,null,null,null,null,null,null,null,null,null,null,null,null,null,null,{"$f":"'sortie (10)'!$D$2","v":"I"},{"$f":"'sortie (10)'!$D$3","v":"00:00:00"},{"$f":"'sortie (10)'!C22","v":0},{"$f":"'sortie (10)'!D22","v":0},"0 0",{"$f":"'sortie (10)'!AF22","v":0},{"$f":"'sortie (10)'!AK22","v":0},{"$f":"'sortie (10)'!AP22","v":0}]
[null,null,null,null,null,null,null,null,null,null,null,null,null,null,null,null,null,null,null,null,null,null,{"$f":"'sortie (10)'!$D$2","v":"I"},{"$f":"'sortie (10)'!$D$3","v":"00:00:00"},{"$f":"'sortie (10)'!C23","v":0},{"$f":"'sortie (10)'!D23","v":0},"0 0",{"$f":"'sortie (10)'!AF23","v":0},{"$f":"'sortie (10)'!AK23","v":0},{"$f":"'sortie (10)'!AP23","v":0}]
[null,null,null,null,null,null,null,null,null,null,null,null,null,null,null,null,null,null,null,null,null,null,{"$f":"'sortie (10)'!$D$2","v":"I"},{"$f":"'sortie (10)'!$D$3","v":"00:00:00"},{"$f":"'sortie (10)'!C24","v":0},{"$f":"'sortie (10)'!D24","v":0},"0 0",{"$f":"'sortie (10)'!AF24","v":0},{"$f":"'sortie (10)'!AK24","v":0},{"$f":"'sortie (10)'!AP24","v":0}]
[null,null,null,null,null,null,null,null,null,null,null,null,null,null,null,null,null,null,null,null,null,null,{"$f":"'sortie (10)'!$D$2","v":"I"},{"$f":"'sortie (10)'!$D$3","v":"00:00:00"},{"$f":"'sortie (10)'!C25","v":0},{"$f":"'sortie (10)'!D25","v":0},"0 0",{"$f":"'sortie (10)'!AF25","v":0},{"$f":"'sortie (10)'!AK25","v":0},{"$f":"'sortie (10)'!AP25","v":0}]
[null,null,null,null,null,null,null,null,null,null,null,null,null,null,null,null,null,null,null,null,null,null,{"$f":"'sortie (10)'!$D$2","v":"I"},{"$f":"'sortie (10)'!$D$3","v":"00:00:00"},{"$f":"'sortie (10)'!C26","v":0},{"$f":"'sortie (10)'!D26","v":0},"0 0",{"$f":"'sortie (10)'!AF26","v":0},{"$f":"'sortie (10)'!AK26","v":0},{"$f":"'sortie (10)'!AP26","v":0}]
[null,null,null,null,null,null,null,null,null,null,null,null,null,null,null,null,null,null,null,null,null,null,{"$f":"'sortie (10)'!$D$2","v":"I"},{"$f":"'sortie (10)'!$D$3","v":"00:00:00"},{"$f":"'sortie (10)'!C27","v":0},{"$f":"'sortie (10)'!D27","v":0},"0 0",{"$f":"'sortie (10)'!AF27","v":0},{"$f":"'sortie (10)'!AK27","v":0},{"$f":"'sortie (10)'!AP27","v":0}]
[null,null,null,null,null,null,null,null,null,null,null,null,null,null,null,null,null,null,null,null,null,null,{"$f":"'sortie (10)'!$D$2","v":"I"},{"$f":"'sortie (10)'!$D$3","v":"00:00:00"},{"$f":"'sortie (10)'!C28","v":0},{"$f":"'sortie (10)'!D28","v":0},"0 0",{"$f":"'sortie (10)'!AF28","v":0},{"$f":"'sortie (10)'!AK28","v":0},{"$f":"'sortie (10)'!AP28","v":0}]
[null,null,null,null,null,null,null,null,null,null,null,null,null,null,null,null,null,null,null,null,null,null,{"$f":"'sortie (10)'!$D$2","v":"I"},{"$f":"'sortie (10)'!$D$3","v":"00:00:00"},{"$f":"'sortie (10)'!C29","v":0},{"$f":"'sortie (10)'!D29","v":0},"0 0",{"$f":"'sortie (10)'!AF29","v":0},{"$f":"'sortie (10)'!AK29","v":0},{"$f":"'sortie (10)'!AP29","v":0}]
[null,null,null,null,null,null,null,null,null,null,null,null,null,null,null,null,null,null,null,null,null,null,{"$f":"'sortie (10)'!$D$2","v":"I"},{"$f":"'sortie (10)'!$D$3","v":"00:00:00"},{"$f":"'sortie (10)'!C30","v":0},{"$f":"'sortie (10)'!D30","v":0},"0 0",{"$f":"'sortie (10)'!AF30","v":0},{"$f":"'sortie (10)'!AK30","v":0},{"$f":"'sortie (10)'!AP30","v":0}]
[null,null,null,null,null,null,null,null,null,null,null,null,null,null,null,null,null,null,null,null,null,null,{"$f":"'sortie (10)'!$D$2","v":"I"},{"$f":"'sortie (10)'!$D$3","v":"00:00:00"},{"$f":"'sortie (10)'!C31","v":0},{"$f":"'sortie (10)'!D31","v":0},"0 0",{"$f":"'sortie (10)'!AF31","v":0},{"$f":"'sortie (10)'!AK31","v":0},{"$f":"'sortie (10)'!AP31","v":0}]
[null,null,null,null,null,null,null,null,null,null,null,null,null,null,null,null,null,null,null,null,null,null,{"$f":"'sortie (10)'!$D$2","v":"I"},{"$f":"'sortie (10)'!$D$3","v":"00:00:00"},{"$f":"'sortie (10)'!C32","v":0},{"$f":"'sortie (10)'!D32","v":0},"0 0",{"$f":"'sortie (10)'!AF32","v":0},{"$f":"'sortie (10)'!AK32","v":0},{"$f":"'sortie (10)'!AP32","v":0}]
[null,null,null,null,null,null,null,null,null,null,null,null,null,null,null,null,null,null,null,null,null,null,{"$f":"'sortie (10)'!$D$2","v":"I"},{"$f":"'sortie (10)'!$D$3","v":"00:00:00"},{"$f":"'sortie (10)'!C33","v":0},{"$f":"'sortie (10)'!D33","v":0},"0 0",{"$f":"'sortie (10)'!AF33","v":0},{"$f":"'sortie (10)'!AK33","v":0},{"$f":"'sortie (10)'!AP33","v":0}]
[null,null,null,null,null,null,null,null,null,null,null,null,null,null,null,null,null,null,null,null,null,null,{"$f":"'sortie (10)'!$D$2","v":"I"},{"$f":"'sortie (10)'!$D$3","v":"00:00:00"},{"$f":"'sortie (10)'!C34","v":0},{"$f":"'sortie (10)'!D34","v":0},"0 0",{"$f":"'sortie (10)'!AF34","v":0},{"$f":"'sortie (10)'!AK34","v":0},{"$f":"'sortie (10)'!AP34","v":0}]
[null,null,null,null,null,null,null,null,null,null,null,null,null,null,null,null,null,null,null,null,null,null,{"$f":"'sortie (10)'!$D$2","v":"I"},{"$f":"'sortie (10)'!$D$3","v":"00:00:00"},{"$f":"'sortie (10)'!C35","v":0},{"$f":"'sortie (10)'!D35","v":0},"0 0",{"$f":"'sortie (10)'!AF35","v":0},{"$f":"'sortie (10)'!AK35","v":0},{"$f":"'sortie (10)'!AP35","v":0}]
[null,null,null,null,null,null,null,null,null,null,null,null,null,null,null,null,null,null,null,null,null,null,{"$f":"'sortie (10)'!$D$2","v":"I"},{"$f":"'sortie (10)'!$D$3","v":"00:00:00"},{"$f":"'sortie (10)'!C36","v":0},{"$f":"'sortie (10)'!D36","v":0},"0 0",{"$f":"'sortie (10)'!AF36","v":0},{"$f":"'sortie (10)'!AK36","v":0},{"$f":"'sortie (10)'!AP36","v":0}]
[null,null,null,null,null,null,null,null,null,null,null,null,null,null,null,null,null,null,null,null,null,null,{"$f":"'sortie (10)'!$D$2","v":"I"},{"$f":"'sortie (10)'!$D$3","v":"00:00:00"},{"$f":"'sortie (10)'!C37","v":0},{"$f":"'sortie (10)'!D37","v":0},"0 0",{"$f":"'sortie (10)'!AF37","v":0},{"$f":"'sortie (10)'!AK37","v":0},{"$f":"'sortie (10)'!AP37","v":0}]
[null,null,null,null,null,null,null,null,null,null,null,null,null,null,null,null,null,null,null,null,null,null,{"$f":"'sortie (10)'!$D$2","v":"I"},{"$f":"'sortie (10)'!$D$3","v":"00:00:00"},{"$f":"'sortie (10)'!C38","v":0},{"$f":"'sortie (10)'!D38","v":0},"0 0",{"$f":"'sortie (10)'!AF38","v":0},{"$f":"'sortie (10)'!AK38","v":0},{"$f":"'sortie (10)'!AP38","v":0}]

{"sheet":"Bourges 05-03","index":2,"n_rows":772,"n_cols":42,"rows_kept":772,"cut":false,"hidden":false,"merged":[[1,13,3,24],[40,7,42,20],[44,2,44,4],[44,9,44,16],[44,21,44,27],[80,7,82,20],[57,25,57,26],[58,25,58,26],[59,25,59,26],[60,25,60,26],[61,25,61,26],[47,13,47,15],[48,13,48,15],[49,13,49,15],[50,13,50,15],[51,13,51,15],[58,13,58,15],[59,13,59,15],[60,13,60,15],[61,13,61,15],[52,13,52,15],[53,13,53,15],[54,13,54,15],[55,13,55,15],[50,21,50,24],[51,21,51,24],[52,21,52,24],[53,21,53,24],[54,21,54,24],[70,13,70,15],[71,13,71,15],[72,13,72,15],[73,13,73,15],[64,13,64,15],[65,13,65,15],[58,21,58,24],[53,9,53,12],[54,9,54,12],[55,9,55,12],[56,9,56,12],[62,13,62,15],[46,25,46,26],[47,25,47,26],[48,25,48,26],[49,25,49,26],[50,25,50,26],[51,25,51,26],[56,25,56,26],[55,21,55,24],[56,21,56,24],[57,21,57,24],[55,25,55,26],[52,25,52,26],[53,25,53,26],[54,25,54,26],[56,13,56,15],[46,21,46,24],[47,21,47,24],[48,21,48,24],[49,21,49,24],[59,9,59,12],[60,9,60,12],[61,9,61,12],[62,9,62,12],[63,9,63,12],[64,9,64,12],[63,13,63,15],[74,13,74,15],[62,25,62,26],[59,21,59,24],[60,21,60,24],[63,25,63,26],[64,25,64,26],[65,25,65,26],[66,25,66,26],[68,13,68,15],[69,13,69,15],[76,21,76,24],[73,21,73,24],[74,21,74,24],[75,21,75,24],[70,21,70,24],[71,21,71,24],[72,21,72,24],[70,25,70,26],[67,21,67,24],[68,21,68,24],[69,21,69,24],[69,25,69,26],[75,25,75,26],[76,25,76,26],[67,25,67,26],[68,25,68,26],[71,25,71,26],[72,25,72,26],[73,25,73,26],[74,25,74,26],[731,6,731,9],[731,11,731,13],[731,14,731,15],[731,16,731,19],[743,5,744,6],[743,7,743,10],[61,21,61,24],[62,21,62,24],[63,21,63,24],[76,13,76,15],[75,13,75,15],[64,21,64,24],[65,21,65,24],[66,21,66,24],[75,9,75,12],[76,9,76,12],[65,9,65,12],[66,9,66,12],[67,9,67,12],[68,9,68,12],[69,9,69,12],[70,9,70,12],[66,13,66,15],[67,13,67,15],[743,12,743,13],[743,15,743,19],[769,7,769,8],[754,6,754,9],[754,11,754,13],[754,14,754,15],[754,16,754,19],[766,5,767,6],[766,7,766,10],[766,12,766,13],[766,15,766,19],[767,7,767,10],[767,12,767,13],[744,7,744,10],[744,12,744,13],[767,15,767,19],[768,7,768,8],[744,15,744,19],[745,7,745,8],[746,7,746,8],[753,6,753,9],[753,11,753,13],[753,14,753,15],[753,16,753,19],[721,15,721,19],[722,7,722,8],[723,7,723,8],[730,6,730,9],[730,11,730,13],[730,14,730,15],[730,16,730,19],[708,6,708,9],[708,11,708,13],[708,14,708,15],[708,16,708,19],[720,5,721,6],[720,7,720,10],[720,12,720,13],[720,15,720,19],[721,7,721,10],[721,12,721,13],[698,15,698,19],[699,7,699,8],[700,7,700,8],[707,6,707,9],[707,11,707,13],[707,14,707,15],[707,16,707,19],[685,6,685,9],[685,11,685,13],[685,14,685,15],[685,16,685,19],[697,5,698,6],[697,7,697,10],[697,12,697,13],[697,15,697,19],[698,7,698,10],[698,12,698,13],[675,15,675,19],[676,7,676,8],[677,7,677,8],[684,6,684,9],[684,11,684,13],[684,14,684,15],[684,16,684,19],[662,6,662,9],[662,11,662,13],[662,14,662,15],[662,16,662,19],[674,5,675,6],[674,7,674,10],[674,12,674,13],[674,15,674,19],[675,7,675,10],[675,12,675,13],[652,15,652,19],[653,7,653,8],[654,7,654,8],[661,6,661,9],[661,11,661,13],[661,14,661,15],[661,16,661,19],[639,6,639,9],[639,11,639,13],[639,14,639,15],[639,16,639,19],[651,5,652,6],[651,7,651,10],[651,12,651,13],[651,15,651,19],[652,7,652,10],[652,12,652,13],[629,15,629,19],[630,7,630,8],[631,7,631,8],[638,6,638,9],[638,11,638,13],[638,14,638,15],[638,16,638,19],[616,6,616,9],[616,11,616,13],[616,14,616,15],[616,16,616,19],[628,5,629,6],[628,7,628,10],[628,12,628,13],[628,15,628,19],[629,7,629,10],[629,12,629,13],[606,15,606,19],[607,7,607,8],[608,7,608,8],[615,6,615,9],[615,11,615,13],[615,14,615,15],[615,16,615,19],[593,6,593,9],[593,11,593,13],[593,14,593,15],[593,16,593,19],[605,5,606,6],[605,7,605,10],[605,12,605,13],[605,15,605,19],[606,7,606,10],[606,12,606,13],[583,15,583,19],[584,7,584,8],[585,7,585,8],[592,6,592,9],[592,11,592,13],[592,14,592,15],[592,16,592,19],[570,6,570,9],[570,11,570,13],[570,14,570,15],[570,16,570,19],[582,5,583,6],[582,7,582,10],[582,12,582,13],[582,15,582,19],[583,7,583,10],[583,12,583,13],[560,15,560,19],[561,7,561,8],[562,7,562,8],[569,6,569,9],[569,11,569,13],[569,14,569,15],[569,16,569,19],[547,6,547,9],[547,11,547,13],[547,14,547,15],[547,16,547,19],[559,5,560,6],[559,7,559,10],[559,12,559,13],[559,15,559,19],[560,7,560,10],[560,12,560,13],[537,15,537,19],[538,7,538,8],[539,7,539,8],[546,6,546,9],[546,11,546,13],[546,14,546,15],[546,16,546,19],[524,6,524,9],[524,11,524,13],[524,14,524,15],[524,16,524,19],[536,5,537,6],[536,7,536,10],[536,12,536,13],[536,15,536,19],[537,7,537,10],[537,12,537,13],[514,15,514,19],[515,7,515,8],[516,7,516,8],[523,6,523,9],[523,11,523,13],[523,14,523,15],[523,16,523,19],[501,6,501,9],[501,11,501,13],[501,14,501,15],[501,16,501,19],[513,5,514,6],[513,7,513,10],[513,12,513,13],[513,15,513,19],[514,7,514,10],[514,12,514,13],[491,15,491,19],[492,7,492,8],[493,7,493,8],[500,6,500,9],[500,11,500,13],[500,14,500,15],[500,16,500,19],[478,6,478,9],[478,11,478,13],[478,14,478,15],[478,16,478,19],[490,5,491,6],[490,7,490,10],[490,12,490,13],[490,15,490,19],[491,7,491,10],[491,12,491,13],[468,15,468,19],[469,7,469,8],[470,7,470,8],[477,6,477,9],[477,11,477,13],[477,14,477,15],[477,16,477,19],[455,6,455,9],[455,11,455,13],[455,14,455,15],[455,16,455,19],[467,5,468,6],[467,7,467,10],[467,12,467,13],[467,15,467,19],[468,7,468,10],[468,12,468,13],[445,15,445,19],[446,7,446,8],[447,7,447,8],[454,6,454,9],[454,11,454,13],[454,14,454,15],[454,16,454,19],[432,6,432,9],[432,11,432,13],[432,14,432,15],[432,16,432,19],[444,5,445,6],[444,7,444,10],[444,12,444,13],[444,15,444,19],[445,7,445,10],[445,12,445,13],[422,15,422,19],[423,7,423,8],[424,7,424,8],[431,6,431,9],[431,11,431,13],[431,14,431,15],[431,16,431,19],[409,6,409,9],[409,11,409,13],[409,14,409,15],[409,16,409,19],[421,5,422,6],[421,7,421,10],[421,12,421,13],[421,15,421,19],[422,7,422,10],[422,12,422,13],[399,15,399,19],[400,7,400,8],[401,7,401,8],[408,6,408,9],[408,11,408,13],[408,14,408,15],[408,16,408,19],[386,6,386,9],[386,11,386,13],[386,14,386,15],[386,16,386,19],[398,5,399,6],[398,7,398,10],[398,12,398,13],[398,15,398,19],[399,7,399,10],[399,12,399,13],[376,15,376,19],[377,7,377,8],[378,7,378,8],[385,6,385,9],[385,11,385,13],[385,14,385,15],[385,16,385,19],[363,6,363,9],[363,11,363,13],[363,14,363,15],[363,16,363,19],[375,5,376,6],[375,7,375,10],[375,12,375,13],[375,15,375,19],[376,7,376,10],[376,12,376,13],[353,15,353,19],[354,7,354,8],[355,7,355,8],[362,6,362,9],[362,11,362,13],[362,14,362,15],[362,16,362,19],[340,6,340,9],[340,11,340,13],[340,14,340,15],[340,16,340,19],[352,5,353,6],[352,7,352,10],[352,12,352,13],[352,15,352,19],[353,7,353,10],[353,12,353,13],[330,15,330,19],[331,7,331,8],[332,7,332,8],[339,6,339,9],[339,11,339,13],[339,14,339,15],[339,16,339,19],[317,6,317,9],[317,11,317,13],[317,14,317,15],[317,16,317,19],[329,5,330,6],[329,7,329,10],[329,12,329,13],[329,15,329,19],[330,7,330,10],[330,12,330,13],[307,15,307,19],[308,7,308,8],[309,7,309,8],[316,6,316,9],[316,11,316,13],[316,14,316,15],[316,16,316,19],[294,6,294,9],[294,11,294,13],[294,14,294,15],[294,16,294,19],[306,5,307,6],[306,7,306,10],[306,12,306,13],[306,15,306,19],[307,7,307,10],[307,12,307,13],[284,15,284,19],[285,7,285,8],[286,7,286,8],[293,6,293,9],[293,11,293,13],[293,14,293,15],[293,16,293,19],[271,6,271,9],[271,11,271,13],[271,14,271,15],[271,16,271,19],[283,5,284,6],[283,7,283,10],[283,12,283,13],[283,15,283,19],[284,7,284,10],[284,12,284,13],[261,15,261,19],[262,7,262,8],[263,7,263,8],[270,6,270,9],[270,11,270,13],[270,14,270,15],[270,16,270,19],[248,6,248,9],[248,11,248,13],[248,14,248,15],[248,16,248,19],[260,5,261,6],[260,7,260,10],[260,12,260,13],[260,15,260,19],[261,7,261,10],[261,12,261,13],[238,15,238,19],[239,7,239,8],[240,7,240,8],[247,6,247,9],[247,11,247,13],[247,14,247,15],[247,16,247,19],[225,6,225,9],[225,11,225,13],[225,14,225,15],[225,16,225,19],[237,5,238,6],[237,7,237,10],[237,12,237,13],[237,15,237,19],[238,7,238,10],[238,12,238,13],[215,15,215,19],[216,7,216,8],[217,7,217,8],[224,6,224,9],[224,11,224,13],[224,14,224,15],[224,16,224,19],[202,6,202,9],[202,11,202,13],[202,14,202,15],[202,16,202,19],[214,5,215,6],[214,7,214,10],[214,12,214,13],[214,15,214,19],[215,7,215,10],[215,12,215,13],[192,15,192,19],[193,7,193,8],[194,7,194,8],[201,6,201,9],[201,11,201,13],[201,14,201,15],[201,16,201,19],[179,6,179,9],[179,11,179,13],[179,14,179,15],[179,16,179,19],[191,5,192,6],[191,7,191,10],[191,12,191,13],[191,15,191,19],[192,7,192,10],[192,12,192,13],[169,15,169,19],[170,7,170,8],[171,7,171,8],[178,6,178,9],[178,11,178,13],[178,14,178,15],[178,16,178,19],[156,6,156,9],[156,11,156,13],[156,14,156,15],[156,16,156,19],[168,5,169,6],[168,7,168,10],[168,12,168,13],[168,15,168,19],[169,7,169,10],[169,12,169,13],[146,15,146,19],[147,7,147,8],[148,7,148,8],[155,6,155,9],[155,11,155,13],[155,14,155,15],[155,16,155,19],[133,6,133,9],[133,11,133,13],[133,14,133,15],[133,16,133,19],[145,5,146,6],[145,7,145,10],[145,12,145,13],[145,15,145,19],[146,7,146,10],[146,12,146,13],[123,15,123,19],[124,7,124,8],[125,7,125,8],[132,6,132,9],[132,11,132,13],[132,14,132,15],[132,16,132,19],[110,6,110,9],[110,11,110,13],[110,14,110,15],[110,16,110,19],[122,5,123,6],[122,7,122,10],[122,12,122,13],[122,15,122,19],[123,7,123,10],[123,12,123,13],[109,6,109,9],[109,11,109,13],[109,14,109,15],[109,16,109,19],[87,6,87,9],[87,11,87,13],[87,14,87,15],[87,16,87,19],[99,5,100,6],[99,7,99,10],[99,12,99,13],[99,15,99,19],[100,7,100,10],[100,12,100,13],[1,6,1,9],[2,6,2,9],[86,6,86,9],[86,11,86,13],[86,14,86,15],[86,16,86,19],[100,15,100,19],[101,7,101,8],[102,7,102,8],[57,9,57,12],[58,9,58,12],[46,9,46,12],[47,9,47,12],[48,9,48,12],[49,9,49,12],[50,9,50,12],[51,9,51,12],[52,9,52,12],[57,13,57,15],[46,13,46,15],[71,9,71,12],[72,9,72,12],[73,9,73,12],[74,9,74,12]]}
[]
[null,null,"Golf","Bourges",null,"Slope","SSS",null,null,null,null,null,null,"CARTE DE SCORE"]
[null,null,"Date","2022-03-05",null,133,68.599999999999994]
[]
[null,null,"Individuel Stableford BRUT/NET"]
[null,null,null,null,"Index","HCP trous",1,2,3,4,5,6,7,8,9,"Aller",10,11,12,13,14,15,16,17,18,"Retour","Total"]
[null,null,null,null,null,"PAR",4,4,5,4,3,5,3,5,3,{"$f":"SUM(G7:O7)","v":36},4,4,3,5,3,4,4,5,4,{"$f":"SUM(Q7:Y7)","v":36},{"$f":"SUM(P7+Z7)","v":72}]
[null,null,"Noms","Prénoms",null,"Trou",4,8,12,14,2,10,18,16,6,null,1,9,11,5,17,15,3,13,7,null,null,null,"NET","Classt","Rang","Points",null,"BRUT","Classt","Rang","Points",null,"STROKE","Classt","Rang","Points"]
[null,1,"BINVAULT","Dominique",34.700000000000003,null,5,8,7,7,4,6,6,6,4,{"$f":"SUM(G9:O9)","v":53},5,7,7,6,5,5,8,6,6,{"$f":"SUM(Q9:Y9)","v":55},{"$f":"SUM(P9+Z9)","v":108},null,{"$f":"$AA$95","v":37},{"$f":"RANK(AC9,AC$9:AC$38,0)+COUNTIF(AC9:$AC$9,AC9)-1","v":8},{"$f":"RANK(AC9,AC$9:AC$38,0)","v":8},{"$f":"IF(ISBLANK($C9),0,1)*INDEX('Allocation Points'!$B$3:$AG$32,AE9,COUNTIF(AE$9:AE$38,AE9)+2)","v":6},null,{"$f":"AA96","v":9},{"$f":"RANK(AH9,AH$9:AH$38,0)+COUNTIF(AH9:$AH$9,AH9)-1","v":12},{"$f":"RANK(AH9,AH$9:AH$38,0)","v":12},{"$f":"IF(ISBLANK($C9),0,1)*INDEX('Allocation Points'!$B$3:$AG$32,AJ9,COUNTIF(AJ$9:AJ$38,AJ9)+2)","v":2},null,{"$f":"AA94","v":108},{"$f":"RANK(AM9,AM$9:AM$38,1)+COUNTIF(AM9:$AM$9,AM9)-1","v":13},{"$f":"RANK(AM9,AM$9:AM$38,1)","v":13},{"$f":"IF(ISBLANK($C9),0,1)*INDEX('Allocation Points'!$B$3:$AG$32,AO9,COUNTIF(AO$9:AO$38,AO9)+2)","v":1}]
[null,2,"CHRETIEN","Fabrice",20.100000000000001,null,6,6,7,4,4,6,5,5,3,46,6,6,4,6,3,7,5,8,6,51,97,null,{"$f":"$AA$118","v":31},{"$f":"RANK(AC10,AC$9:AC$38,0)+COUNTIF(AC$9:$AC10,AC10)-1","v":14},{"$f":"RANK(AC10,AC$9:AC$38,0)","v":14},{"$f":"IF(ISBLANK($C10),0,1)*INDEX('Allocation Points'!$B$3:$AG$32,AE10,COUNTIF(AE$9:AE$38,AE10)+2)","v":1},null,{"$f":"AA119","v":13},{"$f":"RANK(AH10,AH$9:AH$38,0)+COUNTIF(AH$9:$AH10,AH10)-1","v":9},{"$f":"RANK(AH10,AH$9:AH$38,0)","v":9},{"$f":"IF(ISBLANK($C10),0,1)*INDEX('Allocation Points'!$B$3:$AG$32,AJ10,COUNTIF(AJ$9:AJ$38,AJ10)+2)","v":5},null,{"$f":"AA117","v":97},{"$f":"RANK(AM10,AM$9:AM$38,1)+COUNTIF(AM$9:$AM10,AM10)-1","v":8},{"$f":"RANK(AM10,AM$9:AM$38,1)","v":8},{"$f":"IF(ISBLANK($C10),0,1)*INDEX('Allocation Points'!$B$3:$AG$32,AO10,COUNTIF(AO$9:AO$38,AO10)+2)","v":7}]
[null,3,"DELOUCHE","Yannick",48.2,null,7,6,10,8,6,7,6,8,7,65,5,8,6,9,3,5,5,7,8,56,121,null,{"$f":"$AA$141","v":40},{"$f":"RANK(AC11,AC$9:AC$38,0)+COUNTIF(AC$9:$AC11,AC11)-1","v":4},4,{"$f":"IF(ISBLANK($C11),0,1)*INDEX('Allocation Points'!$B$3:$AG$32,AE11,COUNTIF(AE$9:AE$38,AE11)+2)","v":15},null,{"$f":"AA142","v":5},{"$f":"RANK(AH11,AH$9:AH$38,0)+COUNTIF(AH$9:$AH11,AH11)-1","v":17},17,{"$f":"IF(ISBLANK($C11),0,1)*INDEX('Allocation Points'!$B$3:$AG$32,AJ11,COUNTIF(AJ$9:AJ$38,AJ11)+2)","v":1},null,{"$f":"AA140","v":121},{"$f":"RANK(AM11,AM$9:AM$38,1)+COUNTIF(AM$9:$AM11,AM11)-1","v":18},18,{"$f":"IF(ISBLANK($C11),0,1)*INDEX('Allocation Points'!$B$3:$AG$32,AO11,COUNTIF(AO$9:AO$38,AO11)+2)","v":1}]
[null,4,"DIOT","Alexandre",8.1999999999999993,null,5,4,5,6,4,4,3,6,4,41,4,6,4,6,6,5,4,4,4,43,84,null,{"$f":"$AA$164","v":31},{"$f":"RANK(AC12,AC$9:AC$38,0)+COUNTIF(AC$9:$AC12,AC12)-1","v":15},14,{"$f":"IF(ISBLANK($C12),0,1)*INDEX('Allocation Points'!$B$3:$AG$32,AE12,COUNTIF(AE$9:AE$38,AE12)+2)","v":1},null,{"$f":"AA165","v":25},{"$f":"RANK(AH12,AH$9:AH$38,0)+COUNTIF(AH$9:$AH12,AH12)-1","v":3},3,{"$f":"IF(ISBLANK($C12),0,1)*INDEX('Allocation Points'!$B$3:$AG$32,AJ12,COUNTIF(AJ$9:AJ$38,AJ12)+2)","v":20},null,{"$f":"AA163","v":84},{"$f":"RANK(AM12,AM$9:AM$38,1)+COUNTIF(AM$9:$AM12,AM12)-1","v":3},3,{"$f":"IF(ISBLANK($C12),0,1)*INDEX('Allocation Points'!$B$3:$AG$32,AO12,COUNTIF(AO$9:AO$38,AO12)+2)","v":20}]
[null,5,"GAUTHIER","Patrice",24.5,null,6,7,6,6,5,7,4,5,4,50,6,6,4,5,3,5,6,6,4,45,95,null,{"$f":"$AA$187","v":38},{"$f":"RANK(AC13,AC$9:AC$38,0)+COUNTIF(AC$9:$AC13,AC13)-1","v":7},7,{"$f":"IF(ISBLANK($C13),0,1)*INDEX('Allocation Points'!$B$3:$AG$32,AE13,COUNTIF(AE$9:AE$38,AE13)+2)","v":8},null,{"$f":"AA188","v":14},{"$f":"RANK(AH13,AH$9:AH$38,0)+COUNTIF(AH$9:$AH13,AH13)-1","v":8},8,{"$f":"IF(ISBLANK($C13),0,1)*INDEX('Allocation Points'!$B$3:$AG$32,AJ13,COUNTIF(AJ$9:AJ$38,AJ13)+2)","v":7},null,{"$f":"AA186","v":95},{"$f":"RANK(AM13,AM$9:AM$38,1)+COUNTIF(AM$9:$AM13,AM13)-1","v":7},7,{"$f":"IF(ISBLANK($C13),0,1)*INDEX('Allocation Points'!$B$3:$AG$32,AO13,COUNTIF(AO$9:AO$38,AO13)+2)","v":8}]
[null,6,"HERRAULT","Sébastien",11.3,null,5,6,6,5,3,5,3,6,3,42,6,5,5,4,4,5,4,6,5,44,86,null,{"$f":"$AA$210","v":32},{"$f":"RANK(AC14,AC$9:AC$38,0)+COUNTIF(AC$9:$AC14,AC14)-1","v":13},13,{"$f":"IF(ISBLANK($C14),0,1)*INDEX('Allocation Points'!$B$3:$AG$32,AE14,COUNTIF(AE$9:AE$38,AE14)+2)","v":2},null,{"$f":"AA211","v":22},{"$f":"RANK(AH14,AH$9:AH$38,0)+COUNTIF(AH$9:$AH14,AH14)-1","v":4},4,{"$f":"IF(ISBLANK($C14),0,1)*INDEX('Allocation Points'!$B$3:$AG$32,AJ14,COUNTIF(AJ$9:AJ$38,AJ14)+2)","v":12},null,{"$f":"AA209","v":86},{"$f":"RANK(AM14,AM$9:AM$38,1)+COUNTIF(AM$9:$AM14,AM14)-1","v":4},4,{"$f":"IF(ISBLANK($C14),0,1)*INDEX('Allocation Points'!$B$3:$AG$32,AO14,COUNTIF(AO$9:AO$38,AO14)+2)","v":15}]
[null,7,"HODEAU","Cédric",34.700000000000003,null,5,5,7,4,3,5,5,6,6,46,6,5,5,7,5,7,8,5,7,55,101,null,{"$f":"$AA$233","v":44},{"$f":"RANK(AC15,AC$9:AC$38,0)+COUNTIF(AC$9:$AC15,AC15)-1","v":1},1,{"$f":"IF(ISBLANK($C15),0,1)*INDEX('Allocation Points'!$B$3:$AG$32,AE15,COUNTIF(AE$9:AE$38,AE15)+2)","v":27},null,{"$f":"AA234","v":12},{"$f":"RANK(AH15,AH$9:AH$38,0)+COUNTIF(AH$9:$AH15,AH15)-1","v":11},11,{"$f":"IF(ISBLANK($C15),0,1)*INDEX('Allocation Points'!$B$3:$AG$32,AJ15,COUNTIF(AJ$9:AJ$38,AJ15)+2)","v":4},null,{"$f":"AA232","v":101},{"$f":"RANK(AM15,AM$9:AM$38,1)+COUNTIF(AM$9:$AM15,AM15)-1","v":11},11,{"$f":"IF(ISBLANK($C15),0,1)*INDEX('Allocation Points'!$B$3:$AG$32,AO15,COUNTIF(AO$9:AO$38,AO15)+2)","v":4}]
[null,8,"JACQUEMIN","Franck",17.2,null,5,5,5,5,5,6,2,5,3,41,6,5,5,6,3,5,4,7,8,49,90,null,{"$f":"$AA$256","v":36},{"$f":"RANK(AC16,AC$9:AC$38,0)+COUNTIF(AC$9:$AC16,AC16)-1","v":10},10,{"$f":"IF(ISBLANK($C16),0,1)*INDEX('Allocation Points'!$B$3:$AG$32,AE16,COUNTIF(AE$9:AE$38,AE16)+2)","v":5},null,{"$f":"AA257","v":20},{"$f":"RANK(AH16,AH$9:AH$38,0)+COUNTIF(AH$9:$AH16,AH16)-1","v":6},6,{"$f":"IF(ISBLANK($C16),0,1)*INDEX('Allocation Points'!$B$3:$AG$32,AJ16,COUNTIF(AJ$9:AJ$38,AJ16)+2)","v":9},null,{"$f":"AA255","v":90},{"$f":"RANK(AM16,AM$9:AM$38,1)+COUNTIF(AM$9:$AM16,AM16)-1","v":6},6,{"$f":"IF(ISBLANK($C16),0,1)*INDEX('Allocation Points'!$B$3:$AG$32,AO16,COUNTIF(AO$9:AO$38,AO16)+2)","v":9}]
[null,9,"LEFEU","Jean-Marie",30.6,null,6,7,8,6,4,5,4,7,6,53,6,7,3,8,7,8,6,9,7,61,114,null,{"$f":"$AA$279","v":28},{"$f":"RANK(AC17,AC$9:AC$38,0)+COUNTIF(AC$9:$AC17,AC17)-1","v":17},17,{"$f":"IF(ISBLANK($C17),0,1)*INDEX('Allocation Points'!$B$3:$AG$32,AE17,COUNTIF(AE$9:AE$38,AE17)+2)","v":1},null,{"$f":"AA280","v":6},{"$f":"RANK(AH17,AH$9:AH$38,0)+COUNTIF(AH$9:$AH17,AH17)-1","v":16},16,{"$f":"IF(ISBLANK($C17),0,1)*INDEX('Allocation Points'!$B$3:$AG$32,AJ17,COUNTIF(AJ$9:AJ$38,AJ17)+2)","v":1},null,{"$f":"AA278","v":114},{"$f":"RANK(AM17,AM$9:AM$38,1)+COUNTIF(AM$9:$AM17,AM17)-1","v":16},16,{"$f":"IF(ISBLANK($C17),0,1)*INDEX('Allocation Points'!$B$3:$AG$32,AO17,COUNTIF(AO$9:AO$38,AO17)+2)","v":1}]
[null,10,"LEVEQUE","Claude",22.4,null,6,7,8,6,4,7,4,7,4,53,6,9,7,4,6,7,7,6,5,57,110,null,{"$f":"$AA$302","v":24},{"$f":"RANK(AC18,AC$9:AC$38,0)+COUNTIF(AC$9:$AC18,AC18)-1","v":18},18,{"$f":"IF(ISBLANK($C18),0,1)*INDEX('Allocation Points'!$B$3:$AG$32,AE18,COUNTIF(AE$9:AE$38,AE18)+2)","v":1},null,{"$f":"AA303","v":8},{"$f":"RANK(AH18,AH$9:AH$38,0)+COUNTIF(AH$9:$AH18,AH18)-1","v":14},14,{"$f":"IF(ISBLANK($C18),0,1)*INDEX('Allocation Points'!$B$3:$AG$32,AJ18,COUNTIF(AJ$9:AJ$38,AJ18)+2)","v":1},null,{"$f":"AA301","v":110},{"$f":"RANK(AM18,AM$9:AM$38,1)+COUNTIF(AM$9:$AM18,AM18)-1","v":15},15,{"$f":"IF(ISBLANK($C18),0,1)*INDEX('Allocation Points'!$B$3:$AG$32,AO18,COUNTIF(AO$9:AO$38,AO18)+2)","v":1}]
[null,11,"MICHEL","Eric",37,null,5,6,10,5,4,6,5,8,6,55,6,6,7,5,4,6,5,7,7,53,108,null,{"$f":"$AA$325","v":41},{"$f":"RANK(AC19,AC$9:AC$38,0)+COUNTIF(AC$9:$AC19,AC19)-1","v":3},3,{"$f":"IF(ISBLANK($C19),0,1)*INDEX('Allocation Points'!$B$3:$AG$32,AE19,COUNTIF(AE$9:AE$38,AE19)+2)","v":20},null,{"$f":"AA326","v":8},{"$f":"RANK(AH19,AH$9:AH$38,0)+COUNTIF(AH$9:$AH19,AH19)-1","v":15},14,{"$f":"IF(ISBLANK($C19),0,1)*INDEX('Allocation Points'!$B$3:$AG$32,AJ19,COUNTIF(AJ$9:AJ$38,AJ19)+2)","v":1},null,{"$f":"AA324","v":108},{"$f":"RANK(AM19,AM$9:AM$38,1)+COUNTIF(AM$9:$AM19,AM19)-1","v":14},13,{"$f":"IF(ISBLANK($C19),0,1)*INDEX('Allocation Points'!$B$3:$AG$32,AO19,COUNTIF(AO$9:AO$38,AO19)+2)","v":1}]
[null,12,"MORALES","José",14,null,4,5,6,7,3,5,4,4,3,41,7,5,3,4,4,5,3,6,5,42,83,null,{"$f":"$AA$348","v":39},{"$f":"RANK(AC20,AC$9:AC$38,0)+COUNTIF(AC$9:$AC20,AC20)-1","v":5},5,{"$f":"IF(ISBLANK($C20),0,1)*INDEX('Allocation Points'!$B$3:$AG$32,AE20,COUNTIF(AE$9:AE$38,AE20)+2)","v":9},null,{"$f":"AA349","v":27},{"$f":"RANK(AH20,AH$9:AH$38,0)+COUNTIF(AH$9:$AH20,AH20)-1","v":2},2,{"$f":"IF(ISBLANK($C20),0,1)*INDEX('Allocation Points'!$B$3:$AG$32,AJ20,COUNTIF(AJ$9:AJ$38,AJ20)+2)","v":25},null,{"$f":"AA347","v":83},{"$f":"RANK(AM20,AM$9:AM$38,1)+COUNTIF(AM$9:$AM20,AM20)-1","v":2},2,{"$f":"IF(ISBLANK($C20),0,1)*INDEX('Allocation Points'!$B$3:$AG$32,AO20,COUNTIF(AO$9:AO$38,AO20)+2)","v":25}]
[null,13,"NOTTIN","Eric",31.9,null,6,6,6,6,4,5,3,7,5,48,7,7,6,8,3,6,5,7,6,55,103,null,{"$f":"$AA$371","v":39},{"$f":"RANK(AC21,AC$9:AC$38,0)+COUNTIF(AC$9:$AC21,AC21)-1","v":6},5,{"$f":"IF(ISBLANK($C21),0,1)*INDEX('Allocation Points'!$B$3:$AG$32,AE21,COUNTIF(AE$9:AE$38,AE21)+2)","v":9},null,{"$f":"AA372","v":9},{"$f":"RANK(AH21,AH$9:AH$38,0)+COUNTIF(AH$9:$AH21,AH21)-1","v":13},12,{"$f":"IF(ISBLANK($C21),0,1)*INDEX('Allocation Points'!$B$3:$AG$32,AJ21,COUNTIF(AJ$9:AJ$38,AJ21)+2)","v":2},null,{"$f":"AA370","v":103},{"$f":"RANK(AM21,AM$9:AM$38,1)+COUNTIF(AM$9:$AM21,AM21)-1","v":12},12,{"$f":"IF(ISBLANK($C21),0,1)*INDEX('Allocation Points'!$B$3:$AG$32,AO21,COUNTIF(AO$9:AO$38,AO21)+2)","v":3}]
[null,14,"ROBERT","Jean-Christophe",25,null,6,6,6,6,4,7,3,8,3,49,5,6,3,5,7,7,5,8,5,51,100,null,{"$f":"$AA$394","v":35},{"$f":"RANK(AC22,AC$9:AC$38,0)+COUNTIF(AC$9:$AC22,AC22)-1","v":11},11,{"$f":"IF(ISBLANK($C22),0,1)*INDEX('Allocation Points'!$B$3:$AG$32,AE22,COUNTIF(AE$9:AE$38,AE22)+2)","v":4},null,{"$f":"AA395","v":13},{"$f":"RANK(AH22,AH$9:AH$38,0)+COUNTIF(AH$9:$AH22,AH22)-1","v":10},9,{"$f":"IF(ISBLANK($C22),0,1)*INDEX('Allocation Points'!$B$3:$AG$32,AJ22,COUNTIF(AJ$9:AJ$38,AJ22)+2)","v":5},null,{"$f":"AA393","v":100},{"$f":"RANK(AM22,AM$9:AM$38,1)+COUNTIF(AM$9:$AM22,AM22)-1","v":10},10,{"$f":"IF(ISBLANK($C22),0,1)*INDEX('Allocation Points'!$B$3:$AG$32,AO22,COUNTIF(AO$9:AO$38,AO22)+2)","v":5}]
[null,15,"RONDEL","François",7.2,null,4,4,7,4,4,5,2,5,3,38,5,5,6,5,3,5,4,4,6,43,81,null,{"$f":"$AA$417","v":33},{"$f":"RANK(AC23,AC$9:AC$38,0)+COUNTIF(AC$9:$AC23,AC23)-1","v":12},12,{"$f":"IF(ISBLANK($C23),0,1)*INDEX('Allocation Points'!$B$3:$AG$32,AE23,COUNTIF(AE$9:AE$38,AE23)+2)","v":3},null,{"$f":"AA418","v":28},{"$f":"RANK(AH23,AH$9:AH$38,0)+COUNTIF(AH$9:$AH23,AH23)-1","v":1},1,{"$f":"IF(ISBLANK($C23),0,1)*INDEX('Allocation Points'!$B$3:$AG$32,AJ23,COUNTIF(AJ$9:AJ$38,AJ23)+2)","v":30},null,{"$f":"AA416","v":81},{"$f":"RANK(AM23,AM$9:AM$38,1)+COUNTIF(AM$9:$AM23,AM23)-1","v":1},1,{"$f":"IF(ISBLANK($C23),0,1)*INDEX('Allocation Points'!$B$3:$AG$32,AO23,COUNTIF(AO$9:AO$38,AO23)+2)","v":30}]
[null,16,"VERRIER","Alexandre",16.600000000000001,null,5,5,7,8,4,5,3,6,4,47,5,5,7,6,3,5,8,6,6,51,98,null,{"$f":"$AA$440","v":29},{"$f":"RANK(AC24,AC$9:AC$38,0)+COUNTIF(AC$9:$AC24,AC24)-1","v":16},16,{"$f":"IF(ISBLANK($C24),0,1)*INDEX('Allocation Points'!$B$3:$AG$32,AE24,COUNTIF(AE$9:AE$38,AE24)+2)","v":1},null,{"$f":"AA441","v":16},{"$f":"RANK(AH24,AH$9:AH$38,0)+COUNTIF(AH$9:$AH24,AH24)-1","v":7},7,{"$f":"IF(ISBLANK($C24),0,1)*INDEX('Allocation Points'!$B$3:$AG$32,AJ24,COUNTIF(AJ$9:AJ$38,AJ24)+2)","v":8},null,{"$f":"AA439","v":98},{"$f":"RANK(AM24,AM$9:AM$38,1)+COUNTIF(AM$9:$AM24,AM24)-1","v":9},9,{"$f":"IF(ISBLANK($C24),0,1)*INDEX('Allocation Points'!$B$3:$AG$32,AO24,COUNTIF(AO$9:AO$38,AO24)+2)","v":6}]
[null,17,"VICENTE","Paulo",54,null,6,7,8,6,3,8,5,8,6,57,7,6,6,7,9,6,5,10,6,62,119,null,{"$f":"$AA$463","v":44},{"$f":"RANK(AC25,AC$9:AC$38,0)+COUNTIF(AC$9:$AC25,AC25)-1","v":2},1,{"$f":"IF(ISBLANK($C25),0,1)*INDEX('Allocation Points'!$B$3:$AG$32,AE25,COUNTIF(AE$9:AE$38,AE25)+2)","v":27},null,{"$f":"AA464","v":3},{"$f":"RANK(AH25,AH$9:AH$38,0)+COUNTIF(AH$9:$AH25,AH25)-1","v":18},18,{"$f":"IF(ISBLANK($C25),0,1)*INDEX('Allocation Points'!$B$3:$AG$32,AJ25,COUNTIF(AJ$9:AJ$38,AJ25)+2)","v":1},null,{"$f":"AA462","v":119},{"$f":"RANK(AM25,AM$9:AM$38,1)+COUNTIF(AM$9:$AM25,AM25)-1","v":17},17,{"$f":"IF(ISBLANK($C25),0,1)*INDEX('Allocation Points'!$B$3:$AG$32,AO25,COUNTIF(AO$9:AO$38,AO25)+2)","v":1}]
[null,18,"ZIAR","Yacine",16.899999999999999,null,4,5,7,5,4,6,3,5,3,42,4,5,4,5,5,5,4,6,7,45,87,null,{"$f":"$AA$486","v":37},{"$f":"RANK(AC26,AC$9:AC$38,0)+COUNTIF(AC$9:$AC26,AC26)-1","v":9},8,{"$f":"IF(ISBLANK($C26),0,1)*INDEX('Allocation Points'!$B$3:$AG$32,AE26,COUNTIF(AE$9:AE$38,AE26)+2)","v":6},null,{"$f":"AA487","v":22},{"$f":"RANK(AH26,AH$9:AH$38,0)+COUNTIF(AH$9:$AH26,AH26)-1","v":5},4,{"$f":"IF(ISBLANK($C26),0,1)*INDEX('Allocation Points'!$B$3:$AG$32,AJ26,COUNTIF(AJ$9:AJ$38,AJ26)+2)","v":12},null,{"$f":"AA485","v":87},{"$f":"RANK(AM26,AM$9:AM$38,1)+COUNTIF(AM$9:$AM26,AM26)-1","v":5},5,{"$f":"IF(ISBLANK($C26),0,1)*INDEX('Allocation Points'!$B$3:$AG$32,AO26,COUNTIF(AO$9:AO$38,AO26)+2)","v":10}]
[null,19,null,null,54,null,10,10,10,10,10,10,10,10,10,90,10,10,10,10,10,10,10,10,10,90,180,null,{"$f":"$AA$509","v":0},{"$f":"RANK(AC27,AC$9:AC$38,0)+COUNTIF(AC$9:$AC27,AC27)-1","v":19},19,{"$f":"IF(ISBLANK($C27),0,1)*INDEX('Allocation Points'!$B$3:$AG$32,AE27,COUNTIF(AE$9:AE$38,AE27)+2)","v":0},null,{"$f":"AA510","v":0},{"$f":"RANK(AH27,AH$9:AH$38,0)+COUNTIF(AH$9:$AH27,AH27)-1","v":19},19,{"$f":"IF(ISBLANK($C27),0,1)*INDEX('Allocation Points'!$B$3:$AG$32,AJ27,COUNTIF(AJ$9:AJ$38,AJ27)+2)","v":0},null,{"$f":"AA508","v":180},{"$f":"RANK(AM27,AM$9:AM$38,1)+COUNTIF(AM$9:$AM27,AM27)-1","v":19},19,{"$f":"IF(ISBLANK($C27),0,1)*INDEX('Allocation Points'!$B$3:$AG$32,AO27,COUNTIF(AO$9:AO$38,AO27)+2)","v":0}]
[null,20,null,null,20,null,10,10,10,10,10,10,10,10,10,90,10,10,10,10,10,10,10,10,10,90,180,null,{"$f":"$AA$532","v":0},{"$f":"RANK(AC28,AC$9:AC$38,0)+COUNTIF(AC$9:$AC28,AC28)-1","v":20},19,{"$f":"IF(ISBLANK($C28),0,1)*INDEX('Allocation Points'!$B$3:$AG$32,AE28,COUNTIF(AE$9:AE$38,AE28)+2)","v":0},null,{"$f":"AA533","v":0},{"$f":"RANK(AH28,AH$9:AH$38,0)+COUNTIF(AH$9:$AH28,AH28)-1","v":20},19,{"$f":"IF(ISBLANK($C28),0,1)*INDEX('Allocation Points'!$B$3:$AG$32,AJ28,COUNTIF(AJ$9:AJ$38,AJ28)+2)","v":0},null,{"$f":"AA531","v":180},{"$f":"RANK(AM28,AM$9:AM$38,1)+COUNTIF(AM$9:$AM28,AM28)-1","v":20},19,{"$f":"IF(ISBLANK($C28),0,1)*INDEX('Allocation Points'!$B$3:$AG$32,AO28,COUNTIF(AO$9:AO$38,AO28)+2)","v":0}]
[null,21,null,null,20,null,10,10,10,10,10,10,10,10,10,90,10,10,10,10,10,10,10,10,10,90,180,null,{"$f":"$AA$555","v":0},{"$f":"RANK(AC29,AC$9:AC$38,0)+COUNTIF(AC$9:$AC29,AC29)-1","v":21},19,{"$f":"IF(ISBLANK($C29),0,1)*INDEX('Allocation Points'!$B$3:$AG$32,AE29,COUNTIF(AE$9:AE$38,AE29)+2)","v":0},null,{"$f":"AA556","v":0},{"$f":"RANK(AH29,AH$9:AH$38,0)+COUNTIF(AH$9:$AH29,AH29)-1","v":21},19,{"$f":"IF(ISBLANK($C29),0,1)*INDEX('Allocation Points'!$B$3:$AG$32,AJ29,COUNTIF(AJ$9:AJ$38,AJ29)+2)","v":0},null,{"$f":"AA554","v":180},{"$f":"RANK(AM29,AM$9:AM$38,1)+COUNTIF(AM$9:$AM29,AM29)-1","v":21},19,{"$f":"IF(ISBLANK($C29),0,1)*INDEX('Allocation Points'!$B$3:$AG$32,AO29,COUNTIF(AO$9:AO$38,AO29)+2)","v":0}]
[null,22,null,null,20,null,10,10,10,10,10,10,10,10,10,90,10,10,10,10,10,10,10,10,10,90,180,null,{"$f":"$AA$578","v":0},{"$f":"RANK(AC30,AC$9:AC$38,0)+COUNTIF(AC$9:$AC30,AC30)-1","v":22},19,{"$f":"IF(ISBLANK($C30),0,1)*INDEX('Allocation Points'!$B$3:$AG$32,AE30,COUNTIF(AE$9:AE$38,AE30)+2)","v":0},null,{"$f":"AA579","v":0},{"$f":"RANK(AH30,AH$9:AH$38,0)+COUNTIF(AH$9:$AH30,AH30)-1","v":22},19,{"$f":"IF(ISBLANK($C30),0,1)*INDEX('Allocation Points'!$B$3:$AG$32,AJ30,COUNTIF(AJ$9:AJ$38,AJ30)+2)","v":0},null,{"$f":"AA577","v":180},{"$f":"RANK(AM30,AM$9:AM$38,1)+COUNTIF(AM$9:$AM30,AM30)-1","v":22},19,{"$f":"IF(ISBLANK($C30),0,1)*INDEX('Allocation Points'!$B$3:$AG$32,AO30,COUNTIF(AO$9:AO$38,AO30)+2)","v":0}]
[null,23,null,null,20,null,10,10,10,10,10,10,10,10,10,90,10,10,10,10,10,10,10,10,10,90,180,null,{"$f":"$AA$601","v":0},{"$f":"RANK(AC31,AC$9:AC$38,0)+COUNTIF(AC$9:$AC31,AC31)-1","v":23},19,{"$f":"IF(ISBLANK($C31),0,1)*INDEX('Allocation Points'!$B$3:$AG$32,AE31,COUNTIF(AE$9:AE$38,AE31)+2)","v":0},null,{"$f":"AA602","v":0},{"$f":"RANK(AH31,AH$9:AH$38,0)+COUNTIF(AH$9:$AH31,AH31)-1","v":23},19,{"$f":"IF(ISBLANK($C31),0,1)*INDEX('Allocation Points'!$B$3:$AG$32,AJ31,COUNTIF(AJ$9:AJ$38,AJ31)+2)","v":0},null,{"$f":"AA600","v":180},{"$f":"RANK(AM31,AM$9:AM$38,1)+COUNTIF(AM$9:$AM31,AM31)-1","v":23},19,{"$f":"IF(ISBLANK($C31),0,1)*INDEX('Allocation Points'!$B$3:$AG$32,AO31,COUNTIF(AO$9:AO$38,AO31)+2)","v":0}]
[null,24,null,null,20,null,10,10,10,10,10,10,10,10,10,90,10,10,10,10,10,10,10,10,10,90,180,null,{"$f":"$AA$624","v":0},{"$f":"RANK(AC32,AC$9:AC$38,0)+COUNTIF(AC$9:$AC32,AC32)-1","v":24},19,{"$f":"IF(ISBLANK($C32),0,1)*INDEX('Allocation Points'!$B$3:$AG$32,AE32,COUNTIF(AE$9:AE$38,AE32)+2)","v":0},null,{"$f":"AA625","v":0},{"$f":"RANK(AH32,AH$9:AH$38,0)+COUNTIF(AH$9:$AH32,AH32)-1","v":24},19,{"$f":"IF(ISBLANK($C32),0,1)*INDEX('Allocation Points'!$B$3:$AG$32,AJ32,COUNTIF(AJ$9:AJ$38,AJ32)+2)","v":0},null,{"$f":"AA623","v":180},{"$f":"RANK(AM32,AM$9:AM$38,1)+COUNTIF(AM$9:$AM32,AM32)-1","v":24},19,{"$f":"IF(ISBLANK($C32),0,1)*INDEX('Allocation Points'!$B$3:$AG$32,AO32,COUNTIF(AO$9:AO$38,AO32)+2)","v":0}]
[null,25,null,null,20,null,10,10,10,10,10,10,10,10,10,90,10,10,10,10,10,10,10,10,10,90,180,null,{"$f":"$AA$647","v":0},{"$f":"RANK(AC33,AC$9:AC$38,0)+COUNTIF(AC$9:$AC33,AC33)-1","v":25},19,{"$f":"IF(ISBLANK($C33),0,1)*INDEX('Allocation Points'!$B$3:$AG$32,AE33,COUNTIF(AE$9:AE$38,AE33)+2)","v":0},null,{"$f":"AA648","v":0},{"$f":"RANK(AH33,AH$9:AH$38,0)+COUNTIF(AH$9:$AH33,AH33)-1","v":25},19,{"$f":"IF(ISBLANK($C33),0,1)*INDEX('Allocation Points'!$B$3:$AG$32,AJ33,COUNTIF(AJ$9:AJ$38,AJ33)+2)","v":0},null,{"$f":"AA646","v":180},{"$f":"RANK(AM33,AM$9:AM$38,1)+COUNTIF(AM$9:$AM33,AM33)-1","v":25},19,{"$f":"IF(ISBLANK($C33),0,1)*INDEX('Allocation Points'!$B$3:$AG$32,AO33,COUNTIF(AO$9:AO$38,AO33)+2)","v":0}]
[null,26,null,null,20,null,10,10,10,10,10,10,10,10,10,90,10,10,10,10,10,10,10,10,10,90,180,null,{"$f":"$AA$670","v":0},{"$f":"RANK(AC34,AC$9:AC$38,0)+COUNTIF(AC$9:$AC34,AC34)-1","v":26},19,{"$f":"IF(ISBLANK($C34),0,1)*INDEX('Allocation Points'!$B$3:$AG$32,AE34,COUNTIF(AE$9:AE$38,AE34)+2)","v":0},null,{"$f":"AA671","v":0},{"$f":"RANK(AH34,AH$9:AH$38,0)+COUNTIF(AH$9:$AH34,AH34)-1","v":26},19,{"$f":"IF(ISBLANK($C34),0,1)*INDEX('Allocation Points'!$B$3:$AG$32,AJ34,COUNTIF(AJ$9:AJ$38,AJ34)+2)","v":0},null,{"$f":"AA669","v":180},{"$f":"RANK(AM34,AM$9:AM$38,1)+COUNTIF(AM$9:$AM34,AM34)-1","v":26},19,{"$f":"IF(ISBLANK($C34),0,1)*INDEX('Allocation Points'!$B$3:$AG$32,AO34,COUNTIF(AO$9:AO$38,AO34)+2)","v":0}]
[null,27,null,null,20,null,10,10,10,10,10,10,10,10,10,90,10,10,10,10,10,10,10,10,10,90,180,null,{"$f":"$AA$693","v":0},{"$f":"RANK(AC35,AC$9:AC$38,0)+COUNTIF(AC$9:$AC35,AC35)-1","v":27},19,{"$f":"IF(ISBLANK($C35),0,1)*INDEX('Allocation Points'!$B$3:$AG$32,AE35,COUNTIF(AE$9:AE$38,AE35)+2)","v":0},null,{"$f":"AA694","v":0},{"$f":"RANK(AH35,AH$9:AH$38,0)+COUNTIF(AH$9:$AH35,AH35)-1","v":27},19,{"$f":"IF(ISBLANK($C35),0,1)*INDEX('Allocation Points'!$B$3:$AG$32,AJ35,COUNTIF(AJ$9:AJ$38,AJ35)+2)","v":0},null,{"$f":"AA692","v":180},{"$f":"RANK(AM35,AM$9:AM$38,1)+COUNTIF(AM$9:$AM35,AM35)-1","v":27},19,{"$f":"IF(ISBLANK($C35),0,1)*INDEX('Allocation Points'!$B$3:$AG$32,AO35,COUNTIF(AO$9:AO$38,AO35)+2)","v":0}]
[null,28,null,null,20,null,10,10,10,10,10,10,10,10,10,90,10,10,10,10,10,10,10,10,10,90,180,null,{"$f":"$AA$716","v":0},{"$f":"RANK(AC36,AC$9:AC$38,0)+COUNTIF(AC$9:$AC36,AC36)-1","v":28},19,{"$f":"IF(ISBLANK($C36),0,1)*INDEX('Allocation Points'!$B$3:$AG$32,AE36,COUNTIF(AE$9:AE$38,AE36)+2)","v":0},null,{"$f":"AA717","v":0},{"$f":"RANK(AH36,AH$9:AH$38,0)+COUNTIF(AH$9:$AH36,AH36)-1","v":28},19,{"$f":"IF(ISBLANK($C36),0,1)*INDEX('Allocation Points'!$B$3:$AG$32,AJ36,COUNTIF(AJ$9:AJ$38,AJ36)+2)","v":0},null,{"$f":"AA715","v":180},{"$f":"RANK(AM36,AM$9:AM$38,1)+COUNTIF(AM$9:$AM36,AM36)-1","v":28},19,{"$f":"IF(ISBLANK($C36),0,1)*INDEX('Allocation Points'!$B$3:$AG$32,AO36,COUNTIF(AO$9:AO$38,AO36)+2)","v":0}]
[null,29,null,null,20,null,10,10,10,10,10,10,10,10,10,90,10,10,10,10,10,10,10,10,10,90,180,null,{"$f":"$AA$739","v":0},{"$f":"RANK(AC37,AC$9:AC$38,0)+COUNTIF(AC$9:$AC37,AC37)-1","v":29},19,{"$f":"IF(ISBLANK($C37),0,1)*INDEX('Allocation Points'!$B$3:$AG$32,AE37,COUNTIF(AE$9:AE$38,AE37)+2)","v":0},null,{"$f":"AA740","v":0},{"$f":"RANK(AH37,AH$9:AH$38,0)+COUNTIF(AH$9:$AH37,AH37)-1","v":29},19,{"$f":"IF(ISBLANK($C37),0,1)*INDEX('Allocation Points'!$B$3:$AG$32,AJ37,COUNTIF(AJ$9:AJ$38,AJ37)+2)","v":0},null,{"$f":"AA738","v":180},{"$f":"RANK(AM37,AM$9:AM$38,1)+COUNTIF(AM$9:$AM37,AM37)-1","v":29},19,{"$f":"IF(ISBLANK($C37),0,1)*INDEX('Allocation Points'!$B$3:$AG$32,AO37,COUNTIF(AO$9:AO$38,AO37)+2)","v":0}]
[null,30,null,null,20,null,10,10,10,10,10,10,10,10,10,90,10,10,10,10,10,10,10,10,10,90,180,null,{"$f":"$AA$762","v":0},{"$f":"RANK(AC38,AC$9:AC$38,0)+COUNTIF(AC$9:$AC38,AC38)-1","v":30},19,{"$f":"IF(ISBLANK($C38),0,1)*INDEX('Allocation Points'!$B$3:$AG$32,AE38,COUNTIF(AE$9:AE$38,AE38)+2)","v":0},null,{"$f":"AA763","v":0},{"$f":"RANK(AH38,AH$9:AH$38,0)+COUNTIF(AH$9:$AH38,AH38)-1","v":30},19,{"$f":"IF(ISBLANK($C38),0,1)*INDEX('Allocation Points'!$B$3:$AG$32,AJ38,COUNTIF(AJ$9:AJ$38,AJ38)+2)","v":0},null,{"$f":"AA761","v":180},{"$f":"RANK(AM38,AM$9:AM$38,1)+COUNTIF(AM$9:$AM38,AM38)-1","v":30},19,{"$f":"IF(ISBLANK($C38),0,1)*INDEX('Allocation Points'!$B$3:$AG$32,AO38,COUNTIF(AO$9:AO$38,AO38)+2)","v":0}]
[]
[]
[null,null,null,null,null,null,null,"CLASSEMENT"]
[]
[]
[]
[null,null,"NET",null,null,null,null,null,null,"BRUT",null,null,null,null,null,null,null,null,null,null,null,"STROKE"]
[]
[null,null,"Noms","Prénoms","NET",null,null,null,null,"Noms",null,null,null,"Prénoms",null,null,"BRUT",null,null,null,null,"Noms",null,null,null,"Prénoms",null,"STROKE"]
[null,1,{"$f":"INDEX($C$9:$AN$38,MATCH(B48,$AD$9:$AD$38,0),1)","v":"HODEAU"},{"$f":"INDEX($C$9:$AN$38,MATCH(B48,$AD$9:$AD$38,0),2)","v":"Cédric"},{"$f":"INDEX($C$9:$AN$38,MATCH(B48,$AD$9:$AD$38,0),27)","v":44},null,null,null,1,{"$f":"INDEX($C$9:$AN$38,MATCH(I48,$AI$9:$AI$38,0),1)","v":"RONDEL"},null,null,null,{"$f":"INDEX($C$9:$AN$38,MATCH(I48,$AI$9:$AI$38,0),2)","v":"François"},null,null,{"$f":"INDEX($C$9:$AN$38,MATCH(I48,$AI$9:$AI$38,0),32)","v":28},null,null,null,1,{"$f":"INDEX($C$9:$AN$38,MATCH(U48,$AN$9:$AN$38,0),1)","v":"RONDEL"},null,null,null,{"$f":"INDEX($C$9:$AN$38,MATCH(U48,$AN$9:$AN$38,0),2)","v":"François"},null,{"$f":"INDEX($C$9:$AN$38,MATCH(U48,$AN$9:$AN$38,0),37)","v":81}]
[null,2,"VICENTE","Paulo",44,null,null,null,2,"MORALES",null,null,null,"José",null,null,{"$f":"INDEX($C$9:$AN$38,MATCH(I49,$AI$9:$AI$38,0),32)","v":27},null,null,null,2,"MORALES",null,null,null,"José",null,{"$f":"INDEX($C$9:$AN$38,MATCH(U49,$AN$9:$AN$38,0),37)","v":83}]
[null,3,"MICHEL","Eric",41,null,null,null,3,"DIOT",null,null,null,"Alexandre",null,null,25,null,null,null,3,"DIOT",null,null,null,"Alexandre",null,84]
[null,4,"DELOUCHE","Yannick",40,null,null,null,4,"HERRAULT",null,null,null,"Sébastien",null,null,22,null,null,null,4,"HERRAULT",null,null,null,"Sébastien",null,86]
[null,5,"MORALES","José",39,null,null,null,5,"ZIAR",null,null,null,"Yacine",null,null,22,null,null,null,5,"ZIAR",null,null,null,"Yacine",null,87]
[null,6,"NOTTIN","Eric",39,null,null,null,6,"JACQUEMIN",null,null,null,"Franck",null,null,20,null,null,null,6,"JACQUEMIN",null,null,null,"Franck",null,90]
[null,7,"GAUTHIER","Patrice",38,null,null,null,7,"VERRIER",null,null,null,"Alexandre",null,null,16,null,null,null,7,"GAUTHIER",null,null,null,"Patrice",null,95]
[null,8,"BINVAULT","Dominique",37,null,null,null,8,"GAUTHIER",null,null,null,"Patrice",null,null,14,null,null,null,8,"CHRETIEN",null,null,null,"Fabrice",null,97]
[null,9,"ZIAR","Yacine",37,null,null,null,9,"CHRETIEN",null,null,null,"Fabrice",null,null,13,null,null,null,9,"VERRIER",null,null,null,"Alexandre",null,98]
[null,10,"JACQUEMIN","Franck",36,null,null,null,10,"ROBERT",null,null,null,"Jean-Christophe",null,null,13,null,null,null,10,"ROBERT",null,null,null,"Jean-Christophe",null,100]
[null,11,"ROBERT","Jean-Christophe",35,null,null,null,11,"HODEAU",null,null,null,"Cédric",null,null,12,null,null,null,11,"HODEAU",null,null,null,"Cédric",null,101]
[null,12,"RONDEL","François",33,null,null,null,12,"BINVAULT",null,null,null,"Dominique",null,null,9,null,null,null,12,"NOTTIN",null,null,null,"Eric",null,103]
[null,13,"HERRAULT","Sébastien",32,null,null,null,13,"NOTTIN",null,null,null,"Eric",null,null,9,null,null,null,13,"BINVAULT",null,null,null,"Dominique",null,108]
[null,14,"CHRETIEN","Fabrice",31,null,null,null,14,"LEVEQUE",null,null,null,"Claude",null,null,8,null,null,null,14,"MICHEL",null,null,null,"Eric",null,108]
[null,15,"DIOT","Alexandre",31,null,null,null,15,"MICHEL",null,null,null,"Eric",null,null,8,null,null,null,15,"LEVEQUE",null,null,null,"Claude",null,110]
[null,16,"VERRIER","Alexandre",29,null,null,null,16,"LEFEU",null,null,null,"Jean-Marie",null,null,6,null,null,null,16,"LEFEU",null,null,null,"Jean-Marie",null,114]
[null,17,"LEFEU","Jean-Marie",28,null,null,null,17,"DELOUCHE",null,null,null,"Yannick",null,null,5,null,null,null,17,"VICENTE",null,null,null,"Paulo",null,119]
[null,18,"LEVEQUE","Claude",24,null,null,null,18,"VICENTE",null,null,null,"Paulo",null,null,3,null,null,null,18,"DELOUCHE",null,null,null,"Yannick",null,121]
[null,19,0,0,0,null,null,null,19,0,null,null,null,0,null,null,0,null,null,null,19,0,null,null,null,0,null,180]
[null,20,0,0,0,null,null,null,20,0,null,null,null,0,null,null,0,null,null,null,20,0,null,null,null,0,null,180]
[null,21,0,0,0,null,null,null,21,0,null,null,null,0,null,null,0,null,null,null,21,0,null,null,null,0,null,180]
[null,22,0,0,0,null,null,null,22,0,null,null,null,0,null,null,0,null,null,null,22,0,null,null,null,0,null,180]
[null,23,0,0,0,null,null,null,23,0,null,null,null,0,null,null,0,null,null,null,23,0,null,null,null,0,null,180]
[null,24,0,0,0,null,null,null,24,0,null,null,null,0,null,null,0,null,null,null,24,0,null,null,null,0,null,180]
[null,25,0,0,0,null,null,null,25,0,null,null,null,0,null,null,0,null,null,null,25,0,null,null,null,0,null,180]
[null,26,0,0,0,null,null,null,26,0,null,null,null,0,null,null,0,null,null,null,26,0,null,null,null,0,null,180]
[null,27,0,0,0,null,null,null,27,0,null,null,null,0,null,null,0,null,null,null,27,0,null,null,null,0,null,180]
[null,28,0,0,0,null,null,null,28,0,null,null,null,0,null,null,0,null,null,null,28,0,null,null,null,0,null,180]
[null,29,0,0,0,null,null,null,29,0,null,null,null,0,null,null,0,null,null,null,29,0,null,null,null,0,null,180]
[null,30,0,0,0,null,null,null,30,0,null,null,null,0,null,null,0,null,null,null,30,0,null,null,null,0,null,180]
[]
[]
[]
[null,null,null,null,null,null,null,"STATISTIQUES INDIVIDUELLES"]
[]
[]
[]
[]
[]
[null,null,null,null,null,"Nom",{"$f":"C9","v":"BINVAULT"},null,null,null,null,"Slope",null,null,"SSS",null,"Coups reçus",null,null,null,null,null,null,null,null,"Date",{"$f":"$D$3","v":"2022-03-05"}]
[null,null,null,null,null,"Index",{"$f":"E9","v":34.700000000000003},null,null,null,null,{"$f":"$F$3","v":133},null,null,{"$f":"$G$3","v":68.599999999999994},null,{"$f":"ROUND((G88*(L88/113)+(O88-AA91)),0)","v":37}]
[]
[null,null,null,null,null,"Trou",1,2,3,4,5,6,7,8,9,"Aller",10,11,12,13,14,15,16,17,18,"Retour","Total"]
[null,null,null,null,null,"PAR",{"$f":"G$7","v":4},{"$f":"H$7","v":4},5,4,3,5,3,5,3,{"$f":"SUM(G91:O91)","v":36},{"$f":"Q$7","v":4},4,3,5,3,4,4,5,4,{"$f":"SUM(Q91:Y91)","v":36},{"$f":"SUM(P91+Z91)","v":72}]
[null,null,null,null,null,"HCP trous",{"$f":"G$8","v":4},{"$f":"H$8","v":8},12,14,2,10,18,16,6,null,{"$f":"Q$8","v":1},9,11,5,17,15,3,13,7]
[null,null,null,null,null,"Coups reçus",{"$f":"IF($Q88<=18,IF(G92<=$Q88,1,0),IF($Q88<=36,IF(G92<=($Q88-18),2,1),IF($Q88>36,IF(G92<=($Q88-36),3,2))))","v":2},{"$f":"IF($Q88<=18,IF(H92<=$Q88,1,0),IF($Q88<=36,IF(H92<=($Q88-18),2,1),IF($Q88>36,IF(H92<=($Q88-36),3,2))))","v":2},2,2,2,2,2,2,2,{"$f":"SUM(G93:O93)","v":18},{"$f":"IF($Q88<=18,IF(Q92<=$Q88,1,0),IF($Q88<=36,IF(Q92<=($Q88-18),2,1),IF($Q88>36,IF(Q92<=($Q88-36),3,2))))","v":3},2,2,2,2,2,2,2,2,{"$f":"SUM(Q93:Y93)","v":19},{"$f":"P93+Z93","v":37}]
[null,null,null,null,null,"Stroke play",{"$f":"G9","v":5},8,7,7,4,6,6,6,4,{"$f":"SUM(G94:O94)","v":53},{"$f":"Q9","v":5},7,7,6,5,5,8,6,6,{"$f":"SUM(Q94:Y94)","v":55},{"$f":"P94+Z94","v":108}]
[null,null,null,null,null,"Net Stableford",{"$f":"IF(G94-G91=-1,3+G93)+IF(G94-G91=0,2+G93)+IF(G94-G91=1,1+G93)+IF(G94-G91=2,G93)+IF(G94-G91=3,IF(G93-1>0,G93-1,0))+IF(G94-G91=4,IF(G93-2>0,G93-2,0))","v":3},{"$f":"IF(H94-H91=-1,3+H93)+IF(H94-H91=0,2+H93)+IF(H94-H91=1,1+H93)+IF(H94-H91=2,H93)+IF(H94-H91=3,IF(H93-1>0,H93-1,0))+IF(H94-H91=4,IF(H93-2>0,H93-2,0))","v":0},2,1,3,3,1,3,3,{"$f":"SUM(G95:O95)","v":19},{"$f":"IF(Q94-Q91=-1,3+Q93)+IF(Q94-Q91=0,2+Q93)+IF(Q94-Q91=1,1+Q93)+IF(Q94-Q91=2,Q93)+IF(Q94-Q91=3,IF(Q93-1>0,Q93-1,0))+IF(Q94-Q91=4,IF(Q93-2>0,Q93-2,0))","v":4},1,0,3,2,3,0,3,2,{"$f":"SUM(Q95:Y95)","v":18},{"$f":"P95+Z95","v":37}]
[null,null,null,null,null,"Score Brut",{"$f":"IF(G94-G91=-2,4)+IF(G94-G91=-1,3)+IF(G94-G91=0,2)+IF(G94-G91=1,1)+IF(G94-G91>2,0)","v":1},0,0,0,1,1,0,1,1,{"$f":"SUM(G96:O96)","v":5},{"$f":"IF(Q94-Q91=-2,4)+IF(Q94-Q91=-1,3)+IF(Q94-Q91=0,2)+IF(Q94-Q91=1,1)+IF(Q94-Q91>2,0)","v":1},0,0,1,0,1,0,1,0,{"$f":"SUM(Q96:Y96)","v":4},{"$f":"P96+Z96","v":9}]
[null,null,null,null,null,null,{"$f":"G94-G91","v":1},{"$f":"H94-H91","v":4},2,3,1,1,3,1,1,null,{"$f":"Q94-Q91","v":1},3,4,1,2,1,4,1,2]
[]
[]
[null,null,null,null,null,"Statistiques scores",null,"Eagle & moins",null,null,null,{"$f":"COUNTIF(G97:Y97,\"<=-2\")","v":0},"Par",null,{"$f":"COUNTIF(G97:Y97,\"=0\")","v":0},"Double bogey",null,null,null,null,{"$f":"COUNTIF(G97:Y97,\"=2\")","v":3}]
[null,null,null,null,null,null,null,"Birdie",null,null,null,{"$f":"COUNTIF(G97:Y97,\"=-1\")","v":0},"Bogey",null,{"$f":"COUNTIF(G97:Y97,\"=1\")","v":9},"Triple bogey & plus",null,null,null,null,{"$f":"COUNTIF(G97:Y97,\">=3\")","v":6}]
[null,null,null,null,null,null,null,{"$f":"M100","v":"Par"},null,null,null,{"$f":"O100","v":0}]
[null,null,null,null,null,null,null,{"$f":"M101","v":"Bogey"},null,null,null,{"$f":"O101","v":9}]
[null,null,null,null,null,null,null,{"$f":"P100","v":"Double bogey"},null,null,null,{"$f":"U100","v":3}]
[null,null,null,null,null,null,null,{"$f":"P101","v":"Triple bogey & plus"},null,null,null,{"$f":"U101","v":6}]
[]
[]
[]
[]
[null,null,null,null,null,"Nom",{"$f":"C10","v":"CHRETIEN"},null,null,null,null,"Slope",null,null,"SSS",null,"Coups reçus",null,null,null,null,null,null,null,null,"Date",{"$f":"$D$3","v":"2022-03-05"}]
[null,null,null,null,null,"Index",{"$f":"E10","v":20.100000000000001},null,null,null,null,{"$f":"$F$3","v":133},null,null,{"$f":"$G$3","v":68.599999999999994},null,{"$f":"ROUND((G111*(L111/113)+(O111-AA114)),0)","v":20}]
[]
[null,null,null,null,null,"Trou",1,2,3,4,5,6,7,8,9,"Aller",10,11,12,13,14,15,16,17,18,"Retour","Total"]
[null,null,null,null,null,"PAR",{"$f":"G$7","v":4},{"$f":"H$7","v":4},5,4,3,5,3,5,3,{"$f":"SUM(G114:O114)","v":36},{"$f":"Q$7","v":4},4,3,5,3,4,4,5,4,{"$f":"SUM(Q114:Y114)","v":36},{"$f":"SUM(P114+Z114)","v":72}]
[null,null,null,null,null,"HCP trous",{"$f":"G$8","v":4},{"$f":"H$8","v":8},12,14,2,10,18,16,6,null,{"$f":"Q$8","v":1},9,11,5,17,15,3,13,7]
[null,null,null,null,null,"Coups reçus",{"$f":"IF($Q111<=18,IF(G115<=$Q111,1,0),IF($Q111<=36,IF(G115<=($Q111-18),2,1),IF($Q111>36,IF(G115<=($Q111-36),3,2))))","v":1},{"$f":"IF($Q111<=18,IF(H115<=$Q111,1,0),IF($Q111<=36,IF(H115<=($Q111-18),2,1),IF($Q111>36,IF(H115<=($Q111-36),3,2))))","v":1},{"$f":"IF($Q111<=18,IF(I115<=$Q111,1,0),IF($Q111<=36,IF(I115<=($Q111-18),2,1),IF($Q111>36,IF(I115<=($Q111-36),3,2))))","v":1},{"$f":"IF($Q111<=18,IF(J115<=$Q111,1,0),IF($Q111<=36,IF(J115<=($Q111-18),2,1),IF($Q111>36,IF(J115<=($Q111-36),3,2))))","v":1},{"$f":"IF($Q111<=18,IF(K115<=$Q111,1,0),IF($Q111<=36,IF(K115<=($Q111-18),2,1),IF($Q111>36,IF(K115<=($Q111-36),3,2))))","v":2},{"$f":"IF($Q111<=18,IF(L115<=$Q111,1,0),IF($Q111<=36,IF(L115<=($Q111-18),2,1),IF($Q111>36,IF(L115<=($Q111-36),3,2))))","v":1},{"$f":"IF($Q111<=18,IF(M115<=$Q111,1,0),IF($Q111<=36,IF(M115<=($Q111-18),2,1),IF($Q111>36,IF(M115<=($Q111-36),3,2))))","v":1},{"$f":"IF($Q111<=18,IF(N115<=$Q111,1,0),IF($Q111<=36,IF(N115<=($Q111-18),2,1),IF($Q111>36,IF(N115<=($Q111-36),3,2))))","v":1},{"$f":"IF($Q111<=18,IF(O115<=$Q111,1,0),IF($Q111<=36,IF(O115<=($Q111-18),2,1),IF($Q111>36,IF(O115<=($Q111-36),3,2))))","v":1},{"$f":"SUM(G116:O116)","v":10},{"$f":"IF($Q111<=18,IF(Q115<=$Q111,1,0),IF($Q111<=36,IF(Q115<=($Q111-18),2,1),IF($Q111>36,IF(Q115<=($Q111-36),3,2))))","v":2},{"$f":"IF($Q111<=18,IF(R115<=$Q111,1,0),IF($Q111<=36,IF(R115<=($Q111-18),2,1),IF($Q111>36,IF(R115<=($Q111-36),3,2))))","v":1},{"$f":"IF($Q111<=18,IF(S115<=$Q111,1,0),IF($Q111<=36,IF(S115<=($Q111-18),2,1),IF($Q111>36,IF(S115<=($Q111-36),3,2))))","v":1},{"$f":"IF($Q111<=18,IF(T115<=$Q111,1,0),IF($Q111<=36,IF(T115<=($Q111-18),2,1),IF($Q111>36,IF(T115<=($Q111-36),3,2))))","v":1},{"$f":"IF($Q111<=18,IF(U115<=$Q111,1,0),IF($Q111<=36,IF(U115<=($Q111-18),2,1),IF($Q111>36,IF(U115<=($Q111-36),3,2))))","v":1},{"$f":"IF($Q111<=18,IF(V115<=$Q111,1,0),IF($Q111<=36,IF(V115<=($Q111-18),2,1),IF($Q111>36,IF(V115<=($Q111-36),3,2))))","v":1},{"$f":"IF($Q111<=18,IF(W115<=$Q111,1,0),IF($Q111<=36,IF(W115<=($Q111-18),2,1),IF($Q111>36,IF(W115<=($Q111-36),3,2))))","v":1},{"$f":"IF($Q111<=18,IF(X115<=$Q111,1,0),IF($Q111<=36,IF(X115<=($Q111-18),2,1),IF($Q111>36,IF(X115<=($Q111-36),3,2))))","v":1},{"$f":"IF($Q111<=18,IF(Y115<=$Q111,1,0),IF($Q111<=36,IF(Y115<=($Q111-18),2,1),IF($Q111>36,IF(Y115<=($Q111-36),3,2))))","v":1},{"$f":"SUM(Q116:Y116)","v":10},{"$f":"P116+Z116","v":20}]
[null,null,null,null,null,"Stroke play",{"$f":"G10","v":6},6,7,4,4,6,5,5,3,{"$f":"SUM(G117:O117)","v":46},{"$f":"Q10","v":6},6,4,6,3,7,5,8,6,{"$f":"SUM(Q117:Y117)","v":51},{"$f":"P117+Z117","v":97}]
[null,null,null,null,null,"Net Stableford",{"$f":"IF(G117-G114=-1,3+G116)+IF(G117-G114=0,2+G116)+IF(G117-G114=1,1+G116)+IF(G117-G114=2,G116)+IF(G117-G114=3,IF(G116-1>0,G116-1,0))+IF(G117-G114=4,IF(G116-2>0,G116-2,0))","v":1},{"$f":"IF(H117-H114=-1,3+H116)+IF(H117-H114=0,2+H116)+IF(H117-H114=1,1+H116)+IF(H117-H114=2,H116)+IF(H117-H114=3,IF(H116-1>0,H116-1,0))+IF(H117-H114=4,IF(H116-2>0,H116-2,0))","v":1},1,3,3,2,1,3,3,{"$f":"SUM(G118:O118)","v":18},{"$f":"IF(Q117-Q114=-1,3+Q116)+IF(Q117-Q114=0,2+Q116)+IF(Q117-Q114=1,1+Q116)+IF(Q117-Q114=2,Q116)+IF(Q117-Q114=3,IF(Q116-1>0,Q116-1,0))+IF(Q117-Q114=4,IF(Q116-2>0,Q116-2,0))","v":2},1,2,2,3,0,2,0,1,{"$f":"SUM(Q118:Y118)","v":13},{"$f":"P118+Z118","v":31}]
[null,null,null,null,null,"Score Brut",{"$f":"IF(G117-G114=-2,4)+IF(G117-G114=-1,3)+IF(G117-G114=0,2)+IF(G117-G114=1,1)+IF(G117-G114>2,0)","v":0},0,0,2,1,1,0,2,2,{"$f":"SUM(G119:O119)","v":8},{"$f":"IF(Q117-Q114=-2,4)+IF(Q117-Q114=-1,3)+IF(Q117-Q114=0,2)+IF(Q117-Q114=1,1)+IF(Q117-Q114>2,0)","v":0},0,1,1,2,0,1,0,0,{"$f":"SUM(Q119:Y119)","v":5},{"$f":"P119+Z119","v":13}]
[null,null,null,null,null,null,{"$f":"G117-G114","v":2},{"$f":"H117-H114","v":2},2,0,1,1,2,0,0,null,{"$f":"Q117-Q114","v":2},2,1,1,0,3,1,3,2]
[]
[]
[null,null,null,null,null,"Statistiques scores",null,"Eagle & moins",null,null,null,{"$f":"COUNTIF(G120:Y120,\"<=-2\")","v":0},"Par",null,{"$f":"COUNTIF(G120:Y120,\"=0\")","v":4},"Double bogey",null,null,null,null,{"$f":"COUNTIF(G120:Y120,\"=2\")","v":7}]
[null,null,null,null,null,null,null,"Birdie",null,null,null,{"$f":"COUNTIF(G120:Y120,\"=-1\")","v":0},"Bogey",null,{"$f":"COUNTIF(G120:Y120,\"=1\")","v":5},"Triple bogey & plus",null,null,null,null,{"$f":"COUNTIF(G120:Y120,\">=3\")","v":2}]
[null,null,null,null,null,null,null,{"$f":"M123","v":"Par"},null,null,null,{"$f":"O123","v":4}]
[null,null,null,null,null,null,null,{"$f":"M124","v":"Bogey"},null,null,null,{"$f":"O124","v":5}]
[null,null,null,null,null,null,null,{"$f":"P123","v":"Double bogey"},null,null,null,{"$f":"U123","v":7}]
[null,null,null,null,null,null,null,{"$f":"P124","v":"Triple bogey & plus"},null,null,null,{"$f":"U124","v":2}]
[]
[]
[]
[]
[null,null,null,null,null,"Nom",{"$f":"C11","v":"DELOUCHE"},null,null,null,null,"Slope",null,null,"SSS",null,"Coups reçus",null,null,null,null,null,null,null,null,"Date",{"$f":"$D$3","v":"2022-03-05"}]
[null,null,null,null,null,"Index",{"$f":"E11","v":48.2},null,null,null,null,{"$f":"$F$3","v":133},null,null,{"$f":"$G$3","v":68.599999999999994},null,{"$f":"ROUND((G134*(L134/113)+(O134-AA137)),0)","v":53}]
[]
[null,null,null,null,null,"Trou",1,2,3,4,5,6,7,8,9,"Aller",10,11,12,13,14,15,16,17,18,"Retour","Total"]
[null,null,null,null,null,"PAR",{"$f":"G$7","v":4},{"$f":"H$7","v":4},5,4,3,5,3,5,3,{"$f":"SUM(G137:O137)","v":36},{"$f":"Q$7","v":4},4,3,5,3,4,4,5,4,{"$f":"SUM(Q137:Y137)","v":36},{"$f":"SUM(P137+Z137)","v":72}]
[null,null,null,null,null,"HCP trous",{"$f":"G$8","v":4},{"$f":"H$8","v":8},12,14,2,10,18,16,6,null,{"$f":"Q$8","v":1},9,11,5,17,15,3,13,7]
[null,null,null,null,null,"Coups reçus",{"$f":"IF($Q134<=18,IF(G138<=$Q134,1,0),IF($Q134<=36,IF(G138<=($Q134-18),2,1),IF($Q134>36,IF(G138<=($Q134-36),3,2))))","v":3},{"$f":"IF($Q134<=18,IF(H138<=$Q134,1,0),IF($Q134<=36,IF(H138<=($Q134-18),2,1),IF($Q134>36,IF(H138<=($Q134-36),3,2))))","v":3},{"$f":"IF($Q134<=18,IF(I138<=$Q134,1,0),IF($Q134<=36,IF(I138<=($Q134-18),2,1),IF($Q134>36,IF(I138<=($Q134-36),3,2))))","v":3},{"$f":"IF($Q134<=18,IF(J138<=$Q134,1,0),IF($Q134<=36,IF(J138<=($Q134-18),2,1),IF($Q134>36,IF(J138<=($Q134-36),3,2))))","v":3},{"$f":"IF($Q134<=18,IF(K138<=$Q134,1,0),IF($Q134<=36,IF(K138<=($Q134-18),2,1),IF($Q134>36,IF(K138<=($Q134-36),3,2))))","v":3},{"$f":"IF($Q134<=18,IF(L138<=$Q134,1,0),IF($Q134<=36,IF(L138<=($Q134-18),2,1),IF($Q134>36,IF(L138<=($Q134-36),3,2))))","v":3},{"$f":"IF($Q134<=18,IF(M138<=$Q134,1,0),IF($Q134<=36,IF(M138<=($Q134-18),2,1),IF($Q134>36,IF(M138<=($Q134-36),3,2))))","v":2},{"$f":"IF($Q134<=18,IF(N138<=$Q134,1,0),IF($Q134<=36,IF(N138<=($Q134-18),2,1),IF($Q134>36,IF(N138<=($Q134-36),3,2))))","v":3},{"$f":"IF($Q134<=18,IF(O138<=$Q134,1,0),IF($Q134<=36,IF(O138<=($Q134-18),2,1),IF($Q134>36,IF(O138<=($Q134-36),3,2))))","v":3},{"$f":"SUM(G139:O139)","v":26},{"$f":"IF($Q134<=18,IF(Q138<=$Q134,1,0),IF($Q134<=36,IF(Q138<=($Q134-18),2,1),IF($Q134>36,IF(Q138<=($Q134-36),3,2))))","v":3},{"$f":"IF($Q134<=18,IF(R138<=$Q134,1,0),IF($Q134<=36,IF(R138<=($Q134-18),2,1),IF($Q134>36,IF(R138<=($Q134-36),3,2))))","v":3},{"$f":"IF($Q134<=18,IF(S138<=$Q134,1,0),IF($Q134<=36,IF(S138<=($Q134-18),2,1),IF($Q134>36,IF(S138<=($Q134-36),3,2))))","v":3},{"$f":"IF($Q134<=18,IF(T138<=$Q134,1,0),IF($Q134<=36,IF(T138<=($Q134-18),2,1),IF($Q134>36,IF(T138<=($Q134-36),3,2))))","v":3},{"$f":"IF($Q134<=18,IF(U138<=$Q134,1,0),IF($Q134<=36,IF(U138<=($Q134-18),2,1),IF($Q134>36,IF(U138<=($Q134-36),3,2))))","v":3},{"$f":"IF($Q134<=18,IF(V138<=$Q134,1,0),IF($Q134<=36,IF(V138<=($Q134-18),2,1),IF($Q134>36,IF(V138<=($Q134-36),3,2))))","v":3},{"$f":"IF($Q134<=18,IF(W138<=$Q134,1,0),IF($Q134<=36,IF(W138<=($Q134-18),2,1),IF($Q134>36,IF(W138<=($Q134-36),3,2))))","v":3},{"$f":"IF($Q134<=18,IF(X138<=$Q134,1,0),IF($Q134<=36,IF(X138<=($Q134-18),2,1),IF($Q134>36,IF(X138<=($Q134-36),3,2))))","v":3},{"$f":"IF($Q134<=18,IF(Y138<=$Q134,1,0),IF($Q134<=36,IF(Y138<=($Q134-18),2,1),IF($Q134>36,IF(Y138<=($Q134-36),3,2))))","v":3},{"$f":"SUM(Q139:Y139)","v":27},{"$f":"P139+Z139","v":53}]
[null,null,null,null,null,"Stroke play",{"$f":"G11","v":7},6,10,8,6,7,6,8,7,{"$f":"SUM(G140:O140)","v":65},{"$f":"Q11","v":5},8,6,9,3,5,5,7,8,{"$f":"SUM(Q140:Y140)","v":56},{"$f":"P140+Z140","v":121}]
[null,null,null,null,null,"Net Stableford",{"$f":"IF(G140-G137=-1,3+G139)+IF(G140-G137=0,2+G139)+IF(G140-G137=1,1+G139)+IF(G140-G137=2,G139)+IF(G140-G137=3,IF(G139-1>0,G139-1,0))+IF(G140-G137=4,IF(G139-2>0,G139-2,0))","v":2},{"$f":"IF(H140-H137=-1,3+H139)+IF(H140-H137=0,2+H139)+IF(H140-H137=1,1+H139)+IF(H140-H137=2,H139)+IF(H140-H137=3,IF(H139-1>0,H139-1,0))+IF(H140-H137=4,IF(H139-2>0,H139-2,0))","v":3},0,1,2,3,1,2,1,{"$f":"SUM(G141:O141)","v":15},{"$f":"IF(Q140-Q137=-1,3+Q139)+IF(Q140-Q137=0,2+Q139)+IF(Q140-Q137=1,1+Q139)+IF(Q140-Q137=2,Q139)+IF(Q140-Q137=3,IF(Q139-1>0,Q139-1,0))+IF(Q140-Q137=4,IF(Q139-2>0,Q139-2,0))","v":4},1,2,1,5,4,4,3,1,{"$f":"SUM(Q141:Y141)","v":25},{"$f":"P141+Z141","v":40}]
[null,null,null,null,null,"Score Brut",{"$f":"IF(G140-G137=-2,4)+IF(G140-G137=-1,3)+IF(G140-G137=0,2)+IF(G140-G137=1,1)+IF(G140-G137>2,0)","v":0},0,0,0,0,0,0,0,0,{"$f":"SUM(G142:O142)","v":0},{"$f":"IF(Q140-Q137=-2,4)+IF(Q140-Q137=-1,3)+IF(Q140-Q137=0,2)+IF(Q140-Q137=1,1)+IF(Q140-Q137>2,0)","v":1},0,0,0,2,1,1,0,0,{"$f":"SUM(Q142:Y142)","v":5},{"$f":"P142+Z142","v":5}]
[null,null,null,null,null,null,{"$f":"G140-G137","v":3},{"$f":"H140-H137","v":2},5,4,3,2,3,3,4,null,{"$f":"Q140-Q137","v":1},4,3,4,0,1,1,2,4]
[]
[]
[null,null,null,null,null,"Statistiques scores",null,"Eagle & moins",null,null,null,{"$f":"COUNTIF(G143:Y143,\"<=-2\")","v":0},"Par",null,{"$f":"COUNTIF(G143:Y143,\"=0\")","v":1},"Double bogey",null,null,null,null,{"$f":"COUNTIF(G143:Y143,\"=2\")","v":3}]
[null,null,null,null,null,null,null,"Birdie",null,null,null,{"$f":"COUNTIF(G143:Y143,\"=-1\")","v":0},"Bogey",null,{"$f":"COUNTIF(G143:Y143,\"=1\")","v":3},"Triple bogey & plus",null,null,null,null,{"$f":"COUNTIF(G143:Y143,\">=3\")","v":11}]
[null,null,null,null,null,null,null,{"$f":"M146","v":"Par"},null,null,null,{"$f":"O146","v":1}]
[null,null,null,null,null,null,null,{"$f":"M147","v":"Bogey"},null,null,null,{"$f":"O147","v":3}]
[null,null,null,null,null,null,null,{"$f":"P146","v":"Double bogey"},null,null,null,{"$f":"U146","v":3}]
[null,null,null,null,null,null,null,{"$f":"P147","v":"Triple bogey & plus"},null,null,null,{"$f":"U147","v":11}]
[]
[]
[]
[]
[null,null,null,null,null,"Nom",{"$f":"C12","v":"DIOT"},null,null,null,null,"Slope",null,null,"SSS",null,"Coups reçus",null,null,null,null,null,null,null,null,"Date",{"$f":"$D$3","v":"2022-03-05"}]
[null,null,null,null,null,"Index",{"$f":"E12","v":8.1999999999999993},null,null,null,null,{"$f":"$F$3","v":133},null,null,{"$f":"$G$3","v":68.599999999999994},null,{"$f":"ROUND((G157*(L157/113)+(O157-AA160)),0)","v":6}]
[]
[null,null,null,null,null,"Trou",1,2,3,4,5,6,7,8,9,"Aller",10,11,12,13,14,15,16,17,18,"Retour","Total"]
[null,null,null,null,null,"PAR",{"$f":"G$7","v":4},{"$f":"H$7","v":4},5,4,3,5,3,5,3,{"$f":"SUM(G160:O160)","v":36},{"$f":"Q$7","v":4},4,3,5,3,4,4,5,4,{"$f":"SUM(Q160:Y160)","v":36},{"$f":"SUM(P160+Z160)","v":72}]
[null,null,null,null,null,"HCP trous",{"$f":"G$8","v":4},{"$f":"H$8","v":8},12,14,2,10,18,16,6,null,{"$f":"Q$8","v":1},9,11,5,17,15,3,13,7]
[null,null,null,null,null,"Coups reçus",{"$f":"IF($Q157<=18,IF(G161<=$Q157,1,0),IF($Q157<=36,IF(G161<=($Q157-18),2,1),IF($Q157>36,IF(G161<=($Q157-36),3,2))))","v":1},{"$f":"IF($Q157<=18,IF(H161<=$Q157,1,0),IF($Q157<=36,IF(H161<=($Q157-18),2,1),IF($Q157>36,IF(H161<=($Q157-36),3,2))))","v":0},{"$f":"IF($Q157<=18,IF(I161<=$Q157,1,0),IF($Q157<=36,IF(I161<=($Q157-18),2,1),IF($Q157>36,IF(I161<=($Q157-36),3,2))))","v":0},{"$f":"IF($Q157<=18,IF(J161<=$Q157,1,0),IF($Q157<=36,IF(J161<=($Q157-18),2,1),IF($Q157>36,IF(J161<=($Q157-36),3,2))))","v":0},{"$f":"IF($Q157<=18,IF(K161<=$Q157,1,0),IF($Q157<=36,IF(K161<=($Q157-18),2,1),IF($Q157>36,IF(K161<=($Q157-36),3,2))))","v":1},{"$f":"IF($Q157<=18,IF(L161<=$Q157,1,0),IF($Q157<=36,IF(L161<=($Q157-18),2,1),IF($Q157>36,IF(L161<=($Q157-36),3,2))))","v":0},{"$f":"IF($Q157<=18,IF(M161<=$Q157,1,0),IF($Q157<=36,IF(M161<=($Q157-18),2,1),IF($Q157>36,IF(M161<=($Q157-36),3,2))))","v":0},{"$f":"IF($Q157<=18,IF(N161<=$Q157,1,0),IF($Q157<=36,IF(N161<=($Q157-18),2,1),IF($Q157>36,IF(N161<=($Q157-36),3,2))))","v":0},{"$f":"IF($Q157<=18,IF(O161<=$Q157,1,0),IF($Q157<=36,IF(O161<=($Q157-18),2,1),IF($Q157>36,IF(O161<=($Q157-36),3,2))))","v":1},{"$f":"SUM(G162:O162)","v":3},{"$f":"IF($Q157<=18,IF(Q161<=$Q157,1,0),IF($Q157<=36,IF(Q161<=($Q157-18),2,1),IF($Q157>36,IF(Q161<=($Q157-36),3,2))))","v":1},{"$f":"IF($Q157<=18,IF(R161<=$Q157,1,0),IF($Q157<=36,IF(R161<=($Q157-18),2,1),IF($Q157>36,IF(R161<=($Q157-36),3,2))))","v":0},{"$f":"IF($Q157<=18,IF(S161<=$Q157,1,0),IF($Q157<=36,IF(S161<=($Q157-18),2,1),IF($Q157>36,IF(S161<=($Q157-36),3,2))))","v":0},{"$f":"IF($Q157<=18,IF(T161<=$Q157,1,0),IF($Q157<=36,IF(T161<=($Q157-18),2,1),IF($Q157>36,IF(T161<=($Q157-36),3,2))))","v":1},{"$f":"IF($Q157<=18,IF(U161<=$Q157,1,0),IF($Q157<=36,IF(U161<=($Q157-18),2,1),IF($Q157>36,IF(U161<=($Q157-36),3,2))))","v":0},{"$f":"IF($Q157<=18,IF(V161<=$Q157,1,0),IF($Q157<=36,IF(V161<=($Q157-18),2,1),IF($Q157>36,IF(V161<=($Q157-36),3,2))))","v":0},{"$f":"IF($Q157<=18,IF(W161<=$Q157,1,0),IF($Q157<=36,IF(W161<=($Q157-18),2,1),IF($Q157>36,IF(W161<=($Q157-36),3,2))))","v":1},{"$f":"IF($Q157<=18,IF(X161<=$Q157,1,0),IF($Q157<=36,IF(X161<=($Q157-18),2,1),IF($Q157>36,IF(X161<=($Q157-36),3,2))))","v":0},{"$f":"IF($Q157<=18,IF(Y161<=$Q157,1,0),IF($Q157<=36,IF(Y161<=($Q157-18),2,1),IF($Q157>36,IF(Y161<=($Q157-36),3,2))))","v":0},{"$f":"SUM(Q162:Y162)","v":3},{"$f":"P162+Z162","v":6}]
[null,null,null,null,null,"Stroke play",{"$f":"G12","v":5},4,5,6,4,4,3,6,4,{"$f":"SUM(G163:O163)","v":41},{"$f":"Q12","v":4},6,4,6,6,5,4,4,4,{"$f":"SUM(Q163:Y163)","v":43},{"$f":"P163+Z163","v":84}]
[null,null,null,null,null,"Net Stableford",{"$f":"IF(G163-G160=-1,3+G162)+IF(G163-G160=0,2+G162)+IF(G163-G160=1,1+G162)+IF(G163-G160=2,G162)+IF(G163-G160=3,IF(G162-1>0,G162-1,0))+IF(G163-G160=4,IF(G162-2>0,G162-2,0))","v":2},{"$f":"IF(H163-H160=-1,3+H162)+IF(H163-H160=0,2+H162)+IF(H163-H160=1,1+H162)+IF(H163-H160=2,H162)+IF(H163-H160=3,IF(H162-1>0,H162-1,0))+IF(H163-H160=4,IF(H162-2>0,H162-2,0))","v":2},2,0,2,3,2,1,2,{"$f":"SUM(G164:O164)","v":16},{"$f":"IF(Q163-Q160=-1,3+Q162)+IF(Q163-Q160=0,2+Q162)+IF(Q163-Q160=1,1+Q162)+IF(Q163-Q160=2,Q162)+IF(Q163-Q160=3,IF(Q162-1>0,Q162-1,0))+IF(Q163-Q160=4,IF(Q162-2>0,Q162-2,0))","v":3},0,1,2,0,1,3,3,2,{"$f":"SUM(Q164:Y164)","v":15},{"$f":"P164+Z164","v":31}]
[null,null,null,null,null,"Score Brut",{"$f":"IF(G163-G160=-2,4)+IF(G163-G160=-1,3)+IF(G163-G160=0,2)+IF(G163-G160=1,1)+IF(G163-G160>2,0)","v":1},2,2,0,1,3,2,1,1,{"$f":"SUM(G165:O165)","v":13},{"$f":"IF(Q163-Q160=-2,4)+IF(Q163-Q160=-1,3)+IF(Q163-Q160=0,2)+IF(Q163-Q160=1,1)+IF(Q163-Q160>2,0)","v":2},0,1,1,0,1,2,3,2,{"$f":"SUM(Q165:Y165)","v":12},{"$f":"P165+Z165","v":25}]
[null,null,null,null,null,null,{"$f":"G163-G160","v":1},{"$f":"H163-H160","v":0},0,2,1,-1,0,1,1,null,{"$f":"Q163-Q160","v":0},2,1,1,3,1,0,-1,0]
[]
[]
[null,null,null,null,null,"Statistiques scores",null,"Eagle & moins",null,null,null,{"$f":"COUNTIF(G166:Y166,\"<=-2\")","v":0},"Par",null,{"$f":"COUNTIF(G166:Y166,\"=0\")","v":6},"Double bogey",null,null,null,null,{"$f":"COUNTIF(G166:Y166,\"=2\")","v":2}]
[null,null,null,null,null,null,null,"Birdie",null,null,null,{"$f":"COUNTIF(G166:Y166,\"=-1\")","v":2},"Bogey",null,{"$f":"COUNTIF(G166:Y166,\"=1\")","v":7},"Triple bogey & plus",null,null,null,null,{"$f":"COUNTIF(G166:Y166,\">=3\")","v":1}]
[null,null,null,null,null,null,null,{"$f":"M169","v":"Par"},null,null,null,{"$f":"O169","v":6}]
[null,null,null,null,null,null,null,{"$f":"M170","v":"Bogey"},null,null,null,{"$f":"O170","v":7}]
[null,null,null,null,null,null,null,{"$f":"P169","v":"Double bogey"},null,null,null,{"$f":"U169","v":2}]
[null,null,null,null,null,null,null,{"$f":"P170","v":"Triple bogey & plus"},null,null,null,{"$f":"U170","v":1}]
[]
[]
[]
[]
[null,null,null,null,null,"Nom",{"$f":"C13","v":"GAUTHIER"},null,null,null,null,"Slope",null,null,"SSS",null,"Coups reçus",null,null,null,null,null,null,null,null,"Date",{"$f":"$D$3","v":"2022-03-05"}]
[null,null,null,null,null,"Index",{"$f":"E13","v":24.5},null,null,null,null,{"$f":"$F$3","v":133},null,null,{"$f":"$G$3","v":68.599999999999994},null,{"$f":"ROUND((G180*(L180/113)+(O180-AA183)),0)","v":25}]
[]
[null,null,null,null,null,"Trou",1,2,3,4,5,6,7,8,9,"Aller",10,11,12,13,14,15,16,17,18,"Retour","Total"]
[null,null,null,null,null,"PAR",{"$f":"G$7","v":4},{"$f":"H$7","v":4},5,4,3,5,3,5,3,{"$f":"SUM(G183:O183)","v":36},{"$f":"Q$7","v":4},4,3,5,3,4,4,5,4,{"$f":"SUM(Q183:Y183)","v":36},{"$f":"SUM(P183+Z183)","v":72}]
[null,null,null,null,null,"HCP trous",{"$f":"G$8","v":4},{"$f":"H$8","v":8},12,14,2,10,18,16,6,null,{"$f":"Q$8","v":1},9,11,5,17,15,3,13,7]
[null,null,null,null,null,"Coups reçus",{"$f":"IF($Q180<=18,IF(G184<=$Q180,1,0),IF($Q180<=36,IF(G184<=($Q180-18),2,1),IF($Q180>36,IF(G184<=($Q180-36),3,2))))","v":2},{"$f":"IF($Q180<=18,IF(H184<=$Q180,1,0),IF($Q180<=36,IF(H184<=($Q180-18),2,1),IF($Q180>36,IF(H184<=($Q180-36),3,2))))","v":1},{"$f":"IF($Q180<=18,IF(I184<=$Q180,1,0),IF($Q180<=36,IF(I184<=($Q180-18),2,1),IF($Q180>36,IF(I184<=($Q180-36),3,2))))","v":1},{"$f":"IF($Q180<=18,IF(J184<=$Q180,1,0),IF($Q180<=36,IF(J184<=($Q180-18),2,1),IF($Q180>36,IF(J184<=($Q180-36),3,2))))","v":1},{"$f":"IF($Q180<=18,IF(K184<=$Q180,1,0),IF($Q180<=36,IF(K184<=($Q180-18),2,1),IF($Q180>36,IF(K184<=($Q180-36),3,2))))","v":2},{"$f":"IF($Q180<=18,IF(L184<=$Q180,1,0),IF($Q180<=36,IF(L184<=($Q180-18),2,1),IF($Q180>36,IF(L184<=($Q180-36),3,2))))","v":1},{"$f":"IF($Q180<=18,IF(M184<=$Q180,1,0),IF($Q180<=36,IF(M184<=($Q180-18),2,1),IF($Q180>36,IF(M184<=($Q180-36),3,2))))","v":1},{"$f":"IF($Q180<=18,IF(N184<=$Q180,1,0),IF($Q180<=36,IF(N184<=($Q180-18),2,1),IF($Q180>36,IF(N184<=($Q180-36),3,2))))","v":1},{"$f":"IF($Q180<=18,IF(O184<=$Q180,1,0),IF($Q180<=36,IF(O184<=($Q180-18),2,1),IF($Q180>36,IF(O184<=($Q180-36),3,2))))","v":2},{"$f":"SUM(G185:O185)","v":12},{"$f":"IF($Q180<=18,IF(Q184<=$Q180,1,0),IF($Q180<=36,IF(Q184<=($Q180-18),2,1),IF($Q180>36,IF(Q184<=($Q180-36),3,2))))","v":2},{"$f":"IF($Q180<=18,IF(R184<=$Q180,1,0),IF($Q180<=36,IF(R184<=($Q180-18),2,1),IF($Q180>36,IF(R184<=($Q180-36),3,2))))","v":1},{"$f":"IF($Q180<=18,IF(S184<=$Q180,1,0),IF($Q180<=36,IF(S184<=($Q180-18),2,1),IF($Q180>36,IF(S184<=($Q180-36),3,2))))","v":1},{"$f":"IF($Q180<=18,IF(T184<=$Q180,1,0),IF($Q180<=36,IF(T184<=($Q180-18),2,1),IF($Q180>36,IF(T184<=($Q180-36),3,2))))","v":2},{"$f":"IF($Q180<=18,IF(U184<=$Q180,1,0),IF($Q180<=36,IF(U184<=($Q180-18),2,1),IF($Q180>36,IF(U184<=($Q180-36),3,2))))","v":1},{"$f":"IF($Q180<=18,IF(V184<=$Q180,1,0),IF($Q180<=36,IF(V184<=($Q180-18),2,1),IF($Q180>36,IF(V184<=($Q180-36),3,2))))","v":1},{"$f":"IF($Q180<=18,IF(W184<=$Q180,1,0),IF($Q180<=36,IF(W184<=($Q180-18),2,1),IF($Q180>36,IF(W184<=($Q180-36),3,2))))","v":2},{"$f":"IF($Q180<=18,IF(X184<=$Q180,1,0),IF($Q180<=36,IF(X184<=($Q180-18),2,1),IF($Q180>36,IF(X184<=($Q180-36),3,2))))","v":1},{"$f":"IF($Q180<=18,IF(Y184<=$Q180,1,0),IF($Q180<=36,IF(Y184<=($Q180-18),2,1),IF($Q180>36,IF(Y184<=($Q180-36),3,2))))","v":2},{"$f":"SUM(Q185:Y185)","v":13},{"$f":"P185+Z185","v":25}]
[null,null,null,null,null,"Stroke play",{"$f":"G13","v":6},7,6,6,5,7,4,5,4,{"$f":"SUM(G186:O186)","v":50},{"$f":"Q13","v":6},6,4,5,3,5,6,6,4,{"$f":"SUM(Q186:Y186)","v":45},{"$f":"P186+Z186","v":95}]
[null,null,null,null,null,"Net Stableford",{"$f":"IF(G186-G183=-1,3+G185)+IF(G186-G183=0,2+G185)+IF(G186-G183=1,1+G185)+IF(G186-G183=2,G185)+IF(G186-G183=3,IF(G185-1>0,G185-1,0))+IF(G186-G183=4,IF(G185-2>0,G185-2,0))","v":2},{"$f":"IF(H186-H183=-1,3+H185)+IF(H186-H183=0,2+H185)+IF(H186-H183=1,1+H185)+IF(H186-H183=2,H185)+IF(H186-H183=3,IF(H185-1>0,H185-1,0))+IF(H186-H183=4,IF(H185-2>0,H185-2,0))","v":0},2,1,2,1,2,3,3,{"$f":"SUM(G187:O187)","v":16},{"$f":"IF(Q186-Q183=-1,3+Q185)+IF(Q186-Q183=0,2+Q185)+IF(Q186-Q183=1,1+Q185)+IF(Q186-Q183=2,Q185)+IF(Q186-Q183=3,IF(Q185-1>0,Q185-1,0))+IF(Q186-Q183=4,IF(Q185-2>0,Q185-2,0))","v":2},1,2,4,3,2,2,2,4,{"$f":"SUM(Q187:Y187)","v":22},{"$f":"P187+Z187","v":38}]
[null,null,null,null,null,"Score Brut",{"$f":"IF(G186-G183=-2,4)+IF(G186-G183=-1,3)+IF(G186-G183=0,2)+IF(G186-G183=1,1)+IF(G186-G183>2,0)","v":0},0,1,0,0,0,1,2,1,{"$f":"SUM(G188:O188)","v":5},{"$f":"IF(Q186-Q183=-2,4)+IF(Q186-Q183=-1,3)+IF(Q186-Q183=0,2)+IF(Q186-Q183=1,1)+IF(Q186-Q183>2,0)","v":0},0,1,2,2,1,0,1,2,{"$f":"SUM(Q188:Y188)","v":9},{"$f":"P188+Z188","v":14}]
[null,null,null,null,null,null,{"$f":"G186-G183","v":2},{"$f":"H186-H183","v":3},1,2,2,2,1,0,1,null,{"$f":"Q186-Q183","v":2},2,1,0,0,1,2,1,0]
[]
[]
[null,null,null,null,null,"Statistiques scores",null,"Eagle & moins",null,null,null,{"$f":"COUNTIF(G189:Y189,\"<=-2\")","v":0},"Par",null,{"$f":"COUNTIF(G189:Y189,\"=0\")","v":4},"Double bogey",null,null,null,null,{"$f":"COUNTIF(G189:Y189,\"=2\")","v":7}]
[null,null,null,null,null,null,null,"Birdie",null,null,null,{"$f":"COUNTIF(G189:Y189,\"=-1\")","v":0},"Bogey",null,{"$f":"COUNTIF(G189:Y189,\"=1\")","v":6},"Triple bogey & plus",null,null,null,null,{"$f":"COUNTIF(G189:Y189,\">=3\")","v":1}]
[null,null,null,null,null,null,null,{"$f":"M192","v":"Par"},null,null,null,{"$f":"O192","v":4}]
[null,null,null,null,null,null,null,{"$f":"M193","v":"Bogey"},null,null,null,{"$f":"O193","v":6}]
[null,null,null,null,null,null,null,{"$f":"P192","v":"Double bogey"},null,null,null,{"$f":"U192","v":7}]
[null,null,null,null,null,null,null,{"$f":"P193","v":"Triple bogey & plus"},null,null,null,{"$f":"U193","v":1}]
[]
[]
[]
[]
[null,null,null,null,null,"Nom",{"$f":"C14","v":"HERRAULT"},null,null,null,null,"Slope",null,null,"SSS",null,"Coups reçus",null,null,null,null,null,null,null,null,"Date",{"$f":"$D$3","v":"2022-03-05"}]
[null,null,null,null,null,"Index",{"$f":"E14","v":11.3},null,null,null,null,{"$f":"$F$3","v":133},null,null,{"$f":"$G$3","v":68.599999999999994},null,{"$f":"ROUND((G203*(L203/113)+(O203-AA206)),0)","v":10}]
[]
[null,null,null,null,null,"Trou",1,2,3,4,5,6,7,8,9,"Aller",10,11,12,13,14,15,16,17,18,"Retour","Total"]
[null,null,null,null,null,"PAR",{"$f":"G$7","v":4},{"$f":"H$7","v":4},5,4,3,5,3,5,3,{"$f":"SUM(G206:O206)","v":36},{"$f":"Q$7","v":4},4,3,5,3,4,4,5,4,{"$f":"SUM(Q206:Y206)","v":36},{"$f":"SUM(P206+Z206)","v":72}]
[null,null,null,null,null,"HCP trous",{"$f":"G$8","v":4},{"$f":"H$8","v":8},12,14,2,10,18,16,6,null,{"$f":"Q$8","v":1},9,11,5,17,15,3,13,7]
[null,null,null,null,null,"Coups reçus",{"$f":"IF($Q203<=18,IF(G207<=$Q203,1,0),IF($Q203<=36,IF(G207<=($Q203-18),2,1),IF($Q203>36,IF(G207<=($Q203-36),3,2))))","v":1},{"$f":"IF($Q203<=18,IF(H207<=$Q203,1,0),IF($Q203<=36,IF(H207<=($Q203-18),2,1),IF($Q203>36,IF(H207<=($Q203-36),3,2))))","v":1},{"$f":"IF($Q203<=18,IF(I207<=$Q203,1,0),IF($Q203<=36,IF(I207<=($Q203-18),2,1),IF($Q203>36,IF(I207<=($Q203-36),3,2))))","v":0},{"$f":"IF($Q203<=18,IF(J207<=$Q203,1,0),IF($Q203<=36,IF(J207<=($Q203-18),2,1),IF($Q203>36,IF(J207<=($Q203-36),3,2))))","v":0},{"$f":"IF($Q203<=18,IF(K207<=$Q203,1,0),IF($Q203<=36,IF(K207<=($Q203-18),2,1),IF($Q203>36,IF(K207<=($Q203-36),3,2))))","v":1},{"$f":"IF($Q203<=18,IF(L207<=$Q203,1,0),IF($Q203<=36,IF(L207<=($Q203-18),2,1),IF($Q203>36,IF(L207<=($Q203-36),3,2))))","v":1},{"$f":"IF($Q203<=18,IF(M207<=$Q203,1,0),IF($Q203<=36,IF(M207<=($Q203-18),2,1),IF($Q203>36,IF(M207<=($Q203-36),3,2))))","v":0},{"$f":"IF($Q203<=18,IF(N207<=$Q203,1,0),IF($Q203<=36,IF(N207<=($Q203-18),2,1),IF($Q203>36,IF(N207<=($Q203-36),3,2))))","v":0},{"$f":"IF($Q203<=18,IF(O207<=$Q203,1,0),IF($Q203<=36,IF(O207<=($Q203-18),2,1),IF($Q203>36,IF(O207<=($Q203-36),3,2))))","v":1},{"$f":"SUM(G208:O208)","v":5},{"$f":"IF($Q203<=18,IF(Q207<=$Q203,1,0),IF($Q203<=36,IF(Q207<=($Q203-18),2,1),IF($Q203>36,IF(Q207<=($Q203-36),3,2))))","v":1},{"$f":"IF($Q203<=18,IF(R207<=$Q203,1,0),IF($Q203<=36,IF(R207<=($Q203-18),2,1),IF($Q203>36,IF(R207<=($Q203-36),3,2))))","v":1},{"$f":"IF($Q203<=18,IF(S207<=$Q203,1,0),IF($Q203<=36,IF(S207<=($Q203-18),2,1),IF($Q203>36,IF(S207<=($Q203-36),3,2))))","v":0},{"$f":"IF($Q203<=18,IF(T207<=$Q203,1,0),IF($Q203<=36,IF(T207<=($Q203-18),2,1),IF($Q203>36,IF(T207<=($Q203-36),3,2))))","v":1},{"$f":"IF($Q203<=18,IF(U207<=$Q203,1,0),IF($Q203<=36,IF(U207<=($Q203-18),2,1),IF($Q203>36,IF(U207<=($Q203-36),3,2))))","v":0},{"$f":"IF($Q203<=18,IF(V207<=$Q203,1,0),IF($Q203<=36,IF(V207<=($Q203-18),2,1),IF($Q203>36,IF(V207<=($Q203-36),3,2))))","v":0},{"$f":"IF($Q203<=18,IF(W207<=$Q203,1,0),IF($Q203<=36,IF(W207<=($Q203-18),2,1),IF($Q203>36,IF(W207<=($Q203-36),3,2))))","v":1},{"$f":"IF($Q203<=18,IF(X207<=$Q203,1,0),IF($Q203<=36,IF(X207<=($Q203-18),2,1),IF($Q203>36,IF(X207<=($Q203-36),3,2))))","v":0},{"$f":"IF($Q203<=18,IF(Y207<=$Q203,1,0),IF($Q203<=36,IF(Y207<=($Q203-18),2,1),IF($Q203>36,IF(Y207<=($Q203-36),3,2))))","v":1},{"$f":"SUM(Q208:Y208)","v":5},{"$f":"P208+Z208","v":10}]
[null,null,null,null,null,"Stroke play",{"$f":"G14","v":5},6,6,5,3,5,3,6,3,{"$f":"SUM(G209:O209)","v":42},{"$f":"Q14","v":6},5,5,4,4,5,4,6,5,{"$f":"SUM(Q209:Y209)","v":44},{"$f":"P209+Z209","v":86}]
[null,null,null,null,null,"Net Stableford",{"$f":"IF(G209-G206=-1,3+G208)+IF(G209-G206=0,2+G208)+IF(G209-G206=1,1+G208)+IF(G209-G206=2,G208)+IF(G209-G206=3,IF(G208-1>0,G208-1,0))+IF(G209-G206=4,IF(G208-2>0,G208-2,0))","v":2},{"$f":"IF(H209-H206=-1,3+H208)+IF(H209-H206=0,2+H208)+IF(H209-H206=1,1+H208)+IF(H209-H206=2,H208)+IF(H209-H206=3,IF(H208-1>0,H208-1,0))+IF(H209-H206=4,IF(H208-2>0,H208-2,0))","v":1},1,1,3,3,2,1,3,{"$f":"SUM(G210:O210)","v":17},{"$f":"IF(Q209-Q206=-1,3+Q208)+IF(Q209-Q206=0,2+Q208)+IF(Q209-Q206=1,1+Q208)+IF(Q209-Q206=2,Q208)+IF(Q209-Q206=3,IF(Q208-1>0,Q208-1,0))+IF(Q209-Q206=4,IF(Q208-2>0,Q208-2,0))","v":1},2,0,4,1,1,3,1,2,{"$f":"SUM(Q210:Y210)","v":15},{"$f":"P210+Z210","v":32}]
[null,null,null,null,null,"Score Brut",{"$f":"IF(G209-G206=-2,4)+IF(G209-G206=-1,3)+IF(G209-G206=0,2)+IF(G209-G206=1,1)+IF(G209-G206>2,0)","v":1},0,1,1,2,2,2,1,2,{"$f":"SUM(G211:O211)","v":12},{"$f":"IF(Q209-Q206=-2,4)+IF(Q209-Q206=-1,3)+IF(Q209-Q206=0,2)+IF(Q209-Q206=1,1)+IF(Q209-Q206>2,0)","v":0},1,0,3,1,1,2,1,1,{"$f":"SUM(Q211:Y211)","v":10},{"$f":"P211+Z211","v":22}]
[null,null,null,null,null,null,{"$f":"G209-G206","v":1},{"$f":"H209-H206","v":2},1,1,0,0,0,1,0,null,{"$f":"Q209-Q206","v":2},1,2,-1,1,1,0,1,1]
[]
[]
[null,null,null,null,null,"Statistiques scores",null,"Eagle & moins",null,null,null,{"$f":"COUNTIF(G212:Y212,\"<=-2\")","v":0},"Par",null,{"$f":"COUNTIF(G212:Y212,\"=0\")","v":5},"Double bogey",null,null,null,null,{"$f":"COUNTIF(G212:Y212,\"=2\")","v":3}]
[null,null,null,null,null,null,null,"Birdie",null,null,null,{"$f":"COUNTIF(G212:Y212,\"=-1\")","v":1},"Bogey",null,{"$f":"COUNTIF(G212:Y212,\"=1\")","v":9},"Triple bogey & plus",null,null,null,null,{"$f":"COUNTIF(G212:Y212,\">=3\")","v":0}]
[null,null,null,null,null,null,null,{"$f":"M215","v":"Par"},null,null,null,{"$f":"O215","v":5}]
[null,null,null,null,null,null,null,{"$f":"M216","v":"Bogey"},null,null,null,{"$f":"O216","v":9}]
[null,null,null,null,null,null,null,{"$f":"P215","v":"Double bogey"},null,null,null,{"$f":"U215","v":3}]
[null,null,null,null,null,null,null,{"$f":"P216","v":"Triple bogey & plus"},null,null,null,{"$f":"U216","v":0}]
[]
[]
[]
[]
[null,null,null,null,null,"Nom",{"$f":"C15","v":"HODEAU"},null,null,null,null,"Slope",null,null,"SSS",null,"Coups reçus",null,null,null,null,null,null,null,null,"Date",{"$f":"$D$3","v":"2022-03-05"}]
[null,null,null,null,null,"Index",{"$f":"E15","v":34.700000000000003},null,null,null,null,{"$f":"$F$3","v":133},null,null,{"$f":"$G$3","v":68.599999999999994},null,{"$f":"ROUND((G226*(L226/113)+(O226-AA229)),0)","v":37}]
[]
[null,null,null,null,null,"Trou",1,2,3,4,5,6,7,8,9,"Aller",10,11,12,13,14,15,16,17,18,"Retour","Total"]
[null,null,null,null,null,"PAR",{"$f":"G$7","v":4},{"$f":"H$7","v":4},5,4,3,5,3,5,3,{"$f":"SUM(G229:O229)","v":36},{"$f":"Q$7","v":4},4,3,5,3,4,4,5,4,{"$f":"SUM(Q229:Y229)","v":36},{"$f":"SUM(P229+Z229)","v":72}]
[null,null,null,null,null,"HCP trous",{"$f":"G$8","v":4},{"$f":"H$8","v":8},12,14,2,10,18,16,6,null,{"$f":"Q$8","v":1},9,11,5,17,15,3,13,7]
[null,null,null,null,null,"Coups reçus",{"$f":"IF($Q226<=18,IF(G230<=$Q226,1,0),IF($Q226<=36,IF(G230<=($Q226-18),2,1),IF($Q226>36,IF(G230<=($Q226-36),3,2))))","v":2},{"$f":"IF($Q226<=18,IF(H230<=$Q226,1,0),IF($Q226<=36,IF(H230<=($Q226-18),2,1),IF($Q226>36,IF(H230<=($Q226-36),3,2))))","v":2},{"$f":"IF($Q226<=18,IF(I230<=$Q226,1,0),IF($Q226<=36,IF(I230<=($Q226-18),2,1),IF($Q226>36,IF(I230<=($Q226-36),3,2))))","v":2},{"$f":"IF($Q226<=18,IF(J230<=$Q226,1,0),IF($Q226<=36,IF(J230<=($Q226-18),2,1),IF($Q226>36,IF(J230<=($Q226-36),3,2))))","v":2},{"$f":"IF($Q226<=18,IF(K230<=$Q226,1,0),IF($Q226<=36,IF(K230<=($Q226-18),2,1),IF($Q226>36,IF(K230<=($Q226-36),3,2))))","v":2},{"$f":"IF($Q226<=18,IF(L230<=$Q226,1,0),IF($Q226<=36,IF(L230<=($Q226-18),2,1),IF($Q226>36,IF(L230<=($Q226-36),3,2))))","v":2},{"$f":"IF($Q226<=18,IF(M230<=$Q226,1,0),IF($Q226<=36,IF(M230<=($Q226-18),2,1),IF($Q226>36,IF(M230<=($Q226-36),3,2))))","v":2},{"$f":"IF($Q226<=18,IF(N230<=$Q226,1,0),IF($Q226<=36,IF(N230<=($Q226-18),2,1),IF($Q226>36,IF(N230<=($Q226-36),3,2))))","v":2},{"$f":"IF($Q226<=18,IF(O230<=$Q226,1,0),IF($Q226<=36,IF(O230<=($Q226-18),2,1),IF($Q226>36,IF(O230<=($Q226-36),3,2))))","v":2},{"$f":"SUM(G231:O231)","v":18},{"$f":"IF($Q226<=18,IF(Q230<=$Q226,1,0),IF($Q226<=36,IF(Q230<=($Q226-18),2,1),IF($Q226>36,IF(Q230<=($Q226-36),3,2))))","v":3},{"$f":"IF($Q226<=18,IF(R230<=$Q226,1,0),IF($Q226<=36,IF(R230<=($Q226-18),2,1),IF($Q226>36,IF(R230<=($Q226-36),3,2))))","v":2},{"$f":"IF($Q226<=18,IF(S230<=$Q226,1,0),IF($Q226<=36,IF(S230<=($Q226-18),2,1),IF($Q226>36,IF(S230<=($Q226-36),3,2))))","v":2},{"$f":"IF($Q226<=18,IF(T230<=$Q226,1,0),IF($Q226<=36,IF(T230<=($Q226-18),2,1),IF($Q226>36,IF(T230<=($Q226-36),3,2))))","v":2},{"$f":"IF($Q226<=18,IF(U230<=$Q226,1,0),IF($Q226<=36,IF(U230<=($Q226-18),2,1),IF($Q226>36,IF(U230<=($Q226-36),3,2))))","v":2},{"$f":"IF($Q226<=18,IF(V230<=$Q226,1,0),IF($Q226<=36,IF(V230<=($Q226-18),2,1),IF($Q226>36,IF(V230<=($Q226-36),3,2))))","v":2},{"$f":"IF($Q226<=18,IF(W230<=$Q226,1,0),IF($Q226<=36,IF(W230<=($Q226-18),2,1),IF($Q226>36,IF(W230<=($Q226-36),3,2))))","v":2},{"$f":"IF($Q226<=18,IF(X230<=$Q226,1,0),IF($Q226<=36,IF(X230<=($Q226-18),2,1),IF($Q226>36,IF(X230<=($Q226-36),3,2))))","v":2},{"$f":"IF($Q226<=18,IF(Y230<=$Q226,1,0),IF($Q226<=36,IF(Y230<=($Q226-18),2,1),IF($Q226>36,IF(Y230<=($Q226-36),3,2))))","v":2},{"$f":"SUM(Q231:Y231)","v":19},{"$f":"P231+Z231","v":37}]
[null,null,null,null,null,"Stroke play",{"$f":"G15","v":5},5,7,4,3,5,5,6,6,{"$f":"SUM(G232:O232)","v":46},{"$f":"Q15","v":6},5,5,7,5,7,8,5,7,{"$f":"SUM(Q232:Y232)","v":55},{"$f":"P232+Z232","v":101}]
[null,null,null,null,null,"Net Stableford",{"$f":"IF(G232-G229=-1,3+G231)+IF(G232-G229=0,2+G231)+IF(G232-G229=1,1+G231)+IF(G232-G229=2,G231)+IF(G232-G229=3,IF(G231-1>0,G231-1,0))+IF(G232-G229=4,IF(G231-2>0,G231-2,0))","v":3},{"$f":"IF(H232-H229=-1,3+H231)+IF(H232-H229=0,2+H231)+IF(H232-H229=1,1+H231)+IF(H232-H229=2,H231)+IF(H232-H229=3,IF(H231-1>0,H231-1,0))+IF(H232-H229=4,IF(H231-2>0,H231-2,0))","v":3},2,4,4,4,2,3,1,{"$f":"SUM(G233:O233)","v":26},{"$f":"IF(Q232-Q229=-1,3+Q231)+IF(Q232-Q229=0,2+Q231)+IF(Q232-Q229=1,1+Q231)+IF(Q232-Q229=2,Q231)+IF(Q232-Q229=3,IF(Q231-1>0,Q231-1,0))+IF(Q232-Q229=4,IF(Q231-2>0,Q231-2,0))","v":3},3,2,2,2,1,0,4,1,{"$f":"SUM(Q233:Y233)","v":18},{"$f":"P233+Z233","v":44}]
[null,null,null,null,null,"Score Brut",{"$f":"IF(G232-G229=-2,4)+IF(G232-G229=-1,3)+IF(G232-G229=0,2)+IF(G232-G229=1,1)+IF(G232-G229>2,0)","v":1},1,0,2,2,2,0,1,0,{"$f":"SUM(G234:O234)","v":9},{"$f":"IF(Q232-Q229=-2,4)+IF(Q232-Q229=-1,3)+IF(Q232-Q229=0,2)+IF(Q232-Q229=1,1)+IF(Q232-Q229>2,0)","v":0},1,0,0,0,0,0,2,0,{"$f":"SUM(Q234:Y234)","v":3},{"$f":"P234+Z234","v":12}]
[null,null,null,null,null,null,{"$f":"G232-G229","v":1},{"$f":"H232-H229","v":1},2,0,0,0,2,1,3,null,{"$f":"Q232-Q229","v":2},1,2,2,2,3,4,0,3]
[]
[]
[null,null,null,null,null,"Statistiques scores",null,"Eagle & moins",null,null,null,{"$f":"COUNTIF(G235:Y235,\"<=-2\")","v":0},"Par",null,{"$f":"COUNTIF(G235:Y235,\"=0\")","v":4},"Double bogey",null,null,null,null,{"$f":"COUNTIF(G235:Y235,\"=2\")","v":6}]
[null,null,null,null,null,null,null,"Birdie",null,null,null,{"$f":"COUNTIF(G235:Y235,\"=-1\")","v":0},"Bogey",null,{"$f":"COUNTIF(G235:Y235,\"=1\")","v":4},"Triple bogey & plus",null,null,null,null,{"$f":"COUNTIF(G235:Y235,\">=3\")","v":4}]
[null,null,null,null,null,null,null,{"$f":"M238","v":"Par"},null,null,null,{"$f":"O238","v":4}]
[null,null,null,null,null,null,null,{"$f":"M239","v":"Bogey"},null,null,null,{"$f":"O239","v":4}]
[null,null,null,null,null,null,null,{"$f":"P238","v":"Double bogey"},null,null,null,{"$f":"U238","v":6}]
[null,null,null,null,null,null,null,{"$f":"P239","v":"Triple bogey & plus"},null,null,null,{"$f":"U239","v":4}]
[]
[]
[]
[]
[null,null,null,null,null,"Nom",{"$f":"C16","v":"JACQUEMIN"},null,null,null,null,"Slope",null,null,"SSS",null,"Coups reçus",null,null,null,null,null,null,null,null,"Date",{"$f":"$D$3","v":"2022-03-05"}]
[null,null,null,null,null,"Index",{"$f":"E16","v":17.2},null,null,null,null,{"$f":"$F$3","v":133},null,null,{"$f":"$G$3","v":68.599999999999994},null,{"$f":"ROUND((G249*(L249/113)+(O249-AA252)),0)","v":17}]
[]
[null,null,null,null,null,"Trou",1,2,3,4,5,6,7,8,9,"Aller",10,11,12,13,14,15,16,17,18,"Retour","Total"]
[null,null,null,null,null,"PAR",{"$f":"G$7","v":4},{"$f":"H$7","v":4},5,4,3,5,3,5,3,{"$f":"SUM(G252:O252)","v":36},{"$f":"Q$7","v":4},4,3,5,3,4,4,5,4,{"$f":"SUM(Q252:Y252)","v":36},{"$f":"SUM(P252+Z252)","v":72}]
[null,null,null,null,null,"HCP trous",{"$f":"G$8","v":4},{"$f":"H$8","v":8},12,14,2,10,18,16,6,null,{"$f":"Q$8","v":1},9,11,5,17,15,3,13,7]
[null,null,null,null,null,"Coups reçus",{"$f":"IF($Q249<=18,IF(G253<=$Q249,1,0),IF($Q249<=36,IF(G253<=($Q249-18),2,1),IF($Q249>36,IF(G253<=($Q249-36),3,2))))","v":1},{"$f":"IF($Q249<=18,IF(H253<=$Q249,1,0),IF($Q249<=36,IF(H253<=($Q249-18),2,1),IF($Q249>36,IF(H253<=($Q249-36),3,2))))","v":1},{"$f":"IF($Q249<=18,IF(I253<=$Q249,1,0),IF($Q249<=36,IF(I253<=($Q249-18),2,1),IF($Q249>36,IF(I253<=($Q249-36),3,2))))","v":1},{"$f":"IF($Q249<=18,IF(J253<=$Q249,1,0),IF($Q249<=36,IF(J253<=($Q249-18),2,1),IF($Q249>36,IF(J253<=($Q249-36),3,2))))","v":1},{"$f":"IF($Q249<=18,IF(K253<=$Q249,1,0),IF($Q249<=36,IF(K253<=($Q249-18),2,1),IF($Q249>36,IF(K253<=($Q249-36),3,2))))","v":1},{"$f":"IF($Q249<=18,IF(L253<=$Q249,1,0),IF($Q249<=36,IF(L253<=($Q249-18),2,1),IF($Q249>36,IF(L253<=($Q249-36),3,2))))","v":1},{"$f":"IF($Q249<=18,IF(M253<=$Q249,1,0),IF($Q249<=36,IF(M253<=($Q249-18),2,1),IF($Q249>36,IF(M253<=($Q249-36),3,2))))","v":0},{"$f":"IF($Q249<=18,IF(N253<=$Q249,1,0),IF($Q249<=36,IF(N253<=($Q249-18),2,1),IF($Q249>36,IF(N253<=($Q249-36),3,2))))","v":1},{"$f":"IF($Q249<=18,IF(O253<=$Q249,1,0),IF($Q249<=36,IF(O253<=($Q249-18),2,1),IF($Q249>36,IF(O253<=($Q249-36),3,2))))","v":1},{"$f":"SUM(G254:O254)","v":8},{"$f":"IF($Q249<=18,IF(Q253<=$Q249,1,0),IF($Q249<=36,IF(Q253<=($Q249-18),2,1),IF($Q249>36,IF(Q253<=($Q249-36),3,2))))","v":1},{"$f":"IF($Q249<=18,IF(R253<=$Q249,1,0),IF($Q249<=36,IF(R253<=($Q249-18),2,1),IF($Q249>36,IF(R253<=($Q249-36),3,2))))","v":1},{"$f":"IF($Q249<=18,IF(S253<=$Q249,1,0),IF($Q249<=36,IF(S253<=($Q249-18),2,1),IF($Q249>36,IF(S253<=($Q249-36),3,2))))","v":1},{"$f":"IF($Q249<=18,IF(T253<=$Q249,1,0),IF($Q249<=36,IF(T253<=($Q249-18),2,1),IF($Q249>36,IF(T253<=($Q249-36),3,2))))","v":1},{"$f":"IF($Q249<=18,IF(U253<=$Q249,1,0),IF($Q249<=36,IF(U253<=($Q249-18),2,1),IF($Q249>36,IF(U253<=($Q249-36),3,2))))","v":1},{"$f":"IF($Q249<=18,IF(V253<=$Q249,1,0),IF($Q249<=36,IF(V253<=($Q249-18),2,1),IF($Q249>36,IF(V253<=($Q249-36),3,2))))","v":1},{"$f":"IF($Q249<=18,IF(W253<=$Q249,1,0),IF($Q249<=36,IF(W253<=($Q249-18),2,1),IF($Q249>36,IF(W253<=($Q249-36),3,2))))","v":1},{"$f":"IF($Q249<=18,IF(X253<=$Q249,1,0),IF($Q249<=36,IF(X253<=($Q249-18),2,1),IF($Q249>36,IF(X253<=($Q249-36),3,2))))","v":1},{"$f":"IF($Q249<=18,IF(Y253<=$Q249,1,0),IF($Q249<=36,IF(Y253<=($Q249-18),2,1),IF($Q249>36,IF(Y253<=($Q249-36),3,2))))","v":1},{"$f":"SUM(Q254:Y254)","v":9},{"$f":"P254+Z254","v":17}]
[null,null,null,null,null,"Stroke play",{"$f":"G16","v":5},5,5,5,5,6,2,5,3,{"$f":"SUM(G255:O255)","v":41},{"$f":"Q16","v":6},5,5,6,3,5,4,7,8,{"$f":"SUM(Q255:Y255)","v":49},{"$f":"P255+Z255","v":90}]
[null,null,null,null,null,"Net Stableford",{"$f":"IF(G255-G252=-1,3+G254)+IF(G255-G252=0,2+G254)+IF(G255-G252=1,1+G254)+IF(G255-G252=2,G254)+IF(G255-G252=3,IF(G254-1>0,G254-1,0))+IF(G255-G252=4,IF(G254-2>0,G254-2,0))","v":2},{"$f":"IF(H255-H252=-1,3+H254)+IF(H255-H252=0,2+H254)+IF(H255-H252=1,1+H254)+IF(H255-H252=2,H254)+IF(H255-H252=3,IF(H254-1>0,H254-1,0))+IF(H255-H252=4,IF(H254-2>0,H254-2,0))","v":2},3,2,1,2,3,3,3,{"$f":"SUM(G256:O256)","v":21},{"$f":"IF(Q255-Q252=-1,3+Q254)+IF(Q255-Q252=0,2+Q254)+IF(Q255-Q252=1,1+Q254)+IF(Q255-Q252=2,Q254)+IF(Q255-Q252=3,IF(Q254-1>0,Q254-1,0))+IF(Q255-Q252=4,IF(Q254-2>0,Q254-2,0))","v":1},2,1,2,3,2,3,1,0,{"$f":"SUM(Q256:Y256)","v":15},{"$f":"P256+Z256","v":36}]
[null,null,null,null,null,"Score Brut",{"$f":"IF(G255-G252=-2,4)+IF(G255-G252=-1,3)+IF(G255-G252=0,2)+IF(G255-G252=1,1)+IF(G255-G252>2,0)","v":1},1,2,1,0,1,3,2,2,{"$f":"SUM(G257:O257)","v":13},{"$f":"IF(Q255-Q252=-2,4)+IF(Q255-Q252=-1,3)+IF(Q255-Q252=0,2)+IF(Q255-Q252=1,1)+IF(Q255-Q252>2,0)","v":0},1,0,1,2,1,2,0,0,{"$f":"SUM(Q257:Y257)","v":7},{"$f":"P257+Z257","v":20}]
[null,null,null,null,null,null,{"$f":"G255-G252","v":1},{"$f":"H255-H252","v":1},0,1,2,1,-1,0,0,null,{"$f":"Q255-Q252","v":2},1,2,1,0,1,0,2,4]
[]
[]
[null,null,null,null,null,"Statistiques scores",null,"Eagle & moins",null,null,null,{"$f":"COUNTIF(G258:Y258,\"<=-2\")","v":0},"Par",null,{"$f":"COUNTIF(G258:Y258,\"=0\")","v":5},"Double bogey",null,null,null,null,{"$f":"COUNTIF(G258:Y258,\"=2\")","v":4}]
[null,null,null,null,null,null,null,"Birdie",null,null,null,{"$f":"COUNTIF(G258:Y258,\"=-1\")","v":1},"Bogey",null,{"$f":"COUNTIF(G258:Y258,\"=1\")","v":7},"Triple bogey & plus",null,null,null,null,{"$f":"COUNTIF(G258:Y258,\">=3\")","v":1}]
[null,null,null,null,null,null,null,{"$f":"M261","v":"Par"},null,null,null,{"$f":"O261","v":5}]
[null,null,null,null,null,null,null,{"$f":"M262","v":"Bogey"},null,null,null,{"$f":"O262","v":7}]
[null,null,null,null,null,null,null,{"$f":"P261","v":"Double bogey"},null,null,null,{"$f":"U261","v":4}]
[null,null,null,null,null,null,null,{"$f":"P262","v":"Triple bogey & plus"},null,null,null,{"$f":"U262","v":1}]
[]
[]
[]
[]
[null,null,null,null,null,"Nom",{"$f":"C17","v":"LEFEU"},null,null,null,null,"Slope",null,null,"SSS",null,"Coups reçus",null,null,null,null,null,null,null,null,"Date",{"$f":"$D$3","v":"2022-03-05"}]
[null,null,null,null,null,"Index",{"$f":"E17","v":30.6},null,null,null,null,{"$f":"$F$3","v":133},null,null,{"$f":"$G$3","v":68.599999999999994},null,{"$f":"ROUND((G272*(L272/113)+(O272-AA275)),0)","v":33}]
[]
[null,null,null,null,null,"Trou",1,2,3,4,5,6,7,8,9,"Aller",10,11,12,13,14,15,16,17,18,"Retour","Total"]
[null,null,null,null,null,"PAR",{"$f":"G$7","v":4},{"$f":"H$7","v":4},5,4,3,5,3,5,3,{"$f":"SUM(G275:O275)","v":36},{"$f":"Q$7","v":4},4,3,5,3,4,4,5,4,{"$f":"SUM(Q275:Y275)","v":36},{"$f":"SUM(P275+Z275)","v":72}]
[null,null,null,null,null,"HCP trous",{"$f":"G$8","v":4},{"$f":"H$8","v":8},12,14,2,10,18,16,6,null,{"$f":"Q$8","v":1},9,11,5,17,15,3,13,7]
[null,null,null,null,null,"Coups reçus",{"$f":"IF($Q272<=18,IF(G276<=$Q272,1,0),IF($Q272<=36,IF(G276<=($Q272-18),2,1),IF($Q272>36,IF(G276<=($Q272-36),3,2))))","v":2},{"$f":"IF($Q272<=18,IF(H276<=$Q272,1,0),IF($Q272<=36,IF(H276<=($Q272-18),2,1),IF($Q272>36,IF(H276<=($Q272-36),3,2))))","v":2},{"$f":"IF($Q272<=18,IF(I276<=$Q272,1,0),IF($Q272<=36,IF(I276<=($Q272-18),2,1),IF($Q272>36,IF(I276<=($Q272-36),3,2))))","v":2},{"$f":"IF($Q272<=18,IF(J276<=$Q272,1,0),IF($Q272<=36,IF(J276<=($Q272-18),2,1),IF($Q272>36,IF(J276<=($Q272-36),3,2))))","v":2},{"$f":"IF($Q272<=18,IF(K276<=$Q272,1,0),IF($Q272<=36,IF(K276<=($Q272-18),2,1),IF($Q272>36,IF(K276<=($Q272-36),3,2))))","v":2},{"$f":"IF($Q272<=18,IF(L276<=$Q272,1,0),IF($Q272<=36,IF(L276<=($Q272-18),2,1),IF($Q272>36,IF(L276<=($Q272-36),3,2))))","v":2},{"$f":"IF($Q272<=18,IF(M276<=$Q272,1,0),IF($Q272<=36,IF(M276<=($Q272-18),2,1),IF($Q272>36,IF(M276<=($Q272-36),3,2))))","v":1},{"$f":"IF($Q272<=18,IF(N276<=$Q272,1,0),IF($Q272<=36,IF(N276<=($Q272-18),2,1),IF($Q272>36,IF(N276<=($Q272-36),3,2))))","v":1},{"$f":"IF($Q272<=18,IF(O276<=$Q272,1,0),IF($Q272<=36,IF(O276<=($Q272-18),2,1),IF($Q272>36,IF(O276<=($Q272-36),3,2))))","v":2},{"$f":"SUM(G277:O277)","v":16},{"$f":"IF($Q272<=18,IF(Q276<=$Q272,1,0),IF($Q272<=36,IF(Q276<=($Q272-18),2,1),IF($Q272>36,IF(Q276<=($Q272-36),3,2))))","v":2},{"$f":"IF($Q272<=18,IF(R276<=$Q272,1,0),IF($Q272<=36,IF(R276<=($Q272-18),2,1),IF($Q272>36,IF(R276<=($Q272-36),3,2))))","v":2},{"$f":"IF($Q272<=18,IF(S276<=$Q272,1,0),IF($Q272<=36,IF(S276<=($Q272-18),2,1),IF($Q272>36,IF(S276<=($Q272-36),3,2))))","v":2},{"$f":"IF($Q272<=18,IF(T276<=$Q272,1,0),IF($Q272<=36,IF(T276<=($Q272-18),2,1),IF($Q272>36,IF(T276<=($Q272-36),3,2))))","v":2},{"$f":"IF($Q272<=18,IF(U276<=$Q272,1,0),IF($Q272<=36,IF(U276<=($Q272-18),2,1),IF($Q272>36,IF(U276<=($Q272-36),3,2))))","v":1},{"$f":"IF($Q272<=18,IF(V276<=$Q272,1,0),IF($Q272<=36,IF(V276<=($Q272-18),2,1),IF($Q272>36,IF(V276<=($Q272-36),3,2))))","v":2},{"$f":"IF($Q272<=18,IF(W276<=$Q272,1,0),IF($Q272<=36,IF(W276<=($Q272-18),2,1),IF($Q272>36,IF(W276<=($Q272-36),3,2))))","v":2},{"$f":"IF($Q272<=18,IF(X276<=$Q272,1,0),IF($Q272<=36,IF(X276<=($Q272-18),2,1),IF($Q272>36,IF(X276<=($Q272-36),3,2))))","v":2},{"$f":"IF($Q272<=18,IF(Y276<=$Q272,1,0),IF($Q272<=36,IF(Y276<=($Q272-18),2,1),IF($Q272>36,IF(Y276<=($Q272-36),3,2))))","v":2},{"$f":"SUM(Q277:Y277)","v":17},{"$f":"P277+Z277","v":33}]
[null,null,null,null,null,"Stroke play",{"$f":"G17","v":6},7,8,6,4,5,4,7,6,{"$f":"SUM(G278:O278)","v":53},{"$f":"Q17","v":6},7,3,8,7,8,6,9,7,{"$f":"SUM(Q278:Y278)","v":61},{"$f":"P278+Z278","v":114}]
[null,null,null,null,null,"Net Stableford",{"$f":"IF(G278-G275=-1,3+G277)+IF(G278-G275=0,2+G277)+IF(G278-G275=1,1+G277)+IF(G278-G275=2,G277)+IF(G278-G275=3,IF(G277-1>0,G277-1,0))+IF(G278-G275=4,IF(G277-2>0,G277-2,0))","v":2},{"$f":"IF(H278-H275=-1,3+H277)+IF(H278-H275=0,2+H277)+IF(H278-H275=1,1+H277)+IF(H278-H275=2,H277)+IF(H278-H275=3,IF(H277-1>0,H277-1,0))+IF(H278-H275=4,IF(H277-2>0,H277-2,0))","v":1},1,2,3,4,2,1,1,{"$f":"SUM(G279:O279)","v":17},{"$f":"IF(Q278-Q275=-1,3+Q277)+IF(Q278-Q275=0,2+Q277)+IF(Q278-Q275=1,1+Q277)+IF(Q278-Q275=2,Q277)+IF(Q278-Q275=3,IF(Q277-1>0,Q277-1,0))+IF(Q278-Q275=4,IF(Q277-2>0,Q277-2,0))","v":2},1,4,1,0,0,2,0,1,{"$f":"SUM(Q279:Y279)","v":11},{"$f":"P279+Z279","v":28}]
[null,null,null,null,null,"Score Brut",{"$f":"IF(G278-G275=-2,4)+IF(G278-G275=-1,3)+IF(G278-G275=0,2)+IF(G278-G275=1,1)+IF(G278-G275>2,0)","v":0},0,0,0,1,2,1,0,0,{"$f":"SUM(G280:O280)","v":4},{"$f":"IF(Q278-Q275=-2,4)+IF(Q278-Q275=-1,3)+IF(Q278-Q275=0,2)+IF(Q278-Q275=1,1)+IF(Q278-Q275>2,0)","v":0},0,2,0,0,0,0,0,0,{"$f":"SUM(Q280:Y280)","v":2},{"$f":"P280+Z280","v":6}]
[null,null,null,null,null,null,{"$f":"G278-G275","v":2},{"$f":"H278-H275","v":3},3,2,1,0,1,2,3,null,{"$f":"Q278-Q275","v":2},3,0,3,4,4,2,4,3]
[]
[]
[null,null,null,null,null,"Statistiques scores",null,"Eagle & moins",null,null,null,{"$f":"COUNTIF(G281:Y281,\"<=-2\")","v":0},"Par",null,{"$f":"COUNTIF(G281:Y281,\"=0\")","v":2},"Double bogey",null,null,null,null,{"$f":"COUNTIF(G281:Y281,\"=2\")","v":5}]
[null,null,null,null,null,null,null,"Birdie",null,null,null,{"$f":"COUNTIF(G281:Y281,\"=-1\")","v":0},"Bogey",null,{"$f":"COUNTIF(G281:Y281,\"=1\")","v":2},"Triple bogey & plus",null,null,null,null,{"$f":"COUNTIF(G281:Y281,\">=3\")","v":9}]
[null,null,null,null,null,null,null,{"$f":"M284","v":"Par"},null,null,null,{"$f":"O284","v":2}]
[null,null,null,null,null,null,null,{"$f":"M285","v":"Bogey"},null,null,null,{"$f":"O285","v":2}]
[null,null,null,null,null,null,null,{"$f":"P284","v":"Double bogey"},null,null,null,{"$f":"U284","v":5}]
[null,null,null,null,null,null,null,{"$f":"P285","v":"Triple bogey & plus"},null,null,null,{"$f":"U285","v":9}]
[]
[]
[]
[]
[null,null,null,null,null,"Nom",{"$f":"C18","v":"LEVEQUE"},null,null,null,null,"Slope",null,null,"SSS",null,"Coups reçus",null,null,null,null,null,null,null,null,"Date",{"$f":"$D$3","v":"2022-03-05"}]
[null,null,null,null,null,"Index",{"$f":"E18","v":22.4},null,null,null,null,{"$f":"$F$3","v":133},null,null,{"$f":"$G$3","v":68.599999999999994},null,{"$f":"ROUND((G295*(L295/113)+(O295-AA298)),0)","v":23}]
[]
[null,null,null,null,null,"Trou",1,2,3,4,5,6,7,8,9,"Aller",10,11,12,13,14,15,16,17,18,"Retour","Total"]
[null,null,null,null,null,"PAR",{"$f":"G$7","v":4},{"$f":"H$7","v":4},5,4,3,5,3,5,3,{"$f":"SUM(G298:O298)","v":36},{"$f":"Q$7","v":4},4,3,5,3,4,4,5,4,{"$f":"SUM(Q298:Y298)","v":36},{"$f":"SUM(P298+Z298)","v":72}]
[null,null,null,null,null,"HCP trous",{"$f":"G$8","v":4},{"$f":"H$8","v":8},12,14,2,10,18,16,6,null,{"$f":"Q$8","v":1},9,11,5,17,15,3,13,7]
[null,null,null,null,null,"Coups reçus",{"$f":"IF($Q295<=18,IF(G299<=$Q295,1,0),IF($Q295<=36,IF(G299<=($Q295-18),2,1),IF($Q295>36,IF(G299<=($Q295-36),3,2))))","v":2},{"$f":"IF($Q295<=18,IF(H299<=$Q295,1,0),IF($Q295<=36,IF(H299<=($Q295-18),2,1),IF($Q295>36,IF(H299<=($Q295-36),3,2))))","v":1},{"$f":"IF($Q295<=18,IF(I299<=$Q295,1,0),IF($Q295<=36,IF(I299<=($Q295-18),2,1),IF($Q295>36,IF(I299<=($Q295-36),3,2))))","v":1},{"$f":"IF($Q295<=18,IF(J299<=$Q295,1,0),IF($Q295<=36,IF(J299<=($Q295-18),2,1),IF($Q295>36,IF(J299<=($Q295-36),3,2))))","v":1},{"$f":"IF($Q295<=18,IF(K299<=$Q295,1,0),IF($Q295<=36,IF(K299<=($Q295-18),2,1),IF($Q295>36,IF(K299<=($Q295-36),3,2))))","v":2},{"$f":"IF($Q295<=18,IF(L299<=$Q295,1,0),IF($Q295<=36,IF(L299<=($Q295-18),2,1),IF($Q295>36,IF(L299<=($Q295-36),3,2))))","v":1},{"$f":"IF($Q295<=18,IF(M299<=$Q295,1,0),IF($Q295<=36,IF(M299<=($Q295-18),2,1),IF($Q295>36,IF(M299<=($Q295-36),3,2))))","v":1},{"$f":"IF($Q295<=18,IF(N299<=$Q295,1,0),IF($Q295<=36,IF(N299<=($Q295-18),2,1),IF($Q295>36,IF(N299<=($Q295-36),3,2))))","v":1},{"$f":"IF($Q295<=18,IF(O299<=$Q295,1,0),IF($Q295<=36,IF(O299<=($Q295-18),2,1),IF($Q295>36,IF(O299<=($Q295-36),3,2))))","v":1},{"$f":"SUM(G300:O300)","v":11},{"$f":"IF($Q295<=18,IF(Q299<=$Q295,1,0),IF($Q295<=36,IF(Q299<=($Q295-18),2,1),IF($Q295>36,IF(Q299<=($Q295-36),3,2))))","v":2},{"$f":"IF($Q295<=18,IF(R299<=$Q295,1,0),IF($Q295<=36,IF(R299<=($Q295-18),2,1),IF($Q295>36,IF(R299<=($Q295-36),3,2))))","v":1},{"$f":"IF($Q295<=18,IF(S299<=$Q295,1,0),IF($Q295<=36,IF(S299<=($Q295-18),2,1),IF($Q295>36,IF(S299<=($Q295-36),3,2))))","v":1},{"$f":"IF($Q295<=18,IF(T299<=$Q295,1,0),IF($Q295<=36,IF(T299<=($Q295-18),2,1),IF($Q295>36,IF(T299<=($Q295-36),3,2))))","v":2},{"$f":"IF($Q295<=18,IF(U299<=$Q295,1,0),IF($Q295<=36,IF(U299<=($Q295-18),2,1),IF($Q295>36,IF(U299<=($Q295-36),3,2))))","v":1},{"$f":"IF($Q295<=18,IF(V299<=$Q295,1,0),IF($Q295<=36,IF(V299<=($Q295-18),2,1),IF($Q295>36,IF(V299<=($Q295-36),3,2))))","v":1},{"$f":"IF($Q295<=18,IF(W299<=$Q295,1,0),IF($Q295<=36,IF(W299<=($Q295-18),2,1),IF($Q295>36,IF(W299<=($Q295-36),3,2))))","v":2},{"$f":"IF($Q295<=18,IF(X299<=$Q295,1,0),IF($Q295<=36,IF(X299<=($Q295-18),2,1),IF($Q295>36,IF(X299<=($Q295-36),3,2))))","v":1},{"$f":"IF($Q295<=18,IF(Y299<=$Q295,1,0),IF($Q295<=36,IF(Y299<=($Q295-18),2,1),IF($Q295>36,IF(Y299<=($Q295-36),3,2))))","v":1},{"$f":"SUM(Q300:Y300)","v":12},{"$f":"P300+Z300","v":23}]
[null,null,null,null,null,"Stroke play",{"$f":"G18","v":6},7,8,6,4,7,4,7,4,{"$f":"SUM(G301:O301)","v":53},{"$f":"Q18","v":6},9,7,4,6,7,7,6,5,{"$f":"SUM(Q301:Y301)","v":57},{"$f":"P301+Z301","v":110}]
[null,null,null,null,null,"Net Stableford",{"$f":"IF(G301-G298=-1,3+G300)+IF(G301-G298=0,2+G300)+IF(G301-G298=1,1+G300)+IF(G301-G298=2,G300)+IF(G301-G298=3,IF(G300-1>0,G300-1,0))+IF(G301-G298=4,IF(G300-2>0,G300-2,0))","v":2},{"$f":"IF(H301-H298=-1,3+H300)+IF(H301-H298=0,2+H300)+IF(H301-H298=1,1+H300)+IF(H301-H298=2,H300)+IF(H301-H298=3,IF(H300-1>0,H300-1,0))+IF(H301-H298=4,IF(H300-2>0,H300-2,0))","v":0},0,1,3,1,2,1,2,{"$f":"SUM(G302:O302)","v":12},{"$f":"IF(Q301-Q298=-1,3+Q300)+IF(Q301-Q298=0,2+Q300)+IF(Q301-Q298=1,1+Q300)+IF(Q301-Q298=2,Q300)+IF(Q301-Q298=3,IF(Q300-1>0,Q300-1,0))+IF(Q301-Q298=4,IF(Q300-2>0,Q300-2,0))","v":2},0,0,5,0,0,1,2,2,{"$f":"SUM(Q302:Y302)","v":12},{"$f":"P302+Z302","v":24}]
[null,null,null,null,null,"Score Brut",{"$f":"IF(G301-G298=-2,4)+IF(G301-G298=-1,3)+IF(G301-G298=0,2)+IF(G301-G298=1,1)+IF(G301-G298>2,0)","v":0},0,0,0,1,0,1,0,1,{"$f":"SUM(G303:O303)","v":3},{"$f":"IF(Q301-Q298=-2,4)+IF(Q301-Q298=-1,3)+IF(Q301-Q298=0,2)+IF(Q301-Q298=1,1)+IF(Q301-Q298>2,0)","v":0},0,0,3,0,0,0,1,1,{"$f":"SUM(Q303:Y303)","v":5},{"$f":"P303+Z303","v":8}]
[null,null,null,null,null,null,{"$f":"G301-G298","v":2},{"$f":"H301-H298","v":3},3,2,1,2,1,2,1,null,{"$f":"Q301-Q298","v":2},5,4,-1,3,3,3,1,1]
[]
[]
[null,null,null,null,null,"Statistiques scores",null,"Eagle & moins",null,null,null,{"$f":"COUNTIF(G304:Y304,\"<=-2\")","v":0},"Par",null,{"$f":"COUNTIF(G304:Y304,\"=0\")","v":0},"Double bogey",null,null,null,null,{"$f":"COUNTIF(G304:Y304,\"=2\")","v":5}]
[null,null,null,null,null,null,null,"Birdie",null,null,null,{"$f":"COUNTIF(G304:Y304,\"=-1\")","v":1},"Bogey",null,{"$f":"COUNTIF(G304:Y304,\"=1\")","v":5},"Triple bogey & plus",null,null,null,null,{"$f":"COUNTIF(G304:Y304,\">=3\")","v":7}]
[null,null,null,null,null,null,null,{"$f":"M307","v":"Par"},null,null,null,{"$f":"O307","v":0}]
[null,null,null,null,null,null,null,{"$f":"M308","v":"Bogey"},null,null,null,{"$f":"O308","v":5}]
[null,null,null,null,null,null,null,{"$f":"P307","v":"Double bogey"},null,null,null,{"$f":"U307","v":5}]
[null,null,null,null,null,null,null,{"$f":"P308","v":"Triple bogey & plus"},null,null,null,{"$f":"U308","v":7}]
[]
[]
[]
[]
[null,null,null,null,null,"Nom",{"$f":"C19","v":"MICHEL"},null,null,null,null,"Slope",null,null,"SSS",null,"Coups reçus",null,null,null,null,null,null,null,null,"Date",{"$f":"$D$3","v":"2022-03-05"}]
[null,null,null,null,null,"Index",{"$f":"E19","v":37},null,null,null,null,{"$f":"$F$3","v":133},null,null,{"$f":"$G$3","v":68.599999999999994},null,{"$f":"ROUND((G318*(L318/113)+(O318-AA321)),0)","v":40}]
[]
[null,null,null,null,null,"Trou",1,2,3,4,5,6,7,8,9,"Aller",10,11,12,13,14,15,16,17,18,"Retour","Total"]
[null,null,null,null,null,"PAR",{"$f":"G$7","v":4},{"$f":"H$7","v":4},5,4,3,5,3,5,3,{"$f":"SUM(G321:O321)","v":36},{"$f":"Q$7","v":4},4,3,5,3,4,4,5,4,{"$f":"SUM(Q321:Y321)","v":36},{"$f":"SUM(P321+Z321)","v":72}]
[null,null,null,null,null,"HCP trous",{"$f":"G$8","v":4},{"$f":"H$8","v":8},12,14,2,10,18,16,6,null,{"$f":"Q$8","v":1},9,11,5,17,15,3,13,7]
[null,null,null,null,null,"Coups reçus",{"$f":"IF($Q318<=18,IF(G322<=$Q318,1,0),IF($Q318<=36,IF(G322<=($Q318-18),2,1),IF($Q318>36,IF(G322<=($Q318-36),3,2))))","v":3},{"$f":"IF($Q318<=18,IF(H322<=$Q318,1,0),IF($Q318<=36,IF(H322<=($Q318-18),2,1),IF($Q318>36,IF(H322<=($Q318-36),3,2))))","v":2},{"$f":"IF($Q318<=18,IF(I322<=$Q318,1,0),IF($Q318<=36,IF(I322<=($Q318-18),2,1),IF($Q318>36,IF(I322<=($Q318-36),3,2))))","v":2},{"$f":"IF($Q318<=18,IF(J322<=$Q318,1,0),IF($Q318<=36,IF(J322<=($Q318-18),2,1),IF($Q318>36,IF(J322<=($Q318-36),3,2))))","v":2},{"$f":"IF($Q318<=18,IF(K322<=$Q318,1,0),IF($Q318<=36,IF(K322<=($Q318-18),2,1),IF($Q318>36,IF(K322<=($Q318-36),3,2))))","v":3},{"$f":"IF($Q318<=18,IF(L322<=$Q318,1,0),IF($Q318<=36,IF(L322<=($Q318-18),2,1),IF($Q318>36,IF(L322<=($Q318-36),3,2))))","v":2},{"$f":"IF($Q318<=18,IF(M322<=$Q318,1,0),IF($Q318<=36,IF(M322<=($Q318-18),2,1),IF($Q318>36,IF(M322<=($Q318-36),3,2))))","v":2},{"$f":"IF($Q318<=18,IF(N322<=$Q318,1,0),IF($Q318<=36,IF(N322<=($Q318-18),2,1),IF($Q318>36,IF(N322<=($Q318-36),3,2))))","v":2},{"$f":"IF($Q318<=18,IF(O322<=$Q318,1,0),IF($Q318<=36,IF(O322<=($Q318-18),2,1),IF($Q318>36,IF(O322<=($Q318-36),3,2))))","v":2},{"$f":"SUM(G323:O323)","v":20},{"$f":"IF($Q318<=18,IF(Q322<=$Q318,1,0),IF($Q318<=36,IF(Q322<=($Q318-18),2,1),IF($Q318>36,IF(Q322<=($Q318-36),3,2))))","v":3},{"$f":"IF($Q318<=18,IF(R322<=$Q318,1,0),IF($Q318<=36,IF(R322<=($Q318-18),2,1),IF($Q318>36,IF(R322<=($Q318-36),3,2))))","v":2},{"$f":"IF($Q318<=18,IF(S322<=$Q318,1,0),IF($Q318<=36,IF(S322<=($Q318-18),2,1),IF($Q318>36,IF(S322<=($Q318-36),3,2))))","v":2},{"$f":"IF($Q318<=18,IF(T322<=$Q318,1,0),IF($Q318<=36,IF(T322<=($Q318-18),2,1),IF($Q318>36,IF(T322<=($Q318-36),3,2))))","v":2},{"$f":"IF($Q318<=18,IF(U322<=$Q318,1,0),IF($Q318<=36,IF(U322<=($Q318-18),2,1),IF($Q318>36,IF(U322<=($Q318-36),3,2))))","v":2},{"$f":"IF($Q318<=18,IF(V322<=$Q318,1,0),IF($Q318<=36,IF(V322<=($Q318-18),2,1),IF($Q318>36,IF(V322<=($Q318-36),3,2))))","v":2},{"$f":"IF($Q318<=18,IF(W322<=$Q318,1,0),IF($Q318<=36,IF(W322<=($Q318-18),2,1),IF($Q318>36,IF(W322<=($Q318-36),3,2))))","v":3},{"$f":"IF($Q318<=18,IF(X322<=$Q318,1,0),IF($Q318<=36,IF(X322<=($Q318-18),2,1),IF($Q318>36,IF(X322<=($Q318-36),3,2))))","v":2},{"$f":"IF($Q318<=18,IF(Y322<=$Q318,1,0),IF($Q318<=36,IF(Y322<=($Q318-18),2,1),IF($Q318>36,IF(Y322<=($Q318-36),3,2))))","v":2},{"$f":"SUM(Q323:Y323)","v":20},{"$f":"P323+Z323","v":40}]
[null,null,null,null,null,"Stroke play",{"$f":"G19","v":5},6,10,5,4,6,5,8,6,{"$f":"SUM(G324:O324)","v":55},{"$f":"Q19","v":6},6,7,5,4,6,5,7,7,{"$f":"SUM(Q324:Y324)","v":53},{"$f":"P324+Z324","v":108}]
[null,null,null,null,null,"Net Stableford",{"$f":"IF(G324-G321=-1,3+G323)+IF(G324-G321=0,2+G323)+IF(G324-G321=1,1+G323)+IF(G324-G321=2,G323)+IF(G324-G321=3,IF(G323-1>0,G323-1,0))+IF(G324-G321=4,IF(G323-2>0,G323-2,0))","v":4},{"$f":"IF(H324-H321=-1,3+H323)+IF(H324-H321=0,2+H323)+IF(H324-H321=1,1+H323)+IF(H324-H321=2,H323)+IF(H324-H321=3,IF(H323-1>0,H323-1,0))+IF(H324-H321=4,IF(H323-2>0,H323-2,0))","v":2},0,3,4,3,2,1,1,{"$f":"SUM(G325:O325)","v":20},{"$f":"IF(Q324-Q321=-1,3+Q323)+IF(Q324-Q321=0,2+Q323)+IF(Q324-Q321=1,1+Q323)+IF(Q324-Q321=2,Q323)+IF(Q324-Q321=3,IF(Q323-1>0,Q323-1,0))+IF(Q324-Q321=4,IF(Q323-2>0,Q323-2,0))","v":3},2,0,4,3,2,4,2,1,{"$f":"SUM(Q325:Y325)","v":21},{"$f":"P325+Z325","v":41}]
[null,null,null,null,null,"Score Brut",{"$f":"IF(G324-G321=-2,4)+IF(G324-G321=-1,3)+IF(G324-G321=0,2)+IF(G324-G321=1,1)+IF(G324-G321>2,0)","v":1},0,0,1,1,1,0,0,0,{"$f":"SUM(G326:O326)","v":4},{"$f":"IF(Q324-Q321=-2,4)+IF(Q324-Q321=-1,3)+IF(Q324-Q321=0,2)+IF(Q324-Q321=1,1)+IF(Q324-Q321>2,0)","v":0},0,0,2,1,0,1,0,0,{"$f":"SUM(Q326:Y326)","v":4},{"$f":"P326+Z326","v":8}]
[null,null,null,null,null,null,{"$f":"G324-G321","v":1},{"$f":"H324-H321","v":2},5,1,1,1,2,3,3,null,{"$f":"Q324-Q321","v":2},2,4,0,1,2,1,2,3]
[]
[]
[null,null,null,null,null,"Statistiques scores",null,"Eagle & moins",null,null,null,{"$f":"COUNTIF(G327:Y327,\"<=-2\")","v":0},"Par",null,{"$f":"COUNTIF(G327:Y327,\"=0\")","v":1},"Double bogey",null,null,null,null,{"$f":"COUNTIF(G327:Y327,\"=2\")","v":6}]
[null,null,null,null,null,null,null,"Birdie",null,null,null,{"$f":"COUNTIF(G327:Y327,\"=-1\")","v":0},"Bogey",null,{"$f":"COUNTIF(G327:Y327,\"=1\")","v":6},"Triple bogey & plus",null,null,null,null,{"$f":"COUNTIF(G327:Y327,\">=3\")","v":5}]
[null,null,null,null,null,null,null,{"$f":"M330","v":"Par"},null,null,null,{"$f":"O330","v":1}]
[null,null,null,null,null,null,null,{"$f":"M331","v":"Bogey"},null,null,null,{"$f":"O331","v":6}]
[null,null,null,null,null,null,null,{"$f":"P330","v":"Double bogey"},null,null,null,{"$f":"U330","v":6}]
[null,null,null,null,null,null,null,{"$f":"P331","v":"Triple bogey & plus"},null,null,null,{"$f":"U331","v":5}]
[]
[]
[]
[]
[null,null,null,null,null,"Nom",{"$f":"C20","v":"MORALES"},null,null,null,null,"Slope",null,null,"SSS",null,"Coups reçus",null,null,null,null,null,null,null,null,"Date",{"$f":"$D$3","v":"2022-03-05"}]
[null,null,null,null,null,"Index",{"$f":"E20","v":14},null,null,null,null,{"$f":"$F$3","v":133},null,null,{"$f":"$G$3","v":68.599999999999994},null,{"$f":"ROUND((G341*(L341/113)+(O341-AA344)),0)","v":13}]
[]
[null,null,null,null,null,"Trou",1,2,3,4,5,6,7,8,9,"Aller",10,11,12,13,14,15,16,17,18,"Retour","Total"]
[null,null,null,null,null,"PAR",{"$f":"G$7","v":4},{"$f":"H$7","v":4},5,4,3,5,3,5,3,{"$f":"SUM(G344:O344)","v":36},{"$f":"Q$7","v":4},4,3,5,3,4,4,5,4,{"$f":"SUM(Q344:Y344)","v":36},{"$f":"SUM(P344+Z344)","v":72}]
[null,null,null,null,null,"HCP trous",{"$f":"G$8","v":4},{"$f":"H$8","v":8},12,14,2,10,18,16,6,null,{"$f":"Q$8","v":1},9,11,5,17,15,3,13,7]
[null,null,null,null,null,"Coups reçus",{"$f":"IF($Q341<=18,IF(G345<=$Q341,1,0),IF($Q341<=36,IF(G345<=($Q341-18),2,1),IF($Q341>36,IF(G345<=($Q341-36),3,2))))","v":1},{"$f":"IF($Q341<=18,IF(H345<=$Q341,1,0),IF($Q341<=36,IF(H345<=($Q341-18),2,1),IF($Q341>36,IF(H345<=($Q341-36),3,2))))","v":1},{"$f":"IF($Q341<=18,IF(I345<=$Q341,1,0),IF($Q341<=36,IF(I345<=($Q341-18),2,1),IF($Q341>36,IF(I345<=($Q341-36),3,2))))","v":1},{"$f":"IF($Q341<=18,IF(J345<=$Q341,1,0),IF($Q341<=36,IF(J345<=($Q341-18),2,1),IF($Q341>36,IF(J345<=($Q341-36),3,2))))","v":0},{"$f":"IF($Q341<=18,IF(K345<=$Q341,1,0),IF($Q341<=36,IF(K345<=($Q341-18),2,1),IF($Q341>36,IF(K345<=($Q341-36),3,2))))","v":1},{"$f":"IF($Q341<=18,IF(L345<=$Q341,1,0),IF($Q341<=36,IF(L345<=($Q341-18),2,1),IF($Q341>36,IF(L345<=($Q341-36),3,2))))","v":1},{"$f":"IF($Q341<=18,IF(M345<=$Q341,1,0),IF($Q341<=36,IF(M345<=($Q341-18),2,1),IF($Q341>36,IF(M345<=($Q341-36),3,2))))","v":0},{"$f":"IF($Q341<=18,IF(N345<=$Q341,1,0),IF($Q341<=36,IF(N345<=($Q341-18),2,1),IF($Q341>36,IF(N345<=($Q341-36),3,2))))","v":0},{"$f":"IF($Q341<=18,IF(O345<=$Q341,1,0),IF($Q341<=36,IF(O345<=($Q341-18),2,1),IF($Q341>36,IF(O345<=($Q341-36),3,2))))","v":1},{"$f":"SUM(G346:O346)","v":6},{"$f":"IF($Q341<=18,IF(Q345<=$Q341,1,0),IF($Q341<=36,IF(Q345<=($Q341-18),2,1),IF($Q341>36,IF(Q345<=($Q341-36),3,2))))","v":1},{"$f":"IF($Q341<=18,IF(R345<=$Q341,1,0),IF($Q341<=36,IF(R345<=($Q341-18),2,1),IF($Q341>36,IF(R345<=($Q341-36),3,2))))","v":1},{"$f":"IF($Q341<=18,IF(S345<=$Q341,1,0),IF($Q341<=36,IF(S345<=($Q341-18),2,1),IF($Q341>36,IF(S345<=($Q341-36),3,2))))","v":1},{"$f":"IF($Q341<=18,IF(T345<=$Q341,1,0),IF($Q341<=36,IF(T345<=($Q341-18),2,1),IF($Q341>36,IF(T345<=($Q341-36),3,2))))","v":1},{"$f":"IF($Q341<=18,IF(U345<=$Q341,1,0),IF($Q341<=36,IF(U345<=($Q341-18),2,1),IF($Q341>36,IF(U345<=($Q341-36),3,2))))","v":0},{"$f":"IF($Q341<=18,IF(V345<=$Q341,1,0),IF($Q341<=36,IF(V345<=($Q341-18),2,1),IF($Q341>36,IF(V345<=($Q341-36),3,2))))","v":0},{"$f":"IF($Q341<=18,IF(W345<=$Q341,1,0),IF($Q341<=36,IF(W345<=($Q341-18),2,1),IF($Q341>36,IF(W345<=($Q341-36),3,2))))","v":1},{"$f":"IF($Q341<=18,IF(X345<=$Q341,1,0),IF($Q341<=36,IF(X345<=($Q341-18),2,1),IF($Q341>36,IF(X345<=($Q341-36),3,2))))","v":1},{"$f":"IF($Q341<=18,IF(Y345<=$Q341,1,0),IF($Q341<=36,IF(Y345<=($Q341-18),2,1),IF($Q341>36,IF(Y345<=($Q341-36),3,2))))","v":1},{"$f":"SUM(Q346:Y346)","v":7},{"$f":"P346+Z346","v":13}]
[null,null,null,null,null,"Stroke play",{"$f":"G20","v":4},5,6,7,3,5,4,4,3,{"$f":"SUM(G347:O347)","v":41},{"$f":"Q20","v":7},5,3,4,4,5,3,6,5,{"$f":"SUM(Q347:Y347)","v":42},{"$f":"P347+Z347","v":83}]
[null,null,null,null,null,"Net Stableford",{"$f":"IF(G347-G344=-1,3+G346)+IF(G347-G344=0,2+G346)+IF(G347-G344=1,1+G346)+IF(G347-G344=2,G346)+IF(G347-G344=3,IF(G346-1>0,G346-1,0))+IF(G347-G344=4,IF(G346-2>0,G346-2,0))","v":3},{"$f":"IF(H347-H344=-1,3+H346)+IF(H347-H344=0,2+H346)+IF(H347-H344=1,1+H346)+IF(H347-H344=2,H346)+IF(H347-H344=3,IF(H346-1>0,H346-1,0))+IF(H347-H344=4,IF(H346-2>0,H346-2,0))","v":2},2,0,3,3,1,3,3,{"$f":"SUM(G348:O348)","v":20},{"$f":"IF(Q347-Q344=-1,3+Q346)+IF(Q347-Q344=0,2+Q346)+IF(Q347-Q344=1,1+Q346)+IF(Q347-Q344=2,Q346)+IF(Q347-Q344=3,IF(Q346-1>0,Q346-1,0))+IF(Q347-Q344=4,IF(Q346-2>0,Q346-2,0))","v":0},2,3,4,1,1,4,2,2,{"$f":"SUM(Q348:Y348)","v":19},{"$f":"P348+Z348","v":39}]
[null,null,null,null,null,"Score Brut",{"$f":"IF(G347-G344=-2,4)+IF(G347-G344=-1,3)+IF(G347-G344=0,2)+IF(G347-G344=1,1)+IF(G347-G344>2,0)","v":2},1,1,0,2,2,1,3,2,{"$f":"SUM(G349:O349)","v":14},{"$f":"IF(Q347-Q344=-2,4)+IF(Q347-Q344=-1,3)+IF(Q347-Q344=0,2)+IF(Q347-Q344=1,1)+IF(Q347-Q344>2,0)","v":0},1,2,3,1,1,3,1,1,{"$f":"SUM(Q349:Y349)","v":13},{"$f":"P349+Z349","v":27}]
[null,null,null,null,null,null,{"$f":"G347-G344","v":0},{"$f":"H347-H344","v":1},1,3,0,0,1,-1,0,null,{"$f":"Q347-Q344","v":3},1,0,-1,1,1,-1,1,1]
[]
[]
[null,null,null,null,null,"Statistiques scores",null,"Eagle & moins",null,null,null,{"$f":"COUNTIF(G350:Y350,\"<=-2\")","v":0},"Par",null,{"$f":"COUNTIF(G350:Y350,\"=0\")","v":5},"Double bogey",null,null,null,null,{"$f":"COUNTIF(G350:Y350,\"=2\")","v":0}]
[null,null,null,null,null,null,null,"Birdie",null,null,null,{"$f":"COUNTIF(G350:Y350,\"=-1\")","v":3},"Bogey",null,{"$f":"COUNTIF(G350:Y350,\"=1\")","v":8},"Triple bogey & plus",null,null,null,null,{"$f":"COUNTIF(G350:Y350,\">=3\")","v":2}]
[null,null,null,null,null,null,null,{"$f":"M353","v":"Par"},null,null,null,{"$f":"O353","v":5}]
[null,null,null,null,null,null,null,{"$f":"M354","v":"Bogey"},null,null,null,{"$f":"O354","v":8}]
[null,null,null,null,null,null,null,{"$f":"P353","v":"Double bogey"},null,null,null,{"$f":"U353","v":0}]
[null,null,null,null,null,null,null,{"$f":"P354","v":"Triple bogey & plus"},null,null,null,{"$f":"U354","v":2}]
[]
[]
[]
[]
[null,null,null,null,null,"Nom",{"$f":"C21","v":"NOTTIN"},null,null,null,null,"Slope",null,null,"SSS",null,"Coups reçus",null,null,null,null,null,null,null,null,"Date",{"$f":"$D$3","v":"2022-03-05"}]
[null,null,null,null,null,"Index",{"$f":"E21","v":31.9},null,null,null,null,{"$f":"$F$3","v":133},null,null,{"$f":"$G$3","v":68.599999999999994},null,{"$f":"ROUND((G364*(L364/113)+(O364-AA367)),0)","v":34}]
[]
[null,null,null,null,null,"Trou",1,2,3,4,5,6,7,8,9,"Aller",10,11,12,13,14,15,16,17,18,"Retour","Total"]
[null,null,null,null,null,"PAR",{"$f":"G$7","v":4},{"$f":"H$7","v":4},5,4,3,5,3,5,3,{"$f":"SUM(G367:O367)","v":36},{"$f":"Q$7","v":4},4,3,5,3,4,4,5,4,{"$f":"SUM(Q367:Y367)","v":36},{"$f":"SUM(P367+Z367)","v":72}]
[null,null,null,null,null,"HCP trous",{"$f":"G$8","v":4},{"$f":"H$8","v":8},12,14,2,10,18,16,6,null,{"$f":"Q$8","v":1},9,11,5,17,15,3,13,7]
[null,null,null,null,null,"Coups reçus",{"$f":"IF($Q364<=18,IF(G368<=$Q364,1,0),IF($Q364<=36,IF(G368<=($Q364-18),2,1),IF($Q364>36,IF(G368<=($Q364-36),3,2))))","v":2},{"$f":"IF($Q364<=18,IF(H368<=$Q364,1,0),IF($Q364<=36,IF(H368<=($Q364-18),2,1),IF($Q364>36,IF(H368<=($Q364-36),3,2))))","v":2},{"$f":"IF($Q364<=18,IF(I368<=$Q364,1,0),IF($Q364<=36,IF(I368<=($Q364-18),2,1),IF($Q364>36,IF(I368<=($Q364-36),3,2))))","v":2},{"$f":"IF($Q364<=18,IF(J368<=$Q364,1,0),IF($Q364<=36,IF(J368<=($Q364-18),2,1),IF($Q364>36,IF(J368<=($Q364-36),3,2))))","v":2},{"$f":"IF($Q364<=18,IF(K368<=$Q364,1,0),IF($Q364<=36,IF(K368<=($Q364-18),2,1),IF($Q364>36,IF(K368<=($Q364-36),3,2))))","v":2},{"$f":"IF($Q364<=18,IF(L368<=$Q364,1,0),IF($Q364<=36,IF(L368<=($Q364-18),2,1),IF($Q364>36,IF(L368<=($Q364-36),3,2))))","v":2},{"$f":"IF($Q364<=18,IF(M368<=$Q364,1,0),IF($Q364<=36,IF(M368<=($Q364-18),2,1),IF($Q364>36,IF(M368<=($Q364-36),3,2))))","v":1},{"$f":"IF($Q364<=18,IF(N368<=$Q364,1,0),IF($Q364<=36,IF(N368<=($Q364-18),2,1),IF($Q364>36,IF(N368<=($Q364-36),3,2))))","v":2},{"$f":"IF($Q364<=18,IF(O368<=$Q364,1,0),IF($Q364<=36,IF(O368<=($Q364-18),2,1),IF($Q364>36,IF(O368<=($Q364-36),3,2))))","v":2},{"$f":"SUM(G369:O369)","v":17},{"$f":"IF($Q364<=18,IF(Q368<=$Q364,1,0),IF($Q364<=36,IF(Q368<=($Q364-18),2,1),IF($Q364>36,IF(Q368<=($Q364-36),3,2))))","v":2},{"$f":"IF($Q364<=18,IF(R368<=$Q364,1,0),IF($Q364<=36,IF(R368<=($Q364-18),2,1),IF($Q364>36,IF(R368<=($Q364-36),3,2))))","v":2},{"$f":"IF($Q364<=18,IF(S368<=$Q364,1,0),IF($Q364<=36,IF(S368<=($Q364-18),2,1),IF($Q364>36,IF(S368<=($Q364-36),3,2))))","v":2},{"$f":"IF($Q364<=18,IF(T368<=$Q364,1,0),IF($Q364<=36,IF(T368<=($Q364-18),2,1),IF($Q364>36,IF(T368<=($Q364-36),3,2))))","v":2},{"$f":"IF($Q364<=18,IF(U368<=$Q364,1,0),IF($Q364<=36,IF(U368<=($Q364-18),2,1),IF($Q364>36,IF(U368<=($Q364-36),3,2))))","v":1},{"$f":"IF($Q364<=18,IF(V368<=$Q364,1,0),IF($Q364<=36,IF(V368<=($Q364-18),2,1),IF($Q364>36,IF(V368<=($Q364-36),3,2))))","v":2},{"$f":"IF($Q364<=18,IF(W368<=$Q364,1,0),IF($Q364<=36,IF(W368<=($Q364-18),2,1),IF($Q364>36,IF(W368<=($Q364-36),3,2))))","v":2},{"$f":"IF($Q364<=18,IF(X368<=$Q364,1,0),IF($Q364<=36,IF(X368<=($Q364-18),2,1),IF($Q364>36,IF(X368<=($Q364-36),3,2))))","v":2},{"$f":"IF($Q364<=18,IF(Y368<=$Q364,1,0),IF($Q364<=36,IF(Y368<=($Q364-18),2,1),IF($Q364>36,IF(Y368<=($Q364-36),3,2))))","v":2},{"$f":"SUM(Q369:Y369)","v":17},{"$f":"P369+Z369","v":34}]
[null,null,null,null,null,"Stroke play",{"$f":"G21","v":6},6,6,6,4,5,3,7,5,{"$f":"SUM(G370:O370)","v":48},{"$f":"Q21","v":7},7,6,8,3,6,5,7,6,{"$f":"SUM(Q370:Y370)","v":55},{"$f":"P370+Z370","v":103}]
[null,null,null,null,null,"Net Stableford",{"$f":"IF(G370-G367=-1,3+G369)+IF(G370-G367=0,2+G369)+IF(G370-G367=1,1+G369)+IF(G370-G367=2,G369)+IF(G370-G367=3,IF(G369-1>0,G369-1,0))+IF(G370-G367=4,IF(G369-2>0,G369-2,0))","v":2},{"$f":"IF(H370-H367=-1,3+H369)+IF(H370-H367=0,2+H369)+IF(H370-H367=1,1+H369)+IF(H370-H367=2,H369)+IF(H370-H367=3,IF(H369-1>0,H369-1,0))+IF(H370-H367=4,IF(H369-2>0,H369-2,0))","v":2},3,2,3,4,3,2,2,{"$f":"SUM(G371:O371)","v":23},{"$f":"IF(Q370-Q367=-1,3+Q369)+IF(Q370-Q367=0,2+Q369)+IF(Q370-Q367=1,1+Q369)+IF(Q370-Q367=2,Q369)+IF(Q370-Q367=3,IF(Q369-1>0,Q369-1,0))+IF(Q370-Q367=4,IF(Q369-2>0,Q369-2,0))","v":1},1,1,1,3,2,3,2,2,{"$f":"SUM(Q371:Y371)","v":16},{"$f":"P371+Z371","v":39}]
[null,null,null,null,null,"Score Brut",{"$f":"IF(G370-G367=-2,4)+IF(G370-G367=-1,3)+IF(G370-G367=0,2)+IF(G370-G367=1,1)+IF(G370-G367>2,0)","v":0},0,1,0,1,2,2,0,0,{"$f":"SUM(G372:O372)","v":6},{"$f":"IF(Q370-Q367=-2,4)+IF(Q370-Q367=-1,3)+IF(Q370-Q367=0,2)+IF(Q370-Q367=1,1)+IF(Q370-Q367>2,0)","v":0},0,0,0,2,0,1,0,0,{"$f":"SUM(Q372:Y372)","v":3},{"$f":"P372+Z372","v":9}]
[null,null,null,null,null,null,{"$f":"G370-G367","v":2},{"$f":"H370-H367","v":2},1,2,1,0,0,2,2,null,{"$f":"Q370-Q367","v":3},3,3,3,0,2,1,2,2]
[]
[]
[null,null,null,null,null,"Statistiques scores",null,"Eagle & moins",null,null,null,{"$f":"COUNTIF(G373:Y373,\"<=-2\")","v":0},"Par",null,{"$f":"COUNTIF(G373:Y373,\"=0\")","v":3},"Double bogey",null,null,null,null,{"$f":"COUNTIF(G373:Y373,\"=2\")","v":8}]
[null,null,null,null,null,null,null,"Birdie",null,null,null,{"$f":"COUNTIF(G373:Y373,\"=-1\")","v":0},"Bogey",null,{"$f":"COUNTIF(G373:Y373,\"=1\")","v":3},"Triple bogey & plus",null,null,null,null,{"$f":"COUNTIF(G373:Y373,\">=3\")","v":4}]
[null,null,null,null,null,null,null,{"$f":"M376","v":"Par"},null,null,null,{"$f":"O376","v":3}]
[null,null,null,null,null,null,null,{"$f":"M377","v":"Bogey"},null,null,null,{"$f":"O377","v":3}]
[null,null,null,null,null,null,null,{"$f":"P376","v":"Double bogey"},null,null,null,{"$f":"U376","v":8}]
[null,null,null,null,null,null,null,{"$f":"P377","v":"Triple bogey & plus"},null,null,null,{"$f":"U377","v":4}]
[]
[]
[]
[]
[null,null,null,null,null,"Nom",{"$f":"C22","v":"ROBERT"},null,null,null,null,"Slope",null,null,"SSS",null,"Coups reçus",null,null,null,null,null,null,null,null,"Date",{"$f":"$D$3","v":"2022-03-05"}]
[null,null,null,null,null,"Index",{"$f":"E22","v":25},null,null,null,null,{"$f":"$F$3","v":133},null,null,{"$f":"$G$3","v":68.599999999999994},null,{"$f":"ROUND((G387*(L387/113)+(O387-AA390)),0)","v":26}]
[]
[null,null,null,null,null,"Trou",1,2,3,4,5,6,7,8,9,"Aller",10,11,12,13,14,15,16,17,18,"Retour","Total"]
[null,null,null,null,null,"PAR",{"$f":"G$7","v":4},{"$f":"H$7","v":4},5,4,3,5,3,5,3,{"$f":"SUM(G390:O390)","v":36},{"$f":"Q$7","v":4},4,3,5,3,4,4,5,4,{"$f":"SUM(Q390:Y390)","v":36},{"$f":"SUM(P390+Z390)","v":72}]
[null,null,null,null,null,"HCP trous",{"$f":"G$8","v":4},{"$f":"H$8","v":8},12,14,2,10,18,16,6,null,{"$f":"Q$8","v":1},9,11,5,17,15,3,13,7]
[null,null,null,null,null,"Coups reçus",{"$f":"IF($Q387<=18,IF(G391<=$Q387,1,0),IF($Q387<=36,IF(G391<=($Q387-18),2,1),IF($Q387>36,IF(G391<=($Q387-36),3,2))))","v":2},{"$f":"IF($Q387<=18,IF(H391<=$Q387,1,0),IF($Q387<=36,IF(H391<=($Q387-18),2,1),IF($Q387>36,IF(H391<=($Q387-36),3,2))))","v":2},{"$f":"IF($Q387<=18,IF(I391<=$Q387,1,0),IF($Q387<=36,IF(I391<=($Q387-18),2,1),IF($Q387>36,IF(I391<=($Q387-36),3,2))))","v":1},{"$f":"IF($Q387<=18,IF(J391<=$Q387,1,0),IF($Q387<=36,IF(J391<=($Q387-18),2,1),IF($Q387>36,IF(J391<=($Q387-36),3,2))))","v":1},{"$f":"IF($Q387<=18,IF(K391<=$Q387,1,0),IF($Q387<=36,IF(K391<=($Q387-18),2,1),IF($Q387>36,IF(K391<=($Q387-36),3,2))))","v":2},{"$f":"IF($Q387<=18,IF(L391<=$Q387,1,0),IF($Q387<=36,IF(L391<=($Q387-18),2,1),IF($Q387>36,IF(L391<=($Q387-36),3,2))))","v":1},{"$f":"IF($Q387<=18,IF(M391<=$Q387,1,0),IF($Q387<=36,IF(M391<=($Q387-18),2,1),IF($Q387>36,IF(M391<=($Q387-36),3,2))))","v":1},{"$f":"IF($Q387<=18,IF(N391<=$Q387,1,0),IF($Q387<=36,IF(N391<=($Q387-18),2,1),IF($Q387>36,IF(N391<=($Q387-36),3,2))))","v":1},{"$f":"IF($Q387<=18,IF(O391<=$Q387,1,0),IF($Q387<=36,IF(O391<=($Q387-18),2,1),IF($Q387>36,IF(O391<=($Q387-36),3,2))))","v":2},{"$f":"SUM(G392:O392)","v":13},{"$f":"IF($Q387<=18,IF(Q391<=$Q387,1,0),IF($Q387<=36,IF(Q391<=($Q387-18),2,1),IF($Q387>36,IF(Q391<=($Q387-36),3,2))))","v":2},{"$f":"IF($Q387<=18,IF(R391<=$Q387,1,0),IF($Q387<=36,IF(R391<=($Q387-18),2,1),IF($Q387>36,IF(R391<=($Q387-36),3,2))))","v":1},{"$f":"IF($Q387<=18,IF(S391<=$Q387,1,0),IF($Q387<=36,IF(S391<=($Q387-18),2,1),IF($Q387>36,IF(S391<=($Q387-36),3,2))))","v":1},{"$f":"IF($Q387<=18,IF(T391<=$Q387,1,0),IF($Q387<=36,IF(T391<=($Q387-18),2,1),IF($Q387>36,IF(T391<=($Q387-36),3,2))))","v":2},{"$f":"IF($Q387<=18,IF(U391<=$Q387,1,0),IF($Q387<=36,IF(U391<=($Q387-18),2,1),IF($Q387>36,IF(U391<=($Q387-36),3,2))))","v":1},{"$f":"IF($Q387<=18,IF(V391<=$Q387,1,0),IF($Q387<=36,IF(V391<=($Q387-18),2,1),IF($Q387>36,IF(V391<=($Q387-36),3,2))))","v":1},{"$f":"IF($Q387<=18,IF(W391<=$Q387,1,0),IF($Q387<=36,IF(W391<=($Q387-18),2,1),IF($Q387>36,IF(W391<=($Q387-36),3,2))))","v":2},{"$f":"IF($Q387<=18,IF(X391<=$Q387,1,0),IF($Q387<=36,IF(X391<=($Q387-18),2,1),IF($Q387>36,IF(X391<=($Q387-36),3,2))))","v":1},{"$f":"IF($Q387<=18,IF(Y391<=$Q387,1,0),IF($Q387<=36,IF(Y391<=($Q387-18),2,1),IF($Q387>36,IF(Y391<=($Q387-36),3,2))))","v":2},{"$f":"SUM(Q392:Y392)","v":13},{"$f":"P392+Z392","v":26}]
[null,null,null,null,null,"Stroke play",{"$f":"G22","v":6},6,6,6,4,7,3,8,3,{"$f":"SUM(G393:O393)","v":49},{"$f":"Q22","v":5},6,3,5,7,7,5,8,5,{"$f":"SUM(Q393:Y393)","v":51},{"$f":"P393+Z393","v":100}]
[null,null,null,null,null,"Net Stableford",{"$f":"IF(G393-G390=-1,3+G392)+IF(G393-G390=0,2+G392)+IF(G393-G390=1,1+G392)+IF(G393-G390=2,G392)+IF(G393-G390=3,IF(G392-1>0,G392-1,0))+IF(G393-G390=4,IF(G392-2>0,G392-2,0))","v":2},{"$f":"IF(H393-H390=-1,3+H392)+IF(H393-H390=0,2+H392)+IF(H393-H390=1,1+H392)+IF(H393-H390=2,H392)+IF(H393-H390=3,IF(H392-1>0,H392-1,0))+IF(H393-H390=4,IF(H392-2>0,H392-2,0))","v":2},2,1,3,1,3,0,4,{"$f":"SUM(G394:O394)","v":18},{"$f":"IF(Q393-Q390=-1,3+Q392)+IF(Q393-Q390=0,2+Q392)+IF(Q393-Q390=1,1+Q392)+IF(Q393-Q390=2,Q392)+IF(Q393-Q390=3,IF(Q392-1>0,Q392-1,0))+IF(Q393-Q390=4,IF(Q392-2>0,Q392-2,0))","v":3},1,3,4,0,0,3,0,3,{"$f":"SUM(Q394:Y394)","v":17},{"$f":"P394+Z394","v":35}]
[null,null,null,null,null,"Score Brut",{"$f":"IF(G393-G390=-2,4)+IF(G393-G390=-1,3)+IF(G393-G390=0,2)+IF(G393-G390=1,1)+IF(G393-G390>2,0)","v":0},0,1,0,1,0,2,0,2,{"$f":"SUM(G395:O395)","v":6},{"$f":"IF(Q393-Q390=-2,4)+IF(Q393-Q390=-1,3)+IF(Q393-Q390=0,2)+IF(Q393-Q390=1,1)+IF(Q393-Q390>2,0)","v":1},0,2,2,0,0,1,0,1,{"$f":"SUM(Q395:Y395)","v":7},{"$f":"P395+Z395","v":13}]
[null,null,null,null,null,null,{"$f":"G393-G390","v":2},{"$f":"H393-H390","v":2},1,2,1,2,0,3,0,null,{"$f":"Q393-Q390","v":1},2,0,0,4,3,1,3,1]
[]
[]
[null,null,null,null,null,"Statistiques scores",null,"Eagle & moins",null,null,null,{"$f":"COUNTIF(G396:Y396,\"<=-2\")","v":0},"Par",null,{"$f":"COUNTIF(G396:Y396,\"=0\")","v":4},"Double bogey",null,null,null,null,{"$f":"COUNTIF(G396:Y396,\"=2\")","v":5}]
[null,null,null,null,null,null,null,"Birdie",null,null,null,{"$f":"COUNTIF(G396:Y396,\"=-1\")","v":0},"Bogey",null,{"$f":"COUNTIF(G396:Y396,\"=1\")","v":5},"Triple bogey & plus",null,null,null,null,{"$f":"COUNTIF(G396:Y396,\">=3\")","v":4}]
[null,null,null,null,null,null,null,{"$f":"M399","v":"Par"},null,null,null,{"$f":"O399","v":4}]
[null,null,null,null,null,null,null,{"$f":"M400","v":"Bogey"},null,null,null,{"$f":"O400","v":5}]
[null,null,null,null,null,null,null,{"$f":"P399","v":"Double bogey"},null,null,null,{"$f":"U399","v":5}]
[null,null,null,null,null,null,null,{"$f":"P400","v":"Triple bogey & plus"},null,null,null,{"$f":"U400","v":4}]
[]
[]
[]
[]
[null,null,null,null,null,"Nom",{"$f":"C23","v":"RONDEL"},null,null,null,null,"Slope",null,null,"SSS",null,"Coups reçus",null,null,null,null,null,null,null,null,"Date",{"$f":"$D$3","v":"2022-03-05"}]
[null,null,null,null,null,"Index",{"$f":"E23","v":7.2},null,null,null,null,{"$f":"$F$3","v":133},null,null,{"$f":"$G$3","v":68.599999999999994},null,{"$f":"ROUND((G410*(L410/113)+(O410-AA413)),0)","v":5}]
[]
[null,null,null,null,null,"Trou",1,2,3,4,5,6,7,8,9,"Aller",10,11,12,13,14,15,16,17,18,"Retour","Total"]
[null,null,null,null,null,"PAR",{"$f":"G$7","v":4},{"$f":"H$7","v":4},5,4,3,5,3,5,3,{"$f":"SUM(G413:O413)","v":36},{"$f":"Q$7","v":4},4,3,5,3,4,4,5,4,{"$f":"SUM(Q413:Y413)","v":36},{"$f":"SUM(P413+Z413)","v":72}]
[null,null,null,null,null,"HCP trous",{"$f":"G$8","v":4},{"$f":"H$8","v":8},12,14,2,10,18,16,6,null,{"$f":"Q$8","v":1},9,11,5,17,15,3,13,7]
[null,null,null,null,null,"Coups reçus",{"$f":"IF($Q410<=18,IF(G414<=$Q410,1,0),IF($Q410<=36,IF(G414<=($Q410-18),2,1),IF($Q410>36,IF(G414<=($Q410-36),3,2))))","v":1},{"$f":"IF($Q410<=18,IF(H414<=$Q410,1,0),IF($Q410<=36,IF(H414<=($Q410-18),2,1),IF($Q410>36,IF(H414<=($Q410-36),3,2))))","v":0},{"$f":"IF($Q410<=18,IF(I414<=$Q410,1,0),IF($Q410<=36,IF(I414<=($Q410-18),2,1),IF($Q410>36,IF(I414<=($Q410-36),3,2))))","v":0},{"$f":"IF($Q410<=18,IF(J414<=$Q410,1,0),IF($Q410<=36,IF(J414<=($Q410-18),2,1),IF($Q410>36,IF(J414<=($Q410-36),3,2))))","v":0},{"$f":"IF($Q410<=18,IF(K414<=$Q410,1,0),IF($Q410<=36,IF(K414<=($Q410-18),2,1),IF($Q410>36,IF(K414<=($Q410-36),3,2))))","v":1},{"$f":"IF($Q410<=18,IF(L414<=$Q410,1,0),IF($Q410<=36,IF(L414<=($Q410-18),2,1),IF($Q410>36,IF(L414<=($Q410-36),3,2))))","v":0},{"$f":"IF($Q410<=18,IF(M414<=$Q410,1,0),IF($Q410<=36,IF(M414<=($Q410-18),2,1),IF($Q410>36,IF(M414<=($Q410-36),3,2))))","v":0},{"$f":"IF($Q410<=18,IF(N414<=$Q410,1,0),IF($Q410<=36,IF(N414<=($Q410-18),2,1),IF($Q410>36,IF(N414<=($Q410-36),3,2))))","v":0},{"$f":"IF($Q410<=18,IF(O414<=$Q410,1,0),IF($Q410<=36,IF(O414<=($Q410-18),2,1),IF($Q410>36,IF(O414<=($Q410-36),3,2))))","v":0},{"$f":"SUM(G415:O415)","v":2},{"$f":"IF($Q410<=18,IF(Q414<=$Q410,1,0),IF($Q410<=36,IF(Q414<=($Q410-18),2,1),IF($Q410>36,IF(Q414<=($Q410-36),3,2))))","v":1},{"$f":"IF($Q410<=18,IF(R414<=$Q410,1,0),IF($Q410<=36,IF(R414<=($Q410-18),2,1),IF($Q410>36,IF(R414<=($Q410-36),3,2))))","v":0},{"$f":"IF($Q410<=18,IF(S414<=$Q410,1,0),IF($Q410<=36,IF(S414<=($Q410-18),2,1),IF($Q410>36,IF(S414<=($Q410-36),3,2))))","v":0},{"$f":"IF($Q410<=18,IF(T414<=$Q410,1,0),IF($Q410<=36,IF(T414<=($Q410-18),2,1),IF($Q410>36,IF(T414<=($Q410-36),3,2))))","v":1},{"$f":"IF($Q410<=18,IF(U414<=$Q410,1,0),IF($Q410<=36,IF(U414<=($Q410-18),2,1),IF($Q410>36,IF(U414<=($Q410-36),3,2))))","v":0},{"$f":"IF($Q410<=18,IF(V414<=$Q410,1,0),IF($Q410<=36,IF(V414<=($Q410-18),2,1),IF($Q410>36,IF(V414<=($Q410-36),3,2))))","v":0},{"$f":"IF($Q410<=18,IF(W414<=$Q410,1,0),IF($Q410<=36,IF(W414<=($Q410-18),2,1),IF($Q410>36,IF(W414<=($Q410-36),3,2))))","v":1},{"$f":"IF($Q410<=18,IF(X414<=$Q410,1,0),IF($Q410<=36,IF(X414<=($Q410-18),2,1),IF($Q410>36,IF(X414<=($Q410-36),3,2))))","v":0},{"$f":"IF($Q410<=18,IF(Y414<=$Q410,1,0),IF($Q410<=36,IF(Y414<=($Q410-18),2,1),IF($Q410>36,IF(Y414<=($Q410-36),3,2))))","v":0},{"$f":"SUM(Q415:Y415)","v":3},{"$f":"P415+Z415","v":5}]
[null,null,null,null,null,"Stroke play",{"$f":"G23","v":4},4,7,4,4,5,2,5,3,{"$f":"SUM(G416:O416)","v":38},{"$f":"Q23","v":5},5,6,5,3,5,4,4,6,{"$f":"SUM(Q416:Y416)","v":43},{"$f":"P416+Z416","v":81}]
[null,null,null,null,null,"Net Stableford",{"$f":"IF(G416-G413=-1,3+G415)+IF(G416-G413=0,2+G415)+IF(G416-G413=1,1+G415)+IF(G416-G413=2,G415)+IF(G416-G413=3,IF(G415-1>0,G415-1,0))+IF(G416-G413=4,IF(G415-2>0,G415-2,0))","v":3},{"$f":"IF(H416-H413=-1,3+H415)+IF(H416-H413=0,2+H415)+IF(H416-H413=1,1+H415)+IF(H416-H413=2,H415)+IF(H416-H413=3,IF(H415-1>0,H415-1,0))+IF(H416-H413=4,IF(H415-2>0,H415-2,0))","v":2},0,2,2,2,3,2,2,{"$f":"SUM(G417:O417)","v":18},{"$f":"IF(Q416-Q413=-1,3+Q415)+IF(Q416-Q413=0,2+Q415)+IF(Q416-Q413=1,1+Q415)+IF(Q416-Q413=2,Q415)+IF(Q416-Q413=3,IF(Q415-1>0,Q415-1,0))+IF(Q416-Q413=4,IF(Q415-2>0,Q415-2,0))","v":2},1,0,3,2,1,3,3,0,{"$f":"SUM(Q417:Y417)","v":15},{"$f":"P417+Z417","v":33}]
[null,null,null,null,null,"Score Brut",{"$f":"IF(G416-G413=-2,4)+IF(G416-G413=-1,3)+IF(G416-G413=0,2)+IF(G416-G413=1,1)+IF(G416-G413>2,0)","v":2},2,0,2,1,2,3,2,2,{"$f":"SUM(G418:O418)","v":16},{"$f":"IF(Q416-Q413=-2,4)+IF(Q416-Q413=-1,3)+IF(Q416-Q413=0,2)+IF(Q416-Q413=1,1)+IF(Q416-Q413>2,0)","v":1},1,0,2,2,1,2,3,0,{"$f":"SUM(Q418:Y418)","v":12},{"$f":"P418+Z418","v":28}]
[null,null,null,null,null,null,{"$f":"G416-G413","v":0},{"$f":"H416-H413","v":0},2,0,1,0,-1,0,0,null,{"$f":"Q416-Q413","v":1},1,3,0,0,1,0,-1,2]
[]
[]
[null,null,null,null,null,"Statistiques scores",null,"Eagle & moins",null,null,null,{"$f":"COUNTIF(G419:Y419,\"<=-2\")","v":0},"Par",null,{"$f":"COUNTIF(G419:Y419,\"=0\")","v":9},"Double bogey",null,null,null,null,{"$f":"COUNTIF(G419:Y419,\"=2\")","v":2}]
[null,null,null,null,null,null,null,"Birdie",null,null,null,{"$f":"COUNTIF(G419:Y419,\"=-1\")","v":2},"Bogey",null,{"$f":"COUNTIF(G419:Y419,\"=1\")","v":4},"Triple bogey & plus",null,null,null,null,{"$f":"COUNTIF(G419:Y419,\">=3\")","v":1}]
[null,null,null,null,null,null,null,{"$f":"M422","v":"Par"},null,null,null,{"$f":"O422","v":9}]
[null,null,null,null,null,null,null,{"$f":"M423","v":"Bogey"},null,null,null,{"$f":"O423","v":4}]
[null,null,null,null,null,null,null,{"$f":"P422","v":"Double bogey"},null,null,null,{"$f":"U422","v":2}]
[null,null,null,null,null,null,null,{"$f":"P423","v":"Triple bogey & plus"},null,null,null,{"$f":"U423","v":1}]
[]
[]
[]
[]
[null,null,null,null,null,"Nom",{"$f":"C24","v":"VERRIER"},null,null,null,null,"Slope",null,null,"SSS",null,"Coups reçus",null,null,null,null,null,null,null,null,"Date",{"$f":"$D$3","v":"2022-03-05"}]
[null,null,null,null,null,"Index",{"$f":"E24","v":16.600000000000001},null,null,null,null,{"$f":"$F$3","v":133},null,null,{"$f":"$G$3","v":68.599999999999994},null,{"$f":"ROUND((G433*(L433/113)+(O433-AA436)),0)","v":16}]
[]
[null,null,null,null,null,"Trou",1,2,3,4,5,6,7,8,9,"Aller",10,11,12,13,14,15,16,17,18,"Retour","Total"]
[null,null,null,null,null,"PAR",{"$f":"G$7","v":4},{"$f":"H$7","v":4},5,4,3,5,3,5,3,{"$f":"SUM(G436:O436)","v":36},{"$f":"Q$7","v":4},4,3,5,3,4,4,5,4,{"$f":"SUM(Q436:Y436)","v":36},{"$f":"SUM(P436+Z436)","v":72}]
[null,null,null,null,null,"HCP trous",{"$f":"G$8","v":4},{"$f":"H$8","v":8},12,14,2,10,18,16,6,null,{"$f":"Q$8","v":1},9,11,5,17,15,3,13,7]
[null,null,null,null,null,"Coups reçus",{"$f":"IF($Q433<=18,IF(G437<=$Q433,1,0),IF($Q433<=36,IF(G437<=($Q433-18),2,1),IF($Q433>36,IF(G437<=($Q433-36),3,2))))","v":1},{"$f":"IF($Q433<=18,IF(H437<=$Q433,1,0),IF($Q433<=36,IF(H437<=($Q433-18),2,1),IF($Q433>36,IF(H437<=($Q433-36),3,2))))","v":1},{"$f":"IF($Q433<=18,IF(I437<=$Q433,1,0),IF($Q433<=36,IF(I437<=($Q433-18),2,1),IF($Q433>36,IF(I437<=($Q433-36),3,2))))","v":1},{"$f":"IF($Q433<=18,IF(J437<=$Q433,1,0),IF($Q433<=36,IF(J437<=($Q433-18),2,1),IF($Q433>36,IF(J437<=($Q433-36),3,2))))","v":1},{"$f":"IF($Q433<=18,IF(K437<=$Q433,1,0),IF($Q433<=36,IF(K437<=($Q433-18),2,1),IF($Q433>36,IF(K437<=($Q433-36),3,2))))","v":1},{"$f":"IF($Q433<=18,IF(L437<=$Q433,1,0),IF($Q433<=36,IF(L437<=($Q433-18),2,1),IF($Q433>36,IF(L437<=($Q433-36),3,2))))","v":1},{"$f":"IF($Q433<=18,IF(M437<=$Q433,1,0),IF($Q433<=36,IF(M437<=($Q433-18),2,1),IF($Q433>36,IF(M437<=($Q433-36),3,2))))","v":0},{"$f":"IF($Q433<=18,IF(N437<=$Q433,1,0),IF($Q433<=36,IF(N437<=($Q433-18),2,1),IF($Q433>36,IF(N437<=($Q433-36),3,2))))","v":1},{"$f":"IF($Q433<=18,IF(O437<=$Q433,1,0),IF($Q433<=36,IF(O437<=($Q433-18),2,1),IF($Q433>36,IF(O437<=($Q433-36),3,2))))","v":1},{"$f":"SUM(G438:O438)","v":8},{"$f":"IF($Q433<=18,IF(Q437<=$Q433,1,0),IF($Q433<=36,IF(Q437<=($Q433-18),2,1),IF($Q433>36,IF(Q437<=($Q433-36),3,2))))","v":1},{"$f":"IF($Q433<=18,IF(R437<=$Q433,1,0),IF($Q433<=36,IF(R437<=($Q433-18),2,1),IF($Q433>36,IF(R437<=($Q433-36),3,2))))","v":1},{"$f":"IF($Q433<=18,IF(S437<=$Q433,1,0),IF($Q433<=36,IF(S437<=($Q433-18),2,1),IF($Q433>36,IF(S437<=($Q433-36),3,2))))","v":1},{"$f":"IF($Q433<=18,IF(T437<=$Q433,1,0),IF($Q433<=36,IF(T437<=($Q433-18),2,1),IF($Q433>36,IF(T437<=($Q433-36),3,2))))","v":1},{"$f":"IF($Q433<=18,IF(U437<=$Q433,1,0),IF($Q433<=36,IF(U437<=($Q433-18),2,1),IF($Q433>36,IF(U437<=($Q433-36),3,2))))","v":0},{"$f":"IF($Q433<=18,IF(V437<=$Q433,1,0),IF($Q433<=36,IF(V437<=($Q433-18),2,1),IF($Q433>36,IF(V437<=($Q433-36),3,2))))","v":1},{"$f":"IF($Q433<=18,IF(W437<=$Q433,1,0),IF($Q433<=36,IF(W437<=($Q433-18),2,1),IF($Q433>36,IF(W437<=($Q433-36),3,2))))","v":1},{"$f":"IF($Q433<=18,IF(X437<=$Q433,1,0),IF($Q433<=36,IF(X437<=($Q433-18),2,1),IF($Q433>36,IF(X437<=($Q433-36),3,2))))","v":1},{"$f":"IF($Q433<=18,IF(Y437<=$Q433,1,0),IF($Q433<=36,IF(Y437<=($Q433-18),2,1),IF($Q433>36,IF(Y437<=($Q433-36),3,2))))","v":1},{"$f":"SUM(Q438:Y438)","v":8},{"$f":"P438+Z438","v":16}]
[null,null,null,null,null,"Stroke play",{"$f":"G24","v":5},5,7,8,4,5,3,6,4,{"$f":"SUM(G439:O439)","v":47},{"$f":"Q24","v":5},5,7,6,3,5,8,6,6,{"$f":"SUM(Q439:Y439)","v":51},{"$f":"P439+Z439","v":98}]
[null,null,null,null,null,"Net Stableford",{"$f":"IF(G439-G436=-1,3+G438)+IF(G439-G436=0,2+G438)+IF(G439-G436=1,1+G438)+IF(G439-G436=2,G438)+IF(G439-G436=3,IF(G438-1>0,G438-1,0))+IF(G439-G436=4,IF(G438-2>0,G438-2,0))","v":2},{"$f":"IF(H439-H436=-1,3+H438)+IF(H439-H436=0,2+H438)+IF(H439-H436=1,1+H438)+IF(H439-H436=2,H438)+IF(H439-H436=3,IF(H438-1>0,H438-1,0))+IF(H439-H436=4,IF(H438-2>0,H438-2,0))","v":2},1,0,2,3,2,2,2,{"$f":"SUM(G440:O440)","v":16},{"$f":"IF(Q439-Q436=-1,3+Q438)+IF(Q439-Q436=0,2+Q438)+IF(Q439-Q436=1,1+Q438)+IF(Q439-Q436=2,Q438)+IF(Q439-Q436=3,IF(Q438-1>0,Q438-1,0))+IF(Q439-Q436=4,IF(Q438-2>0,Q438-2,0))","v":2},2,0,2,2,2,0,2,1,{"$f":"SUM(Q440:Y440)","v":13},{"$f":"P440+Z440","v":29}]
[null,null,null,null,null,"Score Brut",{"$f":"IF(G439-G436=-2,4)+IF(G439-G436=-1,3)+IF(G439-G436=0,2)+IF(G439-G436=1,1)+IF(G439-G436>2,0)","v":1},1,0,0,1,2,2,1,1,{"$f":"SUM(G441:O441)","v":9},{"$f":"IF(Q439-Q436=-2,4)+IF(Q439-Q436=-1,3)+IF(Q439-Q436=0,2)+IF(Q439-Q436=1,1)+IF(Q439-Q436>2,0)","v":1},1,0,1,2,1,0,1,0,{"$f":"SUM(Q441:Y441)","v":7},{"$f":"P441+Z441","v":16}]
[null,null,null,null,null,null,{"$f":"G439-G436","v":1},{"$f":"H439-H436","v":1},2,4,1,0,0,1,1,null,{"$f":"Q439-Q436","v":1},1,4,1,0,1,4,1,2]
[]
[]
[null,null,null,null,null,"Statistiques scores",null,"Eagle & moins",null,null,null,{"$f":"COUNTIF(G442:Y442,\"<=-2\")","v":0},"Par",null,{"$f":"COUNTIF(G442:Y442,\"=0\")","v":3},"Double bogey",null,null,null,null,{"$f":"COUNTIF(G442:Y442,\"=2\")","v":2}]
[null,null,null,null,null,null,null,"Birdie",null,null,null,{"$f":"COUNTIF(G442:Y442,\"=-1\")","v":0},"Bogey",null,{"$f":"COUNTIF(G442:Y442,\"=1\")","v":10},"Triple bogey & plus",null,null,null,null,{"$f":"COUNTIF(G442:Y442,\">=3\")","v":3}]
[null,null,null,null,null,null,null,{"$f":"M445","v":"Par"},null,null,null,{"$f":"O445","v":3}]
[null,null,null,null,null,null,null,{"$f":"M446","v":"Bogey"},null,null,null,{"$f":"O446","v":10}]
[null,null,null,null,null,null,null,{"$f":"P445","v":"Double bogey"},null,null,null,{"$f":"U445","v":2}]
[null,null,null,null,null,null,null,{"$f":"P446","v":"Triple bogey & plus"},null,null,null,{"$f":"U446","v":3}]
[]
[]
[]
[]
[null,null,null,null,null,"Nom",{"$f":"C25","v":"VICENTE"},null,null,null,null,"Slope",null,null,"SSS",null,"Coups reçus",null,null,null,null,null,null,null,null,"Date",{"$f":"$D$3","v":"2022-03-05"}]
[null,null,null,null,null,"Index",{"$f":"E25","v":54},null,null,null,null,{"$f":"$F$3","v":133},null,null,{"$f":"$G$3","v":68.599999999999994},null,{"$f":"ROUND((G456*(L456/113)+(O456-AA459)),0)","v":60}]
[]
[null,null,null,null,null,"Trou",1,2,3,4,5,6,7,8,9,"Aller",10,11,12,13,14,15,16,17,18,"Retour","Total"]
[null,null,null,null,null,"PAR",{"$f":"G$7","v":4},{"$f":"H$7","v":4},5,4,3,5,3,5,3,{"$f":"SUM(G459:O459)","v":36},{"$f":"Q$7","v":4},4,3,5,3,4,4,5,4,{"$f":"SUM(Q459:Y459)","v":36},{"$f":"SUM(P459+Z459)","v":72}]
[null,null,null,null,null,"HCP trous",{"$f":"G$8","v":4},{"$f":"H$8","v":8},12,14,2,10,18,16,6,null,{"$f":"Q$8","v":1},9,11,5,17,15,3,13,7]
[null,null,null,null,null,"Coups reçus",{"$f":"IF($Q456<=18,IF(G460<=$Q456,1,0),IF($Q456<=36,IF(G460<=($Q456-18),2,1),IF($Q456>36,IF(G460<=($Q456-36),3,2))))","v":3},{"$f":"IF($Q456<=18,IF(H460<=$Q456,1,0),IF($Q456<=36,IF(H460<=($Q456-18),2,1),IF($Q456>36,IF(H460<=($Q456-36),3,2))))","v":3},{"$f":"IF($Q456<=18,IF(I460<=$Q456,1,0),IF($Q456<=36,IF(I460<=($Q456-18),2,1),IF($Q456>36,IF(I460<=($Q456-36),3,2))))","v":3},{"$f":"IF($Q456<=18,IF(J460<=$Q456,1,0),IF($Q456<=36,IF(J460<=($Q456-18),2,1),IF($Q456>36,IF(J460<=($Q456-36),3,2))))","v":3},{"$f":"IF($Q456<=18,IF(K460<=$Q456,1,0),IF($Q456<=36,IF(K460<=($Q456-18),2,1),IF($Q456>36,IF(K460<=($Q456-36),3,2))))","v":3},{"$f":"IF($Q456<=18,IF(L460<=$Q456,1,0),IF($Q456<=36,IF(L460<=($Q456-18),2,1),IF($Q456>36,IF(L460<=($Q456-36),3,2))))","v":3},{"$f":"IF($Q456<=18,IF(M460<=$Q456,1,0),IF($Q456<=36,IF(M460<=($Q456-18),2,1),IF($Q456>36,IF(M460<=($Q456-36),3,2))))","v":3},{"$f":"IF($Q456<=18,IF(N460<=$Q456,1,0),IF($Q456<=36,IF(N460<=($Q456-18),2,1),IF($Q456>36,IF(N460<=($Q456-36),3,2))))","v":3},{"$f":"IF($Q456<=18,IF(O460<=$Q456,1,0),IF($Q456<=36,IF(O460<=($Q456-18),2,1),IF($Q456>36,IF(O460<=($Q456-36),3,2))))","v":3},{"$f":"SUM(G461:O461)","v":27},{"$f":"IF($Q456<=18,IF(Q460<=$Q456,1,0),IF($Q456<=36,IF(Q460<=($Q456-18),2,1),IF($Q456>36,IF(Q460<=($Q456-36),3,2))))","v":3},{"$f":"IF($Q456<=18,IF(R460<=$Q456,1,0),IF($Q456<=36,IF(R460<=($Q456-18),2,1),IF($Q456>36,IF(R460<=($Q456-36),3,2))))","v":3},{"$f":"IF($Q456<=18,IF(S460<=$Q456,1,0),IF($Q456<=36,IF(S460<=($Q456-18),2,1),IF($Q456>36,IF(S460<=($Q456-36),3,2))))","v":3},{"$f":"IF($Q456<=18,IF(T460<=$Q456,1,0),IF($Q456<=36,IF(T460<=($Q456-18),2,1),IF($Q456>36,IF(T460<=($Q456-36),3,2))))","v":3},{"$f":"IF($Q456<=18,IF(U460<=$Q456,1,0),IF($Q456<=36,IF(U460<=($Q456-18),2,1),IF($Q456>36,IF(U460<=($Q456-36),3,2))))","v":3},{"$f":"IF($Q456<=18,IF(V460<=$Q456,1,0),IF($Q456<=36,IF(V460<=($Q456-18),2,1),IF($Q456>36,IF(V460<=($Q456-36),3,2))))","v":3},{"$f":"IF($Q456<=18,IF(W460<=$Q456,1,0),IF($Q456<=36,IF(W460<=($Q456-18),2,1),IF($Q456>36,IF(W460<=($Q456-36),3,2))))","v":3},{"$f":"IF($Q456<=18,IF(X460<=$Q456,1,0),IF($Q456<=36,IF(X460<=($Q456-18),2,1),IF($Q456>36,IF(X460<=($Q456-36),3,2))))","v":3},{"$f":"IF($Q456<=18,IF(Y460<=$Q456,1,0),IF($Q456<=36,IF(Y460<=($Q456-18),2,1),IF($Q456>36,IF(Y460<=($Q456-36),3,2))))","v":3},{"$f":"SUM(Q461:Y461)","v":27},{"$f":"P461+Z461","v":54}]
[null,null,null,null,null,"Stroke play",{"$f":"G25","v":6},7,8,6,3,8,5,8,6,{"$f":"SUM(G462:O462)","v":57},{"$f":"Q25","v":7},6,6,7,9,6,5,10,6,{"$f":"SUM(Q462:Y462)","v":62},{"$f":"P462+Z462","v":119}]
[null,null,null,null,null,"Net Stableford",{"$f":"IF(G462-G459=-1,3+G461)+IF(G462-G459=0,2+G461)+IF(G462-G459=1,1+G461)+IF(G462-G459=2,G461)+IF(G462-G459=3,IF(G461-1>0,G461-1,0))+IF(G462-G459=4,IF(G461-2>0,G461-2,0))","v":3},{"$f":"IF(H462-H459=-1,3+H461)+IF(H462-H459=0,2+H461)+IF(H462-H459=1,1+H461)+IF(H462-H459=2,H461)+IF(H462-H459=3,IF(H461-1>0,H461-1,0))+IF(H462-H459=4,IF(H461-2>0,H461-2,0))","v":2},2,3,5,2,3,2,2,{"$f":"SUM(G463:O463)","v":24},{"$f":"IF(Q462-Q459=-1,3+Q461)+IF(Q462-Q459=0,2+Q461)+IF(Q462-Q459=1,1+Q461)+IF(Q462-Q459=2,Q461)+IF(Q462-Q459=3,IF(Q461-1>0,Q461-1,0))+IF(Q462-Q459=4,IF(Q461-2>0,Q461-2,0))","v":2},3,2,3,0,3,4,0,3,{"$f":"SUM(Q463:Y463)","v":20},{"$f":"P463+Z463","v":44}]
[null,null,null,null,null,"Score Brut",{"$f":"IF(G462-G459=-2,4)+IF(G462-G459=-1,3)+IF(G462-G459=0,2)+IF(G462-G459=1,1)+IF(G462-G459>2,0)","v":0},0,0,0,2,0,0,0,0,{"$f":"SUM(G464:O464)","v":2},{"$f":"IF(Q462-Q459=-2,4)+IF(Q462-Q459=-1,3)+IF(Q462-Q459=0,2)+IF(Q462-Q459=1,1)+IF(Q462-Q459>2,0)","v":0},0,0,0,0,0,1,0,0,{"$f":"SUM(Q464:Y464)","v":1},{"$f":"P464+Z464","v":3}]
[null,null,null,null,null,null,{"$f":"G462-G459","v":2},{"$f":"H462-H459","v":3},3,2,0,3,2,3,3,null,{"$f":"Q462-Q459","v":3},2,3,2,6,2,1,5,2]
[]
[]
[null,null,null,null,null,"Statistiques scores",null,"Eagle & moins",null,null,null,{"$f":"COUNTIF(G465:Y465,\"<=-2\")","v":0},"Par",null,{"$f":"COUNTIF(G465:Y465,\"=0\")","v":1},"Double bogey",null,null,null,null,{"$f":"COUNTIF(G465:Y465,\"=2\")","v":7}]
[null,null,null,null,null,null,null,"Birdie",null,null,null,{"$f":"COUNTIF(G465:Y465,\"=-1\")","v":0},"Bogey",null,{"$f":"COUNTIF(G465:Y465,\"=1\")","v":1},"Triple bogey & plus",null,null,null,null,{"$f":"COUNTIF(G465:Y465,\">=3\")","v":9}]
[null,null,null,null,null,null,null,{"$f":"M468","v":"Par"},null,null,null,{"$f":"O468","v":1}]
[null,null,null,null,null,null,null,{"$f":"M469","v":"Bogey"},null,null,null,{"$f":"O469","v":1}]
[null,null,null,null,null,null,null,{"$f":"P468","v":"Double bogey"},null,null,null,{"$f":"U468","v":7}]
[null,null,null,null,null,null,null,{"$f":"P469","v":"Triple bogey & plus"},null,null,null,{"$f":"U469","v":9}]
[]
[]
[]
[]
[null,null,null,null,null,"Nom",{"$f":"C26","v":"ZIAR"},null,null,null,null,"Slope",null,null,"SSS",null,"Coups reçus",null,null,null,null,null,null,null,null,"Date",{"$f":"$D$3","v":"2022-03-05"}]
[null,null,null,null,null,"Index",{"$f":"E26","v":16.899999999999999},null,null,null,null,{"$f":"$F$3","v":133},null,null,{"$f":"$G$3","v":68.599999999999994},null,{"$f":"ROUND((G479*(L479/113)+(O479-AA482)),0)","v":16}]
[]
[null,null,null,null,null,"Trou",1,2,3,4,5,6,7,8,9,"Aller",10,11,12,13,14,15,16,17,18,"Retour","Total"]
[null,null,null,null,null,"PAR",{"$f":"G$7","v":4},{"$f":"H$7","v":4},5,4,3,5,3,5,3,{"$f":"SUM(G482:O482)","v":36},{"$f":"Q$7","v":4},4,3,5,3,4,4,5,4,{"$f":"SUM(Q482:Y482)","v":36},{"$f":"SUM(P482+Z482)","v":72}]
[null,null,null,null,null,"HCP trous",{"$f":"G$8","v":4},{"$f":"H$8","v":8},12,14,2,10,18,16,6,null,{"$f":"Q$8","v":1},9,11,5,17,15,3,13,7]
[null,null,null,null,null,"Coups reçus",{"$f":"IF($Q479<=18,IF(G483<=$Q479,1,0),IF($Q479<=36,IF(G483<=($Q479-18),2,1),IF($Q479>36,IF(G483<=($Q479-36),3,2))))","v":1},{"$f":"IF($Q479<=18,IF(H483<=$Q479,1,0),IF($Q479<=36,IF(H483<=($Q479-18),2,1),IF($Q479>36,IF(H483<=($Q479-36),3,2))))","v":1},{"$f":"IF($Q479<=18,IF(I483<=$Q479,1,0),IF($Q479<=36,IF(I483<=($Q479-18),2,1),IF($Q479>36,IF(I483<=($Q479-36),3,2))))","v":1},{"$f":"IF($Q479<=18,IF(J483<=$Q479,1,0),IF($Q479<=36,IF(J483<=($Q479-18),2,1),IF($Q479>36,IF(J483<=($Q479-36),3,2))))","v":1},{"$f":"IF($Q479<=18,IF(K483<=$Q479,1,0),IF($Q479<=36,IF(K483<=($Q479-18),2,1),IF($Q479>36,IF(K483<=($Q479-36),3,2))))","v":1},{"$f":"IF($Q479<=18,IF(L483<=$Q479,1,0),IF($Q479<=36,IF(L483<=($Q479-18),2,1),IF($Q479>36,IF(L483<=($Q479-36),3,2))))","v":1},{"$f":"IF($Q479<=18,IF(M483<=$Q479,1,0),IF($Q479<=36,IF(M483<=($Q479-18),2,1),IF($Q479>36,IF(M483<=($Q479-36),3,2))))","v":0},{"$f":"IF($Q479<=18,IF(N483<=$Q479,1,0),IF($Q479<=36,IF(N483<=($Q479-18),2,1),IF($Q479>36,IF(N483<=($Q479-36),3,2))))","v":1},{"$f":"IF($Q479<=18,IF(O483<=$Q479,1,0),IF($Q479<=36,IF(O483<=($Q479-18),2,1),IF($Q479>36,IF(O483<=($Q479-36),3,2))))","v":1},{"$f":"SUM(G484:O484)","v":8},{"$f":"IF($Q479<=18,IF(Q483<=$Q479,1,0),IF($Q479<=36,IF(Q483<=($Q479-18),2,1),IF($Q479>36,IF(Q483<=($Q479-36),3,2))))","v":1},{"$f":"IF($Q479<=18,IF(R483<=$Q479,1,0),IF($Q479<=36,IF(R483<=($Q479-18),2,1),IF($Q479>36,IF(R483<=($Q479-36),3,2))))","v":1},{"$f":"IF($Q479<=18,IF(S483<=$Q479,1,0),IF($Q479<=36,IF(S483<=($Q479-18),2,1),IF($Q479>36,IF(S483<=($Q479-36),3,2))))","v":1},{"$f":"IF($Q479<=18,IF(T483<=$Q479,1,0),IF($Q479<=36,IF(T483<=($Q479-18),2,1),IF($Q479>36,IF(T483<=($Q479-36),3,2))))","v":1},{"$f":"IF($Q479<=18,IF(U483<=$Q479,1,0),IF($Q479<=36,IF(U483<=($Q479-18),2,1),IF($Q479>36,IF(U483<=($Q479-36),3,2))))","v":0},{"$f":"IF($Q479<=18,IF(V483<=$Q479,1,0),IF($Q479<=36,IF(V483<=($Q479-18),2,1),IF($Q479>36,IF(V483<=($Q479-36),3,2))))","v":1},{"$f":"IF($Q479<=18,IF(W483<=$Q479,1,0),IF($Q479<=36,IF(W483<=($Q479-18),2,1),IF($Q479>36,IF(W483<=($Q479-36),3,2))))","v":1},{"$f":"IF($Q479<=18,IF(X483<=$Q479,1,0),IF($Q479<=36,IF(X483<=($Q479-18),2,1),IF($Q479>36,IF(X483<=($Q479-36),3,2))))","v":1},{"$f":"IF($Q479<=18,IF(Y483<=$Q479,1,0),IF($Q479<=36,IF(Y483<=($Q479-18),2,1),IF($Q479>36,IF(Y483<=($Q479-36),3,2))))","v":1},{"$f":"SUM(Q484:Y484)","v":8},{"$f":"P484+Z484","v":16}]
[null,null,null,null,null,"Stroke play",{"$f":"G26","v":4},5,7,5,4,6,3,5,3,{"$f":"SUM(G485:O485)","v":42},{"$f":"Q26","v":4},5,4,5,5,5,4,6,7,{"$f":"SUM(Q485:Y485)","v":45},{"$f":"P485+Z485","v":87}]
[null,null,null,null,null,"Net Stableford",{"$f":"IF(G485-G482=-1,3+G484)+IF(G485-G482=0,2+G484)+IF(G485-G482=1,1+G484)+IF(G485-G482=2,G484)+IF(G485-G482=3,IF(G484-1>0,G484-1,0))+IF(G485-G482=4,IF(G484-2>0,G484-2,0))","v":3},{"$f":"IF(H485-H482=-1,3+H484)+IF(H485-H482=0,2+H484)+IF(H485-H482=1,1+H484)+IF(H485-H482=2,H484)+IF(H485-H482=3,IF(H484-1>0,H484-1,0))+IF(H485-H482=4,IF(H484-2>0,H484-2,0))","v":2},1,2,2,2,2,3,3,{"$f":"SUM(G486:O486)","v":20},{"$f":"IF(Q485-Q482=-1,3+Q484)+IF(Q485-Q482=0,2+Q484)+IF(Q485-Q482=1,1+Q484)+IF(Q485-Q482=2,Q484)+IF(Q485-Q482=3,IF(Q484-1>0,Q484-1,0))+IF(Q485-Q482=4,IF(Q484-2>0,Q484-2,0))","v":3},2,2,3,0,2,3,2,0,{"$f":"SUM(Q486:Y486)","v":17},{"$f":"P486+Z486","v":37}]
[null,null,null,null,null,"Score Brut",{"$f":"IF(G485-G482=-2,4)+IF(G485-G482=-1,3)+IF(G485-G482=0,2)+IF(G485-G482=1,1)+IF(G485-G482>2,0)","v":2},1,0,1,1,1,2,2,2,{"$f":"SUM(G487:O487)","v":12},{"$f":"IF(Q485-Q482=-2,4)+IF(Q485-Q482=-1,3)+IF(Q485-Q482=0,2)+IF(Q485-Q482=1,1)+IF(Q485-Q482>2,0)","v":2},1,1,2,0,1,2,1,0,{"$f":"SUM(Q487:Y487)","v":10},{"$f":"P487+Z487","v":22}]
[null,null,null,null,null,null,{"$f":"G485-G482","v":0},{"$f":"H485-H482","v":1},2,1,1,1,0,0,0,null,{"$f":"Q485-Q482","v":0},1,1,0,2,1,0,1,3]
[]
[]
[null,null,null,null,null,"Statistiques scores",null,"Eagle & moins",null,null,null,{"$f":"COUNTIF(G488:Y488,\"<=-2\")","v":0},"Par",null,{"$f":"COUNTIF(G488:Y488,\"=0\")","v":7},"Double bogey",null,null,null,null,{"$f":"COUNTIF(G488:Y488,\"=2\")","v":2}]
[null,null,null,null,null,null,null,"Birdie",null,null,null,{"$f":"COUNTIF(G488:Y488,\"=-1\")","v":0},"Bogey",null,{"$f":"COUNTIF(G488:Y488,\"=1\")","v":8},"Triple bogey & plus",null,null,null,null,{"$f":"COUNTIF(G488:Y488,\">=3\")","v":1}]
[null,null,null,null,null,null,null,{"$f":"M491","v":"Par"},null,null,null,{"$f":"O491","v":7}]
[null,null,null,null,null,null,null,{"$f":"M492","v":"Bogey"},null,null,null,{"$f":"O492","v":8}]
[null,null,null,null,null,null,null,{"$f":"P491","v":"Double bogey"},null,null,null,{"$f":"U491","v":2}]
[null,null,null,null,null,null,null,{"$f":"P492","v":"Triple bogey & plus"},null,null,null,{"$f":"U492","v":1}]
[]
[]
[]
[]
[null,null,null,null,null,"Nom",{"$f":"C27","v":0},null,null,null,null,"Slope",null,null,"SSS",null,"Coups reçus",null,null,null,null,null,null,null,null,"Date",{"$f":"$D$3","v":"2022-03-05"}]
[null,null,null,null,null,"Index",{"$f":"E27","v":54},null,null,null,null,{"$f":"$F$3","v":133},null,null,{"$f":"$G$3","v":68.599999999999994},null,{"$f":"ROUND((G502*(L502/113)+(O502-AA505)),0)","v":60}]
[]
[null,null,null,null,null,"Trou",1,2,3,4,5,6,7,8,9,"Aller",10,11,12,13,14,15,16,17,18,"Retour","Total"]
[null,null,null,null,null,"PAR",{"$f":"G$7","v":4},{"$f":"H$7","v":4},5,4,3,5,3,5,3,{"$f":"SUM(G505:O505)","v":36},{"$f":"Q$7","v":4},4,3,5,3,4,4,5,4,{"$f":"SUM(Q505:Y505)","v":36},{"$f":"SUM(P505+Z505)","v":72}]
[null,null,null,null,null,"HCP trous",{"$f":"G$8","v":4},{"$f":"H$8","v":8},12,14,2,10,18,16,6,null,{"$f":"Q$8","v":1},9,11,5,17,15,3,13,7]
[null,null,null,null,null,"Coups reçus",{"$f":"IF($Q502<=18,IF(G506<=$Q502,1,0),IF($Q502<=36,IF(G506<=($Q502-18),2,1),IF($Q502>36,IF(G506<=($Q502-36),3,2))))","v":3},{"$f":"IF($Q502<=18,IF(H506<=$Q502,1,0),IF($Q502<=36,IF(H506<=($Q502-18),2,1),IF($Q502>36,IF(H506<=($Q502-36),3,2))))","v":3},{"$f":"IF($Q502<=18,IF(I506<=$Q502,1,0),IF($Q502<=36,IF(I506<=($Q502-18),2,1),IF($Q502>36,IF(I506<=($Q502-36),3,2))))","v":3},{"$f":"IF($Q502<=18,IF(J506<=$Q502,1,0),IF($Q502<=36,IF(J506<=($Q502-18),2,1),IF($Q502>36,IF(J506<=($Q502-36),3,2))))","v":3},{"$f":"IF($Q502<=18,IF(K506<=$Q502,1,0),IF($Q502<=36,IF(K506<=($Q502-18),2,1),IF($Q502>36,IF(K506<=($Q502-36),3,2))))","v":3},{"$f":"IF($Q502<=18,IF(L506<=$Q502,1,0),IF($Q502<=36,IF(L506<=($Q502-18),2,1),IF($Q502>36,IF(L506<=($Q502-36),3,2))))","v":3},{"$f":"IF($Q502<=18,IF(M506<=$Q502,1,0),IF($Q502<=36,IF(M506<=($Q502-18),2,1),IF($Q502>36,IF(M506<=($Q502-36),3,2))))","v":3},{"$f":"IF($Q502<=18,IF(N506<=$Q502,1,0),IF($Q502<=36,IF(N506<=($Q502-18),2,1),IF($Q502>36,IF(N506<=($Q502-36),3,2))))","v":3},{"$f":"IF($Q502<=18,IF(O506<=$Q502,1,0),IF($Q502<=36,IF(O506<=($Q502-18),2,1),IF($Q502>36,IF(O506<=($Q502-36),3,2))))","v":3},{"$f":"SUM(G507:O507)","v":27},{"$f":"IF($Q502<=18,IF(Q506<=$Q502,1,0),IF($Q502<=36,IF(Q506<=($Q502-18),2,1),IF($Q502>36,IF(Q506<=($Q502-36),3,2))))","v":3},{"$f":"IF($Q502<=18,IF(R506<=$Q502,1,0),IF($Q502<=36,IF(R506<=($Q502-18),2,1),IF($Q502>36,IF(R506<=($Q502-36),3,2))))","v":3},{"$f":"IF($Q502<=18,IF(S506<=$Q502,1,0),IF($Q502<=36,IF(S506<=($Q502-18),2,1),IF($Q502>36,IF(S506<=($Q502-36),3,2))))","v":3},{"$f":"IF($Q502<=18,IF(T506<=$Q502,1,0),IF($Q502<=36,IF(T506<=($Q502-18),2,1),IF($Q502>36,IF(T506<=($Q502-36),3,2))))","v":3},{"$f":"IF($Q502<=18,IF(U506<=$Q502,1,0),IF($Q502<=36,IF(U506<=($Q502-18),2,1),IF($Q502>36,IF(U506<=($Q502-36),3,2))))","v":3},{"$f":"IF($Q502<=18,IF(V506<=$Q502,1,0),IF($Q502<=36,IF(V506<=($Q502-18),2,1),IF($Q502>36,IF(V506<=($Q502-36),3,2))))","v":3},{"$f":"IF($Q502<=18,IF(W506<=$Q502,1,0),IF($Q502<=36,IF(W506<=($Q502-18),2,1),IF($Q502>36,IF(W506<=($Q502-36),3,2))))","v":3},{"$f":"IF($Q502<=18,IF(X506<=$Q502,1,0),IF($Q502<=36,IF(X506<=($Q502-18),2,1),IF($Q502>36,IF(X506<=($Q502-36),3,2))))","v":3},{"$f":"IF($Q502<=18,IF(Y506<=$Q502,1,0),IF($Q502<=36,IF(Y506<=($Q502-18),2,1),IF($Q502>36,IF(Y506<=($Q502-36),3,2))))","v":3},{"$f":"SUM(Q507:Y507)","v":27},{"$f":"P507+Z507","v":54}]
[null,null,null,null,null,"Stroke play",{"$f":"G27","v":10},10,10,10,10,10,10,10,10,{"$f":"SUM(G508:O508)","v":90},{"$f":"Q27","v":10},10,10,10,10,10,10,10,10,{"$f":"SUM(Q508:Y508)","v":90},{"$f":"P508+Z508","v":180}]
[null,null,null,null,null,"Net Stableford",{"$f":"IF(G508-G505=-1,3+G507)+IF(G508-G505=0,2+G507)+IF(G508-G505=1,1+G507)+IF(G508-G505=2,G507)+IF(G508-G505=3,IF(G507-1>0,G507-1,0))+IF(G508-G505=4,IF(G507-2>0,G507-2,0))","v":0},{"$f":"IF(H508-H505=-1,3+H507)+IF(H508-H505=0,2+H507)+IF(H508-H505=1,1+H507)+IF(H508-H505=2,H507)+IF(H508-H505=3,IF(H507-1>0,H507-1,0))+IF(H508-H505=4,IF(H507-2>0,H507-2,0))","v":0},0,0,0,0,0,0,0,{"$f":"SUM(G509:O509)","v":0},{"$f":"IF(Q508-Q505=-1,3+Q507)+IF(Q508-Q505=0,2+Q507)+IF(Q508-Q505=1,1+Q507)+IF(Q508-Q505=2,Q507)+IF(Q508-Q505=3,IF(Q507-1>0,Q507-1,0))+IF(Q508-Q505=4,IF(Q507-2>0,Q507-2,0))","v":0},0,0,0,0,0,0,0,0,{"$f":"SUM(Q509:Y509)","v":0},{"$f":"P509+Z509","v":0}]
[null,null,null,null,null,"Score Brut",{"$f":"IF(G508-G505=-2,4)+IF(G508-G505=-1,3)+IF(G508-G505=0,2)+IF(G508-G505=1,1)+IF(G508-G505>2,0)","v":0},0,0,0,0,0,0,0,0,{"$f":"SUM(G510:O510)","v":0},{"$f":"IF(Q508-Q505=-2,4)+IF(Q508-Q505=-1,3)+IF(Q508-Q505=0,2)+IF(Q508-Q505=1,1)+IF(Q508-Q505>2,0)","v":0},0,0,0,0,0,0,0,0,{"$f":"SUM(Q510:Y510)","v":0},{"$f":"P510+Z510","v":0}]
[null,null,null,null,null,null,{"$f":"G508-G505","v":6},{"$f":"H508-H505","v":6},5,6,7,5,7,5,7,null,{"$f":"Q508-Q505","v":6},6,7,5,7,6,6,5,6]
[]
[]
[null,null,null,null,null,"Statistiques scores",null,"Eagle & moins",null,null,null,{"$f":"COUNTIF(G511:Y511,\"<=-2\")","v":0},"Par",null,{"$f":"COUNTIF(G511:Y511,\"=0\")","v":0},"Double bogey",null,null,null,null,{"$f":"COUNTIF(G511:Y511,\"=2\")","v":0}]
[null,null,null,null,null,null,null,"Birdie",null,null,null,{"$f":"COUNTIF(G511:Y511,\"=-1\")","v":0},"Bogey",null,{"$f":"COUNTIF(G511:Y511,\"=1\")","v":0},"Triple bogey & plus",null,null,null,null,{"$f":"COUNTIF(G511:Y511,\">=3\")","v":18}]
[null,null,null,null,null,null,null,{"$f":"M514","v":"Par"},null,null,null,{"$f":"O514","v":0}]
[null,null,null,null,null,null,null,{"$f":"M515","v":"Bogey"},null,null,null,{"$f":"O515","v":0}]
[null,null,null,null,null,null,null,{"$f":"P514","v":"Double bogey"},null,null,null,{"$f":"U514","v":0}]
[null,null,null,null,null,null,null,{"$f":"P515","v":"Triple bogey & plus"},null,null,null,{"$f":"U515","v":18}]
[]
[]
[]
[]
[null,null,null,null,null,"Nom",{"$f":"C28","v":0},null,null,null,null,"Slope",null,null,"SSS",null,"Coups reçus",null,null,null,null,null,null,null,null,"Date",{"$f":"$D$3","v":"2022-03-05"}]
[null,null,null,null,null,"Index",{"$f":"E28","v":20},null,null,null,null,{"$f":"$F$3","v":133},null,null,{"$f":"$G$3","v":68.599999999999994},null,{"$f":"ROUND((G525*(L525/113)+(O525-AA528)),0)","v":20}]
[]
[null,null,null,null,null,"Trou",1,2,3,4,5,6,7,8,9,"Aller",10,11,12,13,14,15,16,17,18,"Retour","Total"]
[null,null,null,null,null,"PAR",{"$f":"G$7","v":4},{"$f":"H$7","v":4},5,4,3,5,3,5,3,{"$f":"SUM(G528:O528)","v":36},{"$f":"Q$7","v":4},4,3,5,3,4,4,5,4,{"$f":"SUM(Q528:Y528)","v":36},{"$f":"SUM(P528+Z528)","v":72}]
[null,null,null,null,null,"HCP trous",{"$f":"G$8","v":4},{"$f":"H$8","v":8},12,14,2,10,18,16,6,null,{"$f":"Q$8","v":1},9,11,5,17,15,3,13,7]
[null,null,null,null,null,"Coups reçus",{"$f":"IF($Q525<=18,IF(G529<=$Q525,1,0),IF($Q525<=36,IF(G529<=($Q525-18),2,1),IF($Q525>36,IF(G529<=($Q525-36),3,2))))","v":1},{"$f":"IF($Q525<=18,IF(H529<=$Q525,1,0),IF($Q525<=36,IF(H529<=($Q525-18),2,1),IF($Q525>36,IF(H529<=($Q525-36),3,2))))","v":1},{"$f":"IF($Q525<=18,IF(I529<=$Q525,1,0),IF($Q525<=36,IF(I529<=($Q525-18),2,1),IF($Q525>36,IF(I529<=($Q525-36),3,2))))","v":1},{"$f":"IF($Q525<=18,IF(J529<=$Q525,1,0),IF($Q525<=36,IF(J529<=($Q525-18),2,1),IF($Q525>36,IF(J529<=($Q525-36),3,2))))","v":1},{"$f":"IF($Q525<=18,IF(K529<=$Q525,1,0),IF($Q525<=36,IF(K529<=($Q525-18),2,1),IF($Q525>36,IF(K529<=($Q525-36),3,2))))","v":2},{"$f":"IF($Q525<=18,IF(L529<=$Q525,1,0),IF($Q525<=36,IF(L529<=($Q525-18),2,1),IF($Q525>36,IF(L529<=($Q525-36),3,2))))","v":1},{"$f":"IF($Q525<=18,IF(M529<=$Q525,1,0),IF($Q525<=36,IF(M529<=($Q525-18),2,1),IF($Q525>36,IF(M529<=($Q525-36),3,2))))","v":1},{"$f":"IF($Q525<=18,IF(N529<=$Q525,1,0),IF($Q525<=36,IF(N529<=($Q525-18),2,1),IF($Q525>36,IF(N529<=($Q525-36),3,2))))","v":1},{"$f":"IF($Q525<=18,IF(O529<=$Q525,1,0),IF($Q525<=36,IF(O529<=($Q525-18),2,1),IF($Q525>36,IF(O529<=($Q525-36),3,2))))","v":1},{"$f":"SUM(G530:O530)","v":10},{"$f":"IF($Q525<=18,IF(Q529<=$Q525,1,0),IF($Q525<=36,IF(Q529<=($Q525-18),2,1),IF($Q525>36,IF(Q529<=($Q525-36),3,2))))","v":2},{"$f":"IF($Q525<=18,IF(R529<=$Q525,1,0),IF($Q525<=36,IF(R529<=($Q525-18),2,1),IF($Q525>36,IF(R529<=($Q525-36),3,2))))","v":1},{"$f":"IF($Q525<=18,IF(S529<=$Q525,1,0),IF($Q525<=36,IF(S529<=($Q525-18),2,1),IF($Q525>36,IF(S529<=($Q525-36),3,2))))","v":1},{"$f":"IF($Q525<=18,IF(T529<=$Q525,1,0),IF($Q525<=36,IF(T529<=($Q525-18),2,1),IF($Q525>36,IF(T529<=($Q525-36),3,2))))","v":1},{"$f":"IF($Q525<=18,IF(U529<=$Q525,1,0),IF($Q525<=36,IF(U529<=($Q525-18),2,1),IF($Q525>36,IF(U529<=($Q525-36),3,2))))","v":1},{"$f":"IF($Q525<=18,IF(V529<=$Q525,1,0),IF($Q525<=36,IF(V529<=($Q525-18),2,1),IF($Q525>36,IF(V529<=($Q525-36),3,2))))","v":1},{"$f":"IF($Q525<=18,IF(W529<=$Q525,1,0),IF($Q525<=36,IF(W529<=($Q525-18),2,1),IF($Q525>36,IF(W529<=($Q525-36),3,2))))","v":1},{"$f":"IF($Q525<=18,IF(X529<=$Q525,1,0),IF($Q525<=36,IF(X529<=($Q525-18),2,1),IF($Q525>36,IF(X529<=($Q525-36),3,2))))","v":1},{"$f":"IF($Q525<=18,IF(Y529<=$Q525,1,0),IF($Q525<=36,IF(Y529<=($Q525-18),2,1),IF($Q525>36,IF(Y529<=($Q525-36),3,2))))","v":1},{"$f":"SUM(Q530:Y530)","v":10},{"$f":"P530+Z530","v":20}]
[null,null,null,null,null,"Stroke play",{"$f":"G28","v":10},10,10,10,10,10,10,10,10,{"$f":"SUM(G531:O531)","v":90},{"$f":"Q28","v":10},10,10,10,10,10,10,10,10,{"$f":"SUM(Q531:Y531)","v":90},{"$f":"P531+Z531","v":180}]
[null,null,null,null,null,"Net Stableford",{"$f":"IF(G531-G528=-1,3+G530)+IF(G531-G528=0,2+G530)+IF(G531-G528=1,1+G530)+IF(G531-G528=2,G530)+IF(G531-G528=3,IF(G530-1>0,G530-1,0))+IF(G531-G528=4,IF(G530-2>0,G530-2,0))","v":0},{"$f":"IF(H531-H528=-1,3+H530)+IF(H531-H528=0,2+H530)+IF(H531-H528=1,1+H530)+IF(H531-H528=2,H530)+IF(H531-H528=3,IF(H530-1>0,H530-1,0))+IF(H531-H528=4,IF(H530-2>0,H530-2,0))","v":0},0,0,0,0,0,0,0,{"$f":"SUM(G532:O532)","v":0},{"$f":"IF(Q531-Q528=-1,3+Q530)+IF(Q531-Q528=0,2+Q530)+IF(Q531-Q528=1,1+Q530)+IF(Q531-Q528=2,Q530)+IF(Q531-Q528=3,IF(Q530-1>0,Q530-1,0))+IF(Q531-Q528=4,IF(Q530-2>0,Q530-2,0))","v":0},0,0,0,0,0,0,0,0,{"$f":"SUM(Q532:Y532)","v":0},{"$f":"P532+Z532","v":0}]
[null,null,null,null,null,"Score Brut",{"$f":"IF(G531-G528=-2,4)+IF(G531-G528=-1,3)+IF(G531-G528=0,2)+IF(G531-G528=1,1)+IF(G531-G528>2,0)","v":0},0,0,0,0,0,0,0,0,{"$f":"SUM(G533:O533)","v":0},{"$f":"IF(Q531-Q528=-2,4)+IF(Q531-Q528=-1,3)+IF(Q531-Q528=0,2)+IF(Q531-Q528=1,1)+IF(Q531-Q528>2,0)","v":0},0,0,0,0,0,0,0,0,{"$f":"SUM(Q533:Y533)","v":0},{"$f":"P533+Z533","v":0}]
[null,null,null,null,null,null,{"$f":"G531-G528","v":6},{"$f":"H531-H528","v":6},5,6,7,5,7,5,7,null,{"$f":"Q531-Q528","v":6},6,7,5,7,6,6,5,6]
[]
[]
[null,null,null,null,null,"Statistiques scores",null,"Eagle & moins",null,null,null,{"$f":"COUNTIF(G534:Y534,\"<=-2\")","v":0},"Par",null,{"$f":"COUNTIF(G534:Y534,\"=0\")","v":0},"Double bogey",null,null,null,null,{"$f":"COUNTIF(G534:Y534,\"=2\")","v":0}]
[null,null,null,null,null,null,null,"Birdie",null,null,null,{"$f":"COUNTIF(G534:Y534,\"=-1\")","v":0},"Bogey",null,{"$f":"COUNTIF(G534:Y534,\"=1\")","v":0},"Triple bogey & plus",null,null,null,null,{"$f":"COUNTIF(G534:Y534,\">=3\")","v":18}]
[null,null,null,null,null,null,null,{"$f":"M537","v":"Par"},null,null,null,{"$f":"O537","v":0}]
[null,null,null,null,null,null,null,{"$f":"M538","v":"Bogey"},null,null,null,{"$f":"O538","v":0}]
[null,null,null,null,null,null,null,{"$f":"P537","v":"Double bogey"},null,null,null,{"$f":"U537","v":0}]
[null,null,null,null,null,null,null,{"$f":"P538","v":"Triple bogey & plus"},null,null,null,{"$f":"U538","v":18}]
[]
[]
[]
[]
[null,null,null,null,null,"Nom",{"$f":"C29","v":0},null,null,null,null,"Slope",null,null,"SSS",null,"Coups reçus",null,null,null,null,null,null,null,null,"Date",{"$f":"$D$3","v":"2022-03-05"}]
[null,null,null,null,null,"Index",{"$f":"E29","v":20},null,null,null,null,{"$f":"$F$3","v":133},null,null,{"$f":"$G$3","v":68.599999999999994},null,{"$f":"ROUND((G548*(L548/113)+(O548-AA551)),0)","v":20}]
[]
[null,null,null,null,null,"Trou",1,2,3,4,5,6,7,8,9,"Aller",10,11,12,13,14,15,16,17,18,"Retour","Total"]
[null,null,null,null,null,"PAR",{"$f":"G$7","v":4},{"$f":"H$7","v":4},5,4,3,5,3,5,3,{"$f":"SUM(G551:O551)","v":36},{"$f":"Q$7","v":4},4,3,5,3,4,4,5,4,{"$f":"SUM(Q551:Y551)","v":36},{"$f":"SUM(P551+Z551)","v":72}]
[null,null,null,null,null,"HCP trous",{"$f":"G$8","v":4},{"$f":"H$8","v":8},12,14,2,10,18,16,6,null,{"$f":"Q$8","v":1},9,11,5,17,15,3,13,7]
[null,null,null,null,null,"Coups reçus",{"$f":"IF($Q548<=18,IF(G552<=$Q548,1,0),IF($Q548<=36,IF(G552<=($Q548-18),2,1),IF($Q548>36,IF(G552<=($Q548-36),3,2))))","v":1},{"$f":"IF($Q548<=18,IF(H552<=$Q548,1,0),IF($Q548<=36,IF(H552<=($Q548-18),2,1),IF($Q548>36,IF(H552<=($Q548-36),3,2))))","v":1},{"$f":"IF($Q548<=18,IF(I552<=$Q548,1,0),IF($Q548<=36,IF(I552<=($Q548-18),2,1),IF($Q548>36,IF(I552<=($Q548-36),3,2))))","v":1},{"$f":"IF($Q548<=18,IF(J552<=$Q548,1,0),IF($Q548<=36,IF(J552<=($Q548-18),2,1),IF($Q548>36,IF(J552<=($Q548-36),3,2))))","v":1},{"$f":"IF($Q548<=18,IF(K552<=$Q548,1,0),IF($Q548<=36,IF(K552<=($Q548-18),2,1),IF($Q548>36,IF(K552<=($Q548-36),3,2))))","v":2},{"$f":"IF($Q548<=18,IF(L552<=$Q548,1,0),IF($Q548<=36,IF(L552<=($Q548-18),2,1),IF($Q548>36,IF(L552<=($Q548-36),3,2))))","v":1},{"$f":"IF($Q548<=18,IF(M552<=$Q548,1,0),IF($Q548<=36,IF(M552<=($Q548-18),2,1),IF($Q548>36,IF(M552<=($Q548-36),3,2))))","v":1},{"$f":"IF($Q548<=18,IF(N552<=$Q548,1,0),IF($Q548<=36,IF(N552<=($Q548-18),2,1),IF($Q548>36,IF(N552<=($Q548-36),3,2))))","v":1},{"$f":"IF($Q548<=18,IF(O552<=$Q548,1,0),IF($Q548<=36,IF(O552<=($Q548-18),2,1),IF($Q548>36,IF(O552<=($Q548-36),3,2))))","v":1},{"$f":"SUM(G553:O553)","v":10},{"$f":"IF($Q548<=18,IF(Q552<=$Q548,1,0),IF($Q548<=36,IF(Q552<=($Q548-18),2,1),IF($Q548>36,IF(Q552<=($Q548-36),3,2))))","v":2},{"$f":"IF($Q548<=18,IF(R552<=$Q548,1,0),IF($Q548<=36,IF(R552<=($Q548-18),2,1),IF($Q548>36,IF(R552<=($Q548-36),3,2))))","v":1},{"$f":"IF($Q548<=18,IF(S552<=$Q548,1,0),IF($Q548<=36,IF(S552<=($Q548-18),2,1),IF($Q548>36,IF(S552<=($Q548-36),3,2))))","v":1},{"$f":"IF($Q548<=18,IF(T552<=$Q548,1,0),IF($Q548<=36,IF(T552<=($Q548-18),2,1),IF($Q548>36,IF(T552<=($Q548-36),3,2))))","v":1},{"$f":"IF($Q548<=18,IF(U552<=$Q548,1,0),IF($Q548<=36,IF(U552<=($Q548-18),2,1),IF($Q548>36,IF(U552<=($Q548-36),3,2))))","v":1},{"$f":"IF($Q548<=18,IF(V552<=$Q548,1,0),IF($Q548<=36,IF(V552<=($Q548-18),2,1),IF($Q548>36,IF(V552<=($Q548-36),3,2))))","v":1},{"$f":"IF($Q548<=18,IF(W552<=$Q548,1,0),IF($Q548<=36,IF(W552<=($Q548-18),2,1),IF($Q548>36,IF(W552<=($Q548-36),3,2))))","v":1},{"$f":"IF($Q548<=18,IF(X552<=$Q548,1,0),IF($Q548<=36,IF(X552<=($Q548-18),2,1),IF($Q548>36,IF(X552<=($Q548-36),3,2))))","v":1},{"$f":"IF($Q548<=18,IF(Y552<=$Q548,1,0),IF($Q548<=36,IF(Y552<=($Q548-18),2,1),IF($Q548>36,IF(Y552<=($Q548-36),3,2))))","v":1},{"$f":"SUM(Q553:Y553)","v":10},{"$f":"P553+Z553","v":20}]
[null,null,null,null,null,"Stroke play",{"$f":"G29","v":10},10,10,10,10,10,10,10,10,{"$f":"SUM(G554:O554)","v":90},{"$f":"Q29","v":10},10,10,10,10,10,10,10,10,{"$f":"SUM(Q554:Y554)","v":90},{"$f":"P554+Z554","v":180}]
[null,null,null,null,null,"Net Stableford",{"$f":"IF(G554-G551=-1,3+G553)+IF(G554-G551=0,2+G553)+IF(G554-G551=1,1+G553)+IF(G554-G551=2,G553)+IF(G554-G551=3,IF(G553-1>0,G553-1,0))+IF(G554-G551=4,IF(G553-2>0,G553-2,0))","v":0},{"$f":"IF(H554-H551=-1,3+H553)+IF(H554-H551=0,2+H553)+IF(H554-H551=1,1+H553)+IF(H554-H551=2,H553)+IF(H554-H551=3,IF(H553-1>0,H553-1,0))+IF(H554-H551=4,IF(H553-2>0,H553-2,0))","v":0},0,0,0,0,0,0,0,{"$f":"SUM(G555:O555)","v":0},{"$f":"IF(Q554-Q551=-1,3+Q553)+IF(Q554-Q551=0,2+Q553)+IF(Q554-Q551=1,1+Q553)+IF(Q554-Q551=2,Q553)+IF(Q554-Q551=3,IF(Q553-1>0,Q553-1,0))+IF(Q554-Q551=4,IF(Q553-2>0,Q553-2,0))","v":0},0,0,0,0,0,0,0,0,{"$f":"SUM(Q555:Y555)","v":0},{"$f":"P555+Z555","v":0}]
[null,null,null,null,null,"Score Brut",{"$f":"IF(G554-G551=-2,4)+IF(G554-G551=-1,3)+IF(G554-G551=0,2)+IF(G554-G551=1,1)+IF(G554-G551>2,0)","v":0},0,0,0,0,0,0,0,0,{"$f":"SUM(G556:O556)","v":0},{"$f":"IF(Q554-Q551=-2,4)+IF(Q554-Q551=-1,3)+IF(Q554-Q551=0,2)+IF(Q554-Q551=1,1)+IF(Q554-Q551>2,0)","v":0},0,0,0,0,0,0,0,0,{"$f":"SUM(Q556:Y556)","v":0},{"$f":"P556+Z556","v":0}]
[null,null,null,null,null,null,{"$f":"G554-G551","v":6},{"$f":"H554-H551","v":6},5,6,7,5,7,5,7,null,{"$f":"Q554-Q551","v":6},6,7,5,7,6,6,5,6]
[]
[]
[null,null,null,null,null,"Statistiques scores",null,"Eagle & moins",null,null,null,{"$f":"COUNTIF(G557:Y557,\"<=-2\")","v":0},"Par",null,{"$f":"COUNTIF(G557:Y557,\"=0\")","v":0},"Double bogey",null,null,null,null,{"$f":"COUNTIF(G557:Y557,\"=2\")","v":0}]
[null,null,null,null,null,null,null,"Birdie",null,null,null,{"$f":"COUNTIF(G557:Y557,\"=-1\")","v":0},"Bogey",null,{"$f":"COUNTIF(G557:Y557,\"=1\")","v":0},"Triple bogey & plus",null,null,null,null,{"$f":"COUNTIF(G557:Y557,\">=3\")","v":18}]
[null,null,null,null,null,null,null,{"$f":"M560","v":"Par"},null,null,null,{"$f":"O560","v":0}]
[null,null,null,null,null,null,null,{"$f":"M561","v":"Bogey"},null,null,null,{"$f":"O561","v":0}]
[null,null,null,null,null,null,null,{"$f":"P560","v":"Double bogey"},null,null,null,{"$f":"U560","v":0}]
[null,null,null,null,null,null,null,{"$f":"P561","v":"Triple bogey & plus"},null,null,null,{"$f":"U561","v":18}]
[]
[]
[]
[]
[null,null,null,null,null,"Nom",{"$f":"C30","v":0},null,null,null,null,"Slope",null,null,"SSS",null,"Coups reçus",null,null,null,null,null,null,null,null,"Date",{"$f":"$D$3","v":"2022-03-05"}]
[null,null,null,null,null,"Index",{"$f":"E30","v":20},null,null,null,null,{"$f":"$F$3","v":133},null,null,{"$f":"$G$3","v":68.599999999999994},null,{"$f":"ROUND((G571*(L571/113)+(O571-AA574)),0)","v":20}]
[]
[null,null,null,null,null,"Trou",1,2,3,4,5,6,7,8,9,"Aller",10,11,12,13,14,15,16,17,18,"Retour","Total"]
[null,null,null,null,null,"PAR",{"$f":"G$7","v":4},{"$f":"H$7","v":4},5,4,3,5,3,5,3,{"$f":"SUM(G574:O574)","v":36},{"$f":"Q$7","v":4},4,3,5,3,4,4,5,4,{"$f":"SUM(Q574:Y574)","v":36},{"$f":"SUM(P574+Z574)","v":72}]
[null,null,null,null,null,"HCP trous",{"$f":"G$8","v":4},{"$f":"H$8","v":8},12,14,2,10,18,16,6,null,{"$f":"Q$8","v":1},9,11,5,17,15,3,13,7]
[null,null,null,null,null,"Coups reçus",{"$f":"IF($Q571<=18,IF(G575<=$Q571,1,0),IF($Q571<=36,IF(G575<=($Q571-18),2,1),IF($Q571>36,IF(G575<=($Q571-36),3,2))))","v":1},{"$f":"IF($Q571<=18,IF(H575<=$Q571,1,0),IF($Q571<=36,IF(H575<=($Q571-18),2,1),IF($Q571>36,IF(H575<=($Q571-36),3,2))))","v":1},{"$f":"IF($Q571<=18,IF(I575<=$Q571,1,0),IF($Q571<=36,IF(I575<=($Q571-18),2,1),IF($Q571>36,IF(I575<=($Q571-36),3,2))))","v":1},{"$f":"IF($Q571<=18,IF(J575<=$Q571,1,0),IF($Q571<=36,IF(J575<=($Q571-18),2,1),IF($Q571>36,IF(J575<=($Q571-36),3,2))))","v":1},{"$f":"IF($Q571<=18,IF(K575<=$Q571,1,0),IF($Q571<=36,IF(K575<=($Q571-18),2,1),IF($Q571>36,IF(K575<=($Q571-36),3,2))))","v":2},{"$f":"IF($Q571<=18,IF(L575<=$Q571,1,0),IF($Q571<=36,IF(L575<=($Q571-18),2,1),IF($Q571>36,IF(L575<=($Q571-36),3,2))))","v":1},{"$f":"IF($Q571<=18,IF(M575<=$Q571,1,0),IF($Q571<=36,IF(M575<=($Q571-18),2,1),IF($Q571>36,IF(M575<=($Q571-36),3,2))))","v":1},{"$f":"IF($Q571<=18,IF(N575<=$Q571,1,0),IF($Q571<=36,IF(N575<=($Q571-18),2,1),IF($Q571>36,IF(N575<=($Q571-36),3,2))))","v":1},{"$f":"IF($Q571<=18,IF(O575<=$Q571,1,0),IF($Q571<=36,IF(O575<=($Q571-18),2,1),IF($Q571>36,IF(O575<=($Q571-36),3,2))))","v":1},{"$f":"SUM(G576:O576)","v":10},{"$f":"IF($Q571<=18,IF(Q575<=$Q571,1,0),IF($Q571<=36,IF(Q575<=($Q571-18),2,1),IF($Q571>36,IF(Q575<=($Q571-36),3,2))))","v":2},{"$f":"IF($Q571<=18,IF(R575<=$Q571,1,0),IF($Q571<=36,IF(R575<=($Q571-18),2,1),IF($Q571>36,IF(R575<=($Q571-36),3,2))))","v":1},{"$f":"IF($Q571<=18,IF(S575<=$Q571,1,0),IF($Q571<=36,IF(S575<=($Q571-18),2,1),IF($Q571>36,IF(S575<=($Q571-36),3,2))))","v":1},{"$f":"IF($Q571<=18,IF(T575<=$Q571,1,0),IF($Q571<=36,IF(T575<=($Q571-18),2,1),IF($Q571>36,IF(T575<=($Q571-36),3,2))))","v":1},{"$f":"IF($Q571<=18,IF(U575<=$Q571,1,0),IF($Q571<=36,IF(U575<=($Q571-18),2,1),IF($Q571>36,IF(U575<=($Q571-36),3,2))))","v":1},{"$f":"IF($Q571<=18,IF(V575<=$Q571,1,0),IF($Q571<=36,IF(V575<=($Q571-18),2,1),IF($Q571>36,IF(V575<=($Q571-36),3,2))))","v":1},{"$f":"IF($Q571<=18,IF(W575<=$Q571,1,0),IF($Q571<=36,IF(W575<=($Q571-18),2,1),IF($Q571>36,IF(W575<=($Q571-36),3,2))))","v":1},{"$f":"IF($Q571<=18,IF(X575<=$Q571,1,0),IF($Q571<=36,IF(X575<=($Q571-18),2,1),IF($Q571>36,IF(X575<=($Q571-36),3,2))))","v":1},{"$f":"IF($Q571<=18,IF(Y575<=$Q571,1,0),IF($Q571<=36,IF(Y575<=($Q571-18),2,1),IF($Q571>36,IF(Y575<=($Q571-36),3,2))))","v":1},{"$f":"SUM(Q576:Y576)","v":10},{"$f":"P576+Z576","v":20}]
[null,null,null,null,null,"Stroke play",{"$f":"G30","v":10},10,10,10,10,10,10,10,10,{"$f":"SUM(G577:O577)","v":90},{"$f":"Q30","v":10},10,10,10,10,10,10,10,10,{"$f":"SUM(Q577:Y577)","v":90},{"$f":"P577+Z577","v":180}]
[null,null,null,null,null,"Net Stableford",{"$f":"IF(G577-G574=-1,3+G576)+IF(G577-G574=0,2+G576)+IF(G577-G574=1,1+G576)+IF(G577-G574=2,G576)+IF(G577-G574=3,IF(G576-1>0,G576-1,0))+IF(G577-G574=4,IF(G576-2>0,G576-2,0))","v":0},{"$f":"IF(H577-H574=-1,3+H576)+IF(H577-H574=0,2+H576)+IF(H577-H574=1,1+H576)+IF(H577-H574=2,H576)+IF(H577-H574=3,IF(H576-1>0,H576-1,0))+IF(H577-H574=4,IF(H576-2>0,H576-2,0))","v":0},0,0,0,0,0,0,0,{"$f":"SUM(G578:O578)","v":0},{"$f":"IF(Q577-Q574=-1,3+Q576)+IF(Q577-Q574=0,2+Q576)+IF(Q577-Q574=1,1+Q576)+IF(Q577-Q574=2,Q576)+IF(Q577-Q574=3,IF(Q576-1>0,Q576-1,0))+IF(Q577-Q574=4,IF(Q576-2>0,Q576-2,0))","v":0},0,0,0,0,0,0,0,0,{"$f":"SUM(Q578:Y578)","v":0},{"$f":"P578+Z578","v":0}]
[null,null,null,null,null,"Score Brut",{"$f":"IF(G577-G574=-2,4)+IF(G577-G574=-1,3)+IF(G577-G574=0,2)+IF(G577-G574=1,1)+IF(G577-G574>2,0)","v":0},0,0,0,0,0,0,0,0,{"$f":"SUM(G579:O579)","v":0},{"$f":"IF(Q577-Q574=-2,4)+IF(Q577-Q574=-1,3)+IF(Q577-Q574=0,2)+IF(Q577-Q574=1,1)+IF(Q577-Q574>2,0)","v":0},0,0,0,0,0,0,0,0,{"$f":"SUM(Q579:Y579)","v":0},{"$f":"P579+Z579","v":0}]
[null,null,null,null,null,null,{"$f":"G577-G574","v":6},{"$f":"H577-H574","v":6},5,6,7,5,7,5,7,null,{"$f":"Q577-Q574","v":6},6,7,5,7,6,6,5,6]
[]
[]
[null,null,null,null,null,"Statistiques scores",null,"Eagle & moins",null,null,null,{"$f":"COUNTIF(G580:Y580,\"<=-2\")","v":0},"Par",null,{"$f":"COUNTIF(G580:Y580,\"=0\")","v":0},"Double bogey",null,null,null,null,{"$f":"COUNTIF(G580:Y580,\"=2\")","v":0}]
[null,null,null,null,null,null,null,"Birdie",null,null,null,{"$f":"COUNTIF(G580:Y580,\"=-1\")","v":0},"Bogey",null,{"$f":"COUNTIF(G580:Y580,\"=1\")","v":0},"Triple bogey & plus",null,null,null,null,{"$f":"COUNTIF(G580:Y580,\">=3\")","v":18}]
[null,null,null,null,null,null,null,{"$f":"M583","v":"Par"},null,null,null,{"$f":"O583","v":0}]
[null,null,null,null,null,null,null,{"$f":"M584","v":"Bogey"},null,null,null,{"$f":"O584","v":0}]
[null,null,null,null,null,null,null,{"$f":"P583","v":"Double bogey"},null,null,null,{"$f":"U583","v":0}]
[null,null,null,null,null,null,null,{"$f":"P584","v":"Triple bogey & plus"},null,null,null,{"$f":"U584","v":18}]
[]
[]
[]
[]
[null,null,null,null,null,"Nom",{"$f":"C31","v":0},null,null,null,null,"Slope",null,null,"SSS",null,"Coups reçus",null,null,null,null,null,null,null,null,"Date",{"$f":"$D$3","v":"2022-03-05"}]
[null,null,null,null,null,"Index",{"$f":"E31","v":20},null,null,null,null,{"$f":"$F$3","v":133},null,null,{"$f":"$G$3","v":68.599999999999994},null,{"$f":"ROUND((G594*(L594/113)+(O594-AA597)),0)","v":20}]
[]
[null,null,null,null,null,"Trou",1,2,3,4,5,6,7,8,9,"Aller",10,11,12,13,14,15,16,17,18,"Retour","Total"]
[null,null,null,null,null,"PAR",{"$f":"G$7","v":4},{"$f":"H$7","v":4},5,4,3,5,3,5,3,{"$f":"SUM(G597:O597)","v":36},{"$f":"Q$7","v":4},4,3,5,3,4,4,5,4,{"$f":"SUM(Q597:Y597)","v":36},{"$f":"SUM(P597+Z597)","v":72}]
[null,null,null,null,null,"HCP trous",{"$f":"G$8","v":4},{"$f":"H$8","v":8},12,14,2,10,18,16,6,null,{"$f":"Q$8","v":1},9,11,5,17,15,3,13,7]
[null,null,null,null,null,"Coups reçus",{"$f":"IF($Q594<=18,IF(G598<=$Q594,1,0),IF($Q594<=36,IF(G598<=($Q594-18),2,1),IF($Q594>36,IF(G598<=($Q594-36),3,2))))","v":1},{"$f":"IF($Q594<=18,IF(H598<=$Q594,1,0),IF($Q594<=36,IF(H598<=($Q594-18),2,1),IF($Q594>36,IF(H598<=($Q594-36),3,2))))","v":1},{"$f":"IF($Q594<=18,IF(I598<=$Q594,1,0),IF($Q594<=36,IF(I598<=($Q594-18),2,1),IF($Q594>36,IF(I598<=($Q594-36),3,2))))","v":1},{"$f":"IF($Q594<=18,IF(J598<=$Q594,1,0),IF($Q594<=36,IF(J598<=($Q594-18),2,1),IF($Q594>36,IF(J598<=($Q594-36),3,2))))","v":1},{"$f":"IF($Q594<=18,IF(K598<=$Q594,1,0),IF($Q594<=36,IF(K598<=($Q594-18),2,1),IF($Q594>36,IF(K598<=($Q594-36),3,2))))","v":2},{"$f":"IF($Q594<=18,IF(L598<=$Q594,1,0),IF($Q594<=36,IF(L598<=($Q594-18),2,1),IF($Q594>36,IF(L598<=($Q594-36),3,2))))","v":1},{"$f":"IF($Q594<=18,IF(M598<=$Q594,1,0),IF($Q594<=36,IF(M598<=($Q594-18),2,1),IF($Q594>36,IF(M598<=($Q594-36),3,2))))","v":1},{"$f":"IF($Q594<=18,IF(N598<=$Q594,1,0),IF($Q594<=36,IF(N598<=($Q594-18),2,1),IF($Q594>36,IF(N598<=($Q594-36),3,2))))","v":1},{"$f":"IF($Q594<=18,IF(O598<=$Q594,1,0),IF($Q594<=36,IF(O598<=($Q594-18),2,1),IF($Q594>36,IF(O598<=($Q594-36),3,2))))","v":1},{"$f":"SUM(G599:O599)","v":10},{"$f":"IF($Q594<=18,IF(Q598<=$Q594,1,0),IF($Q594<=36,IF(Q598<=($Q594-18),2,1),IF($Q594>36,IF(Q598<=($Q594-36),3,2))))","v":2},{"$f":"IF($Q594<=18,IF(R598<=$Q594,1,0),IF($Q594<=36,IF(R598<=($Q594-18),2,1),IF($Q594>36,IF(R598<=($Q594-36),3,2))))","v":1},{"$f":"IF($Q594<=18,IF(S598<=$Q594,1,0),IF($Q594<=36,IF(S598<=($Q594-18),2,1),IF($Q594>36,IF(S598<=($Q594-36),3,2))))","v":1},{"$f":"IF($Q594<=18,IF(T598<=$Q594,1,0),IF($Q594<=36,IF(T598<=($Q594-18),2,1),IF($Q594>36,IF(T598<=($Q594-36),3,2))))","v":1},{"$f":"IF($Q594<=18,IF(U598<=$Q594,1,0),IF($Q594<=36,IF(U598<=($Q594-18),2,1),IF($Q594>36,IF(U598<=($Q594-36),3,2))))","v":1},{"$f":"IF($Q594<=18,IF(V598<=$Q594,1,0),IF($Q594<=36,IF(V598<=($Q594-18),2,1),IF($Q594>36,IF(V598<=($Q594-36),3,2))))","v":1},{"$f":"IF($Q594<=18,IF(W598<=$Q594,1,0),IF($Q594<=36,IF(W598<=($Q594-18),2,1),IF($Q594>36,IF(W598<=($Q594-36),3,2))))","v":1},{"$f":"IF($Q594<=18,IF(X598<=$Q594,1,0),IF($Q594<=36,IF(X598<=($Q594-18),2,1),IF($Q594>36,IF(X598<=($Q594-36),3,2))))","v":1},{"$f":"IF($Q594<=18,IF(Y598<=$Q594,1,0),IF($Q594<=36,IF(Y598<=($Q594-18),2,1),IF($Q594>36,IF(Y598<=($Q594-36),3,2))))","v":1},{"$f":"SUM(Q599:Y599)","v":10},{"$f":"P599+Z599","v":20}]
[null,null,null,null,null,"Stroke play",{"$f":"G31","v":10},10,10,10,10,10,10,10,10,{"$f":"SUM(G600:O600)","v":90},{"$f":"Q31","v":10},10,10,10,10,10,10,10,10,{"$f":"SUM(Q600:Y600)","v":90},{"$f":"P600+Z600","v":180}]
[null,null,null,null,null,"Net Stableford",{"$f":"IF(G600-G597=-1,3+G599)+IF(G600-G597=0,2+G599)+IF(G600-G597=1,1+G599)+IF(G600-G597=2,G599)+IF(G600-G597=3,IF(G599-1>0,G599-1,0))+IF(G600-G597=4,IF(G599-2>0,G599-2,0))","v":0},{"$f":"IF(H600-H597=-1,3+H599)+IF(H600-H597=0,2+H599)+IF(H600-H597=1,1+H599)+IF(H600-H597=2,H599)+IF(H600-H597=3,IF(H599-1>0,H599-1,0))+IF(H600-H597=4,IF(H599-2>0,H599-2,0))","v":0},0,0,0,0,0,0,0,{"$f":"SUM(G601:O601)","v":0},{"$f":"IF(Q600-Q597=-1,3+Q599)+IF(Q600-Q597=0,2+Q599)+IF(Q600-Q597=1,1+Q599)+IF(Q600-Q597=2,Q599)+IF(Q600-Q597=3,IF(Q599-1>0,Q599-1,0))+IF(Q600-Q597=4,IF(Q599-2>0,Q599-2,0))","v":0},0,0,0,0,0,0,0,0,{"$f":"SUM(Q601:Y601)","v":0},{"$f":"P601+Z601","v":0}]
[null,null,null,null,null,"Score Brut",{"$f":"IF(G600-G597=-2,4)+IF(G600-G597=-1,3)+IF(G600-G597=0,2)+IF(G600-G597=1,1)+IF(G600-G597>2,0)","v":0},0,0,0,0,0,0,0,0,{"$f":"SUM(G602:O602)","v":0},{"$f":"IF(Q600-Q597=-2,4)+IF(Q600-Q597=-1,3)+IF(Q600-Q597=0,2)+IF(Q600-Q597=1,1)+IF(Q600-Q597>2,0)","v":0},0,0,0,0,0,0,0,0,{"$f":"SUM(Q602:Y602)","v":0},{"$f":"P602+Z602","v":0}]
[null,null,null,null,null,null,{"$f":"G600-G597","v":6},{"$f":"H600-H597","v":6},5,6,7,5,7,5,7,null,{"$f":"Q600-Q597","v":6},6,7,5,7,6,6,5,6]
[]
[]
[null,null,null,null,null,"Statistiques scores",null,"Eagle & moins",null,null,null,{"$f":"COUNTIF(G603:Y603,\"<=-2\")","v":0},"Par",null,{"$f":"COUNTIF(G603:Y603,\"=0\")","v":0},"Double bogey",null,null,null,null,{"$f":"COUNTIF(G603:Y603,\"=2\")","v":0}]
[null,null,null,null,null,null,null,"Birdie",null,null,null,{"$f":"COUNTIF(G603:Y603,\"=-1\")","v":0},"Bogey",null,{"$f":"COUNTIF(G603:Y603,\"=1\")","v":0},"Triple bogey & plus",null,null,null,null,{"$f":"COUNTIF(G603:Y603,\">=3\")","v":18}]
[null,null,null,null,null,null,null,{"$f":"M606","v":"Par"},null,null,null,{"$f":"O606","v":0}]
[null,null,null,null,null,null,null,{"$f":"M607","v":"Bogey"},null,null,null,{"$f":"O607","v":0}]
[null,null,null,null,null,null,null,{"$f":"P606","v":"Double bogey"},null,null,null,{"$f":"U606","v":0}]
[null,null,null,null,null,null,null,{"$f":"P607","v":"Triple bogey & plus"},null,null,null,{"$f":"U607","v":18}]
[]
[]
[]
[]
[null,null,null,null,null,"Nom",{"$f":"C32","v":0},null,null,null,null,"Slope",null,null,"SSS",null,"Coups reçus",null,null,null,null,null,null,null,null,"Date",{"$f":"$D$3","v":"2022-03-05"}]
[null,null,null,null,null,"Index",{"$f":"E32","v":20},null,null,null,null,{"$f":"$F$3","v":133},null,null,{"$f":"$G$3","v":68.599999999999994},null,{"$f":"ROUND((G617*(L617/113)+(O617-AA620)),0)","v":20}]
[]
[null,null,null,null,null,"Trou",1,2,3,4,5,6,7,8,9,"Aller",10,11,12,13,14,15,16,17,18,"Retour","Total"]
[null,null,null,null,null,"PAR",{"$f":"G$7","v":4},{"$f":"H$7","v":4},5,4,3,5,3,5,3,{"$f":"SUM(G620:O620)","v":36},{"$f":"Q$7","v":4},4,3,5,3,4,4,5,4,{"$f":"SUM(Q620:Y620)","v":36},{"$f":"SUM(P620+Z620)","v":72}]
[null,null,null,null,null,"HCP trous",{"$f":"G$8","v":4},{"$f":"H$8","v":8},12,14,2,10,18,16,6,null,{"$f":"Q$8","v":1},9,11,5,17,15,3,13,7]
[null,null,null,null,null,"Coups reçus",{"$f":"IF($Q617<=18,IF(G621<=$Q617,1,0),IF($Q617<=36,IF(G621<=($Q617-18),2,1),IF($Q617>36,IF(G621<=($Q617-36),3,2))))","v":1},{"$f":"IF($Q617<=18,IF(H621<=$Q617,1,0),IF($Q617<=36,IF(H621<=($Q617-18),2,1),IF($Q617>36,IF(H621<=($Q617-36),3,2))))","v":1},{"$f":"IF($Q617<=18,IF(I621<=$Q617,1,0),IF($Q617<=36,IF(I621<=($Q617-18),2,1),IF($Q617>36,IF(I621<=($Q617-36),3,2))))","v":1},{"$f":"IF($Q617<=18,IF(J621<=$Q617,1,0),IF($Q617<=36,IF(J621<=($Q617-18),2,1),IF($Q617>36,IF(J621<=($Q617-36),3,2))))","v":1},{"$f":"IF($Q617<=18,IF(K621<=$Q617,1,0),IF($Q617<=36,IF(K621<=($Q617-18),2,1),IF($Q617>36,IF(K621<=($Q617-36),3,2))))","v":2},{"$f":"IF($Q617<=18,IF(L621<=$Q617,1,0),IF($Q617<=36,IF(L621<=($Q617-18),2,1),IF($Q617>36,IF(L621<=($Q617-36),3,2))))","v":1},{"$f":"IF($Q617<=18,IF(M621<=$Q617,1,0),IF($Q617<=36,IF(M621<=($Q617-18),2,1),IF($Q617>36,IF(M621<=($Q617-36),3,2))))","v":1},{"$f":"IF($Q617<=18,IF(N621<=$Q617,1,0),IF($Q617<=36,IF(N621<=($Q617-18),2,1),IF($Q617>36,IF(N621<=($Q617-36),3,2))))","v":1},{"$f":"IF($Q617<=18,IF(O621<=$Q617,1,0),IF($Q617<=36,IF(O621<=($Q617-18),2,1),IF($Q617>36,IF(O621<=($Q617-36),3,2))))","v":1},{"$f":"SUM(G622:O622)","v":10},{"$f":"IF($Q617<=18,IF(Q621<=$Q617,1,0),IF($Q617<=36,IF(Q621<=($Q617-18),2,1),IF($Q617>36,IF(Q621<=($Q617-36),3,2))))","v":2},{"$f":"IF($Q617<=18,IF(R621<=$Q617,1,0),IF($Q617<=36,IF(R621<=($Q617-18),2,1),IF($Q617>36,IF(R621<=($Q617-36),3,2))))","v":1},{"$f":"IF($Q617<=18,IF(S621<=$Q617,1,0),IF($Q617<=36,IF(S621<=($Q617-18),2,1),IF($Q617>36,IF(S621<=($Q617-36),3,2))))","v":1},{"$f":"IF($Q617<=18,IF(T621<=$Q617,1,0),IF($Q617<=36,IF(T621<=($Q617-18),2,1),IF($Q617>36,IF(T621<=($Q617-36),3,2))))","v":1},{"$f":"IF($Q617<=18,IF(U621<=$Q617,1,0),IF($Q617<=36,IF(U621<=($Q617-18),2,1),IF($Q617>36,IF(U621<=($Q617-36),3,2))))","v":1},{"$f":"IF($Q617<=18,IF(V621<=$Q617,1,0),IF($Q617<=36,IF(V621<=($Q617-18),2,1),IF($Q617>36,IF(V621<=($Q617-36),3,2))))","v":1},{"$f":"IF($Q617<=18,IF(W621<=$Q617,1,0),IF($Q617<=36,IF(W621<=($Q617-18),2,1),IF($Q617>36,IF(W621<=($Q617-36),3,2))))","v":1},{"$f":"IF($Q617<=18,IF(X621<=$Q617,1,0),IF($Q617<=36,IF(X621<=($Q617-18),2,1),IF($Q617>36,IF(X621<=($Q617-36),3,2))))","v":1},{"$f":"IF($Q617<=18,IF(Y621<=$Q617,1,0),IF($Q617<=36,IF(Y621<=($Q617-18),2,1),IF($Q617>36,IF(Y621<=($Q617-36),3,2))))","v":1},{"$f":"SUM(Q622:Y622)","v":10},{"$f":"P622+Z622","v":20}]
[null,null,null,null,null,"Stroke play",{"$f":"G32","v":10},10,10,10,10,10,10,10,10,{"$f":"SUM(G623:O623)","v":90},{"$f":"Q32","v":10},10,10,10,10,10,10,10,10,{"$f":"SUM(Q623:Y623)","v":90},{"$f":"P623+Z623","v":180}]
[null,null,null,null,null,"Net Stableford",{"$f":"IF(G623-G620=-1,3+G622)+IF(G623-G620=0,2+G622)+IF(G623-G620=1,1+G622)+IF(G623-G620=2,G622)+IF(G623-G620=3,IF(G622-1>0,G622-1,0))+IF(G623-G620=4,IF(G622-2>0,G622-2,0))","v":0},{"$f":"IF(H623-H620=-1,3+H622)+IF(H623-H620=0,2+H622)+IF(H623-H620=1,1+H622)+IF(H623-H620=2,H622)+IF(H623-H620=3,IF(H622-1>0,H622-1,0))+IF(H623-H620=4,IF(H622-2>0,H622-2,0))","v":0},0,0,0,0,0,0,0,{"$f":"SUM(G624:O624)","v":0},{"$f":"IF(Q623-Q620=-1,3+Q622)+IF(Q623-Q620=0,2+Q622)+IF(Q623-Q620=1,1+Q622)+IF(Q623-Q620=2,Q622)+IF(Q623-Q620=3,IF(Q622-1>0,Q622-1,0))+IF(Q623-Q620=4,IF(Q622-2>0,Q622-2,0))","v":0},0,0,0,0,0,0,0,0,{"$f":"SUM(Q624:Y624)","v":0},{"$f":"P624+Z624","v":0}]
[null,null,null,null,null,"Score Brut",{"$f":"IF(G623-G620=-2,4)+IF(G623-G620=-1,3)+IF(G623-G620=0,2)+IF(G623-G620=1,1)+IF(G623-G620>2,0)","v":0},0,0,0,0,0,0,0,0,{"$f":"SUM(G625:O625)","v":0},{"$f":"IF(Q623-Q620=-2,4)+IF(Q623-Q620=-1,3)+IF(Q623-Q620=0,2)+IF(Q623-Q620=1,1)+IF(Q623-Q620>2,0)","v":0},0,0,0,0,0,0,0,0,{"$f":"SUM(Q625:Y625)","v":0},{"$f":"P625+Z625","v":0}]
[null,null,null,null,null,null,{"$f":"G623-G620","v":6},{"$f":"H623-H620","v":6},5,6,7,5,7,5,7,null,{"$f":"Q623-Q620","v":6},6,7,5,7,6,6,5,6]
[]
[]
[null,null,null,null,null,"Statistiques scores",null,"Eagle & moins",null,null,null,{"$f":"COUNTIF(G626:Y626,\"<=-2\")","v":0},"Par",null,{"$f":"COUNTIF(G626:Y626,\"=0\")","v":0},"Double bogey",null,null,null,null,{"$f":"COUNTIF(G626:Y626,\"=2\")","v":0}]
[null,null,null,null,null,null,null,"Birdie",null,null,null,{"$f":"COUNTIF(G626:Y626,\"=-1\")","v":0},"Bogey",null,{"$f":"COUNTIF(G626:Y626,\"=1\")","v":0},"Triple bogey & plus",null,null,null,null,{"$f":"COUNTIF(G626:Y626,\">=3\")","v":18}]
[null,null,null,null,null,null,null,{"$f":"M629","v":"Par"},null,null,null,{"$f":"O629","v":0}]
[null,null,null,null,null,null,null,{"$f":"M630","v":"Bogey"},null,null,null,{"$f":"O630","v":0}]
[null,null,null,null,null,null,null,{"$f":"P629","v":"Double bogey"},null,null,null,{"$f":"U629","v":0}]
[null,null,null,null,null,null,null,{"$f":"P630","v":"Triple bogey & plus"},null,null,null,{"$f":"U630","v":18}]
[]
[]
[]
[]
[null,null,null,null,null,"Nom",{"$f":"C33","v":0},null,null,null,null,"Slope",null,null,"SSS",null,"Coups reçus",null,null,null,null,null,null,null,null,"Date",{"$f":"$D$3","v":"2022-03-05"}]
[null,null,null,null,null,"Index",{"$f":"E33","v":20},null,null,null,null,{"$f":"$F$3","v":133},null,null,{"$f":"$G$3","v":68.599999999999994},null,{"$f":"ROUND((G640*(L640/113)+(O640-AA643)),0)","v":20}]
[]
[null,null,null,null,null,"Trou",1,2,3,4,5,6,7,8,9,"Aller",10,11,12,13,14,15,16,17,18,"Retour","Total"]
[null,null,null,null,null,"PAR",{"$f":"G$7","v":4},{"$f":"H$7","v":4},5,4,3,5,3,5,3,{"$f":"SUM(G643:O643)","v":36},{"$f":"Q$7","v":4},4,3,5,3,4,4,5,4,{"$f":"SUM(Q643:Y643)","v":36},{"$f":"SUM(P643+Z643)","v":72}]
[null,null,null,null,null,"HCP trous",{"$f":"G$8","v":4},{"$f":"H$8","v":8},12,14,2,10,18,16,6,null,{"$f":"Q$8","v":1},9,11,5,17,15,3,13,7]
[null,null,null,null,null,"Coups reçus",{"$f":"IF($Q640<=18,IF(G644<=$Q640,1,0),IF($Q640<=36,IF(G644<=($Q640-18),2,1),IF($Q640>36,IF(G644<=($Q640-36),3,2))))","v":1},{"$f":"IF($Q640<=18,IF(H644<=$Q640,1,0),IF($Q640<=36,IF(H644<=($Q640-18),2,1),IF($Q640>36,IF(H644<=($Q640-36),3,2))))","v":1},{"$f":"IF($Q640<=18,IF(I644<=$Q640,1,0),IF($Q640<=36,IF(I644<=($Q640-18),2,1),IF($Q640>36,IF(I644<=($Q640-36),3,2))))","v":1},{"$f":"IF($Q640<=18,IF(J644<=$Q640,1,0),IF($Q640<=36,IF(J644<=($Q640-18),2,1),IF($Q640>36,IF(J644<=($Q640-36),3,2))))","v":1},{"$f":"IF($Q640<=18,IF(K644<=$Q640,1,0),IF($Q640<=36,IF(K644<=($Q640-18),2,1),IF($Q640>36,IF(K644<=($Q640-36),3,2))))","v":2},{"$f":"IF($Q640<=18,IF(L644<=$Q640,1,0),IF($Q640<=36,IF(L644<=($Q640-18),2,1),IF($Q640>36,IF(L644<=($Q640-36),3,2))))","v":1},{"$f":"IF($Q640<=18,IF(M644<=$Q640,1,0),IF($Q640<=36,IF(M644<=($Q640-18),2,1),IF($Q640>36,IF(M644<=($Q640-36),3,2))))","v":1},{"$f":"IF($Q640<=18,IF(N644<=$Q640,1,0),IF($Q640<=36,IF(N644<=($Q640-18),2,1),IF($Q640>36,IF(N644<=($Q640-36),3,2))))","v":1},{"$f":"IF($Q640<=18,IF(O644<=$Q640,1,0),IF($Q640<=36,IF(O644<=($Q640-18),2,1),IF($Q640>36,IF(O644<=($Q640-36),3,2))))","v":1},{"$f":"SUM(G645:O645)","v":10},{"$f":"IF($Q640<=18,IF(Q644<=$Q640,1,0),IF($Q640<=36,IF(Q644<=($Q640-18),2,1),IF($Q640>36,IF(Q644<=($Q640-36),3,2))))","v":2},{"$f":"IF($Q640<=18,IF(R644<=$Q640,1,0),IF($Q640<=36,IF(R644<=($Q640-18),2,1),IF($Q640>36,IF(R644<=($Q640-36),3,2))))","v":1},{"$f":"IF($Q640<=18,IF(S644<=$Q640,1,0),IF($Q640<=36,IF(S644<=($Q640-18),2,1),IF($Q640>36,IF(S644<=($Q640-36),3,2))))","v":1},{"$f":"IF($Q640<=18,IF(T644<=$Q640,1,0),IF($Q640<=36,IF(T644<=($Q640-18),2,1),IF($Q640>36,IF(T644<=($Q640-36),3,2))))","v":1},{"$f":"IF($Q640<=18,IF(U644<=$Q640,1,0),IF($Q640<=36,IF(U644<=($Q640-18),2,1),IF($Q640>36,IF(U644<=($Q640-36),3,2))))","v":1},{"$f":"IF($Q640<=18,IF(V644<=$Q640,1,0),IF($Q640<=36,IF(V644<=($Q640-18),2,1),IF($Q640>36,IF(V644<=($Q640-36),3,2))))","v":1},{"$f":"IF($Q640<=18,IF(W644<=$Q640,1,0),IF($Q640<=36,IF(W644<=($Q640-18),2,1),IF($Q640>36,IF(W644<=($Q640-36),3,2))))","v":1},{"$f":"IF($Q640<=18,IF(X644<=$Q640,1,0),IF($Q640<=36,IF(X644<=($Q640-18),2,1),IF($Q640>36,IF(X644<=($Q640-36),3,2))))","v":1},{"$f":"IF($Q640<=18,IF(Y644<=$Q640,1,0),IF($Q640<=36,IF(Y644<=($Q640-18),2,1),IF($Q640>36,IF(Y644<=($Q640-36),3,2))))","v":1},{"$f":"SUM(Q645:Y645)","v":10},{"$f":"P645+Z645","v":20}]
[null,null,null,null,null,"Stroke play",{"$f":"G33","v":10},10,10,10,10,10,10,10,10,{"$f":"SUM(G646:O646)","v":90},{"$f":"Q33","v":10},10,10,10,10,10,10,10,10,{"$f":"SUM(Q646:Y646)","v":90},{"$f":"P646+Z646","v":180}]
[null,null,null,null,null,"Net Stableford",{"$f":"IF(G646-G643=-1,3+G645)+IF(G646-G643=0,2+G645)+IF(G646-G643=1,1+G645)+IF(G646-G643=2,G645)+IF(G646-G643=3,IF(G645-1>0,G645-1,0))+IF(G646-G643=4,IF(G645-2>0,G645-2,0))","v":0},{"$f":"IF(H646-H643=-1,3+H645)+IF(H646-H643=0,2+H645)+IF(H646-H643=1,1+H645)+IF(H646-H643=2,H645)+IF(H646-H643=3,IF(H645-1>0,H645-1,0))+IF(H646-H643=4,IF(H645-2>0,H645-2,0))","v":0},0,0,0,0,0,0,0,{"$f":"SUM(G647:O647)","v":0},{"$f":"IF(Q646-Q643=-1,3+Q645)+IF(Q646-Q643=0,2+Q645)+IF(Q646-Q643=1,1+Q645)+IF(Q646-Q643=2,Q645)+IF(Q646-Q643=3,IF(Q645-1>0,Q645-1,0))+IF(Q646-Q643=4,IF(Q645-2>0,Q645-2,0))","v":0},0,0,0,0,0,0,0,0,{"$f":"SUM(Q647:Y647)","v":0},{"$f":"P647+Z647","v":0}]
[null,null,null,null,null,"Score Brut",{"$f":"IF(G646-G643=-2,4)+IF(G646-G643=-1,3)+IF(G646-G643=0,2)+IF(G646-G643=1,1)+IF(G646-G643>2,0)","v":0},0,0,0,0,0,0,0,0,{"$f":"SUM(G648:O648)","v":0},{"$f":"IF(Q646-Q643=-2,4)+IF(Q646-Q643=-1,3)+IF(Q646-Q643=0,2)+IF(Q646-Q643=1,1)+IF(Q646-Q643>2,0)","v":0},0,0,0,0,0,0,0,0,{"$f":"SUM(Q648:Y648)","v":0},{"$f":"P648+Z648","v":0}]
[null,null,null,null,null,null,{"$f":"G646-G643","v":6},{"$f":"H646-H643","v":6},5,6,7,5,7,5,7,null,{"$f":"Q646-Q643","v":6},6,7,5,7,6,6,5,6]
[]
[]
[null,null,null,null,null,"Statistiques scores",null,"Eagle & moins",null,null,null,{"$f":"COUNTIF(G649:Y649,\"<=-2\")","v":0},"Par",null,{"$f":"COUNTIF(G649:Y649,\"=0\")","v":0},"Double bogey",null,null,null,null,{"$f":"COUNTIF(G649:Y649,\"=2\")","v":0}]
[null,null,null,null,null,null,null,"Birdie",null,null,null,{"$f":"COUNTIF(G649:Y649,\"=-1\")","v":0},"Bogey",null,{"$f":"COUNTIF(G649:Y649,\"=1\")","v":0},"Triple bogey & plus",null,null,null,null,{"$f":"COUNTIF(G649:Y649,\">=3\")","v":18}]
[null,null,null,null,null,null,null,{"$f":"M652","v":"Par"},null,null,null,{"$f":"O652","v":0}]
[null,null,null,null,null,null,null,{"$f":"M653","v":"Bogey"},null,null,null,{"$f":"O653","v":0}]
[null,null,null,null,null,null,null,{"$f":"P652","v":"Double bogey"},null,null,null,{"$f":"U652","v":0}]
[null,null,null,null,null,null,null,{"$f":"P653","v":"Triple bogey & plus"},null,null,null,{"$f":"U653","v":18}]
[]
[]
[]
[]
[null,null,null,null,null,"Nom",{"$f":"C34","v":0},null,null,null,null,"Slope",null,null,"SSS",null,"Coups reçus",null,null,null,null,null,null,null,null,"Date",{"$f":"$D$3","v":"2022-03-05"}]
[null,null,null,null,null,"Index",{"$f":"E34","v":20},null,null,null,null,{"$f":"$F$3","v":133},null,null,{"$f":"$G$3","v":68.599999999999994},null,{"$f":"ROUND((G663*(L663/113)+(O663-AA666)),0)","v":20}]
[]
[null,null,null,null,null,"Trou",1,2,3,4,5,6,7,8,9,"Aller",10,11,12,13,14,15,16,17,18,"Retour","Total"]
[null,null,null,null,null,"PAR",{"$f":"G$7","v":4},{"$f":"H$7","v":4},5,4,3,5,3,5,3,{"$f":"SUM(G666:O666)","v":36},{"$f":"Q$7","v":4},4,3,5,3,4,4,5,4,{"$f":"SUM(Q666:Y666)","v":36},{"$f":"SUM(P666+Z666)","v":72}]
[null,null,null,null,null,"HCP trous",{"$f":"G$8","v":4},{"$f":"H$8","v":8},12,14,2,10,18,16,6,null,{"$f":"Q$8","v":1},9,11,5,17,15,3,13,7]
[null,null,null,null,null,"Coups reçus",{"$f":"IF($Q663<=18,IF(G667<=$Q663,1,0),IF($Q663<=36,IF(G667<=($Q663-18),2,1),IF($Q663>36,IF(G667<=($Q663-36),3,2))))","v":1},{"$f":"IF($Q663<=18,IF(H667<=$Q663,1,0),IF($Q663<=36,IF(H667<=($Q663-18),2,1),IF($Q663>36,IF(H667<=($Q663-36),3,2))))","v":1},{"$f":"IF($Q663<=18,IF(I667<=$Q663,1,0),IF($Q663<=36,IF(I667<=($Q663-18),2,1),IF($Q663>36,IF(I667<=($Q663-36),3,2))))","v":1},{"$f":"IF($Q663<=18,IF(J667<=$Q663,1,0),IF($Q663<=36,IF(J667<=($Q663-18),2,1),IF($Q663>36,IF(J667<=($Q663-36),3,2))))","v":1},{"$f":"IF($Q663<=18,IF(K667<=$Q663,1,0),IF($Q663<=36,IF(K667<=($Q663-18),2,1),IF($Q663>36,IF(K667<=($Q663-36),3,2))))","v":2},{"$f":"IF($Q663<=18,IF(L667<=$Q663,1,0),IF($Q663<=36,IF(L667<=($Q663-18),2,1),IF($Q663>36,IF(L667<=($Q663-36),3,2))))","v":1},{"$f":"IF($Q663<=18,IF(M667<=$Q663,1,0),IF($Q663<=36,IF(M667<=($Q663-18),2,1),IF($Q663>36,IF(M667<=($Q663-36),3,2))))","v":1},{"$f":"IF($Q663<=18,IF(N667<=$Q663,1,0),IF($Q663<=36,IF(N667<=($Q663-18),2,1),IF($Q663>36,IF(N667<=($Q663-36),3,2))))","v":1},{"$f":"IF($Q663<=18,IF(O667<=$Q663,1,0),IF($Q663<=36,IF(O667<=($Q663-18),2,1),IF($Q663>36,IF(O667<=($Q663-36),3,2))))","v":1},{"$f":"SUM(G668:O668)","v":10},{"$f":"IF($Q663<=18,IF(Q667<=$Q663,1,0),IF($Q663<=36,IF(Q667<=($Q663-18),2,1),IF($Q663>36,IF(Q667<=($Q663-36),3,2))))","v":2},{"$f":"IF($Q663<=18,IF(R667<=$Q663,1,0),IF($Q663<=36,IF(R667<=($Q663-18),2,1),IF($Q663>36,IF(R667<=($Q663-36),3,2))))","v":1},{"$f":"IF($Q663<=18,IF(S667<=$Q663,1,0),IF($Q663<=36,IF(S667<=($Q663-18),2,1),IF($Q663>36,IF(S667<=($Q663-36),3,2))))","v":1},{"$f":"IF($Q663<=18,IF(T667<=$Q663,1,0),IF($Q663<=36,IF(T667<=($Q663-18),2,1),IF($Q663>36,IF(T667<=($Q663-36),3,2))))","v":1},{"$f":"IF($Q663<=18,IF(U667<=$Q663,1,0),IF($Q663<=36,IF(U667<=($Q663-18),2,1),IF($Q663>36,IF(U667<=($Q663-36),3,2))))","v":1},{"$f":"IF($Q663<=18,IF(V667<=$Q663,1,0),IF($Q663<=36,IF(V667<=($Q663-18),2,1),IF($Q663>36,IF(V667<=($Q663-36),3,2))))","v":1},{"$f":"IF($Q663<=18,IF(W667<=$Q663,1,0),IF($Q663<=36,IF(W667<=($Q663-18),2,1),IF($Q663>36,IF(W667<=($Q663-36),3,2))))","v":1},{"$f":"IF($Q663<=18,IF(X667<=$Q663,1,0),IF($Q663<=36,IF(X667<=($Q663-18),2,1),IF($Q663>36,IF(X667<=($Q663-36),3,2))))","v":1},{"$f":"IF($Q663<=18,IF(Y667<=$Q663,1,0),IF($Q663<=36,IF(Y667<=($Q663-18),2,1),IF($Q663>36,IF(Y667<=($Q663-36),3,2))))","v":1},{"$f":"SUM(Q668:Y668)","v":10},{"$f":"P668+Z668","v":20}]
[null,null,null,null,null,"Stroke play",{"$f":"G34","v":10},10,10,10,10,10,10,10,10,{"$f":"SUM(G669:O669)","v":90},{"$f":"Q34","v":10},10,10,10,10,10,10,10,10,{"$f":"SUM(Q669:Y669)","v":90},{"$f":"P669+Z669","v":180}]
[null,null,null,null,null,"Net Stableford",{"$f":"IF(G669-G666=-1,3+G668)+IF(G669-G666=0,2+G668)+IF(G669-G666=1,1+G668)+IF(G669-G666=2,G668)+IF(G669-G666=3,IF(G668-1>0,G668-1,0))+IF(G669-G666=4,IF(G668-2>0,G668-2,0))","v":0},{"$f":"IF(H669-H666=-1,3+H668)+IF(H669-H666=0,2+H668)+IF(H669-H666=1,1+H668)+IF(H669-H666=2,H668)+IF(H669-H666=3,IF(H668-1>0,H668-1,0))+IF(H669-H666=4,IF(H668-2>0,H668-2,0))","v":0},0,0,0,0,0,0,0,{"$f":"SUM(G670:O670)","v":0},{"$f":"IF(Q669-Q666=-1,3+Q668)+IF(Q669-Q666=0,2+Q668)+IF(Q669-Q666=1,1+Q668)+IF(Q669-Q666=2,Q668)+IF(Q669-Q666=3,IF(Q668-1>0,Q668-1,0))+IF(Q669-Q666=4,IF(Q668-2>0,Q668-2,0))","v":0},0,0,0,0,0,0,0,0,{"$f":"SUM(Q670:Y670)","v":0},{"$f":"P670+Z670","v":0}]
[null,null,null,null,null,"Score Brut",{"$f":"IF(G669-G666=-2,4)+IF(G669-G666=-1,3)+IF(G669-G666=0,2)+IF(G669-G666=1,1)+IF(G669-G666>2,0)","v":0},0,0,0,0,0,0,0,0,{"$f":"SUM(G671:O671)","v":0},{"$f":"IF(Q669-Q666=-2,4)+IF(Q669-Q666=-1,3)+IF(Q669-Q666=0,2)+IF(Q669-Q666=1,1)+IF(Q669-Q666>2,0)","v":0},0,0,0,0,0,0,0,0,{"$f":"SUM(Q671:Y671)","v":0},{"$f":"P671+Z671","v":0}]
[null,null,null,null,null,null,{"$f":"G669-G666","v":6},{"$f":"H669-H666","v":6},5,6,7,5,7,5,7,null,{"$f":"Q669-Q666","v":6},6,7,5,7,6,6,5,6]
[]
[]
[null,null,null,null,null,"Statistiques scores",null,"Eagle & moins",null,null,null,{"$f":"COUNTIF(G672:Y672,\"<=-2\")","v":0},"Par",null,{"$f":"COUNTIF(G672:Y672,\"=0\")","v":0},"Double bogey",null,null,null,null,{"$f":"COUNTIF(G672:Y672,\"=2\")","v":0}]
[null,null,null,null,null,null,null,"Birdie",null,null,null,{"$f":"COUNTIF(G672:Y672,\"=-1\")","v":0},"Bogey",null,{"$f":"COUNTIF(G672:Y672,\"=1\")","v":0},"Triple bogey & plus",null,null,null,null,{"$f":"COUNTIF(G672:Y672,\">=3\")","v":18}]
[null,null,null,null,null,null,null,{"$f":"M675","v":"Par"},null,null,null,{"$f":"O675","v":0}]
[null,null,null,null,null,null,null,{"$f":"M676","v":"Bogey"},null,null,null,{"$f":"O676","v":0}]
[null,null,null,null,null,null,null,{"$f":"P675","v":"Double bogey"},null,null,null,{"$f":"U675","v":0}]
[null,null,null,null,null,null,null,{"$f":"P676","v":"Triple bogey & plus"},null,null,null,{"$f":"U676","v":18}]
[]
[]
[]
[]
[null,null,null,null,null,"Nom",{"$f":"C35","v":0},null,null,null,null,"Slope",null,null,"SSS",null,"Coups reçus",null,null,null,null,null,null,null,null,"Date",{"$f":"$D$3","v":"2022-03-05"}]
[null,null,null,null,null,"Index",{"$f":"E35","v":20},null,null,null,null,{"$f":"$F$3","v":133},null,null,{"$f":"$G$3","v":68.599999999999994},null,{"$f":"ROUND((G686*(L686/113)+(O686-AA689)),0)","v":20}]
[]
[null,null,null,null,null,"Trou",1,2,3,4,5,6,7,8,9,"Aller",10,11,12,13,14,15,16,17,18,"Retour","Total"]
[null,null,null,null,null,"PAR",{"$f":"G$7","v":4},{"$f":"H$7","v":4},5,4,3,5,3,5,3,{"$f":"SUM(G689:O689)","v":36},{"$f":"Q$7","v":4},4,3,5,3,4,4,5,4,{"$f":"SUM(Q689:Y689)","v":36},{"$f":"SUM(P689+Z689)","v":72}]
[null,null,null,null,null,"HCP trous",{"$f":"G$8","v":4},{"$f":"H$8","v":8},12,14,2,10,18,16,6,null,{"$f":"Q$8","v":1},9,11,5,17,15,3,13,7]
[null,null,null,null,null,"Coups reçus",{"$f":"IF($Q686<=18,IF(G690<=$Q686,1,0),IF($Q686<=36,IF(G690<=($Q686-18),2,1),IF($Q686>36,IF(G690<=($Q686-36),3,2))))","v":1},{"$f":"IF($Q686<=18,IF(H690<=$Q686,1,0),IF($Q686<=36,IF(H690<=($Q686-18),2,1),IF($Q686>36,IF(H690<=($Q686-36),3,2))))","v":1},{"$f":"IF($Q686<=18,IF(I690<=$Q686,1,0),IF($Q686<=36,IF(I690<=($Q686-18),2,1),IF($Q686>36,IF(I690<=($Q686-36),3,2))))","v":1},{"$f":"IF($Q686<=18,IF(J690<=$Q686,1,0),IF($Q686<=36,IF(J690<=($Q686-18),2,1),IF($Q686>36,IF(J690<=($Q686-36),3,2))))","v":1},{"$f":"IF($Q686<=18,IF(K690<=$Q686,1,0),IF($Q686<=36,IF(K690<=($Q686-18),2,1),IF($Q686>36,IF(K690<=($Q686-36),3,2))))","v":2},{"$f":"IF($Q686<=18,IF(L690<=$Q686,1,0),IF($Q686<=36,IF(L690<=($Q686-18),2,1),IF($Q686>36,IF(L690<=($Q686-36),3,2))))","v":1},{"$f":"IF($Q686<=18,IF(M690<=$Q686,1,0),IF($Q686<=36,IF(M690<=($Q686-18),2,1),IF($Q686>36,IF(M690<=($Q686-36),3,2))))","v":1},{"$f":"IF($Q686<=18,IF(N690<=$Q686,1,0),IF($Q686<=36,IF(N690<=($Q686-18),2,1),IF($Q686>36,IF(N690<=($Q686-36),3,2))))","v":1},{"$f":"IF($Q686<=18,IF(O690<=$Q686,1,0),IF($Q686<=36,IF(O690<=($Q686-18),2,1),IF($Q686>36,IF(O690<=($Q686-36),3,2))))","v":1},{"$f":"SUM(G691:O691)","v":10},{"$f":"IF($Q686<=18,IF(Q690<=$Q686,1,0),IF($Q686<=36,IF(Q690<=($Q686-18),2,1),IF($Q686>36,IF(Q690<=($Q686-36),3,2))))","v":2},{"$f":"IF($Q686<=18,IF(R690<=$Q686,1,0),IF($Q686<=36,IF(R690<=($Q686-18),2,1),IF($Q686>36,IF(R690<=($Q686-36),3,2))))","v":1},{"$f":"IF($Q686<=18,IF(S690<=$Q686,1,0),IF($Q686<=36,IF(S690<=($Q686-18),2,1),IF($Q686>36,IF(S690<=($Q686-36),3,2))))","v":1},{"$f":"IF($Q686<=18,IF(T690<=$Q686,1,0),IF($Q686<=36,IF(T690<=($Q686-18),2,1),IF($Q686>36,IF(T690<=($Q686-36),3,2))))","v":1},{"$f":"IF($Q686<=18,IF(U690<=$Q686,1,0),IF($Q686<=36,IF(U690<=($Q686-18),2,1),IF($Q686>36,IF(U690<=($Q686-36),3,2))))","v":1},{"$f":"IF($Q686<=18,IF(V690<=$Q686,1,0),IF($Q686<=36,IF(V690<=($Q686-18),2,1),IF($Q686>36,IF(V690<=($Q686-36),3,2))))","v":1},{"$f":"IF($Q686<=18,IF(W690<=$Q686,1,0),IF($Q686<=36,IF(W690<=($Q686-18),2,1),IF($Q686>36,IF(W690<=($Q686-36),3,2))))","v":1},{"$f":"IF($Q686<=18,IF(X690<=$Q686,1,0),IF($Q686<=36,IF(X690<=($Q686-18),2,1),IF($Q686>36,IF(X690<=($Q686-36),3,2))))","v":1},{"$f":"IF($Q686<=18,IF(Y690<=$Q686,1,0),IF($Q686<=36,IF(Y690<=($Q686-18),2,1),IF($Q686>36,IF(Y690<=($Q686-36),3,2))))","v":1},{"$f":"SUM(Q691:Y691)","v":10},{"$f":"P691+Z691","v":20}]
[null,null,null,null,null,"Stroke play",{"$f":"G35","v":10},10,10,10,10,10,10,10,10,{"$f":"SUM(G692:O692)","v":90},{"$f":"Q35","v":10},10,10,10,10,10,10,10,10,{"$f":"SUM(Q692:Y692)","v":90},{"$f":"P692+Z692","v":180}]
[null,null,null,null,null,"Net Stableford",{"$f":"IF(G692-G689=-1,3+G691)+IF(G692-G689=0,2+G691)+IF(G692-G689=1,1+G691)+IF(G692-G689=2,G691)+IF(G692-G689=3,IF(G691-1>0,G691-1,0))+IF(G692-G689=4,IF(G691-2>0,G691-2,0))","v":0},{"$f":"IF(H692-H689=-1,3+H691)+IF(H692-H689=0,2+H691)+IF(H692-H689=1,1+H691)+IF(H692-H689=2,H691)+IF(H692-H689=3,IF(H691-1>0,H691-1,0))+IF(H692-H689=4,IF(H691-2>0,H691-2,0))","v":0},0,0,0,0,0,0,0,{"$f":"SUM(G693:O693)","v":0},{"$f":"IF(Q692-Q689=-1,3+Q691)+IF(Q692-Q689=0,2+Q691)+IF(Q692-Q689=1,1+Q691)+IF(Q692-Q689=2,Q691)+IF(Q692-Q689=3,IF(Q691-1>0,Q691-1,0))+IF(Q692-Q689=4,IF(Q691-2>0,Q691-2,0))","v":0},0,0,0,0,0,0,0,0,{"$f":"SUM(Q693:Y693)","v":0},{"$f":"P693+Z693","v":0}]
[null,null,null,null,null,"Score Brut",{"$f":"IF(G692-G689=-2,4)+IF(G692-G689=-1,3)+IF(G692-G689=0,2)+IF(G692-G689=1,1)+IF(G692-G689>2,0)","v":0},0,0,0,0,0,0,0,0,{"$f":"SUM(G694:O694)","v":0},{"$f":"IF(Q692-Q689=-2,4)+IF(Q692-Q689=-1,3)+IF(Q692-Q689=0,2)+IF(Q692-Q689=1,1)+IF(Q692-Q689>2,0)","v":0},0,0,0,0,0,0,0,0,{"$f":"SUM(Q694:Y694)","v":0},{"$f":"P694+Z694","v":0}]
[null,null,null,null,null,null,{"$f":"G692-G689","v":6},{"$f":"H692-H689","v":6},5,6,7,5,7,5,7,null,{"$f":"Q692-Q689","v":6},6,7,5,7,6,6,5,6]
[]
[]
[null,null,null,null,null,"Statistiques scores",null,"Eagle & moins",null,null,null,{"$f":"COUNTIF(G695:Y695,\"<=-2\")","v":0},"Par",null,{"$f":"COUNTIF(G695:Y695,\"=0\")","v":0},"Double bogey",null,null,null,null,{"$f":"COUNTIF(G695:Y695,\"=2\")","v":0}]
[null,null,null,null,null,null,null,"Birdie",null,null,null,{"$f":"COUNTIF(G695:Y695,\"=-1\")","v":0},"Bogey",null,{"$f":"COUNTIF(G695:Y695,\"=1\")","v":0},"Triple bogey & plus",null,null,null,null,{"$f":"COUNTIF(G695:Y695,\">=3\")","v":18}]
[null,null,null,null,null,null,null,{"$f":"M698","v":"Par"},null,null,null,{"$f":"O698","v":0}]
[null,null,null,null,null,null,null,{"$f":"M699","v":"Bogey"},null,null,null,{"$f":"O699","v":0}]
[null,null,null,null,null,null,null,{"$f":"P698","v":"Double bogey"},null,null,null,{"$f":"U698","v":0}]
[null,null,null,null,null,null,null,{"$f":"P699","v":"Triple bogey & plus"},null,null,null,{"$f":"U699","v":18}]
[]
[]
[]
[]
[null,null,null,null,null,"Nom",{"$f":"C36","v":0},null,null,null,null,"Slope",null,null,"SSS",null,"Coups reçus",null,null,null,null,null,null,null,null,"Date",{"$f":"$D$3","v":"2022-03-05"}]
[null,null,null,null,null,"Index",{"$f":"E36","v":20},null,null,null,null,{"$f":"$F$3","v":133},null,null,{"$f":"$G$3","v":68.599999999999994},null,{"$f":"ROUND((G709*(L709/113)+(O709-AA712)),0)","v":20}]
[]
[null,null,null,null,null,"Trou",1,2,3,4,5,6,7,8,9,"Aller",10,11,12,13,14,15,16,17,18,"Retour","Total"]
[null,null,null,null,null,"PAR",{"$f":"G$7","v":4},{"$f":"H$7","v":4},5,4,3,5,3,5,3,{"$f":"SUM(G712:O712)","v":36},{"$f":"Q$7","v":4},4,3,5,3,4,4,5,4,{"$f":"SUM(Q712:Y712)","v":36},{"$f":"SUM(P712+Z712)","v":72}]
[null,null,null,null,null,"HCP trous",{"$f":"G$8","v":4},{"$f":"H$8","v":8},12,14,2,10,18,16,6,null,{"$f":"Q$8","v":1},9,11,5,17,15,3,13,7]
[null,null,null,null,null,"Coups reçus",{"$f":"IF($Q709<=18,IF(G713<=$Q709,1,0),IF($Q709<=36,IF(G713<=($Q709-18),2,1),IF($Q709>36,IF(G713<=($Q709-36),3,2))))","v":1},{"$f":"IF($Q709<=18,IF(H713<=$Q709,1,0),IF($Q709<=36,IF(H713<=($Q709-18),2,1),IF($Q709>36,IF(H713<=($Q709-36),3,2))))","v":1},{"$f":"IF($Q709<=18,IF(I713<=$Q709,1,0),IF($Q709<=36,IF(I713<=($Q709-18),2,1),IF($Q709>36,IF(I713<=($Q709-36),3,2))))","v":1},{"$f":"IF($Q709<=18,IF(J713<=$Q709,1,0),IF($Q709<=36,IF(J713<=($Q709-18),2,1),IF($Q709>36,IF(J713<=($Q709-36),3,2))))","v":1},{"$f":"IF($Q709<=18,IF(K713<=$Q709,1,0),IF($Q709<=36,IF(K713<=($Q709-18),2,1),IF($Q709>36,IF(K713<=($Q709-36),3,2))))","v":2},{"$f":"IF($Q709<=18,IF(L713<=$Q709,1,0),IF($Q709<=36,IF(L713<=($Q709-18),2,1),IF($Q709>36,IF(L713<=($Q709-36),3,2))))","v":1},{"$f":"IF($Q709<=18,IF(M713<=$Q709,1,0),IF($Q709<=36,IF(M713<=($Q709-18),2,1),IF($Q709>36,IF(M713<=($Q709-36),3,2))))","v":1},{"$f":"IF($Q709<=18,IF(N713<=$Q709,1,0),IF($Q709<=36,IF(N713<=($Q709-18),2,1),IF($Q709>36,IF(N713<=($Q709-36),3,2))))","v":1},{"$f":"IF($Q709<=18,IF(O713<=$Q709,1,0),IF($Q709<=36,IF(O713<=($Q709-18),2,1),IF($Q709>36,IF(O713<=($Q709-36),3,2))))","v":1},{"$f":"SUM(G714:O714)","v":10},{"$f":"IF($Q709<=18,IF(Q713<=$Q709,1,0),IF($Q709<=36,IF(Q713<=($Q709-18),2,1),IF($Q709>36,IF(Q713<=($Q709-36),3,2))))","v":2},{"$f":"IF($Q709<=18,IF(R713<=$Q709,1,0),IF($Q709<=36,IF(R713<=($Q709-18),2,1),IF($Q709>36,IF(R713<=($Q709-36),3,2))))","v":1},{"$f":"IF($Q709<=18,IF(S713<=$Q709,1,0),IF($Q709<=36,IF(S713<=($Q709-18),2,1),IF($Q709>36,IF(S713<=($Q709-36),3,2))))","v":1},{"$f":"IF($Q709<=18,IF(T713<=$Q709,1,0),IF($Q709<=36,IF(T713<=($Q709-18),2,1),IF($Q709>36,IF(T713<=($Q709-36),3,2))))","v":1},{"$f":"IF($Q709<=18,IF(U713<=$Q709,1,0),IF($Q709<=36,IF(U713<=($Q709-18),2,1),IF($Q709>36,IF(U713<=($Q709-36),3,2))))","v":1},{"$f":"IF($Q709<=18,IF(V713<=$Q709,1,0),IF($Q709<=36,IF(V713<=($Q709-18),2,1),IF($Q709>36,IF(V713<=($Q709-36),3,2))))","v":1},{"$f":"IF($Q709<=18,IF(W713<=$Q709,1,0),IF($Q709<=36,IF(W713<=($Q709-18),2,1),IF($Q709>36,IF(W713<=($Q709-36),3,2))))","v":1},{"$f":"IF($Q709<=18,IF(X713<=$Q709,1,0),IF($Q709<=36,IF(X713<=($Q709-18),2,1),IF($Q709>36,IF(X713<=($Q709-36),3,2))))","v":1},{"$f":"IF($Q709<=18,IF(Y713<=$Q709,1,0),IF($Q709<=36,IF(Y713<=($Q709-18),2,1),IF($Q709>36,IF(Y713<=($Q709-36),3,2))))","v":1},{"$f":"SUM(Q714:Y714)","v":10},{"$f":"P714+Z714","v":20}]
[null,null,null,null,null,"Stroke play",{"$f":"G36","v":10},10,10,10,10,10,10,10,10,{"$f":"SUM(G715:O715)","v":90},{"$f":"Q36","v":10},10,10,10,10,10,10,10,10,{"$f":"SUM(Q715:Y715)","v":90},{"$f":"P715+Z715","v":180}]
[null,null,null,null,null,"Net Stableford",{"$f":"IF(G715-G712=-1,3+G714)+IF(G715-G712=0,2+G714)+IF(G715-G712=1,1+G714)+IF(G715-G712=2,G714)+IF(G715-G712=3,IF(G714-1>0,G714-1,0))+IF(G715-G712=4,IF(G714-2>0,G714-2,0))","v":0},{"$f":"IF(H715-H712=-1,3+H714)+IF(H715-H712=0,2+H714)+IF(H715-H712=1,1+H714)+IF(H715-H712=2,H714)+IF(H715-H712=3,IF(H714-1>0,H714-1,0))+IF(H715-H712=4,IF(H714-2>0,H714-2,0))","v":0},0,0,0,0,0,0,0,{"$f":"SUM(G716:O716)","v":0},{"$f":"IF(Q715-Q712=-1,3+Q714)+IF(Q715-Q712=0,2+Q714)+IF(Q715-Q712=1,1+Q714)+IF(Q715-Q712=2,Q714)+IF(Q715-Q712=3,IF(Q714-1>0,Q714-1,0))+IF(Q715-Q712=4,IF(Q714-2>0,Q714-2,0))","v":0},0,0,0,0,0,0,0,0,{"$f":"SUM(Q716:Y716)","v":0},{"$f":"P716+Z716","v":0}]
[null,null,null,null,null,"Score Brut",{"$f":"IF(G715-G712=-2,4)+IF(G715-G712=-1,3)+IF(G715-G712=0,2)+IF(G715-G712=1,1)+IF(G715-G712>2,0)","v":0},0,0,0,0,0,0,0,0,{"$f":"SUM(G717:O717)","v":0},{"$f":"IF(Q715-Q712=-2,4)+IF(Q715-Q712=-1,3)+IF(Q715-Q712=0,2)+IF(Q715-Q712=1,1)+IF(Q715-Q712>2,0)","v":0},0,0,0,0,0,0,0,0,{"$f":"SUM(Q717:Y717)","v":0},{"$f":"P717+Z717","v":0}]
[null,null,null,null,null,null,{"$f":"G715-G712","v":6},{"$f":"H715-H712","v":6},5,6,7,5,7,5,7,null,{"$f":"Q715-Q712","v":6},6,7,5,7,6,6,5,6]
[]
[]
[null,null,null,null,null,"Statistiques scores",null,"Eagle & moins",null,null,null,{"$f":"COUNTIF(G718:Y718,\"<=-2\")","v":0},"Par",null,{"$f":"COUNTIF(G718:Y718,\"=0\")","v":0},"Double bogey",null,null,null,null,{"$f":"COUNTIF(G718:Y718,\"=2\")","v":0}]
[null,null,null,null,null,null,null,"Birdie",null,null,null,{"$f":"COUNTIF(G718:Y718,\"=-1\")","v":0},"Bogey",null,{"$f":"COUNTIF(G718:Y718,\"=1\")","v":0},"Triple bogey & plus",null,null,null,null,{"$f":"COUNTIF(G718:Y718,\">=3\")","v":18}]
[null,null,null,null,null,null,null,{"$f":"M721","v":"Par"},null,null,null,{"$f":"O721","v":0}]
[null,null,null,null,null,null,null,{"$f":"M722","v":"Bogey"},null,null,null,{"$f":"O722","v":0}]
[null,null,null,null,null,null,null,{"$f":"P721","v":"Double bogey"},null,null,null,{"$f":"U721","v":0}]
[null,null,null,null,null,null,null,{"$f":"P722","v":"Triple bogey & plus"},null,null,null,{"$f":"U722","v":18}]
[]
[]
[]
[]
[null,null,null,null,null,"Nom",{"$f":"C37","v":0},null,null,null,null,"Slope",null,null,"SSS",null,"Coups reçus",null,null,null,null,null,null,null,null,"Date",{"$f":"$D$3","v":"2022-03-05"}]
[null,null,null,null,null,"Index",{"$f":"E37","v":20},null,null,null,null,{"$f":"$F$3","v":133},null,null,{"$f":"$G$3","v":68.599999999999994},null,{"$f":"ROUND((G732*(L732/113)+(O732-AA735)),0)","v":20}]
[]
[null,null,null,null,null,"Trou",1,2,3,4,5,6,7,8,9,"Aller",10,11,12,13,14,15,16,17,18,"Retour","Total"]
[null,null,null,null,null,"PAR",{"$f":"G$7","v":4},{"$f":"H$7","v":4},5,4,3,5,3,5,3,{"$f":"SUM(G735:O735)","v":36},{"$f":"Q$7","v":4},4,3,5,3,4,4,5,4,{"$f":"SUM(Q735:Y735)","v":36},{"$f":"SUM(P735+Z735)","v":72}]
[null,null,null,null,null,"HCP trous",{"$f":"G$8","v":4},{"$f":"H$8","v":8},12,14,2,10,18,16,6,null,{"$f":"Q$8","v":1},9,11,5,17,15,3,13,7]
[null,null,null,null,null,"Coups reçus",{"$f":"IF($Q732<=18,IF(G736<=$Q732,1,0),IF($Q732<=36,IF(G736<=($Q732-18),2,1),IF($Q732>36,IF(G736<=($Q732-36),3,2))))","v":1},{"$f":"IF($Q732<=18,IF(H736<=$Q732,1,0),IF($Q732<=36,IF(H736<=($Q732-18),2,1),IF($Q732>36,IF(H736<=($Q732-36),3,2))))","v":1},{"$f":"IF($Q732<=18,IF(I736<=$Q732,1,0),IF($Q732<=36,IF(I736<=($Q732-18),2,1),IF($Q732>36,IF(I736<=($Q732-36),3,2))))","v":1},{"$f":"IF($Q732<=18,IF(J736<=$Q732,1,0),IF($Q732<=36,IF(J736<=($Q732-18),2,1),IF($Q732>36,IF(J736<=($Q732-36),3,2))))","v":1},{"$f":"IF($Q732<=18,IF(K736<=$Q732,1,0),IF($Q732<=36,IF(K736<=($Q732-18),2,1),IF($Q732>36,IF(K736<=($Q732-36),3,2))))","v":2},{"$f":"IF($Q732<=18,IF(L736<=$Q732,1,0),IF($Q732<=36,IF(L736<=($Q732-18),2,1),IF($Q732>36,IF(L736<=($Q732-36),3,2))))","v":1},{"$f":"IF($Q732<=18,IF(M736<=$Q732,1,0),IF($Q732<=36,IF(M736<=($Q732-18),2,1),IF($Q732>36,IF(M736<=($Q732-36),3,2))))","v":1},{"$f":"IF($Q732<=18,IF(N736<=$Q732,1,0),IF($Q732<=36,IF(N736<=($Q732-18),2,1),IF($Q732>36,IF(N736<=($Q732-36),3,2))))","v":1},{"$f":"IF($Q732<=18,IF(O736<=$Q732,1,0),IF($Q732<=36,IF(O736<=($Q732-18),2,1),IF($Q732>36,IF(O736<=($Q732-36),3,2))))","v":1},{"$f":"SUM(G737:O737)","v":10},{"$f":"IF($Q732<=18,IF(Q736<=$Q732,1,0),IF($Q732<=36,IF(Q736<=($Q732-18),2,1),IF($Q732>36,IF(Q736<=($Q732-36),3,2))))","v":2},{"$f":"IF($Q732<=18,IF(R736<=$Q732,1,0),IF($Q732<=36,IF(R736<=($Q732-18),2,1),IF($Q732>36,IF(R736<=($Q732-36),3,2))))","v":1},{"$f":"IF($Q732<=18,IF(S736<=$Q732,1,0),IF($Q732<=36,IF(S736<=($Q732-18),2,1),IF($Q732>36,IF(S736<=($Q732-36),3,2))))","v":1},{"$f":"IF($Q732<=18,IF(T736<=$Q732,1,0),IF($Q732<=36,IF(T736<=($Q732-18),2,1),IF($Q732>36,IF(T736<=($Q732-36),3,2))))","v":1},{"$f":"IF($Q732<=18,IF(U736<=$Q732,1,0),IF($Q732<=36,IF(U736<=($Q732-18),2,1),IF($Q732>36,IF(U736<=($Q732-36),3,2))))","v":1},{"$f":"IF($Q732<=18,IF(V736<=$Q732,1,0),IF($Q732<=36,IF(V736<=($Q732-18),2,1),IF($Q732>36,IF(V736<=($Q732-36),3,2))))","v":1},{"$f":"IF($Q732<=18,IF(W736<=$Q732,1,0),IF($Q732<=36,IF(W736<=($Q732-18),2,1),IF($Q732>36,IF(W736<=($Q732-36),3,2))))","v":1},{"$f":"IF($Q732<=18,IF(X736<=$Q732,1,0),IF($Q732<=36,IF(X736<=($Q732-18),2,1),IF($Q732>36,IF(X736<=($Q732-36),3,2))))","v":1},{"$f":"IF($Q732<=18,IF(Y736<=$Q732,1,0),IF($Q732<=36,IF(Y736<=($Q732-18),2,1),IF($Q732>36,IF(Y736<=($Q732-36),3,2))))","v":1},{"$f":"SUM(Q737:Y737)","v":10},{"$f":"P737+Z737","v":20}]
[null,null,null,null,null,"Stroke play",{"$f":"G37","v":10},10,10,10,10,10,10,10,10,{"$f":"SUM(G738:O738)","v":90},{"$f":"Q37","v":10},10,10,10,10,10,10,10,10,{"$f":"SUM(Q738:Y738)","v":90},{"$f":"P738+Z738","v":180}]
[null,null,null,null,null,"Net Stableford",{"$f":"IF(G738-G735=-1,3+G737)+IF(G738-G735=0,2+G737)+IF(G738-G735=1,1+G737)+IF(G738-G735=2,G737)+IF(G738-G735=3,IF(G737-1>0,G737-1,0))+IF(G738-G735=4,IF(G737-2>0,G737-2,0))","v":0},{"$f":"IF(H738-H735=-1,3+H737)+IF(H738-H735=0,2+H737)+IF(H738-H735=1,1+H737)+IF(H738-H735=2,H737)+IF(H738-H735=3,IF(H737-1>0,H737-1,0))+IF(H738-H735=4,IF(H737-2>0,H737-2,0))","v":0},0,0,0,0,0,0,0,{"$f":"SUM(G739:O739)","v":0},{"$f":"IF(Q738-Q735=-1,3+Q737)+IF(Q738-Q735=0,2+Q737)+IF(Q738-Q735=1,1+Q737)+IF(Q738-Q735=2,Q737)+IF(Q738-Q735=3,IF(Q737-1>0,Q737-1,0))+IF(Q738-Q735=4,IF(Q737-2>0,Q737-2,0))","v":0},0,0,0,0,0,0,0,0,{"$f":"SUM(Q739:Y739)","v":0},{"$f":"P739+Z739","v":0}]
[null,null,null,null,null,"Score Brut",{"$f":"IF(G738-G735=-2,4)+IF(G738-G735=-1,3)+IF(G738-G735=0,2)+IF(G738-G735=1,1)+IF(G738-G735>2,0)","v":0},0,0,0,0,0,0,0,0,{"$f":"SUM(G740:O740)","v":0},{"$f":"IF(Q738-Q735=-2,4)+IF(Q738-Q735=-1,3)+IF(Q738-Q735=0,2)+IF(Q738-Q735=1,1)+IF(Q738-Q735>2,0)","v":0},0,0,0,0,0,0,0,0,{"$f":"SUM(Q740:Y740)","v":0},{"$f":"P740+Z740","v":0}]
[null,null,null,null,null,null,{"$f":"G738-G735","v":6},{"$f":"H738-H735","v":6},5,6,7,5,7,5,7,null,{"$f":"Q738-Q735","v":6},6,7,5,7,6,6,5,6]
[]
[]
[null,null,null,null,null,"Statistiques scores",null,"Eagle & moins",null,null,null,{"$f":"COUNTIF(G741:Y741,\"<=-2\")","v":0},"Par",null,{"$f":"COUNTIF(G741:Y741,\"=0\")","v":0},"Double bogey",null,null,null,null,{"$f":"COUNTIF(G741:Y741,\"=2\")","v":0}]
[null,null,null,null,null,null,null,"Birdie",null,null,null,{"$f":"COUNTIF(G741:Y741,\"=-1\")","v":0},"Bogey",null,{"$f":"COUNTIF(G741:Y741,\"=1\")","v":0},"Triple bogey & plus",null,null,null,null,{"$f":"COUNTIF(G741:Y741,\">=3\")","v":18}]
[null,null,null,null,null,null,null,{"$f":"M744","v":"Par"},null,null,null,{"$f":"O744","v":0}]
[null,null,null,null,null,null,null,{"$f":"M745","v":"Bogey"},null,null,null,{"$f":"O745","v":0}]
[null,null,null,null,null,null,null,{"$f":"P744","v":"Double bogey"},null,null,null,{"$f":"U744","v":0}]
[null,null,null,null,null,null,null,{"$f":"P745","v":"Triple bogey & plus"},null,null,null,{"$f":"U745","v":18}]
[]
[]
[]
[]
[null,null,null,null,null,"Nom",{"$f":"C38","v":0},null,null,null,null,"Slope",null,null,"SSS",null,"Coups reçus",null,null,null,null,null,null,null,null,"Date",{"$f":"$D$3","v":"2022-03-05"}]
[null,null,null,null,null,"Index",{"$f":"E38","v":20},null,null,null,null,{"$f":"$F$3","v":133},null,null,{"$f":"$G$3","v":68.599999999999994},null,{"$f":"ROUND((G755*(L755/113)+(O755-AA758)),0)","v":20}]
[]
[null,null,null,null,null,"Trou",1,2,3,4,5,6,7,8,9,"Aller",10,11,12,13,14,15,16,17,18,"Retour","Total"]
[null,null,null,null,null,"PAR",{"$f":"G$7","v":4},{"$f":"H$7","v":4},5,4,3,5,3,5,3,{"$f":"SUM(G758:O758)","v":36},{"$f":"Q$7","v":4},4,3,5,3,4,4,5,4,{"$f":"SUM(Q758:Y758)","v":36},{"$f":"SUM(P758+Z758)","v":72}]
[null,null,null,null,null,"HCP trous",{"$f":"G$8","v":4},{"$f":"H$8","v":8},12,14,2,10,18,16,6,null,{"$f":"Q$8","v":1},9,11,5,17,15,3,13,7]
[null,null,null,null,null,"Coups reçus",{"$f":"IF($Q755<=18,IF(G759<=$Q755,1,0),IF($Q755<=36,IF(G759<=($Q755-18),2,1),IF($Q755>36,IF(G759<=($Q755-36),3,2))))","v":1},{"$f":"IF($Q755<=18,IF(H759<=$Q755,1,0),IF($Q755<=36,IF(H759<=($Q755-18),2,1),IF($Q755>36,IF(H759<=($Q755-36),3,2))))","v":1},{"$f":"IF($Q755<=18,IF(I759<=$Q755,1,0),IF($Q755<=36,IF(I759<=($Q755-18),2,1),IF($Q755>36,IF(I759<=($Q755-36),3,2))))","v":1},{"$f":"IF($Q755<=18,IF(J759<=$Q755,1,0),IF($Q755<=36,IF(J759<=($Q755-18),2,1),IF($Q755>36,IF(J759<=($Q755-36),3,2))))","v":1},{"$f":"IF($Q755<=18,IF(K759<=$Q755,1,0),IF($Q755<=36,IF(K759<=($Q755-18),2,1),IF($Q755>36,IF(K759<=($Q755-36),3,2))))","v":2},{"$f":"IF($Q755<=18,IF(L759<=$Q755,1,0),IF($Q755<=36,IF(L759<=($Q755-18),2,1),IF($Q755>36,IF(L759<=($Q755-36),3,2))))","v":1},{"$f":"IF($Q755<=18,IF(M759<=$Q755,1,0),IF($Q755<=36,IF(M759<=($Q755-18),2,1),IF($Q755>36,IF(M759<=($Q755-36),3,2))))","v":1},{"$f":"IF($Q755<=18,IF(N759<=$Q755,1,0),IF($Q755<=36,IF(N759<=($Q755-18),2,1),IF($Q755>36,IF(N759<=($Q755-36),3,2))))","v":1},{"$f":"IF($Q755<=18,IF(O759<=$Q755,1,0),IF($Q755<=36,IF(O759<=($Q755-18),2,1),IF($Q755>36,IF(O759<=($Q755-36),3,2))))","v":1},{"$f":"SUM(G760:O760)","v":10},{"$f":"IF($Q755<=18,IF(Q759<=$Q755,1,0),IF($Q755<=36,IF(Q759<=($Q755-18),2,1),IF($Q755>36,IF(Q759<=($Q755-36),3,2))))","v":2},{"$f":"IF($Q755<=18,IF(R759<=$Q755,1,0),IF($Q755<=36,IF(R759<=($Q755-18),2,1),IF($Q755>36,IF(R759<=($Q755-36),3,2))))","v":1},{"$f":"IF($Q755<=18,IF(S759<=$Q755,1,0),IF($Q755<=36,IF(S759<=($Q755-18),2,1),IF($Q755>36,IF(S759<=($Q755-36),3,2))))","v":1},{"$f":"IF($Q755<=18,IF(T759<=$Q755,1,0),IF($Q755<=36,IF(T759<=($Q755-18),2,1),IF($Q755>36,IF(T759<=($Q755-36),3,2))))","v":1},{"$f":"IF($Q755<=18,IF(U759<=$Q755,1,0),IF($Q755<=36,IF(U759<=($Q755-18),2,1),IF($Q755>36,IF(U759<=($Q755-36),3,2))))","v":1},{"$f":"IF($Q755<=18,IF(V759<=$Q755,1,0),IF($Q755<=36,IF(V759<=($Q755-18),2,1),IF($Q755>36,IF(V759<=($Q755-36),3,2))))","v":1},{"$f":"IF($Q755<=18,IF(W759<=$Q755,1,0),IF($Q755<=36,IF(W759<=($Q755-18),2,1),IF($Q755>36,IF(W759<=($Q755-36),3,2))))","v":1},{"$f":"IF($Q755<=18,IF(X759<=$Q755,1,0),IF($Q755<=36,IF(X759<=($Q755-18),2,1),IF($Q755>36,IF(X759<=($Q755-36),3,2))))","v":1},{"$f":"IF($Q755<=18,IF(Y759<=$Q755,1,0),IF($Q755<=36,IF(Y759<=($Q755-18),2,1),IF($Q755>36,IF(Y759<=($Q755-36),3,2))))","v":1},{"$f":"SUM(Q760:Y760)","v":10},{"$f":"P760+Z760","v":20}]
[null,null,null,null,null,"Stroke play",{"$f":"G38","v":10},10,10,10,10,10,10,10,10,{"$f":"SUM(G761:O761)","v":90},{"$f":"Q38","v":10},10,10,10,10,10,10,10,10,{"$f":"SUM(Q761:Y761)","v":90},{"$f":"P761+Z761","v":180}]
[null,null,null,null,null,"Net Stableford",{"$f":"IF(G761-G758=-1,3+G760)+IF(G761-G758=0,2+G760)+IF(G761-G758=1,1+G760)+IF(G761-G758=2,G760)+IF(G761-G758=3,IF(G760-1>0,G760-1,0))+IF(G761-G758=4,IF(G760-2>0,G760-2,0))","v":0},{"$f":"IF(H761-H758=-1,3+H760)+IF(H761-H758=0,2+H760)+IF(H761-H758=1,1+H760)+IF(H761-H758=2,H760)+IF(H761-H758=3,IF(H760-1>0,H760-1,0))+IF(H761-H758=4,IF(H760-2>0,H760-2,0))","v":0},0,0,0,0,0,0,0,{"$f":"SUM(G762:O762)","v":0},{"$f":"IF(Q761-Q758=-1,3+Q760)+IF(Q761-Q758=0,2+Q760)+IF(Q761-Q758=1,1+Q760)+IF(Q761-Q758=2,Q760)+IF(Q761-Q758=3,IF(Q760-1>0,Q760-1,0))+IF(Q761-Q758=4,IF(Q760-2>0,Q760-2,0))","v":0},0,0,0,0,0,0,0,0,{"$f":"SUM(Q762:Y762)","v":0},{"$f":"P762+Z762","v":0}]
[null,null,null,null,null,"Score Brut",{"$f":"IF(G761-G758=-2,4)+IF(G761-G758=-1,3)+IF(G761-G758=0,2)+IF(G761-G758=1,1)+IF(G761-G758>2,0)","v":0},0,0,0,0,0,0,0,0,{"$f":"SUM(G763:O763)","v":0},{"$f":"IF(Q761-Q758=-2,4)+IF(Q761-Q758=-1,3)+IF(Q761-Q758=0,2)+IF(Q761-Q758=1,1)+IF(Q761-Q758>2,0)","v":0},0,0,0,0,0,0,0,0,{"$f":"SUM(Q763:Y763)","v":0},{"$f":"P763+Z763","v":0}]
[null,null,null,null,null,null,{"$f":"G761-G758","v":6},{"$f":"H761-H758","v":6},5,6,7,5,7,5,7,null,{"$f":"Q761-Q758","v":6},6,7,5,7,6,6,5,6]
[]
[]
[null,null,null,null,null,"Statistiques scores",null,"Eagle & moins",null,null,null,{"$f":"COUNTIF(G764:Y764,\"<=-2\")","v":0},"Par",null,{"$f":"COUNTIF(G764:Y764,\"=0\")","v":0},"Double bogey",null,null,null,null,{"$f":"COUNTIF(G764:Y764,\"=2\")","v":0}]
[null,null,null,null,null,null,null,"Birdie",null,null,null,{"$f":"COUNTIF(G764:Y764,\"=-1\")","v":0},"Bogey",null,{"$f":"COUNTIF(G764:Y764,\"=1\")","v":0},"Triple bogey & plus",null,null,null,null,{"$f":"COUNTIF(G764:Y764,\">=3\")","v":18}]
[null,null,null,null,null,null,null,{"$f":"M767","v":"Par"},null,null,null,{"$f":"O767","v":0}]
[null,null,null,null,null,null,null,{"$f":"M768","v":"Bogey"},null,null,null,{"$f":"O768","v":0}]
[null,null,null,null,null,null,null,{"$f":"P767","v":"Double bogey"},null,null,null,{"$f":"U767","v":0}]
[null,null,null,null,null,null,null,{"$f":"P768","v":"Triple bogey & plus"},null,null,null,{"$f":"U768","v":18}]

{"sheet":"Cheverny 26-03","index":3,"n_rows":772,"n_cols":42,"rows_kept":772,"cut":false,"hidden":false,"merged":[[767,15,767,19],[768,7,768,8],[769,7,769,8],[754,6,754,9],[754,11,754,13],[754,14,754,15],[754,16,754,19],[766,5,767,6],[766,7,766,10],[766,12,766,13],[766,15,766,19],[767,7,767,10],[767,12,767,13],[744,15,744,19],[745,7,745,8],[746,7,746,8],[753,6,753,9],[753,11,753,13],[753,14,753,15],[753,16,753,19],[731,6,731,9],[731,11,731,13],[731,14,731,15],[731,16,731,19],[743,5,744,6],[743,7,743,10],[743,12,743,13],[743,15,743,19],[744,7,744,10],[744,12,744,13],[721,15,721,19],[722,7,722,8],[723,7,723,8],[730,6,730,9],[730,11,730,13],[730,14,730,15],[730,16,730,19],[708,6,708,9],[708,11,708,13],[708,14,708,15],[708,16,708,19],[720,5,721,6],[720,7,720,10],[720,12,720,13],[720,15,720,19],[721,7,721,10],[721,12,721,13],[698,15,698,19],[699,7,699,8],[700,7,700,8],[707,6,707,9],[707,11,707,13],[707,14,707,15],[707,16,707,19],[685,6,685,9],[685,11,685,13],[685,14,685,15],[685,16,685,19],[697,5,698,6],[697,7,697,10],[697,12,697,13],[697,15,697,19],[698,7,698,10],[698,12,698,13],[675,15,675,19],[676,7,676,8],[677,7,677,8],[684,6,684,9],[684,11,684,13],[684,14,684,15],[684,16,684,19],[662,6,662,9],[662,11,662,13],[662,14,662,15],[662,16,662,19],[674,5,675,6],[674,7,674,10],[674,12,674,13],[674,15,674,19],[675,7,675,10],[675,12,675,13],[652,15,652,19],[653,7,653,8],[654,7,654,8],[661,6,661,9],[661,11,661,13],[661,14,661,15],[661,16,661,19],[639,6,639,9],[639,11,639,13],[639,14,639,15],[639,16,639,19],[651,5,652,6],[651,7,651,10],[651,12,651,13],[651,15,651,19],[652,7,652,10],[652,12,652,13],[629,15,629,19],[630,7,630,8],[631,7,631,8],[638,6,638,9],[638,11,638,13],[638,14,638,15],[638,16,638,19],[616,6,616,9],[616,11,616,13],[616,14,616,15],[616,16,616,19],[628,5,629,6],[628,7,628,10],[628,12,628,13],[628,15,628,19],[629,7,629,10],[629,12,629,13],[606,15,606,19],[607,7,607,8],[608,7,608,8],[615,6,615,9],[615,11,615,13],[615,14,615,15],[615,16,615,19],[593,6,593,9],[593,11,593,13],[593,14,593,15],[593,16,593,19],[605,5,606,6],[605,7,605,10],[605,12,605,13],[605,15,605,19],[606,7,606,10],[606,12,606,13],[583,15,583,19],[584,7,584,8],[585,7,585,8],[592,6,592,9],[592,11,592,13],[592,14,592,15],[592,16,592,19],[570,6,570,9],[570,11,570,13],[570,14,570,15],[570,16,570,19],[582,5,583,6],[582,7,582,10],[582,12,582,13],[582,15,582,19],[583,7,583,10],[583,12,583,13],[560,15,560,19],[561,7,561,8],[562,7,562,8],[569,6,569,9],[569,11,569,13],[569,14,569,15],[569,16,569,19],[547,6,547,9],[547,11,547,13],[547,14,547,15],[547,16,547,19],[559,5,560,6],[559,7,559,10],[559,12,559,13],[559,15,559,19],[560,7,560,10],[560,12,560,13],[537,15,537,19],[538,7,538,8],[539,7,539,8],[546,6,546,9],[546,11,546,13],[546,14,546,15],[546,16,546,19],[524,6,524,9],[524,11,524,13],[524,14,524,15],[524,16,524,19],[536,5,537,6],[536,7,536,10],[536,12,536,13],[536,15,536,19],[537,7,537,10],[537,12,537,13],[514,15,514,19],[515,7,515,8],[516,7,516,8],[523,6,523,9],[523,11,523,13],[523,14,523,15],[523,16,523,19],[501,6,501,9],[501,11,501,13],[501,14,501,15],[501,16,501,19],[513,5,514,6],[513,7,513,10],[513,12,513,13],[513,15,513,19],[514,7,514,10],[514,12,514,13],[491,15,491,19],[492,7,492,8],[493,7,493,8],[500,6,500,9],[500,11,500,13],[500,14,500,15],[500,16,500,19],[478,6,478,9],[478,11,478,13],[478,14,478,15],[478,16,478,19],[490,5,491,6],[490,7,490,10],[490,12,490,13],[490,15,490,19],[491,7,491,10],[491,12,491,13],[468,15,468,19],[469,7,469,8],[470,7,470,8],[477,6,477,9],[477,11,477,13],[477,14,477,15],[477,16,477,19],[455,6,455,9],[455,11,455,13],[455,14,455,15],[455,16,455,19],[467,5,468,6],[467,7,467,10],[467,12,467,13],[467,15,467,19],[468,7,468,10],[468,12,468,13],[445,15,445,19],[446,7,446,8],[447,7,447,8],[454,6,454,9],[454,11,454,13],[454,14,454,15],[454,16,454,19],[432,6,432,9],[432,11,432,13],[432,14,432,15],[432,16,432,19],[444,5,445,6],[444,7,444,10],[444,12,444,13],[444,15,444,19],[445,7,445,10],[445,12,445,13],[422,15,422,19],[423,7,423,8],[424,7,424,8],[431,6,431,9],[431,11,431,13],[431,14,431,15],[431,16,431,19],[409,6,409,9],[409,11,409,13],[409,14,409,15],[409,16,409,19],[421,5,422,6],[421,7,421,10],[421,12,421,13],[421,15,421,19],[422,7,422,10],[422,12,422,13],[399,15,399,19],[400,7,400,8],[401,7,401,8],[408,6,408,9],[408,11,408,13],[408,14,408,15],[408,16,408,19],[386,6,386,9],[386,11,386,13],[386,14,386,15],[386,16,386,19],[398,5,399,6],[398,7,398,10],[398,12,398,13],[398,15,398,19],[399,7,399,10],[399,12,399,13],[376,15,376,19],[377,7,377,8],[378,7,378,8],[385,6,385,9],[385,11,385,13],[385,14,385,15],[385,16,385,19],[363,6,363,9],[363,11,363,13],[363,14,363,15],[363,16,363,19],[375,5,376,6],[375,7,375,10],[375,12,375,13],[375,15,375,19],[376,7,376,10],[376,12,376,13],[353,15,353,19],[354,7,354,8],[355,7,355,8],[362,6,362,9],[362,11,362,13],[362,14,362,15],[362,16,362,19],[340,6,340,9],[340,11,340,13],[340,14,340,15],[340,16,340,19],[352,5,353,6],[352,7,352,10],[352,12,352,13],[352,15,352,19],[353,7,353,10],[353,12,353,13],[330,15,330,19],[331,7,331,8],[332,7,332,8],[339,6,339,9],[339,11,339,13],[339,14,339,15],[339,16,339,19],[317,6,317,9],[317,11,317,13],[317,14,317,15],[317,16,317,19],[329,5,330,6],[329,7,329,10],[329,12,329,13],[329,15,329,19],[330,7,330,10],[330,12,330,13],[307,15,307,19],[308,7,308,8],[309,7,309,8],[316,6,316,9],[316,11,316,13],[316,14,316,15],[316,16,316,19],[294,6,294,9],[294,11,294,13],[294,14,294,15],[294,16,294,19],[306,5,307,6],[306,7,306,10],[306,12,306,13],[306,15,306,19],[307,7,307,10],[307,12,307,13],[284,15,284,19],[285,7,285,8],[286,7,286,8],[293,6,293,9],[293,11,293,13],[293,14,293,15],[293,16,293,19],[271,6,271,9],[271,11,271,13],[271,14,271,15],[271,16,271,19],[283,5,284,6],[283,7,283,10],[283,12,283,13],[283,15,283,19],[284,7,284,10],[284,12,284,13],[261,15,261,19],[262,7,262,8],[263,7,263,8],[270,6,270,9],[270,11,270,13],[270,14,270,15],[270,16,270,19],[248,6,248,9],[248,11,248,13],[248,14,248,15],[248,16,248,19],[260,5,261,6],[260,7,260,10],[260,12,260,13],[260,15,260,19],[261,7,261,10],[261,12,261,13],[238,15,238,19],[239,7,239,8],[240,7,240,8],[247,6,247,9],[247,11,247,13],[247,14,247,15],[247,16,247,19],[225,6,225,9],[225,11,225,13],[225,14,225,15],[225,16,225,19],[237,5,238,6],[237,7,237,10],[237,12,237,13],[237,15,237,19],[238,7,238,10],[238,12,238,13],[215,15,215,19],[216,7,216,8],[217,7,217,8],[224,6,224,9],[224,11,224,13],[224,14,224,15],[224,16,224,19],[202,6,202,9],[202,11,202,13],[202,14,202,15],[202,16,202,19],[214,5,215,6],[214,7,214,10],[214,12,214,13],[214,15,214,19],[215,7,215,10],[215,12,215,13],[192,15,192,19],[193,7,193,8],[194,7,194,8],[201,6,201,9],[201,11,201,13],[201,14,201,15],[201,16,201,19],[179,6,179,9],[179,11,179,13],[179,14,179,15],[179,16,179,19],[191,5,192,6],[191,7,191,10],[191,12,191,13],[191,15,191,19],[192,7,192,10],[192,12,192,13],[169,15,169,19],[170,7,170,8],[171,7,171,8],[178,6,178,9],[178,11,178,13],[178,14,178,15],[178,16,178,19],[156,6,156,9],[156,11,156,13],[156,14,156,15],[156,16,156,19],[168,5,169,6],[168,7,168,10],[168,12,168,13],[168,15,168,19],[169,7,169,10],[169,12,169,13],[146,15,146,19],[147,7,147,8],[148,7,148,8],[155,6,155,9],[155,11,155,13],[155,14,155,15],[155,16,155,19],[133,6,133,9],[133,11,133,13],[133,14,133,15],[133,16,133,19],[145,5,146,6],[145,7,145,10],[145,12,145,13],[145,15,145,19],[146,7,146,10],[146,12,146,13],[123,15,123,19],[124,7,124,8],[125,7,125,8],[132,6,132,9],[132,11,132,13],[132,14,132,15],[132,16,132,19],[110,6,110,9],[110,11,110,13],[110,14,110,15],[110,16,110,19],[122,5,123,6],[122,7,122,10],[122,12,122,13],[122,15,122,19],[123,7,123,10],[123,12,123,13],[100,15,100,19],[101,7,101,8],[102,7,102,8],[109,6,109,9],[109,11,109,13],[109,14,109,15],[109,16,109,19],[87,6,87,9],[87,11,87,13],[87,14,87,15],[87,16,87,19],[99,5,100,6],[99,7,99,10],[99,12,99,13],[99,15,99,19],[100,7,100,10],[100,12,100,13],[76,9,76,12],[76,13,76,15],[76,21,76,24],[76,25,76,26],[80,7,82,20],[86,6,86,9],[86,11,86,13],[86,14,86,15],[86,16,86,19],[74,9,74,12],[74,13,74,15],[74,21,74,24],[74,25,74,26],[75,9,75,12],[75,13,75,15],[75,21,75,24],[75,25,75,26],[72,9,72,12],[72,13,72,15],[72,21,72,24],[72,25,72,26],[73,9,73,12],[73,13,73,15],[73,21,73,24],[73,25,73,26],[70,9,70,12],[70,13,70,15],[70,21,70,24],[70,25,70,26],[71,9,71,12],[71,13,71,15],[71,21,71,24],[71,25,71,26],[68,9,68,12],[68,13,68,15],[68,21,68,24],[68,25,68,26],[69,9,69,12],[69,13,69,15],[69,21,69,24],[69,25,69,26],[66,9,66,12],[66,13,66,15],[66,21,66,24],[66,25,66,26],[67,9,67,12],[67,13,67,15],[67,21,67,24],[67,25,67,26],[64,9,64,12],[64,13,64,15],[64,21,64,24],[64,25,64,26],[65,9,65,12],[65,13,65,15],[65,21,65,24],[65,25,65,26],[62,9,62,12],[62,13,62,15],[62,21,62,24],[62,25,62,26],[63,9,63,12],[63,13,63,15],[63,21,63,24],[63,25,63,26],[60,9,60,12],[60,13,60,15],[60,21,60,24],[60,25,60,26],[61,9,61,12],[61,13,61,15],[61,21,61,24],[61,25,61,26],[58,9,58,12],[58,13,58,15],[58,21,58,24],[58,25,58,26],[59,9,59,12],[59,13,59,15],[59,21,59,24],[59,25,59,26],[56,9,56,12],[56,13,56,15],[56,21,56,24],[56,25,56,26],[57,9,57,12],[57,13,57,15],[57,21,57,24],[57,25,57,26],[54,9,54,12],[54,13,54,15],[54,21,54,24],[54,25,54,26],[55,9,55,12],[55,13,55,15],[55,21,55,24],[55,25,55,26],[52,9,52,12],[52,13,52,15],[52,21,52,24],[52,25,52,26],[53,9,53,12],[53,13,53,15],[53,21,53,24],[53,25,53,26],[1,6,1,9],[1,13,3,24],[2,6,2,9],[40,7,42,20],[50,9,50,12],[50,13,50,15],[50,21,50,24],[50,25,50,26],[51,9,51,12],[51,13,51,15],[51,21,51,24],[51,25,51,26],[48,9,48,12],[48,13,48,15],[48,21,48,24],[48,25,48,26],[49,9,49,12],[49,13,49,15],[49,21,49,24],[49,25,49,26],[44,2,44,4],[44,9,44,16],[44,21,44,27],[46,9,46,12],[46,13,46,15],[46,21,46,24],[46,25,46,26],[47,9,47,12],[47,13,47,15],[47,21,47,24],[47,25,47,26]]}
[]
[null,null,"Golf","Cheverny",null,"Slope","SSS",null,null,null,null,null,null,"CARTE DE SCORE"]
[null,null,"Date","2022-03-26",null,122,70]
[]
[null,null,"Individuel Stableford BRUT/NET"]
[null,null,null,null,"Index","HCP trous",1,2,3,4,5,6,7,8,9,"Aller",10,11,12,13,14,15,16,17,18,"Retour","Total"]
[null,null,null,null,null,"PAR",4,5,3,4,4,4,3,4,5,{"$f":"SUM(G7:O7)","v":36},4,4,3,4,4,5,4,3,5,{"$f":"SUM(Q7:Y7)","v":36},{"$f":"SUM(P7+Z7)","v":72}]
[null,null,"Noms","Prénoms",null,"Trou",2,8,10,14,6,4,16,12,18,null,1,9,11,5,15,13,3,17,7,null,null,null,"NET","Classt","Rang","Points",null,"BRUT","Classt","Rang","Points",null,"STROKE","Classt","Rang","Points"]
[null,1,"CHRETIEN","Fabrice",20.100000000000001,null,6,7,5,3,5,4,5,6,4,{"$f":"SUM(G9:O9)","v":45},6,5,5,7,4,7,5,5,8,{"$f":"SUM(Q9:Y9)","v":52},{"$f":"SUM(P9+Z9)","v":97},null,{"$f":"$AA$95","v":31},{"$f":"RANK(AC9,AC$9:AC$38,0)+COUNTIF(AC9:$AC$9,AC9)-1","v":15},{"$f":"RANK(AC9,AC$9:AC$38,0)","v":15},{"$f":"IF(ISBLANK($C9),0,1)*INDEX('Allocation Points'!$B$3:$AG$32,AE9,COUNTIF(AE$9:AE$38,AE9)+2)","v":1},null,{"$f":"AA96","v":13},{"$f":"RANK(AH9,AH$9:AH$38,0)+COUNTIF(AH9:$AH$9,AH9)-1","v":9},{"$f":"RANK(AH9,AH$9:AH$38,0)","v":9},{"$f":"IF(ISBLANK($C9),0,1)*INDEX('Allocation Points'!$B$3:$AG$32,AJ9,COUNTIF(AJ$9:AJ$38,AJ9)+2)","v":6},null,{"$f":"AA94","v":97},{"$f":"RANK(AM9,AM$9:AM$38,1)+COUNTIF(AM9:$AM$9,AM9)-1","v":9},{"$f":"RANK(AM9,AM$9:AM$38,1)","v":9},{"$f":"IF(ISBLANK($C9),0,1)*INDEX('Allocation Points'!$B$3:$AG$32,AO9,COUNTIF(AO$9:AO$38,AO9)+2)","v":6}]
[null,2,"DELOUCHE","Yannick",48.2,null,7,6,5,6,9,7,5,5,7,57,8,7,5,9,7,8,6,5,9,64,121,null,{"$f":"$AA$118","v":37},{"$f":"RANK(AC10,AC$9:AC$38,0)+COUNTIF(AC$9:$AC10,AC10)-1","v":4},{"$f":"RANK(AC10,AC$9:AC$38,0)","v":4},{"$f":"IF(ISBLANK($C10),0,1)*INDEX('Allocation Points'!$B$3:$AG$32,AE10,COUNTIF(AE$9:AE$38,AE10)+2)","v":15},null,{"$f":"AA119","v":2},{"$f":"RANK(AH10,AH$9:AH$38,0)+COUNTIF(AH$9:$AH10,AH10)-1","v":21},{"$f":"RANK(AH10,AH$9:AH$38,0)","v":21},{"$f":"IF(ISBLANK($C10),0,1)*INDEX('Allocation Points'!$B$3:$AG$32,AJ10,COUNTIF(AJ$9:AJ$38,AJ10)+2)","v":1},null,{"$f":"AA117","v":121},{"$f":"RANK(AM10,AM$9:AM$38,1)+COUNTIF(AM$9:$AM10,AM10)-1","v":20},{"$f":"RANK(AM10,AM$9:AM$38,1)","v":20},{"$f":"IF(ISBLANK($C10),0,1)*INDEX('Allocation Points'!$B$3:$AG$32,AO10,COUNTIF(AO$9:AO$38,AO10)+2)","v":1}]
[null,3,"LANDIER","Marc",23.3,null,5,7,6,6,6,5,4,6,6,51,7,6,4,8,5,6,7,6,7,56,107,null,{"$f":"$AA$141","v":24},{"$f":"RANK(AC11,AC$9:AC$38,0)+COUNTIF(AC$9:$AC11,AC11)-1","v":20},20,{"$f":"IF(ISBLANK($C11),0,1)*INDEX('Allocation Points'!$B$3:$AG$32,AE11,COUNTIF(AE$9:AE$38,AE11)+2)","v":1},null,{"$f":"AA142","v":7},{"$f":"RANK(AH11,AH$9:AH$38,0)+COUNTIF(AH$9:$AH11,AH11)-1","v":14},14,{"$f":"IF(ISBLANK($C11),0,1)*INDEX('Allocation Points'!$B$3:$AG$32,AJ11,COUNTIF(AJ$9:AJ$38,AJ11)+2)","v":1},null,{"$f":"AA140","v":107},{"$f":"RANK(AM11,AM$9:AM$38,1)+COUNTIF(AM$9:$AM11,AM11)-1","v":13},13,{"$f":"IF(ISBLANK($C11),0,1)*INDEX('Allocation Points'!$B$3:$AG$32,AO11,COUNTIF(AO$9:AO$38,AO11)+2)","v":1}]
[null,4,"HODEAU","Cédric",34.700000000000003,null,7,8,4,5,6,5,5,4,7,51,8,6,2,6,8,6,7,3,6,52,103,null,{"$f":"$AA$164","v":40},{"$f":"RANK(AC12,AC$9:AC$38,0)+COUNTIF(AC$9:$AC12,AC12)-1","v":2},2,{"$f":"IF(ISBLANK($C12),0,1)*INDEX('Allocation Points'!$B$3:$AG$32,AE12,COUNTIF(AE$9:AE$38,AE12)+2)","v":25},null,{"$f":"AA165","v":12},{"$f":"RANK(AH12,AH$9:AH$38,0)+COUNTIF(AH$9:$AH12,AH12)-1","v":10},10,{"$f":"IF(ISBLANK($C12),0,1)*INDEX('Allocation Points'!$B$3:$AG$32,AJ12,COUNTIF(AJ$9:AJ$38,AJ12)+2)","v":5},null,{"$f":"AA163","v":103},{"$f":"RANK(AM12,AM$9:AM$38,1)+COUNTIF(AM$9:$AM12,AM12)-1","v":11},11,{"$f":"IF(ISBLANK($C12),0,1)*INDEX('Allocation Points'!$B$3:$AG$32,AO12,COUNTIF(AO$9:AO$38,AO12)+2)","v":4}]
[null,5,"FARE","Loïc",25.6,null,6,7,5,5,7,5,5,4,5,49,6,7,4,6,6,6,5,4,6,50,99,null,{"$f":"$AA$187","v":35},{"$f":"RANK(AC13,AC$9:AC$38,0)+COUNTIF(AC$9:$AC13,AC13)-1","v":7},7,{"$f":"IF(ISBLANK($C13),0,1)*INDEX('Allocation Points'!$B$3:$AG$32,AE13,COUNTIF(AE$9:AE$38,AE13)+2)","v":6},null,{"$f":"AA188","v":11},{"$f":"RANK(AH13,AH$9:AH$38,0)+COUNTIF(AH$9:$AH13,AH13)-1","v":11},11,{"$f":"IF(ISBLANK($C13),0,1)*INDEX('Allocation Points'!$B$3:$AG$32,AJ13,COUNTIF(AJ$9:AJ$38,AJ13)+2)","v":4},null,{"$f":"AA186","v":99},{"$f":"RANK(AM13,AM$9:AM$38,1)+COUNTIF(AM$9:$AM13,AM13)-1","v":10},10,{"$f":"IF(ISBLANK($C13),0,1)*INDEX('Allocation Points'!$B$3:$AG$32,AO13,COUNTIF(AO$9:AO$38,AO13)+2)","v":5}]
[null,6,"MORALES","José",14,null,5,5,4,5,5,6,4,3,6,43,3,6,6,6,4,5,5,3,5,43,86,null,{"$f":"$AA$210","v":35},{"$f":"RANK(AC14,AC$9:AC$38,0)+COUNTIF(AC$9:$AC14,AC14)-1","v":8},7,{"$f":"IF(ISBLANK($C14),0,1)*INDEX('Allocation Points'!$B$3:$AG$32,AE14,COUNTIF(AE$9:AE$38,AE14)+2)","v":6},null,{"$f":"AA211","v":23},{"$f":"RANK(AH14,AH$9:AH$38,0)+COUNTIF(AH$9:$AH14,AH14)-1","v":2},2,{"$f":"IF(ISBLANK($C14),0,1)*INDEX('Allocation Points'!$B$3:$AG$32,AJ14,COUNTIF(AJ$9:AJ$38,AJ14)+2)","v":25},null,{"$f":"AA209","v":86},{"$f":"RANK(AM14,AM$9:AM$38,1)+COUNTIF(AM$9:$AM14,AM14)-1","v":2},2,{"$f":"IF(ISBLANK($C14),0,1)*INDEX('Allocation Points'!$B$3:$AG$32,AO14,COUNTIF(AO$9:AO$38,AO14)+2)","v":25}]
[null,7,"ROBERT","Jean-Christophe",25,null,6,7,5,6,6,4,4,7,6,51,7,8,4,6,5,6,8,3,9,56,107,null,{"$f":"$AA$233","v":27},{"$f":"RANK(AC15,AC$9:AC$38,0)+COUNTIF(AC$9:$AC15,AC15)-1","v":16},16,{"$f":"IF(ISBLANK($C15),0,1)*INDEX('Allocation Points'!$B$3:$AG$32,AE15,COUNTIF(AE$9:AE$38,AE15)+2)","v":1},null,{"$f":"AA234","v":9},{"$f":"RANK(AH15,AH$9:AH$38,0)+COUNTIF(AH$9:$AH15,AH15)-1","v":13},13,{"$f":"IF(ISBLANK($C15),0,1)*INDEX('Allocation Points'!$B$3:$AG$32,AJ15,COUNTIF(AJ$9:AJ$38,AJ15)+2)","v":2},null,{"$f":"AA232","v":107},{"$f":"RANK(AM15,AM$9:AM$38,1)+COUNTIF(AM$9:$AM15,AM15)-1","v":14},13,{"$f":"IF(ISBLANK($C15),0,1)*INDEX('Allocation Points'!$B$3:$AG$32,AO15,COUNTIF(AO$9:AO$38,AO15)+2)","v":1}]
[null,8,"BINVAULT","Dominique",34.700000000000003,null,6,9,3,7,6,5,4,5,6,51,6,6,5,6,7,9,7,7,7,60,111,null,{"$f":"$AA$256","v":32},{"$f":"RANK(AC16,AC$9:AC$38,0)+COUNTIF(AC$9:$AC16,AC16)-1","v":14},14,{"$f":"IF(ISBLANK($C16),0,1)*INDEX('Allocation Points'!$B$3:$AG$32,AE16,COUNTIF(AE$9:AE$38,AE16)+2)","v":1},null,{"$f":"AA257","v":6},{"$f":"RANK(AH16,AH$9:AH$38,0)+COUNTIF(AH$9:$AH16,AH16)-1","v":16},16,{"$f":"IF(ISBLANK($C16),0,1)*INDEX('Allocation Points'!$B$3:$AG$32,AJ16,COUNTIF(AJ$9:AJ$38,AJ16)+2)","v":1},null,{"$f":"AA255","v":111},{"$f":"RANK(AM16,AM$9:AM$38,1)+COUNTIF(AM$9:$AM16,AM16)-1","v":17},17,{"$f":"IF(ISBLANK($C16),0,1)*INDEX('Allocation Points'!$B$3:$AG$32,AO16,COUNTIF(AO$9:AO$38,AO16)+2)","v":1}]
[null,9,"DIOT","Alexandre",8.1999999999999993,null,7,7,3,6,5,5,4,5,6,48,5,7,4,5,4,5,4,3,5,42,90,null,{"$f":"$AA$279","v":26},{"$f":"RANK(AC17,AC$9:AC$38,0)+COUNTIF(AC$9:$AC17,AC17)-1","v":17},17,{"$f":"IF(ISBLANK($C17),0,1)*INDEX('Allocation Points'!$B$3:$AG$32,AE17,COUNTIF(AE$9:AE$38,AE17)+2)","v":1},null,{"$f":"AA280","v":20},{"$f":"RANK(AH17,AH$9:AH$38,0)+COUNTIF(AH$9:$AH17,AH17)-1","v":4},4,{"$f":"IF(ISBLANK($C17),0,1)*INDEX('Allocation Points'!$B$3:$AG$32,AJ17,COUNTIF(AJ$9:AJ$38,AJ17)+2)","v":12},null,{"$f":"AA278","v":90},{"$f":"RANK(AM17,AM$9:AM$38,1)+COUNTIF(AM$9:$AM17,AM17)-1","v":4},4,{"$f":"IF(ISBLANK($C17),0,1)*INDEX('Allocation Points'!$B$3:$AG$32,AO17,COUNTIF(AO$9:AO$38,AO17)+2)","v":11}]
[null,10,"VILLATTE","Joël",54,null,8,9,7,8,6,9,6,8,10,71,9,8,8,6,9,8,7,7,9,71,142,null,{"$f":"$AA$302","v":20},{"$f":"RANK(AC18,AC$9:AC$38,0)+COUNTIF(AC$9:$AC18,AC18)-1","v":22},22,{"$f":"IF(ISBLANK($C18),0,1)*INDEX('Allocation Points'!$B$3:$AG$32,AE18,COUNTIF(AE$9:AE$38,AE18)+2)","v":1},null,{"$f":"AA303","v":0},{"$f":"RANK(AH18,AH$9:AH$38,0)+COUNTIF(AH$9:$AH18,AH18)-1","v":22},22,{"$f":"IF(ISBLANK($C18),0,1)*INDEX('Allocation Points'!$B$3:$AG$32,AJ18,COUNTIF(AJ$9:AJ$38,AJ18)+2)","v":1},null,{"$f":"AA301","v":142},{"$f":"RANK(AM18,AM$9:AM$38,1)+COUNTIF(AM$9:$AM18,AM18)-1","v":22},22,{"$f":"IF(ISBLANK($C18),0,1)*INDEX('Allocation Points'!$B$3:$AG$32,AO18,COUNTIF(AO$9:AO$38,AO18)+2)","v":1}]
[null,11,"VICENTE","Paulo",54,null,8,7,4,6,7,5,6,6,6,55,9,7,5,6,6,6,7,4,8,58,113,null,{"$f":"$AA$325","v":49},{"$f":"RANK(AC19,AC$9:AC$38,0)+COUNTIF(AC$9:$AC19,AC19)-1","v":1},1,{"$f":"IF(ISBLANK($C19),0,1)*INDEX('Allocation Points'!$B$3:$AG$32,AE19,COUNTIF(AE$9:AE$38,AE19)+2)","v":30},null,{"$f":"AA326","v":5},{"$f":"RANK(AH19,AH$9:AH$38,0)+COUNTIF(AH$9:$AH19,AH19)-1","v":17},17,{"$f":"IF(ISBLANK($C19),0,1)*INDEX('Allocation Points'!$B$3:$AG$32,AJ19,COUNTIF(AJ$9:AJ$38,AJ19)+2)","v":1},null,{"$f":"AA324","v":113},{"$f":"RANK(AM19,AM$9:AM$38,1)+COUNTIF(AM$9:$AM19,AM19)-1","v":18},18,{"$f":"IF(ISBLANK($C19),0,1)*INDEX('Allocation Points'!$B$3:$AG$32,AO19,COUNTIF(AO$9:AO$38,AO19)+2)","v":1}]
[null,12,"HERRAULT","Sébastien",11.3,null,6,6,3,5,4,4,6,4,5,43,4,5,3,6,5,5,4,3,6,41,84,null,{"$f":"$AA$348","v":35},{"$f":"RANK(AC20,AC$9:AC$38,0)+COUNTIF(AC$9:$AC20,AC20)-1","v":9},7,{"$f":"IF(ISBLANK($C20),0,1)*INDEX('Allocation Points'!$B$3:$AG$32,AE20,COUNTIF(AE$9:AE$38,AE20)+2)","v":6},null,{"$f":"AA349","v":25},{"$f":"RANK(AH20,AH$9:AH$38,0)+COUNTIF(AH$9:$AH20,AH20)-1","v":1},1,{"$f":"IF(ISBLANK($C20),0,1)*INDEX('Allocation Points'!$B$3:$AG$32,AJ20,COUNTIF(AJ$9:AJ$38,AJ20)+2)","v":30},null,{"$f":"AA347","v":84},{"$f":"RANK(AM20,AM$9:AM$38,1)+COUNTIF(AM$9:$AM20,AM20)-1","v":1},1,{"$f":"IF(ISBLANK($C20),0,1)*INDEX('Allocation Points'!$B$3:$AG$32,AO20,COUNTIF(AO$9:AO$38,AO20)+2)","v":30}]
[null,13,"MAITRE","Benoît",23.9,null,6,8,6,5,4,4,4,5,5,47,6,5,5,5,5,6,6,3,8,49,96,null,{"$f":"$AA$371","v":36},{"$f":"RANK(AC21,AC$9:AC$38,0)+COUNTIF(AC$9:$AC21,AC21)-1","v":5},5,{"$f":"IF(ISBLANK($C21),0,1)*INDEX('Allocation Points'!$B$3:$AG$32,AE21,COUNTIF(AE$9:AE$38,AE21)+2)","v":9},null,{"$f":"AA372","v":15},{"$f":"RANK(AH21,AH$9:AH$38,0)+COUNTIF(AH$9:$AH21,AH21)-1","v":8},8,{"$f":"IF(ISBLANK($C21),0,1)*INDEX('Allocation Points'!$B$3:$AG$32,AJ21,COUNTIF(AJ$9:AJ$38,AJ21)+2)","v":7},null,{"$f":"AA370","v":96},{"$f":"RANK(AM21,AM$9:AM$38,1)+COUNTIF(AM$9:$AM21,AM21)-1","v":8},8,{"$f":"IF(ISBLANK($C21),0,1)*INDEX('Allocation Points'!$B$3:$AG$32,AO21,COUNTIF(AO$9:AO$38,AO21)+2)","v":7}]
[null,14,"LEVEQUE","Claude",22.4,null,5,7,5,5,6,6,6,5,7,52,6,6,6,6,5,7,6,7,8,57,109,null,{"$f":"$AA$394","v":22},{"$f":"RANK(AC22,AC$9:AC$38,0)+COUNTIF(AC$9:$AC22,AC22)-1","v":21},21,{"$f":"IF(ISBLANK($C22),0,1)*INDEX('Allocation Points'!$B$3:$AG$32,AE22,COUNTIF(AE$9:AE$38,AE22)+2)","v":1},null,{"$f":"AA395","v":4},{"$f":"RANK(AH22,AH$9:AH$38,0)+COUNTIF(AH$9:$AH22,AH22)-1","v":18},18,{"$f":"IF(ISBLANK($C22),0,1)*INDEX('Allocation Points'!$B$3:$AG$32,AJ22,COUNTIF(AJ$9:AJ$38,AJ22)+2)","v":1},null,{"$f":"AA393","v":109},{"$f":"RANK(AM22,AM$9:AM$38,1)+COUNTIF(AM$9:$AM22,AM22)-1","v":15},15,{"$f":"IF(ISBLANK($C22),0,1)*INDEX('Allocation Points'!$B$3:$AG$32,AO22,COUNTIF(AO$9:AO$38,AO22)+2)","v":1}]
[null,15,"VERRIER","Alexandre",16.600000000000001,null,6,7,3,4,4,5,4,4,4,41,6,6,4,6,6,7,6,3,5,49,90,null,{"$f":"$AA$417","v":34},{"$f":"RANK(AC23,AC$9:AC$38,0)+COUNTIF(AC$9:$AC23,AC23)-1","v":11},11,{"$f":"IF(ISBLANK($C23),0,1)*INDEX('Allocation Points'!$B$3:$AG$32,AE23,COUNTIF(AE$9:AE$38,AE23)+2)","v":3},null,{"$f":"AA418","v":18},{"$f":"RANK(AH23,AH$9:AH$38,0)+COUNTIF(AH$9:$AH23,AH23)-1","v":6},6,{"$f":"IF(ISBLANK($C23),0,1)*INDEX('Allocation Points'!$B$3:$AG$32,AJ23,COUNTIF(AJ$9:AJ$38,AJ23)+2)","v":9},null,{"$f":"AA416","v":90},{"$f":"RANK(AM23,AM$9:AM$38,1)+COUNTIF(AM$9:$AM23,AM23)-1","v":5},4,{"$f":"IF(ISBLANK($C23),0,1)*INDEX('Allocation Points'!$B$3:$AG$32,AO23,COUNTIF(AO$9:AO$38,AO23)+2)","v":11}]
[null,16,"MICHEL","Eric",37,null,8,6,4,7,6,7,5,5,8,56,8,8,4,6,4,6,6,5,7,54,110,null,{"$f":"$AA$440","v":36},{"$f":"RANK(AC24,AC$9:AC$38,0)+COUNTIF(AC$9:$AC24,AC24)-1","v":6},5,{"$f":"IF(ISBLANK($C24),0,1)*INDEX('Allocation Points'!$B$3:$AG$32,AE24,COUNTIF(AE$9:AE$38,AE24)+2)","v":9},null,{"$f":"AA441","v":7},{"$f":"RANK(AH24,AH$9:AH$38,0)+COUNTIF(AH$9:$AH24,AH24)-1","v":15},14,{"$f":"IF(ISBLANK($C24),0,1)*INDEX('Allocation Points'!$B$3:$AG$32,AJ24,COUNTIF(AJ$9:AJ$38,AJ24)+2)","v":1},null,{"$f":"AA439","v":110},{"$f":"RANK(AM24,AM$9:AM$38,1)+COUNTIF(AM$9:$AM24,AM24)-1","v":16},16,{"$f":"IF(ISBLANK($C24),0,1)*INDEX('Allocation Points'!$B$3:$AG$32,AO24,COUNTIF(AO$9:AO$38,AO24)+2)","v":1}]
[null,17,"PORTRON","Inès",54,null,10,9,4,7,7,7,6,8,8,66,8,7,4,8,8,8,7,4,9,63,129,null,{"$f":"$AA$463","v":34},{"$f":"RANK(AC25,AC$9:AC$38,0)+COUNTIF(AC$9:$AC25,AC25)-1","v":12},11,{"$f":"IF(ISBLANK($C25),0,1)*INDEX('Allocation Points'!$B$3:$AG$32,AE25,COUNTIF(AE$9:AE$38,AE25)+2)","v":3},null,{"$f":"AA464","v":3},{"$f":"RANK(AH25,AH$9:AH$38,0)+COUNTIF(AH$9:$AH25,AH25)-1","v":20},20,{"$f":"IF(ISBLANK($C25),0,1)*INDEX('Allocation Points'!$B$3:$AG$32,AJ25,COUNTIF(AJ$9:AJ$38,AJ25)+2)","v":1},null,{"$f":"AA462","v":129},{"$f":"RANK(AM25,AM$9:AM$38,1)+COUNTIF(AM$9:$AM25,AM25)-1","v":21},21,{"$f":"IF(ISBLANK($C25),0,1)*INDEX('Allocation Points'!$B$3:$AG$32,AO25,COUNTIF(AO$9:AO$38,AO25)+2)","v":1}]
[null,18,"VIALLETON","Loïc",17.399999999999999,null,5,6,4,6,5,4,3,3,6,42,6,4,5,6,6,6,6,4,7,50,92,null,{"$f":"$AA$486","v":33},{"$f":"RANK(AC26,AC$9:AC$38,0)+COUNTIF(AC$9:$AC26,AC26)-1","v":13},13,{"$f":"IF(ISBLANK($C26),0,1)*INDEX('Allocation Points'!$B$3:$AG$32,AE26,COUNTIF(AE$9:AE$38,AE26)+2)","v":2},null,{"$f":"AA487","v":16},{"$f":"RANK(AH26,AH$9:AH$38,0)+COUNTIF(AH$9:$AH26,AH26)-1","v":7},7,{"$f":"IF(ISBLANK($C26),0,1)*INDEX('Allocation Points'!$B$3:$AG$32,AJ26,COUNTIF(AJ$9:AJ$38,AJ26)+2)","v":8},null,{"$f":"AA485","v":92},{"$f":"RANK(AM26,AM$9:AM$38,1)+COUNTIF(AM$9:$AM26,AM26)-1","v":7},7,{"$f":"IF(ISBLANK($C26),0,1)*INDEX('Allocation Points'!$B$3:$AG$32,AO26,COUNTIF(AO$9:AO$38,AO26)+2)","v":8}]
[null,19,"DAVID","Paul",20.6,null,7,7,8,6,5,5,4,5,6,53,6,7,3,7,5,7,5,5,6,51,104,null,{"$f":"$AA$509","v":26},{"$f":"RANK(AC27,AC$9:AC$38,0)+COUNTIF(AC$9:$AC27,AC27)-1","v":18},17,{"$f":"IF(ISBLANK($C27),0,1)*INDEX('Allocation Points'!$B$3:$AG$32,AE27,COUNTIF(AE$9:AE$38,AE27)+2)","v":1},null,{"$f":"AA510","v":10},{"$f":"RANK(AH27,AH$9:AH$38,0)+COUNTIF(AH$9:$AH27,AH27)-1","v":12},12,{"$f":"IF(ISBLANK($C27),0,1)*INDEX('Allocation Points'!$B$3:$AG$32,AJ27,COUNTIF(AJ$9:AJ$38,AJ27)+2)","v":3},null,{"$f":"AA508","v":104},{"$f":"RANK(AM27,AM$9:AM$38,1)+COUNTIF(AM$9:$AM27,AM27)-1","v":12},12,{"$f":"IF(ISBLANK($C27),0,1)*INDEX('Allocation Points'!$B$3:$AG$32,AO27,COUNTIF(AO$9:AO$38,AO27)+2)","v":3}]
[null,20,"LEFEU","Jean-Marie",30.6,null,8,8,7,6,6,5,5,6,8,59,8,6,3,6,5,7,7,5,7,54,113,null,{"$f":"$AA$532","v":26},{"$f":"RANK(AC28,AC$9:AC$38,0)+COUNTIF(AC$9:$AC28,AC28)-1","v":19},17,{"$f":"IF(ISBLANK($C28),0,1)*INDEX('Allocation Points'!$B$3:$AG$32,AE28,COUNTIF(AE$9:AE$38,AE28)+2)","v":1},null,{"$f":"AA533","v":4},{"$f":"RANK(AH28,AH$9:AH$38,0)+COUNTIF(AH$9:$AH28,AH28)-1","v":19},18,{"$f":"IF(ISBLANK($C28),0,1)*INDEX('Allocation Points'!$B$3:$AG$32,AJ28,COUNTIF(AJ$9:AJ$38,AJ28)+2)","v":1},null,{"$f":"AA531","v":113},{"$f":"RANK(AM28,AM$9:AM$38,1)+COUNTIF(AM$9:$AM28,AM28)-1","v":19},18,{"$f":"IF(ISBLANK($C28),0,1)*INDEX('Allocation Points'!$B$3:$AG$32,AO28,COUNTIF(AO$9:AO$38,AO28)+2)","v":1}]
[null,21,"ZIAR","Yacine",18,null,5,7,4,4,6,4,3,7,6,46,7,4,3,4,5,5,5,4,7,44,90,null,{"$f":"$AA$555","v":35},{"$f":"RANK(AC29,AC$9:AC$38,0)+COUNTIF(AC$9:$AC29,AC29)-1","v":10},7,{"$f":"IF(ISBLANK($C29),0,1)*INDEX('Allocation Points'!$B$3:$AG$32,AE29,COUNTIF(AE$9:AE$38,AE29)+2)","v":6},null,{"$f":"AA556","v":20},{"$f":"RANK(AH29,AH$9:AH$38,0)+COUNTIF(AH$9:$AH29,AH29)-1","v":5},4,{"$f":"IF(ISBLANK($C29),0,1)*INDEX('Allocation Points'!$B$3:$AG$32,AJ29,COUNTIF(AJ$9:AJ$38,AJ29)+2)","v":12},null,{"$f":"AA554","v":90},{"$f":"RANK(AM29,AM$9:AM$38,1)+COUNTIF(AM$9:$AM29,AM29)-1","v":6},4,{"$f":"IF(ISBLANK($C29),0,1)*INDEX('Allocation Points'!$B$3:$AG$32,AO29,COUNTIF(AO$9:AO$38,AO29)+2)","v":11}]
[null,22,"JACQUEMIN","Franck",17.2,null,5,5,5,5,5,4,3,3,6,41,6,5,4,6,4,6,6,3,6,46,87,null,{"$f":"$AA$578","v":38},{"$f":"RANK(AC30,AC$9:AC$38,0)+COUNTIF(AC$9:$AC30,AC30)-1","v":3},3,{"$f":"IF(ISBLANK($C30),0,1)*INDEX('Allocation Points'!$B$3:$AG$32,AE30,COUNTIF(AE$9:AE$38,AE30)+2)","v":20},null,{"$f":"AA579","v":21},{"$f":"RANK(AH30,AH$9:AH$38,0)+COUNTIF(AH$9:$AH30,AH30)-1","v":3},3,{"$f":"IF(ISBLANK($C30),0,1)*INDEX('Allocation Points'!$B$3:$AG$32,AJ30,COUNTIF(AJ$9:AJ$38,AJ30)+2)","v":20},null,{"$f":"AA577","v":87},{"$f":"RANK(AM30,AM$9:AM$38,1)+COUNTIF(AM$9:$AM30,AM30)-1","v":3},3,{"$f":"IF(ISBLANK($C30),0,1)*INDEX('Allocation Points'!$B$3:$AG$32,AO30,COUNTIF(AO$9:AO$38,AO30)+2)","v":20}]
[null,23,"LAHOREAU","Patrice",54,null,8,15,6,9,9,9,10,11,7,84,9,7,5,7,7,8,9,10,0,62,146,null,{"$f":"$AA$601","v":17},{"$f":"RANK(AC31,AC$9:AC$38,0)+COUNTIF(AC$9:$AC31,AC31)-1","v":23},23,{"$f":"IF(ISBLANK($C31),0,1)*INDEX('Allocation Points'!$B$3:$AG$32,AE31,COUNTIF(AE$9:AE$38,AE31)+2)","v":1},null,{"$f":"AA602","v":0},{"$f":"RANK(AH31,AH$9:AH$38,0)+COUNTIF(AH$9:$AH31,AH31)-1","v":23},22,{"$f":"IF(ISBLANK($C31),0,1)*INDEX('Allocation Points'!$B$3:$AG$32,AJ31,COUNTIF(AJ$9:AJ$38,AJ31)+2)","v":1},null,{"$f":"AA600","v":146},{"$f":"RANK(AM31,AM$9:AM$38,1)+COUNTIF(AM$9:$AM31,AM31)-1","v":23},23,{"$f":"IF(ISBLANK($C31),0,1)*INDEX('Allocation Points'!$B$3:$AG$32,AO31,COUNTIF(AO$9:AO$38,AO31)+2)","v":1}]
[null,24,null,null,20,null,10,10,10,10,10,10,10,10,10,90,10,10,10,10,10,10,10,10,10,90,180,null,{"$f":"$AA$624","v":0},{"$f":"RANK(AC32,AC$9:AC$38,0)+COUNTIF(AC$9:$AC32,AC32)-1","v":24},24,{"$f":"IF(ISBLANK($C32),0,1)*INDEX('Allocation Points'!$B$3:$AG$32,AE32,COUNTIF(AE$9:AE$38,AE32)+2)","v":0},null,{"$f":"AA625","v":0},{"$f":"RANK(AH32,AH$9:AH$38,0)+COUNTIF(AH$9:$AH32,AH32)-1","v":24},22,{"$f":"IF(ISBLANK($C32),0,1)*INDEX('Allocation Points'!$B$3:$AG$32,AJ32,COUNTIF(AJ$9:AJ$38,AJ32)+2)","v":0},null,{"$f":"AA623","v":180},{"$f":"RANK(AM32,AM$9:AM$38,1)+COUNTIF(AM$9:$AM32,AM32)-1","v":24},24,{"$f":"IF(ISBLANK($C32),0,1)*INDEX('Allocation Points'!$B$3:$AG$32,AO32,COUNTIF(AO$9:AO$38,AO32)+2)","v":0}]
[null,25,null,null,20,null,10,10,10,10,10,10,10,10,10,90,10,10,10,10,10,10,10,10,10,90,180,null,{"$f":"$AA$647","v":0},{"$f":"RANK(AC33,AC$9:AC$38,0)+COUNTIF(AC$9:$AC33,AC33)-1","v":25},24,{"$f":"IF(ISBLANK($C33),0,1)*INDEX('Allocation Points'!$B$3:$AG$32,AE33,COUNTIF(AE$9:AE$38,AE33)+2)","v":0},null,{"$f":"AA648","v":0},{"$f":"RANK(AH33,AH$9:AH$38,0)+COUNTIF(AH$9:$AH33,AH33)-1","v":25},22,{"$f":"IF(ISBLANK($C33),0,1)*INDEX('Allocation Points'!$B$3:$AG$32,AJ33,COUNTIF(AJ$9:AJ$38,AJ33)+2)","v":0},null,{"$f":"AA646","v":180},{"$f":"RANK(AM33,AM$9:AM$38,1)+COUNTIF(AM$9:$AM33,AM33)-1","v":25},24,{"$f":"IF(ISBLANK($C33),0,1)*INDEX('Allocation Points'!$B$3:$AG$32,AO33,COUNTIF(AO$9:AO$38,AO33)+2)","v":0}]
[null,26,null,null,20,null,10,10,10,10,10,10,10,10,10,90,10,10,10,10,10,10,10,10,10,90,180,null,{"$f":"$AA$670","v":0},{"$f":"RANK(AC34,AC$9:AC$38,0)+COUNTIF(AC$9:$AC34,AC34)-1","v":26},24,{"$f":"IF(ISBLANK($C34),0,1)*INDEX('Allocation Points'!$B$3:$AG$32,AE34,COUNTIF(AE$9:AE$38,AE34)+2)","v":0},null,{"$f":"AA671","v":0},{"$f":"RANK(AH34,AH$9:AH$38,0)+COUNTIF(AH$9:$AH34,AH34)-1","v":26},22,{"$f":"IF(ISBLANK($C34),0,1)*INDEX('Allocation Points'!$B$3:$AG$32,AJ34,COUNTIF(AJ$9:AJ$38,AJ34)+2)","v":0},null,{"$f":"AA669","v":180},{"$f":"RANK(AM34,AM$9:AM$38,1)+COUNTIF(AM$9:$AM34,AM34)-1","v":26},24,{"$f":"IF(ISBLANK($C34),0,1)*INDEX('Allocation Points'!$B$3:$AG$32,AO34,COUNTIF(AO$9:AO$38,AO34)+2)","v":0}]
[null,27,null,null,20,null,10,10,10,10,10,10,10,10,10,90,10,10,10,10,10,10,10,10,10,90,180,null,{"$f":"$AA$693","v":0},{"$f":"RANK(AC35,AC$9:AC$38,0)+COUNTIF(AC$9:$AC35,AC35)-1","v":27},24,{"$f":"IF(ISBLANK($C35),0,1)*INDEX('Allocation Points'!$B$3:$AG$32,AE35,COUNTIF(AE$9:AE$38,AE35)+2)","v":0},null,{"$f":"AA694","v":0},{"$f":"RANK(AH35,AH$9:AH$38,0)+COUNTIF(AH$9:$AH35,AH35)-1","v":27},22,{"$f":"IF(ISBLANK($C35),0,1)*INDEX('Allocation Points'!$B$3:$AG$32,AJ35,COUNTIF(AJ$9:AJ$38,AJ35)+2)","v":0},null,{"$f":"AA692","v":180},{"$f":"RANK(AM35,AM$9:AM$38,1)+COUNTIF(AM$9:$AM35,AM35)-1","v":27},24,{"$f":"IF(ISBLANK($C35),0,1)*INDEX('Allocation Points'!$B$3:$AG$32,AO35,COUNTIF(AO$9:AO$38,AO35)+2)","v":0}]
[null,28,null,null,20,null,10,10,10,10,10,10,10,10,10,90,10,10,10,10,10,10,10,10,10,90,180,null,{"$f":"$AA$716","v":0},{"$f":"RANK(AC36,AC$9:AC$38,0)+COUNTIF(AC$9:$AC36,AC36)-1","v":28},24,{"$f":"IF(ISBLANK($C36),0,1)*INDEX('Allocation Points'!$B$3:$AG$32,AE36,COUNTIF(AE$9:AE$38,AE36)+2)","v":0},null,{"$f":"AA717","v":0},{"$f":"RANK(AH36,AH$9:AH$38,0)+COUNTIF(AH$9:$AH36,AH36)-1","v":28},22,{"$f":"IF(ISBLANK($C36),0,1)*INDEX('Allocation Points'!$B$3:$AG$32,AJ36,COUNTIF(AJ$9:AJ$38,AJ36)+2)","v":0},null,{"$f":"AA715","v":180},{"$f":"RANK(AM36,AM$9:AM$38,1)+COUNTIF(AM$9:$AM36,AM36)-1","v":28},24,{"$f":"IF(ISBLANK($C36),0,1)*INDEX('Allocation Points'!$B$3:$AG$32,AO36,COUNTIF(AO$9:AO$38,AO36)+2)","v":0}]
[null,29,null,null,20,null,10,10,10,10,10,10,10,10,10,90,10,10,10,10,10,10,10,10,10,90,180,null,{"$f":"$AA$739","v":0},{"$f":"RANK(AC37,AC$9:AC$38,0)+COUNTIF(AC$9:$AC37,AC37)-1","v":29},24,{"$f":"IF(ISBLANK($C37),0,1)*INDEX('Allocation Points'!$B$3:$AG$32,AE37,COUNTIF(AE$9:AE$38,AE37)+2)","v":0},null,{"$f":"AA740","v":0},{"$f":"RANK(AH37,AH$9:AH$38,0)+COUNTIF(AH$9:$AH37,AH37)-1","v":29},22,{"$f":"IF(ISBLANK($C37),0,1)*INDEX('Allocation Points'!$B$3:$AG$32,AJ37,COUNTIF(AJ$9:AJ$38,AJ37)+2)","v":0},null,{"$f":"AA738","v":180},{"$f":"RANK(AM37,AM$9:AM$38,1)+COUNTIF(AM$9:$AM37,AM37)-1","v":29},24,{"$f":"IF(ISBLANK($C37),0,1)*INDEX('Allocation Points'!$B$3:$AG$32,AO37,COUNTIF(AO$9:AO$38,AO37)+2)","v":0}]
[null,30,null,null,20,null,10,10,10,10,10,10,10,10,10,90,10,10,10,10,10,10,10,10,10,90,180,null,{"$f":"$AA$762","v":0},{"$f":"RANK(AC38,AC$9:AC$38,0)+COUNTIF(AC$9:$AC38,AC38)-1","v":30},24,{"$f":"IF(ISBLANK($C38),0,1)*INDEX('Allocation Points'!$B$3:$AG$32,AE38,COUNTIF(AE$9:AE$38,AE38)+2)","v":0},null,{"$f":"AA763","v":0},{"$f":"RANK(AH38,AH$9:AH$38,0)+COUNTIF(AH$9:$AH38,AH38)-1","v":30},22,{"$f":"IF(ISBLANK($C38),0,1)*INDEX('Allocation Points'!$B$3:$AG$32,AJ38,COUNTIF(AJ$9:AJ$38,AJ38)+2)","v":0},null,{"$f":"AA761","v":180},{"$f":"RANK(AM38,AM$9:AM$38,1)+COUNTIF(AM$9:$AM38,AM38)-1","v":30},24,{"$f":"IF(ISBLANK($C38),0,1)*INDEX('Allocation Points'!$B$3:$AG$32,AO38,COUNTIF(AO$9:AO$38,AO38)+2)","v":0}]
[]
[]
[null,null,null,null,null,null,null,"CLASSEMENT"]
[]
[]
[]
[null,null,"NET",null,null,null,null,null,null,"BRUT",null,null,null,null,null,null,null,null,null,null,null,"STROKE"]
[]
[null,null,"Noms","Prénoms","NET",null,null,null,null,"Noms",null,null,null,"Prénoms",null,null,"BRUT",null,null,null,null,"Noms",null,null,null,"Prénoms",null,"STROKE"]
[null,1,{"$f":"INDEX($C$9:$AN$38,MATCH(B48,$AD$9:$AD$38,0),1)","v":"VICENTE"},{"$f":"INDEX($C$9:$AN$38,MATCH(B48,$AD$9:$AD$38,0),2)","v":"Paulo"},{"$f":"INDEX($C$9:$AN$38,MATCH(B48,$AD$9:$AD$38,0),27)","v":49},null,null,null,1,{"$f":"INDEX($C$9:$AN$38,MATCH(I48,$AI$9:$AI$38,0),1)","v":"HERRAULT"},null,null,null,{"$f":"INDEX($C$9:$AN$38,MATCH(I48,$AI$9:$AI$38,0),2)","v":"Sébastien"},null,null,{"$f":"INDEX($C$9:$AN$38,MATCH(I48,$AI$9:$AI$38,0),32)","v":25},null,null,null,1,{"$f":"INDEX($C$9:$AN$38,MATCH(U48,$AN$9:$AN$38,0),1)","v":"HERRAULT"},null,null,null,{"$f":"INDEX($C$9:$AN$38,MATCH(U48,$AN$9:$AN$38,0),2)","v":"Sébastien"},null,{"$f":"INDEX($C$9:$AN$38,MATCH(U48,$AN$9:$AN$38,0),37)","v":84}]
[null,2,"HODEAU","Cédric",40,null,null,null,2,"MORALES",null,null,null,"José",null,null,{"$f":"INDEX($C$9:$AN$38,MATCH(I49,$AI$9:$AI$38,0),32)","v":23},null,null,null,2,"MORALES",null,null,null,"José",null,{"$f":"INDEX($C$9:$AN$38,MATCH(U49,$AN$9:$AN$38,0),37)","v":86}]
[null,3,"JACQUEMIN","Franck",38,null,null,null,3,"JACQUEMIN",null,null,null,"Franck",null,null,21,null,null,null,3,"JACQUEMIN",null,null,null,"Franck",null,87]
[null,4,"DELOUCHE","Yannick",37,null,null,null,4,"DIOT",null,null,null,"Alexandre",null,null,20,null,null,null,4,"DIOT",null,null,null,"Alexandre",null,90]
[null,5,"MAITRE","Benoît",36,null,null,null,5,"ZIAR",null,null,null,"Yacine",null,null,20,null,null,null,5,"VERRIER",null,null,null,"Alexandre",null,90]
[null,6,"MICHEL","Eric",36,null,null,null,6,"VERRIER",null,null,null,"Alexandre",null,null,18,null,null,null,6,"ZIAR",null,null,null,"Yacine",null,90]
[null,7,"FARE","Loïc",35,null,null,null,7,"VIALLETON",null,null,null,"Loïc",null,null,16,null,null,null,7,"VIALLETON",null,null,null,"Loïc",null,92]
[null,8,"MORALES","José",35,null,null,null,8,"MAITRE",null,null,null,"Benoît",null,null,15,null,null,null,8,"MAITRE",null,null,null,"Benoît",null,96]
[null,9,"HERRAULT","Sébastien",35,null,null,null,9,"CHRETIEN",null,null,null,"Fabrice",null,null,13,null,null,null,9,"CHRETIEN",null,null,null,"Fabrice",null,97]
[null,10,"ZIAR","Yacine",35,null,null,null,10,"HODEAU",null,null,null,"Cédric",null,null,12,null,null,null,10,"FARE",null,null,null,"Loïc",null,99]
[null,11,"VERRIER","Alexandre",34,null,null,null,11,"FARE",null,null,null,"Loïc",null,null,11,null,null,null,11,"HODEAU",null,null,null,"Cédric",null,103]
[null,12,"PORTRON","Inès",34,null,null,null,12,"DAVID",null,null,null,"Paul",null,null,10,null,null,null,12,"DAVID",null,null,null,"Paul",null,104]
[null,13,"VIALLETON","Loïc",33,null,null,null,13,"ROBERT",null,null,null,"Jean-Christophe",null,null,9,null,null,null,13,"LANDIER",null,null,null,"Marc",null,107]
[null,14,"BINVAULT","Dominique",32,null,null,null,14,"LANDIER",null,null,null,"Marc",null,null,7,null,null,null,14,"ROBERT",null,null,null,"Jean-Christophe",null,107]
[null,15,"CHRETIEN","Fabrice",31,null,null,null,15,"MICHEL",null,null,null,"Eric",null,null,7,null,null,null,15,"LEVEQUE",null,null,null,"Claude",null,109]
[null,16,"ROBERT","Jean-Christophe",27,null,null,null,16,"BINVAULT",null,null,null,"Dominique",null,null,6,null,null,null,16,"MICHEL",null,null,null,"Eric",null,110]
[null,17,"DIOT","Alexandre",26,null,null,null,17,"VICENTE",null,null,null,"Paulo",null,null,5,null,null,null,17,"BINVAULT",null,null,null,"Dominique",null,111]
[null,18,"DAVID","Paul",26,null,null,null,18,"LEVEQUE",null,null,null,"Claude",null,null,4,null,null,null,18,"VICENTE",null,null,null,"Paulo",null,113]
[null,19,"LEFEU","Jean-Marie",26,null,null,null,19,"LEFEU",null,null,null,"Jean-Marie",null,null,4,null,null,null,19,"LEFEU",null,null,null,"Jean-Marie",null,113]
[null,20,"LANDIER","Marc",24,null,null,null,20,"PORTRON",null,null,null,"Inès",null,null,3,null,null,null,20,"DELOUCHE",null,null,null,"Yannick",null,121]
[null,21,"LEVEQUE","Claude",22,null,null,null,21,"DELOUCHE",null,null,null,"Yannick",null,null,2,null,null,null,21,"PORTRON",null,null,null,"Inès",null,129]
[null,22,"VILLATTE","Joël",20,null,null,null,22,"VILLATTE",null,null,null,"Joël",null,null,0,null,null,null,22,"VILLATTE",null,null,null,"Joël",null,142]
[null,23,"LAHOREAU","Patrice",17,null,null,null,23,"LAHOREAU",null,null,null,"Patrice",null,null,0,null,null,null,23,"LAHOREAU",null,null,null,"Patrice",null,146]
[null,24,0,0,0,null,null,null,24,0,null,null,null,0,null,null,0,null,null,null,24,0,null,null,null,0,null,180]
[null,25,0,0,0,null,null,null,25,0,null,null,null,0,null,null,0,null,null,null,25,0,null,null,null,0,null,180]
[null,26,0,0,0,null,null,null,26,0,null,null,null,0,null,null,0,null,null,null,26,0,null,null,null,0,null,180]
[null,27,0,0,0,null,null,null,27,0,null,null,null,0,null,null,0,null,null,null,27,0,null,null,null,0,null,180]
[null,28,0,0,0,null,null,null,28,0,null,null,null,0,null,null,0,null,null,null,28,0,null,null,null,0,null,180]
[null,29,0,0,0,null,null,null,29,0,null,null,null,0,null,null,0,null,null,null,29,0,null,null,null,0,null,180]
[null,30,0,0,0,null,null,null,30,0,null,null,null,0,null,null,0,null,null,null,30,0,null,null,null,0,null,180]
[]
[]
[]
[null,null,null,null,null,null,null,"STATISTIQUES INDIVIDUELLES"]
[]
[]
[]
[]
[]
[null,null,null,null,null,"Nom",{"$f":"C9","v":"CHRETIEN"},null,null,null,null,"Slope",null,null,"SSS",null,"Coups reçus",null,null,null,null,null,null,null,null,"Date",{"$f":"$D$3","v":"2022-03-26"}]
[null,null,null,null,null,"Index",{"$f":"E9","v":20.100000000000001},null,null,null,null,{"$f":"$F$3","v":122},null,null,{"$f":"$G$3","v":70},null,{"$f":"ROUND((G88*(L88/113)+(O88-AA91)),0)","v":20}]
[]
[null,null,null,null,null,"Trou",1,2,3,4,5,6,7,8,9,"Aller",10,11,12,13,14,15,16,17,18,"Retour","Total"]
[null,null,null,null,null,"PAR",{"$f":"G$7","v":4},{"$f":"H$7","v":5},3,4,4,4,3,4,5,{"$f":"SUM(G91:O91)","v":36},{"$f":"Q$7","v":4},4,3,4,4,5,4,3,5,{"$f":"SUM(Q91:Y91)","v":36},{"$f":"SUM(P91+Z91)","v":72}]
[null,null,null,null,null,"HCP trous",{"$f":"G$8","v":2},{"$f":"H$8","v":8},10,14,6,4,16,12,18,null,{"$f":"Q$8","v":1},9,11,5,15,13,3,17,7]
[null,null,null,null,null,"Coups reçus",{"$f":"IF($Q88<=18,IF(G92<=$Q88,1,0),IF($Q88<=36,IF(G92<=($Q88-18),2,1),IF($Q88>36,IF(G92<=($Q88-36),3,2))))","v":2},{"$f":"IF($Q88<=18,IF(H92<=$Q88,1,0),IF($Q88<=36,IF(H92<=($Q88-18),2,1),IF($Q88>36,IF(H92<=($Q88-36),3,2))))","v":1},1,1,1,1,1,1,1,{"$f":"SUM(G93:O93)","v":10},{"$f":"IF($Q88<=18,IF(Q92<=$Q88,1,0),IF($Q88<=36,IF(Q92<=($Q88-18),2,1),IF($Q88>36,IF(Q92<=($Q88-36),3,2))))","v":2},1,1,1,1,1,1,1,1,{"$f":"SUM(Q93:Y93)","v":10},{"$f":"P93+Z93","v":20}]
[null,null,null,null,null,"Stroke play",{"$f":"G9","v":6},7,5,3,5,4,5,6,4,{"$f":"SUM(G94:O94)","v":45},{"$f":"Q9","v":6},5,5,7,4,7,5,5,8,{"$f":"SUM(Q94:Y94)","v":52},{"$f":"P94+Z94","v":97}]
[null,null,null,null,null,"Net Stableford",{"$f":"IF(G94-G91=-1,3+G93)+IF(G94-G91=0,2+G93)+IF(G94-G91=1,1+G93)+IF(G94-G91=2,G93)+IF(G94-G91=3,IF(G93-1>0,G93-1,0))+IF(G94-G91=4,IF(G93-2>0,G93-2,0))","v":2},{"$f":"IF(H94-H91=-1,3+H93)+IF(H94-H91=0,2+H93)+IF(H94-H91=1,1+H93)+IF(H94-H91=2,H93)+IF(H94-H91=3,IF(H93-1>0,H93-1,0))+IF(H94-H91=4,IF(H93-2>0,H93-2,0))","v":1},1,4,2,3,1,1,4,{"$f":"SUM(G95:O95)","v":19},{"$f":"IF(Q94-Q91=-1,3+Q93)+IF(Q94-Q91=0,2+Q93)+IF(Q94-Q91=1,1+Q93)+IF(Q94-Q91=2,Q93)+IF(Q94-Q91=3,IF(Q93-1>0,Q93-1,0))+IF(Q94-Q91=4,IF(Q93-2>0,Q93-2,0))","v":2},2,1,0,3,1,2,1,0,{"$f":"SUM(Q95:Y95)","v":12},{"$f":"P95+Z95","v":31}]
[null,null,null,null,null,"Score Brut",{"$f":"IF(G94-G91=-2,4)+IF(G94-G91=-1,3)+IF(G94-G91=0,2)+IF(G94-G91=1,1)+IF(G94-G91>2,0)","v":0},0,0,3,1,2,0,0,3,{"$f":"SUM(G96:O96)","v":9},{"$f":"IF(Q94-Q91=-2,4)+IF(Q94-Q91=-1,3)+IF(Q94-Q91=0,2)+IF(Q94-Q91=1,1)+IF(Q94-Q91>2,0)","v":0},1,0,0,2,0,1,0,0,{"$f":"SUM(Q96:Y96)","v":4},{"$f":"P96+Z96","v":13}]
[null,null,null,null,null,null,{"$f":"G94-G91","v":2},{"$f":"H94-H91","v":2},2,-1,1,0,2,2,-1,null,{"$f":"Q94-Q91","v":2},1,2,3,0,2,1,2,3]
[]
[]
[null,null,null,null,null,"Statistiques scores",null,"Eagle & moins",null,null,null,{"$f":"COUNTIF(G97:Y97,\"<=-2\")","v":0},"Par",null,{"$f":"COUNTIF(G97:Y97,\"=0\")","v":2},"Double bogey",null,null,null,null,{"$f":"COUNTIF(G97:Y97,\"=2\")","v":9}]
[null,null,null,null,null,null,null,"Birdie",null,null,null,{"$f":"COUNTIF(G97:Y97,\"=-1\")","v":2},"Bogey",null,{"$f":"COUNTIF(G97:Y97,\"=1\")","v":3},"Triple bogey & plus",null,null,null,null,{"$f":"COUNTIF(G97:Y97,\">=3\")","v":2}]
[null,null,null,null,null,null,null,{"$f":"M100","v":"Par"},null,null,null,{"$f":"O100","v":2}]
[null,null,null,null,null,null,null,{"$f":"M101","v":"Bogey"},null,null,null,{"$f":"O101","v":3}]
[null,null,null,null,null,null,null,{"$f":"P100","v":"Double bogey"},null,null,null,{"$f":"U100","v":9}]
[null,null,null,null,null,null,null,{"$f":"P101","v":"Triple bogey & plus"},null,null,null,{"$f":"U101","v":2}]
[]
[]
[]
[]
[null,null,null,null,null,"Nom",{"$f":"C10","v":"DELOUCHE"},null,null,null,null,"Slope",null,null,"SSS",null,"Coups reçus",null,null,null,null,null,null,null,null,"Date",{"$f":"$D$3","v":"2022-03-26"}]
[null,null,null,null,null,"Index",{"$f":"E10","v":48.2},null,null,null,null,{"$f":"$F$3","v":122},null,null,{"$f":"$G$3","v":70},null,{"$f":"ROUND((G111*(L111/113)+(O111-AA114)),0)","v":50}]
[]
[null,null,null,null,null,"Trou",1,2,3,4,5,6,7,8,9,"Aller",10,11,12,13,14,15,16,17,18,"Retour","Total"]
[null,null,null,null,null,"PAR",{"$f":"G$7","v":4},{"$f":"H$7","v":5},3,4,4,4,3,4,5,{"$f":"SUM(G114:O114)","v":36},{"$f":"Q$7","v":4},4,3,4,4,5,4,3,5,{"$f":"SUM(Q114:Y114)","v":36},{"$f":"SUM(P114+Z114)","v":72}]
[null,null,null,null,null,"HCP trous",{"$f":"G$8","v":2},{"$f":"H$8","v":8},10,14,6,4,16,12,18,null,{"$f":"Q$8","v":1},9,11,5,15,13,3,17,7]
[null,null,null,null,null,"Coups reçus",{"$f":"IF($Q111<=18,IF(G115<=$Q111,1,0),IF($Q111<=36,IF(G115<=($Q111-18),2,1),IF($Q111>36,IF(G115<=($Q111-36),3,2))))","v":3},{"$f":"IF($Q111<=18,IF(H115<=$Q111,1,0),IF($Q111<=36,IF(H115<=($Q111-18),2,1),IF($Q111>36,IF(H115<=($Q111-36),3,2))))","v":3},3,3,3,3,2,3,2,{"$f":"SUM(G116:O116)","v":25},{"$f":"IF($Q111<=18,IF(Q115<=$Q111,1,0),IF($Q111<=36,IF(Q115<=($Q111-18),2,1),IF($Q111>36,IF(Q115<=($Q111-36),3,2))))","v":3},3,3,3,2,3,3,2,3,{"$f":"SUM(Q116:Y116)","v":25},{"$f":"P116+Z116","v":50}]
[null,null,null,null,null,"Stroke play",{"$f":"G10","v":7},6,5,6,9,7,5,5,7,{"$f":"SUM(G117:O117)","v":57},{"$f":"Q10","v":8},7,5,9,7,8,6,5,9,{"$f":"SUM(Q117:Y117)","v":64},{"$f":"P117+Z117","v":121}]
[null,null,null,null,null,"Net Stableford",{"$f":"IF(G117-G114=-1,3+G116)+IF(G117-G114=0,2+G116)+IF(G117-G114=1,1+G116)+IF(G117-G114=2,G116)+IF(G117-G114=3,IF(G116-1>0,G116-1,0))+IF(G117-G114=4,IF(G116-2>0,G116-2,0))","v":2},{"$f":"IF(H117-H114=-1,3+H116)+IF(H117-H114=0,2+H116)+IF(H117-H114=1,1+H116)+IF(H117-H114=2,H116)+IF(H117-H114=3,IF(H116-1>0,H116-1,0))+IF(H117-H114=4,IF(H116-2>0,H116-2,0))","v":4},3,3,0,2,2,4,2,{"$f":"SUM(G118:O118)","v":22},{"$f":"IF(Q117-Q114=-1,3+Q116)+IF(Q117-Q114=0,2+Q116)+IF(Q117-Q114=1,1+Q116)+IF(Q117-Q114=2,Q116)+IF(Q117-Q114=3,IF(Q116-1>0,Q116-1,0))+IF(Q117-Q114=4,IF(Q116-2>0,Q116-2,0))","v":1},2,3,0,1,2,3,2,1,{"$f":"SUM(Q118:Y118)","v":15},{"$f":"P118+Z118","v":37}]
[null,null,null,null,null,"Score Brut",{"$f":"IF(G117-G114=-2,4)+IF(G117-G114=-1,3)+IF(G117-G114=0,2)+IF(G117-G114=1,1)+IF(G117-G114>2,0)","v":0},1,0,0,0,0,0,1,0,{"$f":"SUM(G119:O119)","v":2},{"$f":"IF(Q117-Q114=-2,4)+IF(Q117-Q114=-1,3)+IF(Q117-Q114=0,2)+IF(Q117-Q114=1,1)+IF(Q117-Q114>2,0)","v":0},0,0,0,0,0,0,0,0,{"$f":"SUM(Q119:Y119)","v":0},{"$f":"P119+Z119","v":2}]
[null,null,null,null,null,null,{"$f":"G117-G114","v":3},{"$f":"H117-H114","v":1},2,2,5,3,2,1,2,null,{"$f":"Q117-Q114","v":4},3,2,5,3,3,2,2,4]
[]
[]
[null,null,null,null,null,"Statistiques scores",null,"Eagle & moins",null,null,null,{"$f":"COUNTIF(G120:Y120,\"<=-2\")","v":0},"Par",null,{"$f":"COUNTIF(G120:Y120,\"=0\")","v":0},"Double bogey",null,null,null,null,{"$f":"COUNTIF(G120:Y120,\"=2\")","v":7}]
[null,null,null,null,null,null,null,"Birdie",null,null,null,{"$f":"COUNTIF(G120:Y120,\"=-1\")","v":0},"Bogey",null,{"$f":"COUNTIF(G120:Y120,\"=1\")","v":2},"Triple bogey & plus",null,null,null,null,{"$f":"COUNTIF(G120:Y120,\">=3\")","v":9}]
[null,null,null,null,null,null,null,{"$f":"M123","v":"Par"},null,null,null,{"$f":"O123","v":0}]
[null,null,null,null,null,null,null,{"$f":"M124","v":"Bogey"},null,null,null,{"$f":"O124","v":2}]
[null,null,null,null,null,null,null,{"$f":"P123","v":"Double bogey"},null,null,null,{"$f":"U123","v":7}]
[null,null,null,null,null,null,null,{"$f":"P124","v":"Triple bogey & plus"},null,null,null,{"$f":"U124","v":9}]
[]
[]
[]
[]
[null,null,null,null,null,"Nom",{"$f":"C11","v":"LANDIER"},null,null,null,null,"Slope",null,null,"SSS",null,"Coups reçus",null,null,null,null,null,null,null,null,"Date",{"$f":"$D$3","v":"2022-03-26"}]
[null,null,null,null,null,"Index",{"$f":"E11","v":23.3},null,null,null,null,{"$f":"$F$3","v":122},null,null,{"$f":"$G$3","v":70},null,{"$f":"ROUND((G134*(L134/113)+(O134-AA137)),0)","v":23}]
[]
[null,null,null,null,null,"Trou",1,2,3,4,5,6,7,8,9,"Aller",10,11,12,13,14,15,16,17,18,"Retour","Total"]
[null,null,null,null,null,"PAR",{"$f":"G$7","v":4},{"$f":"H$7","v":5},3,4,4,4,3,4,5,{"$f":"SUM(G137:O137)","v":36},{"$f":"Q$7","v":4},4,3,4,4,5,4,3,5,{"$f":"SUM(Q137:Y137)","v":36},{"$f":"SUM(P137+Z137)","v":72}]
[null,null,null,null,null,"HCP trous",{"$f":"G$8","v":2},{"$f":"H$8","v":8},10,14,6,4,16,12,18,null,{"$f":"Q$8","v":1},9,11,5,15,13,3,17,7]
[null,null,null,null,null,"Coups reçus",{"$f":"IF($Q134<=18,IF(G138<=$Q134,1,0),IF($Q134<=36,IF(G138<=($Q134-18),2,1),IF($Q134>36,IF(G138<=($Q134-36),3,2))))","v":2},{"$f":"IF($Q134<=18,IF(H138<=$Q134,1,0),IF($Q134<=36,IF(H138<=($Q134-18),2,1),IF($Q134>36,IF(H138<=($Q134-36),3,2))))","v":1},1,1,1,2,1,1,1,{"$f":"SUM(G139:O139)","v":11},{"$f":"IF($Q134<=18,IF(Q138<=$Q134,1,0),IF($Q134<=36,IF(Q138<=($Q134-18),2,1),IF($Q134>36,IF(Q138<=($Q134-36),3,2))))","v":2},1,1,2,1,1,2,1,1,{"$f":"SUM(Q139:Y139)","v":12},{"$f":"P139+Z139","v":23}]
[null,null,null,null,null,"Stroke play",{"$f":"G11","v":5},7,6,6,6,5,4,6,6,{"$f":"SUM(G140:O140)","v":51},{"$f":"Q11","v":7},6,4,8,5,6,7,6,7,{"$f":"SUM(Q140:Y140)","v":56},{"$f":"P140+Z140","v":107}]
[null,null,null,null,null,"Net Stableford",{"$f":"IF(G140-G137=-1,3+G139)+IF(G140-G137=0,2+G139)+IF(G140-G137=1,1+G139)+IF(G140-G137=2,G139)+IF(G140-G137=3,IF(G139-1>0,G139-1,0))+IF(G140-G137=4,IF(G139-2>0,G139-2,0))","v":3},{"$f":"IF(H140-H137=-1,3+H139)+IF(H140-H137=0,2+H139)+IF(H140-H137=1,1+H139)+IF(H140-H137=2,H139)+IF(H140-H137=3,IF(H139-1>0,H139-1,0))+IF(H140-H137=4,IF(H139-2>0,H139-2,0))","v":1},0,1,1,3,2,1,2,{"$f":"SUM(G141:O141)","v":14},{"$f":"IF(Q140-Q137=-1,3+Q139)+IF(Q140-Q137=0,2+Q139)+IF(Q140-Q137=1,1+Q139)+IF(Q140-Q137=2,Q139)+IF(Q140-Q137=3,IF(Q139-1>0,Q139-1,0))+IF(Q140-Q137=4,IF(Q139-2>0,Q139-2,0))","v":1},1,2,0,2,2,1,0,1,{"$f":"SUM(Q141:Y141)","v":10},{"$f":"P141+Z141","v":24}]
[null,null,null,null,null,"Score Brut",{"$f":"IF(G140-G137=-2,4)+IF(G140-G137=-1,3)+IF(G140-G137=0,2)+IF(G140-G137=1,1)+IF(G140-G137>2,0)","v":1},0,0,0,0,1,1,0,1,{"$f":"SUM(G142:O142)","v":4},{"$f":"IF(Q140-Q137=-2,4)+IF(Q140-Q137=-1,3)+IF(Q140-Q137=0,2)+IF(Q140-Q137=1,1)+IF(Q140-Q137>2,0)","v":0},0,1,0,1,1,0,0,0,{"$f":"SUM(Q142:Y142)","v":3},{"$f":"P142+Z142","v":7}]
[null,null,null,null,null,null,{"$f":"G140-G137","v":1},{"$f":"H140-H137","v":2},3,2,2,1,1,2,1,null,{"$f":"Q140-Q137","v":3},2,1,4,1,1,3,3,2]
[]
[]
[null,null,null,null,null,"Statistiques scores",null,"Eagle & moins",null,null,null,{"$f":"COUNTIF(G143:Y143,\"<=-2\")","v":0},"Par",null,{"$f":"COUNTIF(G143:Y143,\"=0\")","v":0},"Double bogey",null,null,null,null,{"$f":"COUNTIF(G143:Y143,\"=2\")","v":6}]
[null,null,null,null,null,null,null,"Birdie",null,null,null,{"$f":"COUNTIF(G143:Y143,\"=-1\")","v":0},"Bogey",null,{"$f":"COUNTIF(G143:Y143,\"=1\")","v":7},"Triple bogey & plus",null,null,null,null,{"$f":"COUNTIF(G143:Y143,\">=3\")","v":5}]
[null,null,null,null,null,null,null,{"$f":"M146","v":"Par"},null,null,null,{"$f":"O146","v":0}]
[null,null,null,null,null,null,null,{"$f":"M147","v":"Bogey"},null,null,null,{"$f":"O147","v":7}]
[null,null,null,null,null,null,null,{"$f":"P146","v":"Double bogey"},null,null,null,{"$f":"U146","v":6}]
[null,null,null,null,null,null,null,{"$f":"P147","v":"Triple bogey & plus"},null,null,null,{"$f":"U147","v":5}]
[]
[]
[]
[]
[null,null,null,null,null,"Nom",{"$f":"C12","v":"HODEAU"},null,null,null,null,"Slope",null,null,"SSS",null,"Coups reçus",null,null,null,null,null,null,null,null,"Date",{"$f":"$D$3","v":"2022-03-26"}]
[null,null,null,null,null,"Index",{"$f":"E12","v":34.700000000000003},null,null,null,null,{"$f":"$F$3","v":122},null,null,{"$f":"$G$3","v":70},null,{"$f":"ROUND((G157*(L157/113)+(O157-AA160)),0)","v":35}]
[]
[null,null,null,null,null,"Trou",1,2,3,4,5,6,7,8,9,"Aller",10,11,12,13,14,15,16,17,18,"Retour","Total"]
[null,null,null,null,null,"PAR",{"$f":"G$7","v":4},{"$f":"H$7","v":5},3,4,4,4,3,4,5,{"$f":"SUM(G160:O160)","v":36},{"$f":"Q$7","v":4},4,3,4,4,5,4,3,5,{"$f":"SUM(Q160:Y160)","v":36},{"$f":"SUM(P160+Z160)","v":72}]
[null,null,null,null,null,"HCP trous",{"$f":"G$8","v":2},{"$f":"H$8","v":8},10,14,6,4,16,12,18,null,{"$f":"Q$8","v":1},9,11,5,15,13,3,17,7]
[null,null,null,null,null,"Coups reçus",{"$f":"IF($Q157<=18,IF(G161<=$Q157,1,0),IF($Q157<=36,IF(G161<=($Q157-18),2,1),IF($Q157>36,IF(G161<=($Q157-36),3,2))))","v":2},{"$f":"IF($Q157<=18,IF(H161<=$Q157,1,0),IF($Q157<=36,IF(H161<=($Q157-18),2,1),IF($Q157>36,IF(H161<=($Q157-36),3,2))))","v":2},2,2,2,2,2,2,1,{"$f":"SUM(G162:O162)","v":17},{"$f":"IF($Q157<=18,IF(Q161<=$Q157,1,0),IF($Q157<=36,IF(Q161<=($Q157-18),2,1),IF($Q157>36,IF(Q161<=($Q157-36),3,2))))","v":2},2,2,2,2,2,2,2,2,{"$f":"SUM(Q162:Y162)","v":18},{"$f":"P162+Z162","v":35}]
[null,null,null,null,null,"Stroke play",{"$f":"G12","v":7},8,4,5,6,5,5,4,7,{"$f":"SUM(G163:O163)","v":51},{"$f":"Q12","v":8},6,2,6,8,6,7,3,6,{"$f":"SUM(Q163:Y163)","v":52},{"$f":"P163+Z163","v":103}]
[null,null,null,null,null,"Net Stableford",{"$f":"IF(G163-G160=-1,3+G162)+IF(G163-G160=0,2+G162)+IF(G163-G160=1,1+G162)+IF(G163-G160=2,G162)+IF(G163-G160=3,IF(G162-1>0,G162-1,0))+IF(G163-G160=4,IF(G162-2>0,G162-2,0))","v":1},{"$f":"IF(H163-H160=-1,3+H162)+IF(H163-H160=0,2+H162)+IF(H163-H160=1,1+H162)+IF(H163-H160=2,H162)+IF(H163-H160=3,IF(H162-1>0,H162-1,0))+IF(H163-H160=4,IF(H162-2>0,H162-2,0))","v":1},3,3,2,3,2,4,1,{"$f":"SUM(G164:O164)","v":20},{"$f":"IF(Q163-Q160=-1,3+Q162)+IF(Q163-Q160=0,2+Q162)+IF(Q163-Q160=1,1+Q162)+IF(Q163-Q160=2,Q162)+IF(Q163-Q160=3,IF(Q162-1>0,Q162-1,0))+IF(Q163-Q160=4,IF(Q162-2>0,Q162-2,0))","v":0},2,5,2,0,3,1,4,3,{"$f":"SUM(Q164:Y164)","v":20},{"$f":"P164+Z164","v":40}]
[null,null,null,null,null,"Score Brut",{"$f":"IF(G163-G160=-2,4)+IF(G163-G160=-1,3)+IF(G163-G160=0,2)+IF(G163-G160=1,1)+IF(G163-G160>2,0)","v":0},0,1,1,0,1,0,2,0,{"$f":"SUM(G165:O165)","v":5},{"$f":"IF(Q163-Q160=-2,4)+IF(Q163-Q160=-1,3)+IF(Q163-Q160=0,2)+IF(Q163-Q160=1,1)+IF(Q163-Q160>2,0)","v":0},0,3,0,0,1,0,2,1,{"$f":"SUM(Q165:Y165)","v":7},{"$f":"P165+Z165","v":12}]
[null,null,null,null,null,null,{"$f":"G163-G160","v":3},{"$f":"H163-H160","v":3},1,1,2,1,2,0,2,null,{"$f":"Q163-Q160","v":4},2,-1,2,4,1,3,0,1]
[]
[]
[null,null,null,null,null,"Statistiques scores",null,"Eagle & moins",null,null,null,{"$f":"COUNTIF(G166:Y166,\"<=-2\")","v":0},"Par",null,{"$f":"COUNTIF(G166:Y166,\"=0\")","v":2},"Double bogey",null,null,null,null,{"$f":"COUNTIF(G166:Y166,\"=2\")","v":5}]
[null,null,null,null,null,null,null,"Birdie",null,null,null,{"$f":"COUNTIF(G166:Y166,\"=-1\")","v":1},"Bogey",null,{"$f":"COUNTIF(G166:Y166,\"=1\")","v":5},"Triple bogey & plus",null,null,null,null,{"$f":"COUNTIF(G166:Y166,\">=3\")","v":5}]
[null,null,null,null,null,null,null,{"$f":"M169","v":"Par"},null,null,null,{"$f":"O169","v":2}]
[null,null,null,null,null,null,null,{"$f":"M170","v":"Bogey"},null,null,null,{"$f":"O170","v":5}]
[null,null,null,null,null,null,null,{"$f":"P169","v":"Double bogey"},null,null,null,{"$f":"U169","v":5}]
[null,null,null,null,null,null,null,{"$f":"P170","v":"Triple bogey & plus"},null,null,null,{"$f":"U170","v":5}]
[]
[]
[]
[]
[null,null,null,null,null,"Nom",{"$f":"C13","v":"FARE"},null,null,null,null,"Slope",null,null,"SSS",null,"Coups reçus",null,null,null,null,null,null,null,null,"Date",{"$f":"$D$3","v":"2022-03-26"}]
[null,null,null,null,null,"Index",{"$f":"E13","v":25.6},null,null,null,null,{"$f":"$F$3","v":122},null,null,{"$f":"$G$3","v":70},null,{"$f":"ROUND((G180*(L180/113)+(O180-AA183)),0)","v":26}]
[]
[null,null,null,null,null,"Trou",1,2,3,4,5,6,7,8,9,"Aller",10,11,12,13,14,15,16,17,18,"Retour","Total"]
[null,null,null,null,null,"PAR",{"$f":"G$7","v":4},{"$f":"H$7","v":5},3,4,4,4,3,4,5,{"$f":"SUM(G183:O183)","v":36},{"$f":"Q$7","v":4},4,3,4,4,5,4,3,5,{"$f":"SUM(Q183:Y183)","v":36},{"$f":"SUM(P183+Z183)","v":72}]
[null,null,null,null,null,"HCP trous",{"$f":"G$8","v":2},{"$f":"H$8","v":8},10,14,6,4,16,12,18,null,{"$f":"Q$8","v":1},9,11,5,15,13,3,17,7]
[null,null,null,null,null,"Coups reçus",{"$f":"IF($Q180<=18,IF(G184<=$Q180,1,0),IF($Q180<=36,IF(G184<=($Q180-18),2,1),IF($Q180>36,IF(G184<=($Q180-36),3,2))))","v":2},{"$f":"IF($Q180<=18,IF(H184<=$Q180,1,0),IF($Q180<=36,IF(H184<=($Q180-18),2,1),IF($Q180>36,IF(H184<=($Q180-36),3,2))))","v":2},1,1,2,2,1,1,1,{"$f":"SUM(G185:O185)","v":13},{"$f":"IF($Q180<=18,IF(Q184<=$Q180,1,0),IF($Q180<=36,IF(Q184<=($Q180-18),2,1),IF($Q180>36,IF(Q184<=($Q180-36),3,2))))","v":2},1,1,2,1,1,2,1,2,{"$f":"SUM(Q185:Y185)","v":13},{"$f":"P185+Z185","v":26}]
[null,null,null,null,null,"Stroke play",{"$f":"G13","v":6},7,5,5,7,5,5,4,5,{"$f":"SUM(G186:O186)","v":49},{"$f":"Q13","v":6},7,4,6,6,6,5,4,6,{"$f":"SUM(Q186:Y186)","v":50},{"$f":"P186+Z186","v":99}]
[null,null,null,null,null,"Net Stableford",{"$f":"IF(G186-G183=-1,3+G185)+IF(G186-G183=0,2+G185)+IF(G186-G183=1,1+G185)+IF(G186-G183=2,G185)+IF(G186-G183=3,IF(G185-1>0,G185-1,0))+IF(G186-G183=4,IF(G185-2>0,G185-2,0))","v":2},{"$f":"IF(H186-H183=-1,3+H185)+IF(H186-H183=0,2+H185)+IF(H186-H183=1,1+H185)+IF(H186-H183=2,H185)+IF(H186-H183=3,IF(H185-1>0,H185-1,0))+IF(H186-H183=4,IF(H185-2>0,H185-2,0))","v":2},1,2,1,3,1,3,3,{"$f":"SUM(G187:O187)","v":18},{"$f":"IF(Q186-Q183=-1,3+Q185)+IF(Q186-Q183=0,2+Q185)+IF(Q186-Q183=1,1+Q185)+IF(Q186-Q183=2,Q185)+IF(Q186-Q183=3,IF(Q185-1>0,Q185-1,0))+IF(Q186-Q183=4,IF(Q185-2>0,Q185-2,0))","v":2},0,2,2,1,2,3,2,3,{"$f":"SUM(Q187:Y187)","v":17},{"$f":"P187+Z187","v":35}]
[null,null,null,null,null,"Score Brut",{"$f":"IF(G186-G183=-2,4)+IF(G186-G183=-1,3)+IF(G186-G183=0,2)+IF(G186-G183=1,1)+IF(G186-G183>2,0)","v":0},0,0,1,0,1,0,2,2,{"$f":"SUM(G188:O188)","v":6},{"$f":"IF(Q186-Q183=-2,4)+IF(Q186-Q183=-1,3)+IF(Q186-Q183=0,2)+IF(Q186-Q183=1,1)+IF(Q186-Q183>2,0)","v":0},0,1,0,0,1,1,1,1,{"$f":"SUM(Q188:Y188)","v":5},{"$f":"P188+Z188","v":11}]
[null,null,null,null,null,null,{"$f":"G186-G183","v":2},{"$f":"H186-H183","v":2},2,1,3,1,2,0,0,null,{"$f":"Q186-Q183","v":2},3,1,2,2,1,1,1,1]
[]
[]
[null,null,null,null,null,"Statistiques scores",null,"Eagle & moins",null,null,null,{"$f":"COUNTIF(G189:Y189,\"<=-2\")","v":0},"Par",null,{"$f":"COUNTIF(G189:Y189,\"=0\")","v":2},"Double bogey",null,null,null,null,{"$f":"COUNTIF(G189:Y189,\"=2\")","v":7}]
[null,null,null,null,null,null,null,"Birdie",null,null,null,{"$f":"COUNTIF(G189:Y189,\"=-1\")","v":0},"Bogey",null,{"$f":"COUNTIF(G189:Y189,\"=1\")","v":7},"Triple bogey & plus",null,null,null,null,{"$f":"COUNTIF(G189:Y189,\">=3\")","v":2}]
[null,null,null,null,null,null,null,{"$f":"M192","v":"Par"},null,null,null,{"$f":"O192","v":2}]
[null,null,null,null,null,null,null,{"$f":"M193","v":"Bogey"},null,null,null,{"$f":"O193","v":7}]
[null,null,null,null,null,null,null,{"$f":"P192","v":"Double bogey"},null,null,null,{"$f":"U192","v":7}]
[null,null,null,null,null,null,null,{"$f":"P193","v":"Triple bogey & plus"},null,null,null,{"$f":"U193","v":2}]
[]
[]
[]
[]
[null,null,null,null,null,"Nom",{"$f":"C14","v":"MORALES"},null,null,null,null,"Slope",null,null,"SSS",null,"Coups reçus",null,null,null,null,null,null,null,null,"Date",{"$f":"$D$3","v":"2022-03-26"}]
[null,null,null,null,null,"Index",{"$f":"E14","v":14},null,null,null,null,{"$f":"$F$3","v":122},null,null,{"$f":"$G$3","v":70},null,{"$f":"ROUND((G203*(L203/113)+(O203-AA206)),0)","v":13}]
[]
[null,null,null,null,null,"Trou",1,2,3,4,5,6,7,8,9,"Aller",10,11,12,13,14,15,16,17,18,"Retour","Total"]
[null,null,null,null,null,"PAR",{"$f":"G$7","v":4},{"$f":"H$7","v":5},3,4,4,4,3,4,5,{"$f":"SUM(G206:O206)","v":36},{"$f":"Q$7","v":4},4,3,4,4,5,4,3,5,{"$f":"SUM(Q206:Y206)","v":36},{"$f":"SUM(P206+Z206)","v":72}]
[null,null,null,null,null,"HCP trous",{"$f":"G$8","v":2},{"$f":"H$8","v":8},10,14,6,4,16,12,18,null,{"$f":"Q$8","v":1},9,11,5,15,13,3,17,7]
[null,null,null,null,null,"Coups reçus",{"$f":"IF($Q203<=18,IF(G207<=$Q203,1,0),IF($Q203<=36,IF(G207<=($Q203-18),2,1),IF($Q203>36,IF(G207<=($Q203-36),3,2))))","v":1},{"$f":"IF($Q203<=18,IF(H207<=$Q203,1,0),IF($Q203<=36,IF(H207<=($Q203-18),2,1),IF($Q203>36,IF(H207<=($Q203-36),3,2))))","v":1},1,0,1,1,0,1,0,{"$f":"SUM(G208:O208)","v":6},{"$f":"IF($Q203<=18,IF(Q207<=$Q203,1,0),IF($Q203<=36,IF(Q207<=($Q203-18),2,1),IF($Q203>36,IF(Q207<=($Q203-36),3,2))))","v":1},1,1,1,0,1,1,0,1,{"$f":"SUM(Q208:Y208)","v":7},{"$f":"P208+Z208","v":13}]
[null,null,null,null,null,"Stroke play",{"$f":"G14","v":5},5,4,5,5,6,4,3,6,{"$f":"SUM(G209:O209)","v":43},{"$f":"Q14","v":3},6,6,6,4,5,5,3,5,{"$f":"SUM(Q209:Y209)","v":43},{"$f":"P209+Z209","v":86}]
[null,null,null,null,null,"Net Stableford",{"$f":"IF(G209-G206=-1,3+G208)+IF(G209-G206=0,2+G208)+IF(G209-G206=1,1+G208)+IF(G209-G206=2,G208)+IF(G209-G206=3,IF(G208-1>0,G208-1,0))+IF(G209-G206=4,IF(G208-2>0,G208-2,0))","v":2},{"$f":"IF(H209-H206=-1,3+H208)+IF(H209-H206=0,2+H208)+IF(H209-H206=1,1+H208)+IF(H209-H206=2,H208)+IF(H209-H206=3,IF(H208-1>0,H208-1,0))+IF(H209-H206=4,IF(H208-2>0,H208-2,0))","v":3},2,1,2,1,1,4,1,{"$f":"SUM(G210:O210)","v":17},{"$f":"IF(Q209-Q206=-1,3+Q208)+IF(Q209-Q206=0,2+Q208)+IF(Q209-Q206=1,1+Q208)+IF(Q209-Q206=2,Q208)+IF(Q209-Q206=3,IF(Q208-1>0,Q208-1,0))+IF(Q209-Q206=4,IF(Q208-2>0,Q208-2,0))","v":4},1,0,1,2,3,2,2,3,{"$f":"SUM(Q210:Y210)","v":18},{"$f":"P210+Z210","v":35}]
[null,null,null,null,null,"Score Brut",{"$f":"IF(G209-G206=-2,4)+IF(G209-G206=-1,3)+IF(G209-G206=0,2)+IF(G209-G206=1,1)+IF(G209-G206>2,0)","v":1},2,1,1,1,0,1,3,1,{"$f":"SUM(G211:O211)","v":11},{"$f":"IF(Q209-Q206=-2,4)+IF(Q209-Q206=-1,3)+IF(Q209-Q206=0,2)+IF(Q209-Q206=1,1)+IF(Q209-Q206>2,0)","v":3},0,0,0,2,2,1,2,2,{"$f":"SUM(Q211:Y211)","v":12},{"$f":"P211+Z211","v":23}]
[null,null,null,null,null,null,{"$f":"G209-G206","v":1},{"$f":"H209-H206","v":0},1,1,1,2,1,-1,1,null,{"$f":"Q209-Q206","v":-1},2,3,2,0,0,1,0,0]
[]
[]
[null,null,null,null,null,"Statistiques scores",null,"Eagle & moins",null,null,null,{"$f":"COUNTIF(G212:Y212,\"<=-2\")","v":0},"Par",null,{"$f":"COUNTIF(G212:Y212,\"=0\")","v":5},"Double bogey",null,null,null,null,{"$f":"COUNTIF(G212:Y212,\"=2\")","v":3}]
[null,null,null,null,null,null,null,"Birdie",null,null,null,{"$f":"COUNTIF(G212:Y212,\"=-1\")","v":2},"Bogey",null,{"$f":"COUNTIF(G212:Y212,\"=1\")","v":7},"Triple bogey & plus",null,null,null,null,{"$f":"COUNTIF(G212:Y212,\">=3\")","v":1}]
[null,null,null,null,null,null,null,{"$f":"M215","v":"Par"},null,null,null,{"$f":"O215","v":5}]
[null,null,null,null,null,null,null,{"$f":"M216","v":"Bogey"},null,null,null,{"$f":"O216","v":7}]
[null,null,null,null,null,null,null,{"$f":"P215","v":"Double bogey"},null,null,null,{"$f":"U215","v":3}]
[null,null,null,null,null,null,null,{"$f":"P216","v":"Triple bogey & plus"},null,null,null,{"$f":"U216","v":1}]
[]
[]
[]
[]
[null,null,null,null,null,"Nom",{"$f":"C15","v":"ROBERT"},null,null,null,null,"Slope",null,null,"SSS",null,"Coups reçus",null,null,null,null,null,null,null,null,"Date",{"$f":"$D$3","v":"2022-03-26"}]
[null,null,null,null,null,"Index",{"$f":"E15","v":25},null,null,null,null,{"$f":"$F$3","v":122},null,null,{"$f":"$G$3","v":70},null,{"$f":"ROUND((G226*(L226/113)+(O226-AA229)),0)","v":25}]
[]
[null,null,null,null,null,"Trou",1,2,3,4,5,6,7,8,9,"Aller",10,11,12,13,14,15,16,17,18,"Retour","Total"]
[null,null,null,null,null,"PAR",{"$f":"G$7","v":4},{"$f":"H$7","v":5},3,4,4,4,3,4,5,{"$f":"SUM(G229:O229)","v":36},{"$f":"Q$7","v":4},4,3,4,4,5,4,3,5,{"$f":"SUM(Q229:Y229)","v":36},{"$f":"SUM(P229+Z229)","v":72}]
[null,null,null,null,null,"HCP trous",{"$f":"G$8","v":2},{"$f":"H$8","v":8},10,14,6,4,16,12,18,null,{"$f":"Q$8","v":1},9,11,5,15,13,3,17,7]
[null,null,null,null,null,"Coups reçus",{"$f":"IF($Q226<=18,IF(G230<=$Q226,1,0),IF($Q226<=36,IF(G230<=($Q226-18),2,1),IF($Q226>36,IF(G230<=($Q226-36),3,2))))","v":2},{"$f":"IF($Q226<=18,IF(H230<=$Q226,1,0),IF($Q226<=36,IF(H230<=($Q226-18),2,1),IF($Q226>36,IF(H230<=($Q226-36),3,2))))","v":1},1,1,2,2,1,1,1,{"$f":"SUM(G231:O231)","v":12},{"$f":"IF($Q226<=18,IF(Q230<=$Q226,1,0),IF($Q226<=36,IF(Q230<=($Q226-18),2,1),IF($Q226>36,IF(Q230<=($Q226-36),3,2))))","v":2},1,1,2,1,1,2,1,2,{"$f":"SUM(Q231:Y231)","v":13},{"$f":"P231+Z231","v":25}]
[null,null,null,null,null,"Stroke play",{"$f":"G15","v":6},7,5,6,6,4,4,7,6,{"$f":"SUM(G232:O232)","v":51},{"$f":"Q15","v":7},8,4,6,5,6,8,3,9,{"$f":"SUM(Q232:Y232)","v":56},{"$f":"P232+Z232","v":107}]
[null,null,null,null,null,"Net Stableford",{"$f":"IF(G232-G229=-1,3+G231)+IF(G232-G229=0,2+G231)+IF(G232-G229=1,1+G231)+IF(G232-G229=2,G231)+IF(G232-G229=3,IF(G231-1>0,G231-1,0))+IF(G232-G229=4,IF(G231-2>0,G231-2,0))","v":2},{"$f":"IF(H232-H229=-1,3+H231)+IF(H232-H229=0,2+H231)+IF(H232-H229=1,1+H231)+IF(H232-H229=2,H231)+IF(H232-H229=3,IF(H231-1>0,H231-1,0))+IF(H232-H229=4,IF(H231-2>0,H231-2,0))","v":1},1,1,2,4,2,0,2,{"$f":"SUM(G233:O233)","v":15},{"$f":"IF(Q232-Q229=-1,3+Q231)+IF(Q232-Q229=0,2+Q231)+IF(Q232-Q229=1,1+Q231)+IF(Q232-Q229=2,Q231)+IF(Q232-Q229=3,IF(Q231-1>0,Q231-1,0))+IF(Q232-Q229=4,IF(Q231-2>0,Q231-2,0))","v":1},0,2,2,2,2,0,3,0,{"$f":"SUM(Q233:Y233)","v":12},{"$f":"P233+Z233","v":27}]
[null,null,null,null,null,"Score Brut",{"$f":"IF(G232-G229=-2,4)+IF(G232-G229=-1,3)+IF(G232-G229=0,2)+IF(G232-G229=1,1)+IF(G232-G229>2,0)","v":0},0,0,0,0,2,1,0,1,{"$f":"SUM(G234:O234)","v":4},{"$f":"IF(Q232-Q229=-2,4)+IF(Q232-Q229=-1,3)+IF(Q232-Q229=0,2)+IF(Q232-Q229=1,1)+IF(Q232-Q229>2,0)","v":0},0,1,0,1,1,0,2,0,{"$f":"SUM(Q234:Y234)","v":5},{"$f":"P234+Z234","v":9}]
[null,null,null,null,null,null,{"$f":"G232-G229","v":2},{"$f":"H232-H229","v":2},2,2,2,0,1,3,1,null,{"$f":"Q232-Q229","v":3},4,1,2,1,1,4,0,4]
[]
[]
[null,null,null,null,null,"Statistiques scores",null,"Eagle & moins",null,null,null,{"$f":"COUNTIF(G235:Y235,\"<=-2\")","v":0},"Par",null,{"$f":"COUNTIF(G235:Y235,\"=0\")","v":2},"Double bogey",null,null,null,null,{"$f":"COUNTIF(G235:Y235,\"=2\")","v":6}]
[null,null,null,null,null,null,null,"Birdie",null,null,null,{"$f":"COUNTIF(G235:Y235,\"=-1\")","v":0},"Bogey",null,{"$f":"COUNTIF(G235:Y235,\"=1\")","v":5},"Triple bogey & plus",null,null,null,null,{"$f":"COUNTIF(G235:Y235,\">=3\")","v":5}]
[null,null,null,null,null,null,null,{"$f":"M238","v":"Par"},null,null,null,{"$f":"O238","v":2}]
[null,null,null,null,null,null,null,{"$f":"M239","v":"Bogey"},null,null,null,{"$f":"O239","v":5}]
[null,null,null,null,null,null,null,{"$f":"P238","v":"Double bogey"},null,null,null,{"$f":"U238","v":6}]
[null,null,null,null,null,null,null,{"$f":"P239","v":"Triple bogey & plus"},null,null,null,{"$f":"U239","v":5}]
[]
[]
[]
[]
[null,null,null,null,null,"Nom",{"$f":"C16","v":"BINVAULT"},null,null,null,null,"Slope",null,null,"SSS",null,"Coups reçus",null,null,null,null,null,null,null,null,"Date",{"$f":"$D$3","v":"2022-03-26"}]
[null,null,null,null,null,"Index",{"$f":"E16","v":34.700000000000003},null,null,null,null,{"$f":"$F$3","v":122},null,null,{"$f":"$G$3","v":70},null,{"$f":"ROUND((G249*(L249/113)+(O249-AA252)),0)","v":35}]
[]
[null,null,null,null,null,"Trou",1,2,3,4,5,6,7,8,9,"Aller",10,11,12,13,14,15,16,17,18,"Retour","Total"]
[null,null,null,null,null,"PAR",{"$f":"G$7","v":4},{"$f":"H$7","v":5},3,4,4,4,3,4,5,{"$f":"SUM(G252:O252)","v":36},{"$f":"Q$7","v":4},4,3,4,4,5,4,3,5,{"$f":"SUM(Q252:Y252)","v":36},{"$f":"SUM(P252+Z252)","v":72}]
[null,null,null,null,null,"HCP trous",{"$f":"G$8","v":2},{"$f":"H$8","v":8},10,14,6,4,16,12,18,null,{"$f":"Q$8","v":1},9,11,5,15,13,3,17,7]
[null,null,null,null,null,"Coups reçus",{"$f":"IF($Q249<=18,IF(G253<=$Q249,1,0),IF($Q249<=36,IF(G253<=($Q249-18),2,1),IF($Q249>36,IF(G253<=($Q249-36),3,2))))","v":2},{"$f":"IF($Q249<=18,IF(H253<=$Q249,1,0),IF($Q249<=36,IF(H253<=($Q249-18),2,1),IF($Q249>36,IF(H253<=($Q249-36),3,2))))","v":2},2,2,2,2,2,2,1,{"$f":"SUM(G254:O254)","v":17},{"$f":"IF($Q249<=18,IF(Q253<=$Q249,1,0),IF($Q249<=36,IF(Q253<=($Q249-18),2,1),IF($Q249>36,IF(Q253<=($Q249-36),3,2))))","v":2},2,2,2,2,2,2,2,2,{"$f":"SUM(Q254:Y254)","v":18},{"$f":"P254+Z254","v":35}]
[null,null,null,null,null,"Stroke play",{"$f":"G16","v":6},9,3,7,6,5,4,5,6,{"$f":"SUM(G255:O255)","v":51},{"$f":"Q16","v":6},6,5,6,7,9,7,7,7,{"$f":"SUM(Q255:Y255)","v":60},{"$f":"P255+Z255","v":111}]
[null,null,null,null,null,"Net Stableford",{"$f":"IF(G255-G252=-1,3+G254)+IF(G255-G252=0,2+G254)+IF(G255-G252=1,1+G254)+IF(G255-G252=2,G254)+IF(G255-G252=3,IF(G254-1>0,G254-1,0))+IF(G255-G252=4,IF(G254-2>0,G254-2,0))","v":2},{"$f":"IF(H255-H252=-1,3+H254)+IF(H255-H252=0,2+H254)+IF(H255-H252=1,1+H254)+IF(H255-H252=2,H254)+IF(H255-H252=3,IF(H254-1>0,H254-1,0))+IF(H255-H252=4,IF(H254-2>0,H254-2,0))","v":0},4,1,2,3,3,3,2,{"$f":"SUM(G256:O256)","v":20},{"$f":"IF(Q255-Q252=-1,3+Q254)+IF(Q255-Q252=0,2+Q254)+IF(Q255-Q252=1,1+Q254)+IF(Q255-Q252=2,Q254)+IF(Q255-Q252=3,IF(Q254-1>0,Q254-1,0))+IF(Q255-Q252=4,IF(Q254-2>0,Q254-2,0))","v":2},2,2,2,1,0,1,0,2,{"$f":"SUM(Q256:Y256)","v":12},{"$f":"P256+Z256","v":32}]
[null,null,null,null,null,"Score Brut",{"$f":"IF(G255-G252=-2,4)+IF(G255-G252=-1,3)+IF(G255-G252=0,2)+IF(G255-G252=1,1)+IF(G255-G252>2,0)","v":0},0,2,0,0,1,1,1,1,{"$f":"SUM(G257:O257)","v":6},{"$f":"IF(Q255-Q252=-2,4)+IF(Q255-Q252=-1,3)+IF(Q255-Q252=0,2)+IF(Q255-Q252=1,1)+IF(Q255-Q252>2,0)","v":0},0,0,0,0,0,0,0,0,{"$f":"SUM(Q257:Y257)","v":0},{"$f":"P257+Z257","v":6}]
[null,null,null,null,null,null,{"$f":"G255-G252","v":2},{"$f":"H255-H252","v":4},0,3,2,1,1,1,1,null,{"$f":"Q255-Q252","v":2},2,2,2,3,4,3,4,2]
[]
[]
[null,null,null,null,null,"Statistiques scores",null,"Eagle & moins",null,null,null,{"$f":"COUNTIF(G258:Y258,\"<=-2\")","v":0},"Par",null,{"$f":"COUNTIF(G258:Y258,\"=0\")","v":1},"Double bogey",null,null,null,null,{"$f":"COUNTIF(G258:Y258,\"=2\")","v":7}]
[null,null,null,null,null,null,null,"Birdie",null,null,null,{"$f":"COUNTIF(G258:Y258,\"=-1\")","v":0},"Bogey",null,{"$f":"COUNTIF(G258:Y258,\"=1\")","v":4},"Triple bogey & plus",null,null,null,null,{"$f":"COUNTIF(G258:Y258,\">=3\")","v":6}]
[null,null,null,null,null,null,null,{"$f":"M261","v":"Par"},null,null,null,{"$f":"O261","v":1}]
[null,null,null,null,null,null,null,{"$f":"M262","v":"Bogey"},null,null,null,{"$f":"O262","v":4}]
[null,null,null,null,null,null,null,{"$f":"P261","v":"Double bogey"},null,null,null,{"$f":"U261","v":7}]
[null,null,null,null,null,null,null,{"$f":"P262","v":"Triple bogey & plus"},null,null,null,{"$f":"U262","v":6}]
[]
[]
[]
[]
[null,null,null,null,null,"Nom",{"$f":"C17","v":"DIOT"},null,null,null,null,"Slope",null,null,"SSS",null,"Coups reçus",null,null,null,null,null,null,null,null,"Date",{"$f":"$D$3","v":"2022-03-26"}]
[null,null,null,null,null,"Index",{"$f":"E17","v":8.1999999999999993},null,null,null,null,{"$f":"$F$3","v":122},null,null,{"$f":"$G$3","v":70},null,{"$f":"ROUND((G272*(L272/113)+(O272-AA275)),0)","v":7}]
[]
[null,null,null,null,null,"Trou",1,2,3,4,5,6,7,8,9,"Aller",10,11,12,13,14,15,16,17,18,"Retour","Total"]
[null,null,null,null,null,"PAR",{"$f":"G$7","v":4},{"$f":"H$7","v":5},3,4,4,4,3,4,5,{"$f":"SUM(G275:O275)","v":36},{"$f":"Q$7","v":4},4,3,4,4,5,4,3,5,{"$f":"SUM(Q275:Y275)","v":36},{"$f":"SUM(P275+Z275)","v":72}]
[null,null,null,null,null,"HCP trous",{"$f":"G$8","v":2},{"$f":"H$8","v":8},10,14,6,4,16,12,18,null,{"$f":"Q$8","v":1},9,11,5,15,13,3,17,7]
[null,null,null,null,null,"Coups reçus",{"$f":"IF($Q272<=18,IF(G276<=$Q272,1,0),IF($Q272<=36,IF(G276<=($Q272-18),2,1),IF($Q272>36,IF(G276<=($Q272-36),3,2))))","v":1},{"$f":"IF($Q272<=18,IF(H276<=$Q272,1,0),IF($Q272<=36,IF(H276<=($Q272-18),2,1),IF($Q272>36,IF(H276<=($Q272-36),3,2))))","v":0},0,0,1,1,0,0,0,{"$f":"SUM(G277:O277)","v":3},{"$f":"IF($Q272<=18,IF(Q276<=$Q272,1,0),IF($Q272<=36,IF(Q276<=($Q272-18),2,1),IF($Q272>36,IF(Q276<=($Q272-36),3,2))))","v":1},0,0,1,0,0,1,0,1,{"$f":"SUM(Q277:Y277)","v":4},{"$f":"P277+Z277","v":7}]
[null,null,null,null,null,"Stroke play",{"$f":"G17","v":7},7,3,6,5,5,4,5,6,{"$f":"SUM(G278:O278)","v":48},{"$f":"Q17","v":5},7,4,5,4,5,4,3,5,{"$f":"SUM(Q278:Y278)","v":42},{"$f":"P278+Z278","v":90}]
[null,null,null,null,null,"Net Stableford",{"$f":"IF(G278-G275=-1,3+G277)+IF(G278-G275=0,2+G277)+IF(G278-G275=1,1+G277)+IF(G278-G275=2,G277)+IF(G278-G275=3,IF(G277-1>0,G277-1,0))+IF(G278-G275=4,IF(G277-2>0,G277-2,0))","v":0},{"$f":"IF(H278-H275=-1,3+H277)+IF(H278-H275=0,2+H277)+IF(H278-H275=1,1+H277)+IF(H278-H275=2,H277)+IF(H278-H275=3,IF(H277-1>0,H277-1,0))+IF(H278-H275=4,IF(H277-2>0,H277-2,0))","v":0},2,0,2,2,1,1,1,{"$f":"SUM(G279:O279)","v":9},{"$f":"IF(Q278-Q275=-1,3+Q277)+IF(Q278-Q275=0,2+Q277)+IF(Q278-Q275=1,1+Q277)+IF(Q278-Q275=2,Q277)+IF(Q278-Q275=3,IF(Q277-1>0,Q277-1,0))+IF(Q278-Q275=4,IF(Q277-2>0,Q277-2,0))","v":2},0,1,2,2,2,3,2,3,{"$f":"SUM(Q279:Y279)","v":17},{"$f":"P279+Z279","v":26}]
[null,null,null,null,null,"Score Brut",{"$f":"IF(G278-G275=-2,4)+IF(G278-G275=-1,3)+IF(G278-G275=0,2)+IF(G278-G275=1,1)+IF(G278-G275>2,0)","v":0},0,2,0,1,1,1,1,1,{"$f":"SUM(G280:O280)","v":7},{"$f":"IF(Q278-Q275=-2,4)+IF(Q278-Q275=-1,3)+IF(Q278-Q275=0,2)+IF(Q278-Q275=1,1)+IF(Q278-Q275>2,0)","v":1},0,1,1,2,2,2,2,2,{"$f":"SUM(Q280:Y280)","v":13},{"$f":"P280+Z280","v":20}]
[null,null,null,null,null,null,{"$f":"G278-G275","v":3},{"$f":"H278-H275","v":2},0,2,1,1,1,1,1,null,{"$f":"Q278-Q275","v":1},3,1,1,0,0,0,0,0]
[]
[]
[null,null,null,null,null,"Statistiques scores",null,"Eagle & moins",null,null,null,{"$f":"COUNTIF(G281:Y281,\"<=-2\")","v":0},"Par",null,{"$f":"COUNTIF(G281:Y281,\"=0\")","v":6},"Double bogey",null,null,null,null,{"$f":"COUNTIF(G281:Y281,\"=2\")","v":2}]
[null,null,null,null,null,null,null,"Birdie",null,null,null,{"$f":"COUNTIF(G281:Y281,\"=-1\")","v":0},"Bogey",null,{"$f":"COUNTIF(G281:Y281,\"=1\")","v":8},"Triple bogey & plus",null,null,null,null,{"$f":"COUNTIF(G281:Y281,\">=3\")","v":2}]
[null,null,null,null,null,null,null,{"$f":"M284","v":"Par"},null,null,null,{"$f":"O284","v":6}]
[null,null,null,null,null,null,null,{"$f":"M285","v":"Bogey"},null,null,null,{"$f":"O285","v":8}]
[null,null,null,null,null,null,null,{"$f":"P284","v":"Double bogey"},null,null,null,{"$f":"U284","v":2}]
[null,null,null,null,null,null,null,{"$f":"P285","v":"Triple bogey & plus"},null,null,null,{"$f":"U285","v":2}]
[]
[]
[]
[]
[null,null,null,null,null,"Nom",{"$f":"C18","v":"VILLATTE"},null,null,null,null,"Slope",null,null,"SSS",null,"Coups reçus",null,null,null,null,null,null,null,null,"Date",{"$f":"$D$3","v":"2022-03-26"}]
[null,null,null,null,null,"Index",{"$f":"E18","v":54},null,null,null,null,{"$f":"$F$3","v":122},null,null,{"$f":"$G$3","v":70},null,{"$f":"ROUND((G295*(L295/113)+(O295-AA298)),0)","v":56}]
[]
[null,null,null,null,null,"Trou",1,2,3,4,5,6,7,8,9,"Aller",10,11,12,13,14,15,16,17,18,"Retour","Total"]
[null,null,null,null,null,"PAR",{"$f":"G$7","v":4},{"$f":"H$7","v":5},3,4,4,4,3,4,5,{"$f":"SUM(G298:O298)","v":36},{"$f":"Q$7","v":4},4,3,4,4,5,4,3,5,{"$f":"SUM(Q298:Y298)","v":36},{"$f":"SUM(P298+Z298)","v":72}]
[null,null,null,null,null,"HCP trous",{"$f":"G$8","v":2},{"$f":"H$8","v":8},10,14,6,4,16,12,18,null,{"$f":"Q$8","v":1},9,11,5,15,13,3,17,7]
[null,null,null,null,null,"Coups reçus",{"$f":"IF($Q295<=18,IF(G299<=$Q295,1,0),IF($Q295<=36,IF(G299<=($Q295-18),2,1),IF($Q295>36,IF(G299<=($Q295-36),3,2))))","v":3},{"$f":"IF($Q295<=18,IF(H299<=$Q295,1,0),IF($Q295<=36,IF(H299<=($Q295-18),2,1),IF($Q295>36,IF(H299<=($Q295-36),3,2))))","v":3},3,3,3,3,3,3,3,{"$f":"SUM(G300:O300)","v":27},{"$f":"IF($Q295<=18,IF(Q299<=$Q295,1,0),IF($Q295<=36,IF(Q299<=($Q295-18),2,1),IF($Q295>36,IF(Q299<=($Q295-36),3,2))))","v":3},3,3,3,3,3,3,3,3,{"$f":"SUM(Q300:Y300)","v":27},{"$f":"P300+Z300","v":54}]
[null,null,null,null,null,"Stroke play",{"$f":"G18","v":8},9,7,8,6,9,6,8,10,{"$f":"SUM(G301:O301)","v":71},{"$f":"Q18","v":9},8,8,6,9,8,7,7,9,{"$f":"SUM(Q301:Y301)","v":71},{"$f":"P301+Z301","v":142}]
[null,null,null,null,null,"Net Stableford",{"$f":"IF(G301-G298=-1,3+G300)+IF(G301-G298=0,2+G300)+IF(G301-G298=1,1+G300)+IF(G301-G298=2,G300)+IF(G301-G298=3,IF(G300-1>0,G300-1,0))+IF(G301-G298=4,IF(G300-2>0,G300-2,0))","v":1},{"$f":"IF(H301-H298=-1,3+H300)+IF(H301-H298=0,2+H300)+IF(H301-H298=1,1+H300)+IF(H301-H298=2,H300)+IF(H301-H298=3,IF(H300-1>0,H300-1,0))+IF(H301-H298=4,IF(H300-2>0,H300-2,0))","v":1},1,1,3,0,2,1,0,{"$f":"SUM(G302:O302)","v":10},{"$f":"IF(Q301-Q298=-1,3+Q300)+IF(Q301-Q298=0,2+Q300)+IF(Q301-Q298=1,1+Q300)+IF(Q301-Q298=2,Q300)+IF(Q301-Q298=3,IF(Q300-1>0,Q300-1,0))+IF(Q301-Q298=4,IF(Q300-2>0,Q300-2,0))","v":0},1,0,3,0,2,2,1,1,{"$f":"SUM(Q302:Y302)","v":10},{"$f":"P302+Z302","v":20}]
[null,null,null,null,null,"Score Brut",{"$f":"IF(G301-G298=-2,4)+IF(G301-G298=-1,3)+IF(G301-G298=0,2)+IF(G301-G298=1,1)+IF(G301-G298>2,0)","v":0},0,0,0,0,0,0,0,0,{"$f":"SUM(G303:O303)","v":0},{"$f":"IF(Q301-Q298=-2,4)+IF(Q301-Q298=-1,3)+IF(Q301-Q298=0,2)+IF(Q301-Q298=1,1)+IF(Q301-Q298>2,0)","v":0},0,0,0,0,0,0,0,0,{"$f":"SUM(Q303:Y303)","v":0},{"$f":"P303+Z303","v":0}]
[null,null,null,null,null,null,{"$f":"G301-G298","v":4},{"$f":"H301-H298","v":4},4,4,2,5,3,4,5,null,{"$f":"Q301-Q298","v":5},4,5,2,5,3,3,4,4]
[]
[]
[null,null,null,null,null,"Statistiques scores",null,"Eagle & moins",null,null,null,{"$f":"COUNTIF(G304:Y304,\"<=-2\")","v":0},"Par",null,{"$f":"COUNTIF(G304:Y304,\"=0\")","v":0},"Double bogey",null,null,null,null,{"$f":"COUNTIF(G304:Y304,\"=2\")","v":2}]
[null,null,null,null,null,null,null,"Birdie",null,null,null,{"$f":"COUNTIF(G304:Y304,\"=-1\")","v":0},"Bogey",null,{"$f":"COUNTIF(G304:Y304,\"=1\")","v":0},"Triple bogey & plus",null,null,null,null,{"$f":"COUNTIF(G304:Y304,\">=3\")","v":16}]
[null,null,null,null,null,null,null,{"$f":"M307","v":"Par"},null,null,null,{"$f":"O307","v":0}]
[null,null,null,null,null,null,null,{"$f":"M308","v":"Bogey"},null,null,null,{"$f":"O308","v":0}]
[null,null,null,null,null,null,null,{"$f":"P307","v":"Double bogey"},null,null,null,{"$f":"U307","v":2}]
[null,null,null,null,null,null,null,{"$f":"P308","v":"Triple bogey & plus"},null,null,null,{"$f":"U308","v":16}]
[]
[]
[]
[]
[null,null,null,null,null,"Nom",{"$f":"C19","v":"VICENTE"},null,null,null,null,"Slope",null,null,"SSS",null,"Coups reçus",null,null,null,null,null,null,null,null,"Date",{"$f":"$D$3","v":"2022-03-26"}]
[null,null,null,null,null,"Index",{"$f":"E19","v":54},null,null,null,null,{"$f":"$F$3","v":122},null,null,{"$f":"$G$3","v":70},null,{"$f":"ROUND((G318*(L318/113)+(O318-AA321)),0)","v":56}]
[]
[null,null,null,null,null,"Trou",1,2,3,4,5,6,7,8,9,"Aller",10,11,12,13,14,15,16,17,18,"Retour","Total"]
[null,null,null,null,null,"PAR",{"$f":"G$7","v":4},{"$f":"H$7","v":5},3,4,4,4,3,4,5,{"$f":"SUM(G321:O321)","v":36},{"$f":"Q$7","v":4},4,3,4,4,5,4,3,5,{"$f":"SUM(Q321:Y321)","v":36},{"$f":"SUM(P321+Z321)","v":72}]
[null,null,null,null,null,"HCP trous",{"$f":"G$8","v":2},{"$f":"H$8","v":8},10,14,6,4,16,12,18,null,{"$f":"Q$8","v":1},9,11,5,15,13,3,17,7]
[null,null,null,null,null,"Coups reçus",{"$f":"IF($Q318<=18,IF(G322<=$Q318,1,0),IF($Q318<=36,IF(G322<=($Q318-18),2,1),IF($Q318>36,IF(G322<=($Q318-36),3,2))))","v":3},{"$f":"IF($Q318<=18,IF(H322<=$Q318,1,0),IF($Q318<=36,IF(H322<=($Q318-18),2,1),IF($Q318>36,IF(H322<=($Q318-36),3,2))))","v":3},3,3,3,3,3,3,3,{"$f":"SUM(G323:O323)","v":27},{"$f":"IF($Q318<=18,IF(Q322<=$Q318,1,0),IF($Q318<=36,IF(Q322<=($Q318-18),2,1),IF($Q318>36,IF(Q322<=($Q318-36),3,2))))","v":3},3,3,3,3,3,3,3,3,{"$f":"SUM(Q323:Y323)","v":27},{"$f":"P323+Z323","v":54}]
[null,null,null,null,null,"Stroke play",{"$f":"G19","v":8},7,4,6,7,5,6,6,6,{"$f":"SUM(G324:O324)","v":55},{"$f":"Q19","v":9},7,5,6,6,6,7,4,8,{"$f":"SUM(Q324:Y324)","v":58},{"$f":"P324+Z324","v":113}]
[null,null,null,null,null,"Net Stableford",{"$f":"IF(G324-G321=-1,3+G323)+IF(G324-G321=0,2+G323)+IF(G324-G321=1,1+G323)+IF(G324-G321=2,G323)+IF(G324-G321=3,IF(G323-1>0,G323-1,0))+IF(G324-G321=4,IF(G323-2>0,G323-2,0))","v":1},{"$f":"IF(H324-H321=-1,3+H323)+IF(H324-H321=0,2+H323)+IF(H324-H321=1,1+H323)+IF(H324-H321=2,H323)+IF(H324-H321=3,IF(H323-1>0,H323-1,0))+IF(H324-H321=4,IF(H323-2>0,H323-2,0))","v":3},4,3,2,4,2,3,4,{"$f":"SUM(G325:O325)","v":26},{"$f":"IF(Q324-Q321=-1,3+Q323)+IF(Q324-Q321=0,2+Q323)+IF(Q324-Q321=1,1+Q323)+IF(Q324-Q321=2,Q323)+IF(Q324-Q321=3,IF(Q323-1>0,Q323-1,0))+IF(Q324-Q321=4,IF(Q323-2>0,Q323-2,0))","v":0},2,3,3,3,4,2,4,2,{"$f":"SUM(Q325:Y325)","v":23},{"$f":"P325+Z325","v":49}]
[null,null,null,null,null,"Score Brut",{"$f":"IF(G324-G321=-2,4)+IF(G324-G321=-1,3)+IF(G324-G321=0,2)+IF(G324-G321=1,1)+IF(G324-G321>2,0)","v":0},0,1,0,0,1,0,0,1,{"$f":"SUM(G326:O326)","v":3},{"$f":"IF(Q324-Q321=-2,4)+IF(Q324-Q321=-1,3)+IF(Q324-Q321=0,2)+IF(Q324-Q321=1,1)+IF(Q324-Q321>2,0)","v":0},0,0,0,0,1,0,1,0,{"$f":"SUM(Q326:Y326)","v":2},{"$f":"P326+Z326","v":5}]
[null,null,null,null,null,null,{"$f":"G324-G321","v":4},{"$f":"H324-H321","v":2},1,2,3,1,3,2,1,null,{"$f":"Q324-Q321","v":5},3,2,2,2,1,3,1,3]
[]
[]
[null,null,null,null,null,"Statistiques scores",null,"Eagle & moins",null,null,null,{"$f":"COUNTIF(G327:Y327,\"<=-2\")","v":0},"Par",null,{"$f":"COUNTIF(G327:Y327,\"=0\")","v":0},"Double bogey",null,null,null,null,{"$f":"COUNTIF(G327:Y327,\"=2\")","v":6}]
[null,null,null,null,null,null,null,"Birdie",null,null,null,{"$f":"COUNTIF(G327:Y327,\"=-1\")","v":0},"Bogey",null,{"$f":"COUNTIF(G327:Y327,\"=1\")","v":5},"Triple bogey & plus",null,null,null,null,{"$f":"COUNTIF(G327:Y327,\">=3\")","v":7}]
[null,null,null,null,null,null,null,{"$f":"M330","v":"Par"},null,null,null,{"$f":"O330","v":0}]
[null,null,null,null,null,null,null,{"$f":"M331","v":"Bogey"},null,null,null,{"$f":"O331","v":5}]
[null,null,null,null,null,null,null,{"$f":"P330","v":"Double bogey"},null,null,null,{"$f":"U330","v":6}]
[null,null,null,null,null,null,null,{"$f":"P331","v":"Triple bogey & plus"},null,null,null,{"$f":"U331","v":7}]
[]
[]
[]
[]
[null,null,null,null,null,"Nom",{"$f":"C20","v":"HERRAULT"},null,null,null,null,"Slope",null,null,"SSS",null,"Coups reçus",null,null,null,null,null,null,null,null,"Date",{"$f":"$D$3","v":"2022-03-26"}]
[null,null,null,null,null,"Index",{"$f":"E20","v":11.3},null,null,null,null,{"$f":"$F$3","v":122},null,null,{"$f":"$G$3","v":70},null,{"$f":"ROUND((G341*(L341/113)+(O341-AA344)),0)","v":10}]
[]
[null,null,null,null,null,"Trou",1,2,3,4,5,6,7,8,9,"Aller",10,11,12,13,14,15,16,17,18,"Retour","Total"]
[null,null,null,null,null,"PAR",{"$f":"G$7","v":4},{"$f":"H$7","v":5},3,4,4,4,3,4,5,{"$f":"SUM(G344:O344)","v":36},{"$f":"Q$7","v":4},4,3,4,4,5,4,3,5,{"$f":"SUM(Q344:Y344)","v":36},{"$f":"SUM(P344+Z344)","v":72}]
[null,null,null,null,null,"HCP trous",{"$f":"G$8","v":2},{"$f":"H$8","v":8},10,14,6,4,16,12,18,null,{"$f":"Q$8","v":1},9,11,5,15,13,3,17,7]
[null,null,null,null,null,"Coups reçus",{"$f":"IF($Q341<=18,IF(G345<=$Q341,1,0),IF($Q341<=36,IF(G345<=($Q341-18),2,1),IF($Q341>36,IF(G345<=($Q341-36),3,2))))","v":1},{"$f":"IF($Q341<=18,IF(H345<=$Q341,1,0),IF($Q341<=36,IF(H345<=($Q341-18),2,1),IF($Q341>36,IF(H345<=($Q341-36),3,2))))","v":1},1,0,1,1,0,0,0,{"$f":"SUM(G346:O346)","v":5},{"$f":"IF($Q341<=18,IF(Q345<=$Q341,1,0),IF($Q341<=36,IF(Q345<=($Q341-18),2,1),IF($Q341>36,IF(Q345<=($Q341-36),3,2))))","v":1},1,0,1,0,0,1,0,1,{"$f":"SUM(Q346:Y346)","v":5},{"$f":"P346+Z346","v":10}]
[null,null,null,null,null,"Stroke play",{"$f":"G20","v":6},6,3,5,4,4,6,4,5,{"$f":"SUM(G347:O347)","v":43},{"$f":"Q20","v":4},5,3,6,5,5,4,3,6,{"$f":"SUM(Q347:Y347)","v":41},{"$f":"P347+Z347","v":84}]
[null,null,null,null,null,"Net Stableford",{"$f":"IF(G347-G344=-1,3+G346)+IF(G347-G344=0,2+G346)+IF(G347-G344=1,1+G346)+IF(G347-G344=2,G346)+IF(G347-G344=3,IF(G346-1>0,G346-1,0))+IF(G347-G344=4,IF(G346-2>0,G346-2,0))","v":1},{"$f":"IF(H347-H344=-1,3+H346)+IF(H347-H344=0,2+H346)+IF(H347-H344=1,1+H346)+IF(H347-H344=2,H346)+IF(H347-H344=3,IF(H346-1>0,H346-1,0))+IF(H347-H344=4,IF(H346-2>0,H346-2,0))","v":2},3,1,3,3,0,2,2,{"$f":"SUM(G348:O348)","v":17},{"$f":"IF(Q347-Q344=-1,3+Q346)+IF(Q347-Q344=0,2+Q346)+IF(Q347-Q344=1,1+Q346)+IF(Q347-Q344=2,Q346)+IF(Q347-Q344=3,IF(Q346-1>0,Q346-1,0))+IF(Q347-Q344=4,IF(Q346-2>0,Q346-2,0))","v":3},2,2,1,1,2,3,2,2,{"$f":"SUM(Q348:Y348)","v":18},{"$f":"P348+Z348","v":35}]
[null,null,null,null,null,"Score Brut",{"$f":"IF(G347-G344=-2,4)+IF(G347-G344=-1,3)+IF(G347-G344=0,2)+IF(G347-G344=1,1)+IF(G347-G344>2,0)","v":0},1,2,1,2,2,0,2,2,{"$f":"SUM(G349:O349)","v":12},{"$f":"IF(Q347-Q344=-2,4)+IF(Q347-Q344=-1,3)+IF(Q347-Q344=0,2)+IF(Q347-Q344=1,1)+IF(Q347-Q344>2,0)","v":2},1,2,0,1,2,2,2,1,{"$f":"SUM(Q349:Y349)","v":13},{"$f":"P349+Z349","v":25}]
[null,null,null,null,null,null,{"$f":"G347-G344","v":2},{"$f":"H347-H344","v":1},0,1,0,0,3,0,0,null,{"$f":"Q347-Q344","v":0},1,0,2,1,0,0,0,1]
[]
[]
[null,null,null,null,null,"Statistiques scores",null,"Eagle & moins",null,null,null,{"$f":"COUNTIF(G350:Y350,\"<=-2\")","v":0},"Par",null,{"$f":"COUNTIF(G350:Y350,\"=0\")","v":10},"Double bogey",null,null,null,null,{"$f":"COUNTIF(G350:Y350,\"=2\")","v":2}]
[null,null,null,null,null,null,null,"Birdie",null,null,null,{"$f":"COUNTIF(G350:Y350,\"=-1\")","v":0},"Bogey",null,{"$f":"COUNTIF(G350:Y350,\"=1\")","v":5},"Triple bogey & plus",null,null,null,null,{"$f":"COUNTIF(G350:Y350,\">=3\")","v":1}]
[null,null,null,null,null,null,null,{"$f":"M353","v":"Par"},null,null,null,{"$f":"O353","v":10}]
[null,null,null,null,null,null,null,{"$f":"M354","v":"Bogey"},null,null,null,{"$f":"O354","v":5}]
[null,null,null,null,null,null,null,{"$f":"P353","v":"Double bogey"},null,null,null,{"$f":"U353","v":2}]
[null,null,null,null,null,null,null,{"$f":"P354","v":"Triple bogey & plus"},null,null,null,{"$f":"U354","v":1}]
[]
[]
[]
[]
[null,null,null,null,null,"Nom",{"$f":"C21","v":"MAITRE"},null,null,null,null,"Slope",null,null,"SSS",null,"Coups reçus",null,null,null,null,null,null,null,null,"Date",{"$f":"$D$3","v":"2022-03-26"}]
[null,null,null,null,null,"Index",{"$f":"E21","v":23.9},null,null,null,null,{"$f":"$F$3","v":122},null,null,{"$f":"$G$3","v":70},null,{"$f":"ROUND((G364*(L364/113)+(O364-AA367)),0)","v":24}]
[]
[null,null,null,null,null,"Trou",1,2,3,4,5,6,7,8,9,"Aller",10,11,12,13,14,15,16,17,18,"Retour","Total"]
[null,null,null,null,null,"PAR",{"$f":"G$7","v":4},{"$f":"H$7","v":5},3,4,4,4,3,4,5,{"$f":"SUM(G367:O367)","v":36},{"$f":"Q$7","v":4},4,3,4,4,5,4,3,5,{"$f":"SUM(Q367:Y367)","v":36},{"$f":"SUM(P367+Z367)","v":72}]
[null,null,null,null,null,"HCP trous",{"$f":"G$8","v":2},{"$f":"H$8","v":8},10,14,6,4,16,12,18,null,{"$f":"Q$8","v":1},9,11,5,15,13,3,17,7]
[null,null,null,null,null,"Coups reçus",{"$f":"IF($Q364<=18,IF(G368<=$Q364,1,0),IF($Q364<=36,IF(G368<=($Q364-18),2,1),IF($Q364>36,IF(G368<=($Q364-36),3,2))))","v":2},{"$f":"IF($Q364<=18,IF(H368<=$Q364,1,0),IF($Q364<=36,IF(H368<=($Q364-18),2,1),IF($Q364>36,IF(H368<=($Q364-36),3,2))))","v":1},1,1,2,2,1,1,1,{"$f":"SUM(G369:O369)","v":12},{"$f":"IF($Q364<=18,IF(Q368<=$Q364,1,0),IF($Q364<=36,IF(Q368<=($Q364-18),2,1),IF($Q364>36,IF(Q368<=($Q364-36),3,2))))","v":2},1,1,2,1,1,2,1,1,{"$f":"SUM(Q369:Y369)","v":12},{"$f":"P369+Z369","v":24}]
[null,null,null,null,null,"Stroke play",{"$f":"G21","v":6},8,6,5,4,4,4,5,5,{"$f":"SUM(G370:O370)","v":47},{"$f":"Q21","v":6},5,5,5,5,6,6,3,8,{"$f":"SUM(Q370:Y370)","v":49},{"$f":"P370+Z370","v":96}]
[null,null,null,null,null,"Net Stableford",{"$f":"IF(G370-G367=-1,3+G369)+IF(G370-G367=0,2+G369)+IF(G370-G367=1,1+G369)+IF(G370-G367=2,G369)+IF(G370-G367=3,IF(G369-1>0,G369-1,0))+IF(G370-G367=4,IF(G369-2>0,G369-2,0))","v":2},{"$f":"IF(H370-H367=-1,3+H369)+IF(H370-H367=0,2+H369)+IF(H370-H367=1,1+H369)+IF(H370-H367=2,H369)+IF(H370-H367=3,IF(H369-1>0,H369-1,0))+IF(H370-H367=4,IF(H369-2>0,H369-2,0))","v":0},0,2,4,4,2,2,3,{"$f":"SUM(G371:O371)","v":19},{"$f":"IF(Q370-Q367=-1,3+Q369)+IF(Q370-Q367=0,2+Q369)+IF(Q370-Q367=1,1+Q369)+IF(Q370-Q367=2,Q369)+IF(Q370-Q367=3,IF(Q369-1>0,Q369-1,0))+IF(Q370-Q367=4,IF(Q369-2>0,Q369-2,0))","v":2},2,1,3,2,2,2,3,0,{"$f":"SUM(Q371:Y371)","v":17},{"$f":"P371+Z371","v":36}]
[null,null,null,null,null,"Score Brut",{"$f":"IF(G370-G367=-2,4)+IF(G370-G367=-1,3)+IF(G370-G367=0,2)+IF(G370-G367=1,1)+IF(G370-G367>2,0)","v":0},0,0,1,2,2,1,1,2,{"$f":"SUM(G372:O372)","v":9},{"$f":"IF(Q370-Q367=-2,4)+IF(Q370-Q367=-1,3)+IF(Q370-Q367=0,2)+IF(Q370-Q367=1,1)+IF(Q370-Q367>2,0)","v":0},1,0,1,1,1,0,2,0,{"$f":"SUM(Q372:Y372)","v":6},{"$f":"P372+Z372","v":15}]
[null,null,null,null,null,null,{"$f":"G370-G367","v":2},{"$f":"H370-H367","v":3},3,1,0,0,1,1,0,null,{"$f":"Q370-Q367","v":2},1,2,1,1,1,2,0,3]
[]
[]
[null,null,null,null,null,"Statistiques scores",null,"Eagle & moins",null,null,null,{"$f":"COUNTIF(G373:Y373,\"<=-2\")","v":0},"Par",null,{"$f":"COUNTIF(G373:Y373,\"=0\")","v":4},"Double bogey",null,null,null,null,{"$f":"COUNTIF(G373:Y373,\"=2\")","v":4}]
[null,null,null,null,null,null,null,"Birdie",null,null,null,{"$f":"COUNTIF(G373:Y373,\"=-1\")","v":0},"Bogey",null,{"$f":"COUNTIF(G373:Y373,\"=1\")","v":7},"Triple bogey & plus",null,null,null,null,{"$f":"COUNTIF(G373:Y373,\">=3\")","v":3}]
[null,null,null,null,null,null,null,{"$f":"M376","v":"Par"},null,null,null,{"$f":"O376","v":4}]
[null,null,null,null,null,null,null,{"$f":"M377","v":"Bogey"},null,null,null,{"$f":"O377","v":7}]
[null,null,null,null,null,null,null,{"$f":"P376","v":"Double bogey"},null,null,null,{"$f":"U376","v":4}]
[null,null,null,null,null,null,null,{"$f":"P377","v":"Triple bogey & plus"},null,null,null,{"$f":"U377","v":3}]
[]
[]
[]
[]
[null,null,null,null,null,"Nom",{"$f":"C22","v":"LEVEQUE"},null,null,null,null,"Slope",null,null,"SSS",null,"Coups reçus",null,null,null,null,null,null,null,null,"Date",{"$f":"$D$3","v":"2022-03-26"}]
[null,null,null,null,null,"Index",{"$f":"E22","v":22.4},null,null,null,null,{"$f":"$F$3","v":122},null,null,{"$f":"$G$3","v":70},null,{"$f":"ROUND((G387*(L387/113)+(O387-AA390)),0)","v":22}]
[]
[null,null,null,null,null,"Trou",1,2,3,4,5,6,7,8,9,"Aller",10,11,12,13,14,15,16,17,18,"Retour","Total"]
[null,null,null,null,null,"PAR",{"$f":"G$7","v":4},{"$f":"H$7","v":5},3,4,4,4,3,4,5,{"$f":"SUM(G390:O390)","v":36},{"$f":"Q$7","v":4},4,3,4,4,5,4,3,5,{"$f":"SUM(Q390:Y390)","v":36},{"$f":"SUM(P390+Z390)","v":72}]
[null,null,null,null,null,"HCP trous",{"$f":"G$8","v":2},{"$f":"H$8","v":8},10,14,6,4,16,12,18,null,{"$f":"Q$8","v":1},9,11,5,15,13,3,17,7]
[null,null,null,null,null,"Coups reçus",{"$f":"IF($Q387<=18,IF(G391<=$Q387,1,0),IF($Q387<=36,IF(G391<=($Q387-18),2,1),IF($Q387>36,IF(G391<=($Q387-36),3,2))))","v":2},{"$f":"IF($Q387<=18,IF(H391<=$Q387,1,0),IF($Q387<=36,IF(H391<=($Q387-18),2,1),IF($Q387>36,IF(H391<=($Q387-36),3,2))))","v":1},1,1,1,2,1,1,1,{"$f":"SUM(G392:O392)","v":11},{"$f":"IF($Q387<=18,IF(Q391<=$Q387,1,0),IF($Q387<=36,IF(Q391<=($Q387-18),2,1),IF($Q387>36,IF(Q391<=($Q387-36),3,2))))","v":2},1,1,1,1,1,2,1,1,{"$f":"SUM(Q392:Y392)","v":11},{"$f":"P392+Z392","v":22}]
[null,null,null,null,null,"Stroke play",{"$f":"G22","v":5},7,5,5,6,6,6,5,7,{"$f":"SUM(G393:O393)","v":52},{"$f":"Q22","v":6},6,6,6,5,7,6,7,8,{"$f":"SUM(Q393:Y393)","v":57},{"$f":"P393+Z393","v":109}]
[null,null,null,null,null,"Net Stableford",{"$f":"IF(G393-G390=-1,3+G392)+IF(G393-G390=0,2+G392)+IF(G393-G390=1,1+G392)+IF(G393-G390=2,G392)+IF(G393-G390=3,IF(G392-1>0,G392-1,0))+IF(G393-G390=4,IF(G392-2>0,G392-2,0))","v":3},{"$f":"IF(H393-H390=-1,3+H392)+IF(H393-H390=0,2+H392)+IF(H393-H390=1,1+H392)+IF(H393-H390=2,H392)+IF(H393-H390=3,IF(H392-1>0,H392-1,0))+IF(H393-H390=4,IF(H392-2>0,H392-2,0))","v":1},1,2,1,2,0,2,1,{"$f":"SUM(G394:O394)","v":13},{"$f":"IF(Q393-Q390=-1,3+Q392)+IF(Q393-Q390=0,2+Q392)+IF(Q393-Q390=1,1+Q392)+IF(Q393-Q390=2,Q392)+IF(Q393-Q390=3,IF(Q392-1>0,Q392-1,0))+IF(Q393-Q390=4,IF(Q392-2>0,Q392-2,0))","v":2},1,0,1,2,1,2,0,0,{"$f":"SUM(Q394:Y394)","v":9},{"$f":"P394+Z394","v":22}]
[null,null,null,null,null,"Score Brut",{"$f":"IF(G393-G390=-2,4)+IF(G393-G390=-1,3)+IF(G393-G390=0,2)+IF(G393-G390=1,1)+IF(G393-G390>2,0)","v":1},0,0,1,0,0,0,1,0,{"$f":"SUM(G395:O395)","v":3},{"$f":"IF(Q393-Q390=-2,4)+IF(Q393-Q390=-1,3)+IF(Q393-Q390=0,2)+IF(Q393-Q390=1,1)+IF(Q393-Q390>2,0)","v":0},0,0,0,1,0,0,0,0,{"$f":"SUM(Q395:Y395)","v":1},{"$f":"P395+Z395","v":4}]
[null,null,null,null,null,null,{"$f":"G393-G390","v":1},{"$f":"H393-H390","v":2},2,1,2,2,3,1,2,null,{"$f":"Q393-Q390","v":2},2,3,2,1,2,2,4,3]
[]
[]
[null,null,null,null,null,"Statistiques scores",null,"Eagle & moins",null,null,null,{"$f":"COUNTIF(G396:Y396,\"<=-2\")","v":0},"Par",null,{"$f":"COUNTIF(G396:Y396,\"=0\")","v":0},"Double bogey",null,null,null,null,{"$f":"COUNTIF(G396:Y396,\"=2\")","v":10}]
[null,null,null,null,null,null,null,"Birdie",null,null,null,{"$f":"COUNTIF(G396:Y396,\"=-1\")","v":0},"Bogey",null,{"$f":"COUNTIF(G396:Y396,\"=1\")","v":4},"Triple bogey & plus",null,null,null,null,{"$f":"COUNTIF(G396:Y396,\">=3\")","v":4}]
[null,null,null,null,null,null,null,{"$f":"M399","v":"Par"},null,null,null,{"$f":"O399","v":0}]
[null,null,null,null,null,null,null,{"$f":"M400","v":"Bogey"},null,null,null,{"$f":"O400","v":4}]
[null,null,null,null,null,null,null,{"$f":"P399","v":"Double bogey"},null,null,null,{"$f":"U399","v":10}]
[null,null,null,null,null,null,null,{"$f":"P400","v":"Triple bogey & plus"},null,null,null,{"$f":"U400","v":4}]
[]
[]
[]
[]
[null,null,null,null,null,"Nom",{"$f":"C23","v":"VERRIER"},null,null,null,null,"Slope",null,null,"SSS",null,"Coups reçus",null,null,null,null,null,null,null,null,"Date",{"$f":"$D$3","v":"2022-03-26"}]
[null,null,null,null,null,"Index",{"$f":"E23","v":16.600000000000001},null,null,null,null,{"$f":"$F$3","v":122},null,null,{"$f":"$G$3","v":70},null,{"$f":"ROUND((G410*(L410/113)+(O410-AA413)),0)","v":16}]
[]
[null,null,null,null,null,"Trou",1,2,3,4,5,6,7,8,9,"Aller",10,11,12,13,14,15,16,17,18,"Retour","Total"]
[null,null,null,null,null,"PAR",{"$f":"G$7","v":4},{"$f":"H$7","v":5},3,4,4,4,3,4,5,{"$f":"SUM(G413:O413)","v":36},{"$f":"Q$7","v":4},4,3,4,4,5,4,3,5,{"$f":"SUM(Q413:Y413)","v":36},{"$f":"SUM(P413+Z413)","v":72}]
[null,null,null,null,null,"HCP trous",{"$f":"G$8","v":2},{"$f":"H$8","v":8},10,14,6,4,16,12,18,null,{"$f":"Q$8","v":1},9,11,5,15,13,3,17,7]
[null,null,null,null,null,"Coups reçus",{"$f":"IF($Q410<=18,IF(G414<=$Q410,1,0),IF($Q410<=36,IF(G414<=($Q410-18),2,1),IF($Q410>36,IF(G414<=($Q410-36),3,2))))","v":1},{"$f":"IF($Q410<=18,IF(H414<=$Q410,1,0),IF($Q410<=36,IF(H414<=($Q410-18),2,1),IF($Q410>36,IF(H414<=($Q410-36),3,2))))","v":1},1,1,1,1,1,1,0,{"$f":"SUM(G415:O415)","v":8},{"$f":"IF($Q410<=18,IF(Q414<=$Q410,1,0),IF($Q410<=36,IF(Q414<=($Q410-18),2,1),IF($Q410>36,IF(Q414<=($Q410-36),3,2))))","v":1},1,1,1,1,1,1,0,1,{"$f":"SUM(Q415:Y415)","v":8},{"$f":"P415+Z415","v":16}]
[null,null,null,null,null,"Stroke play",{"$f":"G23","v":6},7,3,4,4,5,4,4,4,{"$f":"SUM(G416:O416)","v":41},{"$f":"Q23","v":6},6,4,6,6,7,6,3,5,{"$f":"SUM(Q416:Y416)","v":49},{"$f":"P416+Z416","v":90}]
[null,null,null,null,null,"Net Stableford",{"$f":"IF(G416-G413=-1,3+G415)+IF(G416-G413=0,2+G415)+IF(G416-G413=1,1+G415)+IF(G416-G413=2,G415)+IF(G416-G413=3,IF(G415-1>0,G415-1,0))+IF(G416-G413=4,IF(G415-2>0,G415-2,0))","v":1},{"$f":"IF(H416-H413=-1,3+H415)+IF(H416-H413=0,2+H415)+IF(H416-H413=1,1+H415)+IF(H416-H413=2,H415)+IF(H416-H413=3,IF(H415-1>0,H415-1,0))+IF(H416-H413=4,IF(H415-2>0,H415-2,0))","v":1},3,3,3,2,2,3,3,{"$f":"SUM(G417:O417)","v":21},{"$f":"IF(Q416-Q413=-1,3+Q415)+IF(Q416-Q413=0,2+Q415)+IF(Q416-Q413=1,1+Q415)+IF(Q416-Q413=2,Q415)+IF(Q416-Q413=3,IF(Q415-1>0,Q415-1,0))+IF(Q416-Q413=4,IF(Q415-2>0,Q415-2,0))","v":1},1,2,1,1,1,1,2,3,{"$f":"SUM(Q417:Y417)","v":13},{"$f":"P417+Z417","v":34}]
[null,null,null,null,null,"Score Brut",{"$f":"IF(G416-G413=-2,4)+IF(G416-G413=-1,3)+IF(G416-G413=0,2)+IF(G416-G413=1,1)+IF(G416-G413>2,0)","v":0},0,2,2,2,1,1,2,3,{"$f":"SUM(G418:O418)","v":13},{"$f":"IF(Q416-Q413=-2,4)+IF(Q416-Q413=-1,3)+IF(Q416-Q413=0,2)+IF(Q416-Q413=1,1)+IF(Q416-Q413>2,0)","v":0},0,1,0,0,0,0,2,2,{"$f":"SUM(Q418:Y418)","v":5},{"$f":"P418+Z418","v":18}]
[null,null,null,null,null,null,{"$f":"G416-G413","v":2},{"$f":"H416-H413","v":2},0,0,0,1,1,0,-1,null,{"$f":"Q416-Q413","v":2},2,1,2,2,2,2,0,0]
[]
[]
[null,null,null,null,null,"Statistiques scores",null,"Eagle & moins",null,null,null,{"$f":"COUNTIF(G419:Y419,\"<=-2\")","v":0},"Par",null,{"$f":"COUNTIF(G419:Y419,\"=0\")","v":6},"Double bogey",null,null,null,null,{"$f":"COUNTIF(G419:Y419,\"=2\")","v":8}]
[null,null,null,null,null,null,null,"Birdie",null,null,null,{"$f":"COUNTIF(G419:Y419,\"=-1\")","v":1},"Bogey",null,{"$f":"COUNTIF(G419:Y419,\"=1\")","v":3},"Triple bogey & plus",null,null,null,null,{"$f":"COUNTIF(G419:Y419,\">=3\")","v":0}]
[null,null,null,null,null,null,null,{"$f":"M422","v":"Par"},null,null,null,{"$f":"O422","v":6}]
[null,null,null,null,null,null,null,{"$f":"M423","v":"Bogey"},null,null,null,{"$f":"O423","v":3}]
[null,null,null,null,null,null,null,{"$f":"P422","v":"Double bogey"},null,null,null,{"$f":"U422","v":8}]
[null,null,null,null,null,null,null,{"$f":"P423","v":"Triple bogey & plus"},null,null,null,{"$f":"U423","v":0}]
[]
[]
[]
[]
[null,null,null,null,null,"Nom",{"$f":"C24","v":"MICHEL"},null,null,null,null,"Slope",null,null,"SSS",null,"Coups reçus",null,null,null,null,null,null,null,null,"Date",{"$f":"$D$3","v":"2022-03-26"}]
[null,null,null,null,null,"Index",{"$f":"E24","v":37},null,null,null,null,{"$f":"$F$3","v":122},null,null,{"$f":"$G$3","v":70},null,{"$f":"ROUND((G433*(L433/113)+(O433-AA436)),0)","v":38}]
[]
[null,null,null,null,null,"Trou",1,2,3,4,5,6,7,8,9,"Aller",10,11,12,13,14,15,16,17,18,"Retour","Total"]
[null,null,null,null,null,"PAR",{"$f":"G$7","v":4},{"$f":"H$7","v":5},3,4,4,4,3,4,5,{"$f":"SUM(G436:O436)","v":36},{"$f":"Q$7","v":4},4,3,4,4,5,4,3,5,{"$f":"SUM(Q436:Y436)","v":36},{"$f":"SUM(P436+Z436)","v":72}]
[null,null,null,null,null,"HCP trous",{"$f":"G$8","v":2},{"$f":"H$8","v":8},10,14,6,4,16,12,18,null,{"$f":"Q$8","v":1},9,11,5,15,13,3,17,7]
[null,null,null,null,null,"Coups reçus",{"$f":"IF($Q433<=18,IF(G437<=$Q433,1,0),IF($Q433<=36,IF(G437<=($Q433-18),2,1),IF($Q433>36,IF(G437<=($Q433-36),3,2))))","v":3},{"$f":"IF($Q433<=18,IF(H437<=$Q433,1,0),IF($Q433<=36,IF(H437<=($Q433-18),2,1),IF($Q433>36,IF(H437<=($Q433-36),3,2))))","v":2},2,2,2,2,2,2,2,{"$f":"SUM(G438:O438)","v":19},{"$f":"IF($Q433<=18,IF(Q437<=$Q433,1,0),IF($Q433<=36,IF(Q437<=($Q433-18),2,1),IF($Q433>36,IF(Q437<=($Q433-36),3,2))))","v":3},2,2,2,2,2,2,2,2,{"$f":"SUM(Q438:Y438)","v":19},{"$f":"P438+Z438","v":38}]
[null,null,null,null,null,"Stroke play",{"$f":"G24","v":8},6,4,7,6,7,5,5,8,{"$f":"SUM(G439:O439)","v":56},{"$f":"Q24","v":8},8,4,6,4,6,6,5,7,{"$f":"SUM(Q439:Y439)","v":54},{"$f":"P439+Z439","v":110}]
[null,null,null,null,null,"Net Stableford",{"$f":"IF(G439-G436=-1,3+G438)+IF(G439-G436=0,2+G438)+IF(G439-G436=1,1+G438)+IF(G439-G436=2,G438)+IF(G439-G436=3,IF(G438-1>0,G438-1,0))+IF(G439-G436=4,IF(G438-2>0,G438-2,0))","v":1},{"$f":"IF(H439-H436=-1,3+H438)+IF(H439-H436=0,2+H438)+IF(H439-H436=1,1+H438)+IF(H439-H436=2,H438)+IF(H439-H436=3,IF(H438-1>0,H438-1,0))+IF(H439-H436=4,IF(H438-2>0,H438-2,0))","v":3},3,1,2,1,2,3,1,{"$f":"SUM(G440:O440)","v":17},{"$f":"IF(Q439-Q436=-1,3+Q438)+IF(Q439-Q436=0,2+Q438)+IF(Q439-Q436=1,1+Q438)+IF(Q439-Q436=2,Q438)+IF(Q439-Q436=3,IF(Q438-1>0,Q438-1,0))+IF(Q439-Q436=4,IF(Q438-2>0,Q438-2,0))","v":1},0,3,2,4,3,2,2,2,{"$f":"SUM(Q440:Y440)","v":19},{"$f":"P440+Z440","v":36}]
[null,null,null,null,null,"Score Brut",{"$f":"IF(G439-G436=-2,4)+IF(G439-G436=-1,3)+IF(G439-G436=0,2)+IF(G439-G436=1,1)+IF(G439-G436>2,0)","v":0},1,1,0,0,0,0,1,0,{"$f":"SUM(G441:O441)","v":3},{"$f":"IF(Q439-Q436=-2,4)+IF(Q439-Q436=-1,3)+IF(Q439-Q436=0,2)+IF(Q439-Q436=1,1)+IF(Q439-Q436>2,0)","v":0},0,1,0,2,1,0,0,0,{"$f":"SUM(Q441:Y441)","v":4},{"$f":"P441+Z441","v":7}]
[null,null,null,null,null,null,{"$f":"G439-G436","v":4},{"$f":"H439-H436","v":1},1,3,2,3,2,1,3,null,{"$f":"Q439-Q436","v":4},4,1,2,0,1,2,2,2]
[]
[]
[null,null,null,null,null,"Statistiques scores",null,"Eagle & moins",null,null,null,{"$f":"COUNTIF(G442:Y442,\"<=-2\")","v":0},"Par",null,{"$f":"COUNTIF(G442:Y442,\"=0\")","v":1},"Double bogey",null,null,null,null,{"$f":"COUNTIF(G442:Y442,\"=2\")","v":6}]
[null,null,null,null,null,null,null,"Birdie",null,null,null,{"$f":"COUNTIF(G442:Y442,\"=-1\")","v":0},"Bogey",null,{"$f":"COUNTIF(G442:Y442,\"=1\")","v":5},"Triple bogey & plus",null,null,null,null,{"$f":"COUNTIF(G442:Y442,\">=3\")","v":6}]
[null,null,null,null,null,null,null,{"$f":"M445","v":"Par"},null,null,null,{"$f":"O445","v":1}]
[null,null,null,null,null,null,null,{"$f":"M446","v":"Bogey"},null,null,null,{"$f":"O446","v":5}]
[null,null,null,null,null,null,null,{"$f":"P445","v":"Double bogey"},null,null,null,{"$f":"U445","v":6}]
[null,null,null,null,null,null,null,{"$f":"P446","v":"Triple bogey & plus"},null,null,null,{"$f":"U446","v":6}]
[]
[]
[]
[]
[null,null,null,null,null,"Nom",{"$f":"C25","v":"PORTRON"},null,null,null,null,"Slope",null,null,"SSS",null,"Coups reçus",null,null,null,null,null,null,null,null,"Date",{"$f":"$D$3","v":"2022-03-26"}]
[null,null,null,null,null,"Index",{"$f":"E25","v":54},null,null,null,null,{"$f":"$F$3","v":122},null,null,{"$f":"$G$3","v":70},null,{"$f":"ROUND((G456*(L456/113)+(O456-AA459)),0)","v":56}]
[]
[null,null,null,null,null,"Trou",1,2,3,4,5,6,7,8,9,"Aller",10,11,12,13,14,15,16,17,18,"Retour","Total"]
[null,null,null,null,null,"PAR",{"$f":"G$7","v":4},{"$f":"H$7","v":5},3,4,4,4,3,4,5,{"$f":"SUM(G459:O459)","v":36},{"$f":"Q$7","v":4},4,3,4,4,5,4,3,5,{"$f":"SUM(Q459:Y459)","v":36},{"$f":"SUM(P459+Z459)","v":72}]
[null,null,null,null,null,"HCP trous",{"$f":"G$8","v":2},{"$f":"H$8","v":8},10,14,6,4,16,12,18,null,{"$f":"Q$8","v":1},9,11,5,15,13,3,17,7]
[null,null,null,null,null,"Coups reçus",{"$f":"IF($Q456<=18,IF(G460<=$Q456,1,0),IF($Q456<=36,IF(G460<=($Q456-18),2,1),IF($Q456>36,IF(G460<=($Q456-36),3,2))))","v":3},{"$f":"IF($Q456<=18,IF(H460<=$Q456,1,0),IF($Q456<=36,IF(H460<=($Q456-18),2,1),IF($Q456>36,IF(H460<=($Q456-36),3,2))))","v":3},3,3,3,3,3,3,3,{"$f":"SUM(G461:O461)","v":27},{"$f":"IF($Q456<=18,IF(Q460<=$Q456,1,0),IF($Q456<=36,IF(Q460<=($Q456-18),2,1),IF($Q456>36,IF(Q460<=($Q456-36),3,2))))","v":3},3,3,3,3,3,3,3,3,{"$f":"SUM(Q461:Y461)","v":27},{"$f":"P461+Z461","v":54}]
[null,null,null,null,null,"Stroke play",{"$f":"G25","v":10},9,4,7,7,7,6,8,8,{"$f":"SUM(G462:O462)","v":66},{"$f":"Q25","v":8},7,4,8,8,8,7,4,9,{"$f":"SUM(Q462:Y462)","v":63},{"$f":"P462+Z462","v":129}]
[null,null,null,null,null,"Net Stableford",{"$f":"IF(G462-G459=-1,3+G461)+IF(G462-G459=0,2+G461)+IF(G462-G459=1,1+G461)+IF(G462-G459=2,G461)+IF(G462-G459=3,IF(G461-1>0,G461-1,0))+IF(G462-G459=4,IF(G461-2>0,G461-2,0))","v":0},{"$f":"IF(H462-H459=-1,3+H461)+IF(H462-H459=0,2+H461)+IF(H462-H459=1,1+H461)+IF(H462-H459=2,H461)+IF(H462-H459=3,IF(H461-1>0,H461-1,0))+IF(H462-H459=4,IF(H461-2>0,H461-2,0))","v":1},4,2,2,2,2,1,2,{"$f":"SUM(G463:O463)","v":16},{"$f":"IF(Q462-Q459=-1,3+Q461)+IF(Q462-Q459=0,2+Q461)+IF(Q462-Q459=1,1+Q461)+IF(Q462-Q459=2,Q461)+IF(Q462-Q459=3,IF(Q461-1>0,Q461-1,0))+IF(Q462-Q459=4,IF(Q461-2>0,Q461-2,0))","v":1},2,4,1,1,2,2,4,1,{"$f":"SUM(Q463:Y463)","v":18},{"$f":"P463+Z463","v":34}]
[null,null,null,null,null,"Score Brut",{"$f":"IF(G462-G459=-2,4)+IF(G462-G459=-1,3)+IF(G462-G459=0,2)+IF(G462-G459=1,1)+IF(G462-G459>2,0)","v":0},0,1,0,0,0,0,0,0,{"$f":"SUM(G464:O464)","v":1},{"$f":"IF(Q462-Q459=-2,4)+IF(Q462-Q459=-1,3)+IF(Q462-Q459=0,2)+IF(Q462-Q459=1,1)+IF(Q462-Q459>2,0)","v":0},0,1,0,0,0,0,1,0,{"$f":"SUM(Q464:Y464)","v":2},{"$f":"P464+Z464","v":3}]
[null,null,null,null,null,null,{"$f":"G462-G459","v":6},{"$f":"H462-H459","v":4},1,3,3,3,3,4,3,null,{"$f":"Q462-Q459","v":4},3,1,4,4,3,3,1,4]
[]
[]
[null,null,null,null,null,"Statistiques scores",null,"Eagle & moins",null,null,null,{"$f":"COUNTIF(G465:Y465,\"<=-2\")","v":0},"Par",null,{"$f":"COUNTIF(G465:Y465,\"=0\")","v":0},"Double bogey",null,null,null,null,{"$f":"COUNTIF(G465:Y465,\"=2\")","v":0}]
[null,null,null,null,null,null,null,"Birdie",null,null,null,{"$f":"COUNTIF(G465:Y465,\"=-1\")","v":0},"Bogey",null,{"$f":"COUNTIF(G465:Y465,\"=1\")","v":3},"Triple bogey & plus",null,null,null,null,{"$f":"COUNTIF(G465:Y465,\">=3\")","v":15}]
[null,null,null,null,null,null,null,{"$f":"M468","v":"Par"},null,null,null,{"$f":"O468","v":0}]
[null,null,null,null,null,null,null,{"$f":"M469","v":"Bogey"},null,null,null,{"$f":"O469","v":3}]
[null,null,null,null,null,null,null,{"$f":"P468","v":"Double bogey"},null,null,null,{"$f":"U468","v":0}]
[null,null,null,null,null,null,null,{"$f":"P469","v":"Triple bogey & plus"},null,null,null,{"$f":"U469","v":15}]
[]
[]
[]
[]
[null,null,null,null,null,"Nom",{"$f":"C26","v":"VIALLETON"},null,null,null,null,"Slope",null,null,"SSS",null,"Coups reçus",null,null,null,null,null,null,null,null,"Date",{"$f":"$D$3","v":"2022-03-26"}]
[null,null,null,null,null,"Index",{"$f":"E26","v":17.399999999999999},null,null,null,null,{"$f":"$F$3","v":122},null,null,{"$f":"$G$3","v":70},null,{"$f":"ROUND((G479*(L479/113)+(O479-AA482)),0)","v":17}]
[]
[null,null,null,null,null,"Trou",1,2,3,4,5,6,7,8,9,"Aller",10,11,12,13,14,15,16,17,18,"Retour","Total"]
[null,null,null,null,null,"PAR",{"$f":"G$7","v":4},{"$f":"H$7","v":5},3,4,4,4,3,4,5,{"$f":"SUM(G482:O482)","v":36},{"$f":"Q$7","v":4},4,3,4,4,5,4,3,5,{"$f":"SUM(Q482:Y482)","v":36},{"$f":"SUM(P482+Z482)","v":72}]
[null,null,null,null,null,"HCP trous",{"$f":"G$8","v":2},{"$f":"H$8","v":8},10,14,6,4,16,12,18,null,{"$f":"Q$8","v":1},9,11,5,15,13,3,17,7]
[null,null,null,null,null,"Coups reçus",{"$f":"IF($Q479<=18,IF(G483<=$Q479,1,0),IF($Q479<=36,IF(G483<=($Q479-18),2,1),IF($Q479>36,IF(G483<=($Q479-36),3,2))))","v":1},{"$f":"IF($Q479<=18,IF(H483<=$Q479,1,0),IF($Q479<=36,IF(H483<=($Q479-18),2,1),IF($Q479>36,IF(H483<=($Q479-36),3,2))))","v":1},1,1,1,1,1,1,0,{"$f":"SUM(G484:O484)","v":8},{"$f":"IF($Q479<=18,IF(Q483<=$Q479,1,0),IF($Q479<=36,IF(Q483<=($Q479-18),2,1),IF($Q479>36,IF(Q483<=($Q479-36),3,2))))","v":1},1,1,1,1,1,1,1,1,{"$f":"SUM(Q484:Y484)","v":9},{"$f":"P484+Z484","v":17}]
[null,null,null,null,null,"Stroke play",{"$f":"G26","v":5},6,4,6,5,4,3,3,6,{"$f":"SUM(G485:O485)","v":42},{"$f":"Q26","v":6},4,5,6,6,6,6,4,7,{"$f":"SUM(Q485:Y485)","v":50},{"$f":"P485+Z485","v":92}]
[null,null,null,null,null,"Net Stableford",{"$f":"IF(G485-G482=-1,3+G484)+IF(G485-G482=0,2+G484)+IF(G485-G482=1,1+G484)+IF(G485-G482=2,G484)+IF(G485-G482=3,IF(G484-1>0,G484-1,0))+IF(G485-G482=4,IF(G484-2>0,G484-2,0))","v":2},{"$f":"IF(H485-H482=-1,3+H484)+IF(H485-H482=0,2+H484)+IF(H485-H482=1,1+H484)+IF(H485-H482=2,H484)+IF(H485-H482=3,IF(H484-1>0,H484-1,0))+IF(H485-H482=4,IF(H484-2>0,H484-2,0))","v":2},2,1,2,3,3,4,1,{"$f":"SUM(G486:O486)","v":20},{"$f":"IF(Q485-Q482=-1,3+Q484)+IF(Q485-Q482=0,2+Q484)+IF(Q485-Q482=1,1+Q484)+IF(Q485-Q482=2,Q484)+IF(Q485-Q482=3,IF(Q484-1>0,Q484-1,0))+IF(Q485-Q482=4,IF(Q484-2>0,Q484-2,0))","v":1},3,1,1,1,2,1,2,1,{"$f":"SUM(Q486:Y486)","v":13},{"$f":"P486+Z486","v":33}]
[null,null,null,null,null,"Score Brut",{"$f":"IF(G485-G482=-2,4)+IF(G485-G482=-1,3)+IF(G485-G482=0,2)+IF(G485-G482=1,1)+IF(G485-G482>2,0)","v":1},1,1,0,1,2,2,3,1,{"$f":"SUM(G487:O487)","v":12},{"$f":"IF(Q485-Q482=-2,4)+IF(Q485-Q482=-1,3)+IF(Q485-Q482=0,2)+IF(Q485-Q482=1,1)+IF(Q485-Q482>2,0)","v":0},2,0,0,0,1,0,1,0,{"$f":"SUM(Q487:Y487)","v":4},{"$f":"P487+Z487","v":16}]
[null,null,null,null,null,null,{"$f":"G485-G482","v":1},{"$f":"H485-H482","v":1},1,2,1,0,0,-1,1,null,{"$f":"Q485-Q482","v":2},0,2,2,2,1,2,1,2]
[]
[]
[null,null,null,null,null,"Statistiques scores",null,"Eagle & moins",null,null,null,{"$f":"COUNTIF(G488:Y488,\"<=-2\")","v":0},"Par",null,{"$f":"COUNTIF(G488:Y488,\"=0\")","v":3},"Double bogey",null,null,null,null,{"$f":"COUNTIF(G488:Y488,\"=2\")","v":7}]
[null,null,null,null,null,null,null,"Birdie",null,null,null,{"$f":"COUNTIF(G488:Y488,\"=-1\")","v":1},"Bogey",null,{"$f":"COUNTIF(G488:Y488,\"=1\")","v":7},"Triple bogey & plus",null,null,null,null,{"$f":"COUNTIF(G488:Y488,\">=3\")","v":0}]
[null,null,null,null,null,null,null,{"$f":"M491","v":"Par"},null,null,null,{"$f":"O491","v":3}]
[null,null,null,null,null,null,null,{"$f":"M492","v":"Bogey"},null,null,null,{"$f":"O492","v":7}]
[null,null,null,null,null,null,null,{"$f":"P491","v":"Double bogey"},null,null,null,{"$f":"U491","v":7}]
[null,null,null,null,null,null,null,{"$f":"P492","v":"Triple bogey & plus"},null,null,null,{"$f":"U492","v":0}]
[]
[]
[]
[]
[null,null,null,null,null,"Nom",{"$f":"C27","v":"DAVID"},null,null,null,null,"Slope",null,null,"SSS",null,"Coups reçus",null,null,null,null,null,null,null,null,"Date",{"$f":"$D$3","v":"2022-03-26"}]
[null,null,null,null,null,"Index",{"$f":"E27","v":20.6},null,null,null,null,{"$f":"$F$3","v":122},null,null,{"$f":"$G$3","v":70},null,{"$f":"ROUND((G502*(L502/113)+(O502-AA505)),0)","v":20}]
[]
[null,null,null,null,null,"Trou",1,2,3,4,5,6,7,8,9,"Aller",10,11,12,13,14,15,16,17,18,"Retour","Total"]
[null,null,null,null,null,"PAR",{"$f":"G$7","v":4},{"$f":"H$7","v":5},3,4,4,4,3,4,5,{"$f":"SUM(G505:O505)","v":36},{"$f":"Q$7","v":4},4,3,4,4,5,4,3,5,{"$f":"SUM(Q505:Y505)","v":36},{"$f":"SUM(P505+Z505)","v":72}]
[null,null,null,null,null,"HCP trous",{"$f":"G$8","v":2},{"$f":"H$8","v":8},10,14,6,4,16,12,18,null,{"$f":"Q$8","v":1},9,11,5,15,13,3,17,7]
[null,null,null,null,null,"Coups reçus",{"$f":"IF($Q502<=18,IF(G506<=$Q502,1,0),IF($Q502<=36,IF(G506<=($Q502-18),2,1),IF($Q502>36,IF(G506<=($Q502-36),3,2))))","v":2},{"$f":"IF($Q502<=18,IF(H506<=$Q502,1,0),IF($Q502<=36,IF(H506<=($Q502-18),2,1),IF($Q502>36,IF(H506<=($Q502-36),3,2))))","v":1},1,1,1,1,1,1,1,{"$f":"SUM(G507:O507)","v":10},{"$f":"IF($Q502<=18,IF(Q506<=$Q502,1,0),IF($Q502<=36,IF(Q506<=($Q502-18),2,1),IF($Q502>36,IF(Q506<=($Q502-36),3,2))))","v":2},1,1,1,1,1,1,1,1,{"$f":"SUM(Q507:Y507)","v":10},{"$f":"P507+Z507","v":20}]
[null,null,null,null,null,"Stroke play",{"$f":"G27","v":7},7,8,6,5,5,4,5,6,{"$f":"SUM(G508:O508)","v":53},{"$f":"Q27","v":6},7,3,7,5,7,5,5,6,{"$f":"SUM(Q508:Y508)","v":51},{"$f":"P508+Z508","v":104}]
[null,null,null,null,null,"Net Stableford",{"$f":"IF(G508-G505=-1,3+G507)+IF(G508-G505=0,2+G507)+IF(G508-G505=1,1+G507)+IF(G508-G505=2,G507)+IF(G508-G505=3,IF(G507-1>0,G507-1,0))+IF(G508-G505=4,IF(G507-2>0,G507-2,0))","v":1},{"$f":"IF(H508-H505=-1,3+H507)+IF(H508-H505=0,2+H507)+IF(H508-H505=1,1+H507)+IF(H508-H505=2,H507)+IF(H508-H505=3,IF(H507-1>0,H507-1,0))+IF(H508-H505=4,IF(H507-2>0,H507-2,0))","v":1},0,1,2,2,2,2,2,{"$f":"SUM(G509:O509)","v":13},{"$f":"IF(Q508-Q505=-1,3+Q507)+IF(Q508-Q505=0,2+Q507)+IF(Q508-Q505=1,1+Q507)+IF(Q508-Q505=2,Q507)+IF(Q508-Q505=3,IF(Q507-1>0,Q507-1,0))+IF(Q508-Q505=4,IF(Q507-2>0,Q507-2,0))","v":2},0,3,0,2,1,2,1,2,{"$f":"SUM(Q509:Y509)","v":13},{"$f":"P509+Z509","v":26}]
[null,null,null,null,null,"Score Brut",{"$f":"IF(G508-G505=-2,4)+IF(G508-G505=-1,3)+IF(G508-G505=0,2)+IF(G508-G505=1,1)+IF(G508-G505>2,0)","v":0},0,0,0,1,1,1,1,1,{"$f":"SUM(G510:O510)","v":5},{"$f":"IF(Q508-Q505=-2,4)+IF(Q508-Q505=-1,3)+IF(Q508-Q505=0,2)+IF(Q508-Q505=1,1)+IF(Q508-Q505>2,0)","v":0},0,2,0,1,0,1,0,1,{"$f":"SUM(Q510:Y510)","v":5},{"$f":"P510+Z510","v":10}]
[null,null,null,null,null,null,{"$f":"G508-G505","v":3},{"$f":"H508-H505","v":2},5,2,1,1,1,1,1,null,{"$f":"Q508-Q505","v":2},3,0,3,1,2,1,2,1]
[]
[]
[null,null,null,null,null,"Statistiques scores",null,"Eagle & moins",null,null,null,{"$f":"COUNTIF(G511:Y511,\"<=-2\")","v":0},"Par",null,{"$f":"COUNTIF(G511:Y511,\"=0\")","v":1},"Double bogey",null,null,null,null,{"$f":"COUNTIF(G511:Y511,\"=2\")","v":5}]
[null,null,null,null,null,null,null,"Birdie",null,null,null,{"$f":"COUNTIF(G511:Y511,\"=-1\")","v":0},"Bogey",null,{"$f":"COUNTIF(G511:Y511,\"=1\")","v":8},"Triple bogey & plus",null,null,null,null,{"$f":"COUNTIF(G511:Y511,\">=3\")","v":4}]
[null,null,null,null,null,null,null,{"$f":"M514","v":"Par"},null,null,null,{"$f":"O514","v":1}]
[null,null,null,null,null,null,null,{"$f":"M515","v":"Bogey"},null,null,null,{"$f":"O515","v":8}]
[null,null,null,null,null,null,null,{"$f":"P514","v":"Double bogey"},null,null,null,{"$f":"U514","v":5}]
[null,null,null,null,null,null,null,{"$f":"P515","v":"Triple bogey & plus"},null,null,null,{"$f":"U515","v":4}]
[]
[]
[]
[]
[null,null,null,null,null,"Nom",{"$f":"C28","v":"LEFEU"},null,null,null,null,"Slope",null,null,"SSS",null,"Coups reçus",null,null,null,null,null,null,null,null,"Date",{"$f":"$D$3","v":"2022-03-26"}]
[null,null,null,null,null,"Index",{"$f":"E28","v":30.6},null,null,null,null,{"$f":"$F$3","v":122},null,null,{"$f":"$G$3","v":70},null,{"$f":"ROUND((G525*(L525/113)+(O525-AA528)),0)","v":31}]
[]
[null,null,null,null,null,"Trou",1,2,3,4,5,6,7,8,9,"Aller",10,11,12,13,14,15,16,17,18,"Retour","Total"]
[null,null,null,null,null,"PAR",{"$f":"G$7","v":4},{"$f":"H$7","v":5},3,4,4,4,3,4,5,{"$f":"SUM(G528:O528)","v":36},{"$f":"Q$7","v":4},4,3,4,4,5,4,3,5,{"$f":"SUM(Q528:Y528)","v":36},{"$f":"SUM(P528+Z528)","v":72}]
[null,null,null,null,null,"HCP trous",{"$f":"G$8","v":2},{"$f":"H$8","v":8},10,14,6,4,16,12,18,null,{"$f":"Q$8","v":1},9,11,5,15,13,3,17,7]
[null,null,null,null,null,"Coups reçus",{"$f":"IF($Q525<=18,IF(G529<=$Q525,1,0),IF($Q525<=36,IF(G529<=($Q525-18),2,1),IF($Q525>36,IF(G529<=($Q525-36),3,2))))","v":2},{"$f":"IF($Q525<=18,IF(H529<=$Q525,1,0),IF($Q525<=36,IF(H529<=($Q525-18),2,1),IF($Q525>36,IF(H529<=($Q525-36),3,2))))","v":2},2,1,2,2,1,2,1,{"$f":"SUM(G530:O530)","v":15},{"$f":"IF($Q525<=18,IF(Q529<=$Q525,1,0),IF($Q525<=36,IF(Q529<=($Q525-18),2,1),IF($Q525>36,IF(Q529<=($Q525-36),3,2))))","v":2},2,2,2,1,2,2,1,2,{"$f":"SUM(Q530:Y530)","v":16},{"$f":"P530+Z530","v":31}]
[null,null,null,null,null,"Stroke play",{"$f":"G28","v":8},8,7,6,6,5,5,6,8,{"$f":"SUM(G531:O531)","v":59},{"$f":"Q28","v":8},6,3,6,5,7,7,5,7,{"$f":"SUM(Q531:Y531)","v":54},{"$f":"P531+Z531","v":113}]
[null,null,null,null,null,"Net Stableford",{"$f":"IF(G531-G528=-1,3+G530)+IF(G531-G528=0,2+G530)+IF(G531-G528=1,1+G530)+IF(G531-G528=2,G530)+IF(G531-G528=3,IF(G530-1>0,G530-1,0))+IF(G531-G528=4,IF(G530-2>0,G530-2,0))","v":0},{"$f":"IF(H531-H528=-1,3+H530)+IF(H531-H528=0,2+H530)+IF(H531-H528=1,1+H530)+IF(H531-H528=2,H530)+IF(H531-H528=3,IF(H530-1>0,H530-1,0))+IF(H531-H528=4,IF(H530-2>0,H530-2,0))","v":1},0,1,2,3,1,2,0,{"$f":"SUM(G532:O532)","v":10},{"$f":"IF(Q531-Q528=-1,3+Q530)+IF(Q531-Q528=0,2+Q530)+IF(Q531-Q528=1,1+Q530)+IF(Q531-Q528=2,Q530)+IF(Q531-Q528=3,IF(Q530-1>0,Q530-1,0))+IF(Q531-Q528=4,IF(Q530-2>0,Q530-2,0))","v":0},2,4,2,2,2,1,1,2,{"$f":"SUM(Q532:Y532)","v":16},{"$f":"P532+Z532","v":26}]
[null,null,null,null,null,"Score Brut",{"$f":"IF(G531-G528=-2,4)+IF(G531-G528=-1,3)+IF(G531-G528=0,2)+IF(G531-G528=1,1)+IF(G531-G528>2,0)","v":0},0,0,0,0,1,0,0,0,{"$f":"SUM(G533:O533)","v":1},{"$f":"IF(Q531-Q528=-2,4)+IF(Q531-Q528=-1,3)+IF(Q531-Q528=0,2)+IF(Q531-Q528=1,1)+IF(Q531-Q528>2,0)","v":0},0,2,0,1,0,0,0,0,{"$f":"SUM(Q533:Y533)","v":3},{"$f":"P533+Z533","v":4}]
[null,null,null,null,null,null,{"$f":"G531-G528","v":4},{"$f":"H531-H528","v":3},4,2,2,1,2,2,3,null,{"$f":"Q531-Q528","v":4},2,0,2,1,2,3,2,2]
[]
[]
[null,null,null,null,null,"Statistiques scores",null,"Eagle & moins",null,null,null,{"$f":"COUNTIF(G534:Y534,\"<=-2\")","v":0},"Par",null,{"$f":"COUNTIF(G534:Y534,\"=0\")","v":1},"Double bogey",null,null,null,null,{"$f":"COUNTIF(G534:Y534,\"=2\")","v":9}]
[null,null,null,null,null,null,null,"Birdie",null,null,null,{"$f":"COUNTIF(G534:Y534,\"=-1\")","v":0},"Bogey",null,{"$f":"COUNTIF(G534:Y534,\"=1\")","v":2},"Triple bogey & plus",null,null,null,null,{"$f":"COUNTIF(G534:Y534,\">=3\")","v":6}]
[null,null,null,null,null,null,null,{"$f":"M537","v":"Par"},null,null,null,{"$f":"O537","v":1}]
[null,null,null,null,null,null,null,{"$f":"M538","v":"Bogey"},null,null,null,{"$f":"O538","v":2}]
[null,null,null,null,null,null,null,{"$f":"P537","v":"Double bogey"},null,null,null,{"$f":"U537","v":9}]
[null,null,null,null,null,null,null,{"$f":"P538","v":"Triple bogey & plus"},null,null,null,{"$f":"U538","v":6}]
[]
[]
[]
[]
[null,null,null,null,null,"Nom",{"$f":"C29","v":"ZIAR"},null,null,null,null,"Slope",null,null,"SSS",null,"Coups reçus",null,null,null,null,null,null,null,null,"Date",{"$f":"$D$3","v":"2022-03-26"}]
[null,null,null,null,null,"Index",{"$f":"E29","v":18},null,null,null,null,{"$f":"$F$3","v":122},null,null,{"$f":"$G$3","v":70},null,{"$f":"ROUND((G548*(L548/113)+(O548-AA551)),0)","v":17}]
[]
[null,null,null,null,null,"Trou",1,2,3,4,5,6,7,8,9,"Aller",10,11,12,13,14,15,16,17,18,"Retour","Total"]
[null,null,null,null,null,"PAR",{"$f":"G$7","v":4},{"$f":"H$7","v":5},3,4,4,4,3,4,5,{"$f":"SUM(G551:O551)","v":36},{"$f":"Q$7","v":4},4,3,4,4,5,4,3,5,{"$f":"SUM(Q551:Y551)","v":36},{"$f":"SUM(P551+Z551)","v":72}]
[null,null,null,null,null,"HCP trous",{"$f":"G$8","v":2},{"$f":"H$8","v":8},10,14,6,4,16,12,18,null,{"$f":"Q$8","v":1},9,11,5,15,13,3,17,7]
[null,null,null,null,null,"Coups reçus",{"$f":"IF($Q548<=18,IF(G552<=$Q548,1,0),IF($Q548<=36,IF(G552<=($Q548-18),2,1),IF($Q548>36,IF(G552<=($Q548-36),3,2))))","v":1},{"$f":"IF($Q548<=18,IF(H552<=$Q548,1,0),IF($Q548<=36,IF(H552<=($Q548-18),2,1),IF($Q548>36,IF(H552<=($Q548-36),3,2))))","v":1},1,1,1,1,1,1,0,{"$f":"SUM(G553:O553)","v":8},{"$f":"IF($Q548<=18,IF(Q552<=$Q548,1,0),IF($Q548<=36,IF(Q552<=($Q548-18),2,1),IF($Q548>36,IF(Q552<=($Q548-36),3,2))))","v":1},1,1,1,1,1,1,1,1,{"$f":"SUM(Q553:Y553)","v":9},{"$f":"P553+Z553","v":17}]
[null,null,null,null,null,"Stroke play",{"$f":"G29","v":5},7,4,4,6,4,3,7,6,{"$f":"SUM(G554:O554)","v":46},{"$f":"Q29","v":7},4,3,4,5,5,5,4,7,{"$f":"SUM(Q554:Y554)","v":44},{"$f":"P554+Z554","v":90}]
[null,null,null,null,null,"Net Stableford",{"$f":"IF(G554-G551=-1,3+G553)+IF(G554-G551=0,2+G553)+IF(G554-G551=1,1+G553)+IF(G554-G551=2,G553)+IF(G554-G551=3,IF(G553-1>0,G553-1,0))+IF(G554-G551=4,IF(G553-2>0,G553-2,0))","v":2},{"$f":"IF(H554-H551=-1,3+H553)+IF(H554-H551=0,2+H553)+IF(H554-H551=1,1+H553)+IF(H554-H551=2,H553)+IF(H554-H551=3,IF(H553-1>0,H553-1,0))+IF(H554-H551=4,IF(H553-2>0,H553-2,0))","v":1},2,3,1,3,3,0,1,{"$f":"SUM(G555:O555)","v":16},{"$f":"IF(Q554-Q551=-1,3+Q553)+IF(Q554-Q551=0,2+Q553)+IF(Q554-Q551=1,1+Q553)+IF(Q554-Q551=2,Q553)+IF(Q554-Q551=3,IF(Q553-1>0,Q553-1,0))+IF(Q554-Q551=4,IF(Q553-2>0,Q553-2,0))","v":0},3,3,3,2,3,2,2,1,{"$f":"SUM(Q555:Y555)","v":19},{"$f":"P555+Z555","v":35}]
[null,null,null,null,null,"Score Brut",{"$f":"IF(G554-G551=-2,4)+IF(G554-G551=-1,3)+IF(G554-G551=0,2)+IF(G554-G551=1,1)+IF(G554-G551>2,0)","v":1},0,1,2,0,2,2,0,1,{"$f":"SUM(G556:O556)","v":9},{"$f":"IF(Q554-Q551=-2,4)+IF(Q554-Q551=-1,3)+IF(Q554-Q551=0,2)+IF(Q554-Q551=1,1)+IF(Q554-Q551>2,0)","v":0},2,2,2,1,2,1,1,0,{"$f":"SUM(Q556:Y556)","v":11},{"$f":"P556+Z556","v":20}]
[null,null,null,null,null,null,{"$f":"G554-G551","v":1},{"$f":"H554-H551","v":2},1,0,2,0,0,3,1,null,{"$f":"Q554-Q551","v":3},0,0,0,1,0,1,1,2]
[]
[]
[null,null,null,null,null,"Statistiques scores",null,"Eagle & moins",null,null,null,{"$f":"COUNTIF(G557:Y557,\"<=-2\")","v":0},"Par",null,{"$f":"COUNTIF(G557:Y557,\"=0\")","v":7},"Double bogey",null,null,null,null,{"$f":"COUNTIF(G557:Y557,\"=2\")","v":3}]
[null,null,null,null,null,null,null,"Birdie",null,null,null,{"$f":"COUNTIF(G557:Y557,\"=-1\")","v":0},"Bogey",null,{"$f":"COUNTIF(G557:Y557,\"=1\")","v":6},"Triple bogey & plus",null,null,null,null,{"$f":"COUNTIF(G557:Y557,\">=3\")","v":2}]
[null,null,null,null,null,null,null,{"$f":"M560","v":"Par"},null,null,null,{"$f":"O560","v":7}]
[null,null,null,null,null,null,null,{"$f":"M561","v":"Bogey"},null,null,null,{"$f":"O561","v":6}]
[null,null,null,null,null,null,null,{"$f":"P560","v":"Double bogey"},null,null,null,{"$f":"U560","v":3}]
[null,null,null,null,null,null,null,{"$f":"P561","v":"Triple bogey & plus"},null,null,null,{"$f":"U561","v":2}]
[]
[]
[]
[]
[null,null,null,null,null,"Nom",{"$f":"C30","v":"JACQUEMIN"},null,null,null,null,"Slope",null,null,"SSS",null,"Coups reçus",null,null,null,null,null,null,null,null,"Date",{"$f":"$D$3","v":"2022-03-26"}]
[null,null,null,null,null,"Index",{"$f":"E30","v":17.2},null,null,null,null,{"$f":"$F$3","v":122},null,null,{"$f":"$G$3","v":70},null,{"$f":"ROUND((G571*(L571/113)+(O571-AA574)),0)","v":17}]
[]
[null,null,null,null,null,"Trou",1,2,3,4,5,6,7,8,9,"Aller",10,11,12,13,14,15,16,17,18,"Retour","Total"]
[null,null,null,null,null,"PAR",{"$f":"G$7","v":4},{"$f":"H$7","v":5},3,4,4,4,3,4,5,{"$f":"SUM(G574:O574)","v":36},{"$f":"Q$7","v":4},4,3,4,4,5,4,3,5,{"$f":"SUM(Q574:Y574)","v":36},{"$f":"SUM(P574+Z574)","v":72}]
[null,null,null,null,null,"HCP trous",{"$f":"G$8","v":2},{"$f":"H$8","v":8},10,14,6,4,16,12,18,null,{"$f":"Q$8","v":1},9,11,5,15,13,3,17,7]
[null,null,null,null,null,"Coups reçus",{"$f":"IF($Q571<=18,IF(G575<=$Q571,1,0),IF($Q571<=36,IF(G575<=($Q571-18),2,1),IF($Q571>36,IF(G575<=($Q571-36),3,2))))","v":1},{"$f":"IF($Q571<=18,IF(H575<=$Q571,1,0),IF($Q571<=36,IF(H575<=($Q571-18),2,1),IF($Q571>36,IF(H575<=($Q571-36),3,2))))","v":1},1,1,1,1,1,1,0,{"$f":"SUM(G576:O576)","v":8},{"$f":"IF($Q571<=18,IF(Q575<=$Q571,1,0),IF($Q571<=36,IF(Q575<=($Q571-18),2,1),IF($Q571>36,IF(Q575<=($Q571-36),3,2))))","v":1},1,1,1,1,1,1,1,1,{"$f":"SUM(Q576:Y576)","v":9},{"$f":"P576+Z576","v":17}]
[null,null,null,null,null,"Stroke play",{"$f":"G30","v":5},5,5,5,5,4,3,3,6,{"$f":"SUM(G577:O577)","v":41},{"$f":"Q30","v":6},5,4,6,4,6,6,3,6,{"$f":"SUM(Q577:Y577)","v":46},{"$f":"P577+Z577","v":87}]
[null,null,null,null,null,"Net Stableford",{"$f":"IF(G577-G574=-1,3+G576)+IF(G577-G574=0,2+G576)+IF(G577-G574=1,1+G576)+IF(G577-G574=2,G576)+IF(G577-G574=3,IF(G576-1>0,G576-1,0))+IF(G577-G574=4,IF(G576-2>0,G576-2,0))","v":2},{"$f":"IF(H577-H574=-1,3+H576)+IF(H577-H574=0,2+H576)+IF(H577-H574=1,1+H576)+IF(H577-H574=2,H576)+IF(H577-H574=3,IF(H576-1>0,H576-1,0))+IF(H577-H574=4,IF(H576-2>0,H576-2,0))","v":3},1,2,2,3,3,4,1,{"$f":"SUM(G578:O578)","v":21},{"$f":"IF(Q577-Q574=-1,3+Q576)+IF(Q577-Q574=0,2+Q576)+IF(Q577-Q574=1,1+Q576)+IF(Q577-Q574=2,Q576)+IF(Q577-Q574=3,IF(Q576-1>0,Q576-1,0))+IF(Q577-Q574=4,IF(Q576-2>0,Q576-2,0))","v":1},2,2,1,3,2,1,3,2,{"$f":"SUM(Q578:Y578)","v":17},{"$f":"P578+Z578","v":38}]
[null,null,null,null,null,"Score Brut",{"$f":"IF(G577-G574=-2,4)+IF(G577-G574=-1,3)+IF(G577-G574=0,2)+IF(G577-G574=1,1)+IF(G577-G574>2,0)","v":1},2,0,1,1,2,2,3,1,{"$f":"SUM(G579:O579)","v":13},{"$f":"IF(Q577-Q574=-2,4)+IF(Q577-Q574=-1,3)+IF(Q577-Q574=0,2)+IF(Q577-Q574=1,1)+IF(Q577-Q574>2,0)","v":0},1,1,0,2,1,0,2,1,{"$f":"SUM(Q579:Y579)","v":8},{"$f":"P579+Z579","v":21}]
[null,null,null,null,null,null,{"$f":"G577-G574","v":1},{"$f":"H577-H574","v":0},2,1,1,0,0,-1,1,null,{"$f":"Q577-Q574","v":2},1,1,2,0,1,2,0,1]
[]
[]
[null,null,null,null,null,"Statistiques scores",null,"Eagle & moins",null,null,null,{"$f":"COUNTIF(G580:Y580,\"<=-2\")","v":0},"Par",null,{"$f":"COUNTIF(G580:Y580,\"=0\")","v":5},"Double bogey",null,null,null,null,{"$f":"COUNTIF(G580:Y580,\"=2\")","v":4}]
[null,null,null,null,null,null,null,"Birdie",null,null,null,{"$f":"COUNTIF(G580:Y580,\"=-1\")","v":1},"Bogey",null,{"$f":"COUNTIF(G580:Y580,\"=1\")","v":8},"Triple bogey & plus",null,null,null,null,{"$f":"COUNTIF(G580:Y580,\">=3\")","v":0}]
[null,null,null,null,null,null,null,{"$f":"M583","v":"Par"},null,null,null,{"$f":"O583","v":5}]
[null,null,null,null,null,null,null,{"$f":"M584","v":"Bogey"},null,null,null,{"$f":"O584","v":8}]
[null,null,null,null,null,null,null,{"$f":"P583","v":"Double bogey"},null,null,null,{"$f":"U583","v":4}]
[null,null,null,null,null,null,null,{"$f":"P584","v":"Triple bogey & plus"},null,null,null,{"$f":"U584","v":0}]
[]
[]
[]
[]
[null,null,null,null,null,"Nom",{"$f":"C31","v":"LAHOREAU"},null,null,null,null,"Slope",null,null,"SSS",null,"Coups reçus",null,null,null,null,null,null,null,null,"Date",{"$f":"$D$3","v":"2022-03-26"}]
[null,null,null,null,null,"Index",{"$f":"E31","v":54},null,null,null,null,{"$f":"$F$3","v":122},null,null,{"$f":"$G$3","v":70},null,{"$f":"ROUND((G594*(L594/113)+(O594-AA597)),0)","v":56}]
[]
[null,null,null,null,null,"Trou",1,2,3,4,5,6,7,8,9,"Aller",10,11,12,13,14,15,16,17,18,"Retour","Total"]
[null,null,null,null,null,"PAR",{"$f":"G$7","v":4},{"$f":"H$7","v":5},3,4,4,4,3,4,5,{"$f":"SUM(G597:O597)","v":36},{"$f":"Q$7","v":4},4,3,4,4,5,4,3,5,{"$f":"SUM(Q597:Y597)","v":36},{"$f":"SUM(P597+Z597)","v":72}]
[null,null,null,null,null,"HCP trous",{"$f":"G$8","v":2},{"$f":"H$8","v":8},10,14,6,4,16,12,18,null,{"$f":"Q$8","v":1},9,11,5,15,13,3,17,7]
[null,null,null,null,null,"Coups reçus",{"$f":"IF($Q594<=18,IF(G598<=$Q594,1,0),IF($Q594<=36,IF(G598<=($Q594-18),2,1),IF($Q594>36,IF(G598<=($Q594-36),3,2))))","v":3},{"$f":"IF($Q594<=18,IF(H598<=$Q594,1,0),IF($Q594<=36,IF(H598<=($Q594-18),2,1),IF($Q594>36,IF(H598<=($Q594-36),3,2))))","v":3},3,3,3,3,3,3,3,{"$f":"SUM(G599:O599)","v":27},{"$f":"IF($Q594<=18,IF(Q598<=$Q594,1,0),IF($Q594<=36,IF(Q598<=($Q594-18),2,1),IF($Q594>36,IF(Q598<=($Q594-36),3,2))))","v":3},3,3,3,3,3,3,3,3,{"$f":"SUM(Q599:Y599)","v":27},{"$f":"P599+Z599","v":54}]
[null,null,null,null,null,"Stroke play",{"$f":"G31","v":8},15,6,9,9,9,10,11,7,{"$f":"SUM(G600:O600)","v":84},{"$f":"Q31","v":9},7,5,7,7,8,9,10,0,{"$f":"SUM(Q600:Y600)","v":62},{"$f":"P600+Z600","v":146}]
[null,null,null,null,null,"Net Stableford",{"$f":"IF(G600-G597=-1,3+G599)+IF(G600-G597=0,2+G599)+IF(G600-G597=1,1+G599)+IF(G600-G597=2,G599)+IF(G600-G597=3,IF(G599-1>0,G599-1,0))+IF(G600-G597=4,IF(G599-2>0,G599-2,0))","v":1},{"$f":"IF(H600-H597=-1,3+H599)+IF(H600-H597=0,2+H599)+IF(H600-H597=1,1+H599)+IF(H600-H597=2,H599)+IF(H600-H597=3,IF(H599-1>0,H599-1,0))+IF(H600-H597=4,IF(H599-2>0,H599-2,0))","v":0},2,0,0,0,0,0,3,{"$f":"SUM(G601:O601)","v":6},{"$f":"IF(Q600-Q597=-1,3+Q599)+IF(Q600-Q597=0,2+Q599)+IF(Q600-Q597=1,1+Q599)+IF(Q600-Q597=2,Q599)+IF(Q600-Q597=3,IF(Q599-1>0,Q599-1,0))+IF(Q600-Q597=4,IF(Q599-2>0,Q599-2,0))","v":0},2,3,2,2,2,0,0,0,{"$f":"SUM(Q601:Y601)","v":11},{"$f":"P601+Z601","v":17}]
[null,null,null,null,null,"Score Brut",{"$f":"IF(G600-G597=-2,4)+IF(G600-G597=-1,3)+IF(G600-G597=0,2)+IF(G600-G597=1,1)+IF(G600-G597>2,0)","v":0},0,0,0,0,0,0,0,0,{"$f":"SUM(G602:O602)","v":0},{"$f":"IF(Q600-Q597=-2,4)+IF(Q600-Q597=-1,3)+IF(Q600-Q597=0,2)+IF(Q600-Q597=1,1)+IF(Q600-Q597>2,0)","v":0},0,0,0,0,0,0,0,0,{"$f":"SUM(Q602:Y602)","v":0},{"$f":"P602+Z602","v":0}]
[null,null,null,null,null,null,{"$f":"G600-G597","v":4},{"$f":"H600-H597","v":10},3,5,5,5,7,7,2,null,{"$f":"Q600-Q597","v":5},3,2,3,3,3,5,7,-5]
[]
[]
[null,null,null,null,null,"Statistiques scores",null,"Eagle & moins",null,null,null,{"$f":"COUNTIF(G603:Y603,\"<=-2\")","v":1},"Par",null,{"$f":"COUNTIF(G603:Y603,\"=0\")","v":0},"Double bogey",null,null,null,null,{"$f":"COUNTIF(G603:Y603,\"=2\")","v":2}]
[null,null,null,null,null,null,null,"Birdie",null,null,null,{"$f":"COUNTIF(G603:Y603,\"=-1\")","v":0},"Bogey",null,{"$f":"COUNTIF(G603:Y603,\"=1\")","v":0},"Triple bogey & plus",null,null,null,null,{"$f":"COUNTIF(G603:Y603,\">=3\")","v":15}]
[null,null,null,null,null,null,null,{"$f":"M606","v":"Par"},null,null,null,{"$f":"O606","v":0}]
[null,null,null,null,null,null,null,{"$f":"M607","v":"Bogey"},null,null,null,{"$f":"O607","v":0}]
[null,null,null,null,null,null,null,{"$f":"P606","v":"Double bogey"},null,null,null,{"$f":"U606","v":2}]
[null,null,null,null,null,null,null,{"$f":"P607","v":"Triple bogey & plus"},null,null,null,{"$f":"U607","v":15}]
[]
[]
[]
[]
[null,null,null,null,null,"Nom",{"$f":"C32","v":0},null,null,null,null,"Slope",null,null,"SSS",null,"Coups reçus",null,null,null,null,null,null,null,null,"Date",{"$f":"$D$3","v":"2022-03-26"}]
[null,null,null,null,null,"Index",{"$f":"E32","v":20},null,null,null,null,{"$f":"$F$3","v":122},null,null,{"$f":"$G$3","v":70},null,{"$f":"ROUND((G617*(L617/113)+(O617-AA620)),0)","v":20}]
[]
[null,null,null,null,null,"Trou",1,2,3,4,5,6,7,8,9,"Aller",10,11,12,13,14,15,16,17,18,"Retour","Total"]
[null,null,null,null,null,"PAR",{"$f":"G$7","v":4},{"$f":"H$7","v":5},3,4,4,4,3,4,5,{"$f":"SUM(G620:O620)","v":36},{"$f":"Q$7","v":4},4,3,4,4,5,4,3,5,{"$f":"SUM(Q620:Y620)","v":36},{"$f":"SUM(P620+Z620)","v":72}]
[null,null,null,null,null,"HCP trous",{"$f":"G$8","v":2},{"$f":"H$8","v":8},10,14,6,4,16,12,18,null,{"$f":"Q$8","v":1},9,11,5,15,13,3,17,7]
[null,null,null,null,null,"Coups reçus",{"$f":"IF($Q617<=18,IF(G621<=$Q617,1,0),IF($Q617<=36,IF(G621<=($Q617-18),2,1),IF($Q617>36,IF(G621<=($Q617-36),3,2))))","v":2},{"$f":"IF($Q617<=18,IF(H621<=$Q617,1,0),IF($Q617<=36,IF(H621<=($Q617-18),2,1),IF($Q617>36,IF(H621<=($Q617-36),3,2))))","v":1},1,1,1,1,1,1,1,{"$f":"SUM(G622:O622)","v":10},{"$f":"IF($Q617<=18,IF(Q621<=$Q617,1,0),IF($Q617<=36,IF(Q621<=($Q617-18),2,1),IF($Q617>36,IF(Q621<=($Q617-36),3,2))))","v":2},1,1,1,1,1,1,1,1,{"$f":"SUM(Q622:Y622)","v":10},{"$f":"P622+Z622","v":20}]
[null,null,null,null,null,"Stroke play",{"$f":"G32","v":10},10,10,10,10,10,10,10,10,{"$f":"SUM(G623:O623)","v":90},{"$f":"Q32","v":10},10,10,10,10,10,10,10,10,{"$f":"SUM(Q623:Y623)","v":90},{"$f":"P623+Z623","v":180}]
[null,null,null,null,null,"Net Stableford",{"$f":"IF(G623-G620=-1,3+G622)+IF(G623-G620=0,2+G622)+IF(G623-G620=1,1+G622)+IF(G623-G620=2,G622)+IF(G623-G620=3,IF(G622-1>0,G622-1,0))+IF(G623-G620=4,IF(G622-2>0,G622-2,0))","v":0},{"$f":"IF(H623-H620=-1,3+H622)+IF(H623-H620=0,2+H622)+IF(H623-H620=1,1+H622)+IF(H623-H620=2,H622)+IF(H623-H620=3,IF(H622-1>0,H622-1,0))+IF(H623-H620=4,IF(H622-2>0,H622-2,0))","v":0},0,0,0,0,0,0,0,{"$f":"SUM(G624:O624)","v":0},{"$f":"IF(Q623-Q620=-1,3+Q622)+IF(Q623-Q620=0,2+Q622)+IF(Q623-Q620=1,1+Q622)+IF(Q623-Q620=2,Q622)+IF(Q623-Q620=3,IF(Q622-1>0,Q622-1,0))+IF(Q623-Q620=4,IF(Q622-2>0,Q622-2,0))","v":0},0,0,0,0,0,0,0,0,{"$f":"SUM(Q624:Y624)","v":0},{"$f":"P624+Z624","v":0}]
[null,null,null,null,null,"Score Brut",{"$f":"IF(G623-G620=-2,4)+IF(G623-G620=-1,3)+IF(G623-G620=0,2)+IF(G623-G620=1,1)+IF(G623-G620>2,0)","v":0},0,0,0,0,0,0,0,0,{"$f":"SUM(G625:O625)","v":0},{"$f":"IF(Q623-Q620=-2,4)+IF(Q623-Q620=-1,3)+IF(Q623-Q620=0,2)+IF(Q623-Q620=1,1)+IF(Q623-Q620>2,0)","v":0},0,0,0,0,0,0,0,0,{"$f":"SUM(Q625:Y625)","v":0},{"$f":"P625+Z625","v":0}]
[null,null,null,null,null,null,{"$f":"G623-G620","v":6},{"$f":"H623-H620","v":5},7,6,6,6,7,6,5,null,{"$f":"Q623-Q620","v":6},6,7,6,6,5,6,7,5]
[]
[]
[null,null,null,null,null,"Statistiques scores",null,"Eagle & moins",null,null,null,{"$f":"COUNTIF(G626:Y626,\"<=-2\")","v":0},"Par",null,{"$f":"COUNTIF(G626:Y626,\"=0\")","v":0},"Double bogey",null,null,null,null,{"$f":"COUNTIF(G626:Y626,\"=2\")","v":0}]
[null,null,null,null,null,null,null,"Birdie",null,null,null,{"$f":"COUNTIF(G626:Y626,\"=-1\")","v":0},"Bogey",null,{"$f":"COUNTIF(G626:Y626,\"=1\")","v":0},"Triple bogey & plus",null,null,null,null,{"$f":"COUNTIF(G626:Y626,\">=3\")","v":18}]
[null,null,null,null,null,null,null,{"$f":"M629","v":"Par"},null,null,null,{"$f":"O629","v":0}]
[null,null,null,null,null,null,null,{"$f":"M630","v":"Bogey"},null,null,null,{"$f":"O630","v":0}]
[null,null,null,null,null,null,null,{"$f":"P629","v":"Double bogey"},null,null,null,{"$f":"U629","v":0}]
[null,null,null,null,null,null,null,{"$f":"P630","v":"Triple bogey & plus"},null,null,null,{"$f":"U630","v":18}]
[]
[]
[]
[]
[null,null,null,null,null,"Nom",{"$f":"C33","v":0},null,null,null,null,"Slope",null,null,"SSS",null,"Coups reçus",null,null,null,null,null,null,null,null,"Date",{"$f":"$D$3","v":"2022-03-26"}]
[null,null,null,null,null,"Index",{"$f":"E33","v":20},null,null,null,null,{"$f":"$F$3","v":122},null,null,{"$f":"$G$3","v":70},null,{"$f":"ROUND((G640*(L640/113)+(O640-AA643)),0)","v":20}]
[]
[null,null,null,null,null,"Trou",1,2,3,4,5,6,7,8,9,"Aller",10,11,12,13,14,15,16,17,18,"Retour","Total"]
[null,null,null,null,null,"PAR",{"$f":"G$7","v":4},{"$f":"H$7","v":5},3,4,4,4,3,4,5,{"$f":"SUM(G643:O643)","v":36},{"$f":"Q$7","v":4},4,3,4,4,5,4,3,5,{"$f":"SUM(Q643:Y643)","v":36},{"$f":"SUM(P643+Z643)","v":72}]
[null,null,null,null,null,"HCP trous",{"$f":"G$8","v":2},{"$f":"H$8","v":8},10,14,6,4,16,12,18,null,{"$f":"Q$8","v":1},9,11,5,15,13,3,17,7]
[null,null,null,null,null,"Coups reçus",{"$f":"IF($Q640<=18,IF(G644<=$Q640,1,0),IF($Q640<=36,IF(G644<=($Q640-18),2,1),IF($Q640>36,IF(G644<=($Q640-36),3,2))))","v":2},{"$f":"IF($Q640<=18,IF(H644<=$Q640,1,0),IF($Q640<=36,IF(H644<=($Q640-18),2,1),IF($Q640>36,IF(H644<=($Q640-36),3,2))))","v":1},1,1,1,1,1,1,1,{"$f":"SUM(G645:O645)","v":10},{"$f":"IF($Q640<=18,IF(Q644<=$Q640,1,0),IF($Q640<=36,IF(Q644<=($Q640-18),2,1),IF($Q640>36,IF(Q644<=($Q640-36),3,2))))","v":2},1,1,1,1,1,1,1,1,{"$f":"SUM(Q645:Y645)","v":10},{"$f":"P645+Z645","v":20}]
[null,null,null,null,null,"Stroke play",{"$f":"G33","v":10},10,10,10,10,10,10,10,10,{"$f":"SUM(G646:O646)","v":90},{"$f":"Q33","v":10},10,10,10,10,10,10,10,10,{"$f":"SUM(Q646:Y646)","v":90},{"$f":"P646+Z646","v":180}]
[null,null,null,null,null,"Net Stableford",{"$f":"IF(G646-G643=-1,3+G645)+IF(G646-G643=0,2+G645)+IF(G646-G643=1,1+G645)+IF(G646-G643=2,G645)+IF(G646-G643=3,IF(G645-1>0,G645-1,0))+IF(G646-G643=4,IF(G645-2>0,G645-2,0))","v":0},{"$f":"IF(H646-H643=-1,3+H645)+IF(H646-H643=0,2+H645)+IF(H646-H643=1,1+H645)+IF(H646-H643=2,H645)+IF(H646-H643=3,IF(H645-1>0,H645-1,0))+IF(H646-H643=4,IF(H645-2>0,H645-2,0))","v":0},0,0,0,0,0,0,0,{"$f":"SUM(G647:O647)","v":0},{"$f":"IF(Q646-Q643=-1,3+Q645)+IF(Q646-Q643=0,2+Q645)+IF(Q646-Q643=1,1+Q645)+IF(Q646-Q643=2,Q645)+IF(Q646-Q643=3,IF(Q645-1>0,Q645-1,0))+IF(Q646-Q643=4,IF(Q645-2>0,Q645-2,0))","v":0},0,0,0,0,0,0,0,0,{"$f":"SUM(Q647:Y647)","v":0},{"$f":"P647+Z647","v":0}]
[null,null,null,null,null,"Score Brut",{"$f":"IF(G646-G643=-2,4)+IF(G646-G643=-1,3)+IF(G646-G643=0,2)+IF(G646-G643=1,1)+IF(G646-G643>2,0)","v":0},0,0,0,0,0,0,0,0,{"$f":"SUM(G648:O648)","v":0},{"$f":"IF(Q646-Q643=-2,4)+IF(Q646-Q643=-1,3)+IF(Q646-Q643=0,2)+IF(Q646-Q643=1,1)+IF(Q646-Q643>2,0)","v":0},0,0,0,0,0,0,0,0,{"$f":"SUM(Q648:Y648)","v":0},{"$f":"P648+Z648","v":0}]
[null,null,null,null,null,null,{"$f":"G646-G643","v":6},{"$f":"H646-H643","v":5},7,6,6,6,7,6,5,null,{"$f":"Q646-Q643","v":6},6,7,6,6,5,6,7,5]
[]
[]
[null,null,null,null,null,"Statistiques scores",null,"Eagle & moins",null,null,null,{"$f":"COUNTIF(G649:Y649,\"<=-2\")","v":0},"Par",null,{"$f":"COUNTIF(G649:Y649,\"=0\")","v":0},"Double bogey",null,null,null,null,{"$f":"COUNTIF(G649:Y649,\"=2\")","v":0}]
[null,null,null,null,null,null,null,"Birdie",null,null,null,{"$f":"COUNTIF(G649:Y649,\"=-1\")","v":0},"Bogey",null,{"$f":"COUNTIF(G649:Y649,\"=1\")","v":0},"Triple bogey & plus",null,null,null,null,{"$f":"COUNTIF(G649:Y649,\">=3\")","v":18}]
[null,null,null,null,null,null,null,{"$f":"M652","v":"Par"},null,null,null,{"$f":"O652","v":0}]
[null,null,null,null,null,null,null,{"$f":"M653","v":"Bogey"},null,null,null,{"$f":"O653","v":0}]
[null,null,null,null,null,null,null,{"$f":"P652","v":"Double bogey"},null,null,null,{"$f":"U652","v":0}]
[null,null,null,null,null,null,null,{"$f":"P653","v":"Triple bogey & plus"},null,null,null,{"$f":"U653","v":18}]
[]
[]
[]
[]
[null,null,null,null,null,"Nom",{"$f":"C34","v":0},null,null,null,null,"Slope",null,null,"SSS",null,"Coups reçus",null,null,null,null,null,null,null,null,"Date",{"$f":"$D$3","v":"2022-03-26"}]
[null,null,null,null,null,"Index",{"$f":"E34","v":20},null,null,null,null,{"$f":"$F$3","v":122},null,null,{"$f":"$G$3","v":70},null,{"$f":"ROUND((G663*(L663/113)+(O663-AA666)),0)","v":20}]
[]
[null,null,null,null,null,"Trou",1,2,3,4,5,6,7,8,9,"Aller",10,11,12,13,14,15,16,17,18,"Retour","Total"]
[null,null,null,null,null,"PAR",{"$f":"G$7","v":4},{"$f":"H$7","v":5},3,4,4,4,3,4,5,{"$f":"SUM(G666:O666)","v":36},{"$f":"Q$7","v":4},4,3,4,4,5,4,3,5,{"$f":"SUM(Q666:Y666)","v":36},{"$f":"SUM(P666+Z666)","v":72}]
[null,null,null,null,null,"HCP trous",{"$f":"G$8","v":2},{"$f":"H$8","v":8},10,14,6,4,16,12,18,null,{"$f":"Q$8","v":1},9,11,5,15,13,3,17,7]
[null,null,null,null,null,"Coups reçus",{"$f":"IF($Q663<=18,IF(G667<=$Q663,1,0),IF($Q663<=36,IF(G667<=($Q663-18),2,1),IF($Q663>36,IF(G667<=($Q663-36),3,2))))","v":2},{"$f":"IF($Q663<=18,IF(H667<=$Q663,1,0),IF($Q663<=36,IF(H667<=($Q663-18),2,1),IF($Q663>36,IF(H667<=($Q663-36),3,2))))","v":1},1,1,1,1,1,1,1,{"$f":"SUM(G668:O668)","v":10},{"$f":"IF($Q663<=18,IF(Q667<=$Q663,1,0),IF($Q663<=36,IF(Q667<=($Q663-18),2,1),IF($Q663>36,IF(Q667<=($Q663-36),3,2))))","v":2},1,1,1,1,1,1,1,1,{"$f":"SUM(Q668:Y668)","v":10},{"$f":"P668+Z668","v":20}]
[null,null,null,null,null,"Stroke play",{"$f":"G34","v":10},10,10,10,10,10,10,10,10,{"$f":"SUM(G669:O669)","v":90},{"$f":"Q34","v":10},10,10,10,10,10,10,10,10,{"$f":"SUM(Q669:Y669)","v":90},{"$f":"P669+Z669","v":180}]
[null,null,null,null,null,"Net Stableford",{"$f":"IF(G669-G666=-1,3+G668)+IF(G669-G666=0,2+G668)+IF(G669-G666=1,1+G668)+IF(G669-G666=2,G668)+IF(G669-G666=3,IF(G668-1>0,G668-1,0))+IF(G669-G666=4,IF(G668-2>0,G668-2,0))","v":0},{"$f":"IF(H669-H666=-1,3+H668)+IF(H669-H666=0,2+H668)+IF(H669-H666=1,1+H668)+IF(H669-H666=2,H668)+IF(H669-H666=3,IF(H668-1>0,H668-1,0))+IF(H669-H666=4,IF(H668-2>0,H668-2,0))","v":0},0,0,0,0,0,0,0,{"$f":"SUM(G670:O670)","v":0},{"$f":"IF(Q669-Q666=-1,3+Q668)+IF(Q669-Q666=0,2+Q668)+IF(Q669-Q666=1,1+Q668)+IF(Q669-Q666=2,Q668)+IF(Q669-Q666=3,IF(Q668-1>0,Q668-1,0))+IF(Q669-Q666=4,IF(Q668-2>0,Q668-2,0))","v":0},0,0,0,0,0,0,0,0,{"$f":"SUM(Q670:Y670)","v":0},{"$f":"P670+Z670","v":0}]
[null,null,null,null,null,"Score Brut",{"$f":"IF(G669-G666=-2,4)+IF(G669-G666=-1,3)+IF(G669-G666=0,2)+IF(G669-G666=1,1)+IF(G669-G666>2,0)","v":0},0,0,0,0,0,0,0,0,{"$f":"SUM(G671:O671)","v":0},{"$f":"IF(Q669-Q666=-2,4)+IF(Q669-Q666=-1,3)+IF(Q669-Q666=0,2)+IF(Q669-Q666=1,1)+IF(Q669-Q666>2,0)","v":0},0,0,0,0,0,0,0,0,{"$f":"SUM(Q671:Y671)","v":0},{"$f":"P671+Z671","v":0}]
[null,null,null,null,null,null,{"$f":"G669-G666","v":6},{"$f":"H669-H666","v":5},7,6,6,6,7,6,5,null,{"$f":"Q669-Q666","v":6},6,7,6,6,5,6,7,5]
[]
[]
[null,null,null,null,null,"Statistiques scores",null,"Eagle & moins",null,null,null,{"$f":"COUNTIF(G672:Y672,\"<=-2\")","v":0},"Par",null,{"$f":"COUNTIF(G672:Y672,\"=0\")","v":0},"Double bogey",null,null,null,null,{"$f":"COUNTIF(G672:Y672,\"=2\")","v":0}]
[null,null,null,null,null,null,null,"Birdie",null,null,null,{"$f":"COUNTIF(G672:Y672,\"=-1\")","v":0},"Bogey",null,{"$f":"COUNTIF(G672:Y672,\"=1\")","v":0},"Triple bogey & plus",null,null,null,null,{"$f":"COUNTIF(G672:Y672,\">=3\")","v":18}]
[null,null,null,null,null,null,null,{"$f":"M675","v":"Par"},null,null,null,{"$f":"O675","v":0}]
[null,null,null,null,null,null,null,{"$f":"M676","v":"Bogey"},null,null,null,{"$f":"O676","v":0}]
[null,null,null,null,null,null,null,{"$f":"P675","v":"Double bogey"},null,null,null,{"$f":"U675","v":0}]
[null,null,null,null,null,null,null,{"$f":"P676","v":"Triple bogey & plus"},null,null,null,{"$f":"U676","v":18}]
[]
[]
[]
[]
[null,null,null,null,null,"Nom",{"$f":"C35","v":0},null,null,null,null,"Slope",null,null,"SSS",null,"Coups reçus",null,null,null,null,null,null,null,null,"Date",{"$f":"$D$3","v":"2022-03-26"}]
[null,null,null,null,null,"Index",{"$f":"E35","v":20},null,null,null,null,{"$f":"$F$3","v":122},null,null,{"$f":"$G$3","v":70},null,{"$f":"ROUND((G686*(L686/113)+(O686-AA689)),0)","v":20}]
[]
[null,null,null,null,null,"Trou",1,2,3,4,5,6,7,8,9,"Aller",10,11,12,13,14,15,16,17,18,"Retour","Total"]
[null,null,null,null,null,"PAR",{"$f":"G$7","v":4},{"$f":"H$7","v":5},3,4,4,4,3,4,5,{"$f":"SUM(G689:O689)","v":36},{"$f":"Q$7","v":4},4,3,4,4,5,4,3,5,{"$f":"SUM(Q689:Y689)","v":36},{"$f":"SUM(P689+Z689)","v":72}]
[null,null,null,null,null,"HCP trous",{"$f":"G$8","v":2},{"$f":"H$8","v":8},10,14,6,4,16,12,18,null,{"$f":"Q$8","v":1},9,11,5,15,13,3,17,7]
[null,null,null,null,null,"Coups reçus",{"$f":"IF($Q686<=18,IF(G690<=$Q686,1,0),IF($Q686<=36,IF(G690<=($Q686-18),2,1),IF($Q686>36,IF(G690<=($Q686-36),3,2))))","v":2},{"$f":"IF($Q686<=18,IF(H690<=$Q686,1,0),IF($Q686<=36,IF(H690<=($Q686-18),2,1),IF($Q686>36,IF(H690<=($Q686-36),3,2))))","v":1},1,1,1,1,1,1,1,{"$f":"SUM(G691:O691)","v":10},{"$f":"IF($Q686<=18,IF(Q690<=$Q686,1,0),IF($Q686<=36,IF(Q690<=($Q686-18),2,1),IF($Q686>36,IF(Q690<=($Q686-36),3,2))))","v":2},1,1,1,1,1,1,1,1,{"$f":"SUM(Q691:Y691)","v":10},{"$f":"P691+Z691","v":20}]
[null,null,null,null,null,"Stroke play",{"$f":"G35","v":10},10,10,10,10,10,10,10,10,{"$f":"SUM(G692:O692)","v":90},{"$f":"Q35","v":10},10,10,10,10,10,10,10,10,{"$f":"SUM(Q692:Y692)","v":90},{"$f":"P692+Z692","v":180}]
[null,null,null,null,null,"Net Stableford",{"$f":"IF(G692-G689=-1,3+G691)+IF(G692-G689=0,2+G691)+IF(G692-G689=1,1+G691)+IF(G692-G689=2,G691)+IF(G692-G689=3,IF(G691-1>0,G691-1,0))+IF(G692-G689=4,IF(G691-2>0,G691-2,0))","v":0},{"$f":"IF(H692-H689=-1,3+H691)+IF(H692-H689=0,2+H691)+IF(H692-H689=1,1+H691)+IF(H692-H689=2,H691)+IF(H692-H689=3,IF(H691-1>0,H691-1,0))+IF(H692-H689=4,IF(H691-2>0,H691-2,0))","v":0},0,0,0,0,0,0,0,{"$f":"SUM(G693:O693)","v":0},{"$f":"IF(Q692-Q689=-1,3+Q691)+IF(Q692-Q689=0,2+Q691)+IF(Q692-Q689=1,1+Q691)+IF(Q692-Q689=2,Q691)+IF(Q692-Q689=3,IF(Q691-1>0,Q691-1,0))+IF(Q692-Q689=4,IF(Q691-2>0,Q691-2,0))","v":0},0,0,0,0,0,0,0,0,{"$f":"SUM(Q693:Y693)","v":0},{"$f":"P693+Z693","v":0}]
[null,null,null,null,null,"Score Brut",{"$f":"IF(G692-G689=-2,4)+IF(G692-G689=-1,3)+IF(G692-G689=0,2)+IF(G692-G689=1,1)+IF(G692-G689>2,0)","v":0},0,0,0,0,0,0,0,0,{"$f":"SUM(G694:O694)","v":0},{"$f":"IF(Q692-Q689=-2,4)+IF(Q692-Q689=-1,3)+IF(Q692-Q689=0,2)+IF(Q692-Q689=1,1)+IF(Q692-Q689>2,0)","v":0},0,0,0,0,0,0,0,0,{"$f":"SUM(Q694:Y694)","v":0},{"$f":"P694+Z694","v":0}]
[null,null,null,null,null,null,{"$f":"G692-G689","v":6},{"$f":"H692-H689","v":5},7,6,6,6,7,6,5,null,{"$f":"Q692-Q689","v":6},6,7,6,6,5,6,7,5]
[]
[]
[null,null,null,null,null,"Statistiques scores",null,"Eagle & moins",null,null,null,{"$f":"COUNTIF(G695:Y695,\"<=-2\")","v":0},"Par",null,{"$f":"COUNTIF(G695:Y695,\"=0\")","v":0},"Double bogey",null,null,null,null,{"$f":"COUNTIF(G695:Y695,\"=2\")","v":0}]
[null,null,null,null,null,null,null,"Birdie",null,null,null,{"$f":"COUNTIF(G695:Y695,\"=-1\")","v":0},"Bogey",null,{"$f":"COUNTIF(G695:Y695,\"=1\")","v":0},"Triple bogey & plus",null,null,null,null,{"$f":"COUNTIF(G695:Y695,\">=3\")","v":18}]
[null,null,null,null,null,null,null,{"$f":"M698","v":"Par"},null,null,null,{"$f":"O698","v":0}]
[null,null,null,null,null,null,null,{"$f":"M699","v":"Bogey"},null,null,null,{"$f":"O699","v":0}]
[null,null,null,null,null,null,null,{"$f":"P698","v":"Double bogey"},null,null,null,{"$f":"U698","v":0}]
[null,null,null,null,null,null,null,{"$f":"P699","v":"Triple bogey & plus"},null,null,null,{"$f":"U699","v":18}]
[]
[]
[]
[]
[null,null,null,null,null,"Nom",{"$f":"C36","v":0},null,null,null,null,"Slope",null,null,"SSS",null,"Coups reçus",null,null,null,null,null,null,null,null,"Date",{"$f":"$D$3","v":"2022-03-26"}]
[null,null,null,null,null,"Index",{"$f":"E36","v":20},null,null,null,null,{"$f":"$F$3","v":122},null,null,{"$f":"$G$3","v":70},null,{"$f":"ROUND((G709*(L709/113)+(O709-AA712)),0)","v":20}]
[]
[null,null,null,null,null,"Trou",1,2,3,4,5,6,7,8,9,"Aller",10,11,12,13,14,15,16,17,18,"Retour","Total"]
[null,null,null,null,null,"PAR",{"$f":"G$7","v":4},{"$f":"H$7","v":5},3,4,4,4,3,4,5,{"$f":"SUM(G712:O712)","v":36},{"$f":"Q$7","v":4},4,3,4,4,5,4,3,5,{"$f":"SUM(Q712:Y712)","v":36},{"$f":"SUM(P712+Z712)","v":72}]
[null,null,null,null,null,"HCP trous",{"$f":"G$8","v":2},{"$f":"H$8","v":8},10,14,6,4,16,12,18,null,{"$f":"Q$8","v":1},9,11,5,15,13,3,17,7]
[null,null,null,null,null,"Coups reçus",{"$f":"IF($Q709<=18,IF(G713<=$Q709,1,0),IF($Q709<=36,IF(G713<=($Q709-18),2,1),IF($Q709>36,IF(G713<=($Q709-36),3,2))))","v":2},{"$f":"IF($Q709<=18,IF(H713<=$Q709,1,0),IF($Q709<=36,IF(H713<=($Q709-18),2,1),IF($Q709>36,IF(H713<=($Q709-36),3,2))))","v":1},1,1,1,1,1,1,1,{"$f":"SUM(G714:O714)","v":10},{"$f":"IF($Q709<=18,IF(Q713<=$Q709,1,0),IF($Q709<=36,IF(Q713<=($Q709-18),2,1),IF($Q709>36,IF(Q713<=($Q709-36),3,2))))","v":2},1,1,1,1,1,1,1,1,{"$f":"SUM(Q714:Y714)","v":10},{"$f":"P714+Z714","v":20}]
[null,null,null,null,null,"Stroke play",{"$f":"G36","v":10},10,10,10,10,10,10,10,10,{"$f":"SUM(G715:O715)","v":90},{"$f":"Q36","v":10},10,10,10,10,10,10,10,10,{"$f":"SUM(Q715:Y715)","v":90},{"$f":"P715+Z715","v":180}]
[null,null,null,null,null,"Net Stableford",{"$f":"IF(G715-G712=-1,3+G714)+IF(G715-G712=0,2+G714)+IF(G715-G712=1,1+G714)+IF(G715-G712=2,G714)+IF(G715-G712=3,IF(G714-1>0,G714-1,0))+IF(G715-G712=4,IF(G714-2>0,G714-2,0))","v":0},{"$f":"IF(H715-H712=-1,3+H714)+IF(H715-H712=0,2+H714)+IF(H715-H712=1,1+H714)+IF(H715-H712=2,H714)+IF(H715-H712=3,IF(H714-1>0,H714-1,0))+IF(H715-H712=4,IF(H714-2>0,H714-2,0))","v":0},0,0,0,0,0,0,0,{"$f":"SUM(G716:O716)","v":0},{"$f":"IF(Q715-Q712=-1,3+Q714)+IF(Q715-Q712=0,2+Q714)+IF(Q715-Q712=1,1+Q714)+IF(Q715-Q712=2,Q714)+IF(Q715-Q712=3,IF(Q714-1>0,Q714-1,0))+IF(Q715-Q712=4,IF(Q714-2>0,Q714-2,0))","v":0},0,0,0,0,0,0,0,0,{"$f":"SUM(Q716:Y716)","v":0},{"$f":"P716+Z716","v":0}]
[null,null,null,null,null,"Score Brut",{"$f":"IF(G715-G712=-2,4)+IF(G715-G712=-1,3)+IF(G715-G712=0,2)+IF(G715-G712=1,1)+IF(G715-G712>2,0)","v":0},0,0,0,0,0,0,0,0,{"$f":"SUM(G717:O717)","v":0},{"$f":"IF(Q715-Q712=-2,4)+IF(Q715-Q712=-1,3)+IF(Q715-Q712=0,2)+IF(Q715-Q712=1,1)+IF(Q715-Q712>2,0)","v":0},0,0,0,0,0,0,0,0,{"$f":"SUM(Q717:Y717)","v":0},{"$f":"P717+Z717","v":0}]
[null,null,null,null,null,null,{"$f":"G715-G712","v":6},{"$f":"H715-H712","v":5},7,6,6,6,7,6,5,null,{"$f":"Q715-Q712","v":6},6,7,6,6,5,6,7,5]
[]
[]
[null,null,null,null,null,"Statistiques scores",null,"Eagle & moins",null,null,null,{"$f":"COUNTIF(G718:Y718,\"<=-2\")","v":0},"Par",null,{"$f":"COUNTIF(G718:Y718,\"=0\")","v":0},"Double bogey",null,null,null,null,{"$f":"COUNTIF(G718:Y718,\"=2\")","v":0}]
[null,null,null,null,null,null,null,"Birdie",null,null,null,{"$f":"COUNTIF(G718:Y718,\"=-1\")","v":0},"Bogey",null,{"$f":"COUNTIF(G718:Y718,\"=1\")","v":0},"Triple bogey & plus",null,null,null,null,{"$f":"COUNTIF(G718:Y718,\">=3\")","v":18}]
[null,null,null,null,null,null,null,{"$f":"M721","v":"Par"},null,null,null,{"$f":"O721","v":0}]
[null,null,null,null,null,null,null,{"$f":"M722","v":"Bogey"},null,null,null,{"$f":"O722","v":0}]
[null,null,null,null,null,null,null,{"$f":"P721","v":"Double bogey"},null,null,null,{"$f":"U721","v":0}]
[null,null,null,null,null,null,null,{"$f":"P722","v":"Triple bogey & plus"},null,null,null,{"$f":"U722","v":18}]
[]
[]
[]
[]
[null,null,null,null,null,"Nom",{"$f":"C37","v":0},null,null,null,null,"Slope",null,null,"SSS",null,"Coups reçus",null,null,null,null,null,null,null,null,"Date",{"$f":"$D$3","v":"2022-03-26"}]
[null,null,null,null,null,"Index",{"$f":"E37","v":20},null,null,null,null,{"$f":"$F$3","v":122},null,null,{"$f":"$G$3","v":70},null,{"$f":"ROUND((G732*(L732/113)+(O732-AA735)),0)","v":20}]
[]
[null,null,null,null,null,"Trou",1,2,3,4,5,6,7,8,9,"Aller",10,11,12,13,14,15,16,17,18,"Retour","Total"]
[null,null,null,null,null,"PAR",{"$f":"G$7","v":4},{"$f":"H$7","v":5},3,4,4,4,3,4,5,{"$f":"SUM(G735:O735)","v":36},{"$f":"Q$7","v":4},4,3,4,4,5,4,3,5,{"$f":"SUM(Q735:Y735)","v":36},{"$f":"SUM(P735+Z735)","v":72}]
[null,null,null,null,null,"HCP trous",{"$f":"G$8","v":2},{"$f":"H$8","v":8},10,14,6,4,16,12,18,null,{"$f":"Q$8","v":1},9,11,5,15,13,3,17,7]
[null,null,null,null,null,"Coups reçus",{"$f":"IF($Q732<=18,IF(G736<=$Q732,1,0),IF($Q732<=36,IF(G736<=($Q732-18),2,1),IF($Q732>36,IF(G736<=($Q732-36),3,2))))","v":2},{"$f":"IF($Q732<=18,IF(H736<=$Q732,1,0),IF($Q732<=36,IF(H736<=($Q732-18),2,1),IF($Q732>36,IF(H736<=($Q732-36),3,2))))","v":1},1,1,1,1,1,1,1,{"$f":"SUM(G737:O737)","v":10},{"$f":"IF($Q732<=18,IF(Q736<=$Q732,1,0),IF($Q732<=36,IF(Q736<=($Q732-18),2,1),IF($Q732>36,IF(Q736<=($Q732-36),3,2))))","v":2},1,1,1,1,1,1,1,1,{"$f":"SUM(Q737:Y737)","v":10},{"$f":"P737+Z737","v":20}]
[null,null,null,null,null,"Stroke play",{"$f":"G37","v":10},10,10,10,10,10,10,10,10,{"$f":"SUM(G738:O738)","v":90},{"$f":"Q37","v":10},10,10,10,10,10,10,10,10,{"$f":"SUM(Q738:Y738)","v":90},{"$f":"P738+Z738","v":180}]
[null,null,null,null,null,"Net Stableford",{"$f":"IF(G738-G735=-1,3+G737)+IF(G738-G735=0,2+G737)+IF(G738-G735=1,1+G737)+IF(G738-G735=2,G737)+IF(G738-G735=3,IF(G737-1>0,G737-1,0))+IF(G738-G735=4,IF(G737-2>0,G737-2,0))","v":0},{"$f":"IF(H738-H735=-1,3+H737)+IF(H738-H735=0,2+H737)+IF(H738-H735=1,1+H737)+IF(H738-H735=2,H737)+IF(H738-H735=3,IF(H737-1>0,H737-1,0))+IF(H738-H735=4,IF(H737-2>0,H737-2,0))","v":0},0,0,0,0,0,0,0,{"$f":"SUM(G739:O739)","v":0},{"$f":"IF(Q738-Q735=-1,3+Q737)+IF(Q738-Q735=0,2+Q737)+IF(Q738-Q735=1,1+Q737)+IF(Q738-Q735=2,Q737)+IF(Q738-Q735=3,IF(Q737-1>0,Q737-1,0))+IF(Q738-Q735=4,IF(Q737-2>0,Q737-2,0))","v":0},0,0,0,0,0,0,0,0,{"$f":"SUM(Q739:Y739)","v":0},{"$f":"P739+Z739","v":0}]
[null,null,null,null,null,"Score Brut",{"$f":"IF(G738-G735=-2,4)+IF(G738-G735=-1,3)+IF(G738-G735=0,2)+IF(G738-G735=1,1)+IF(G738-G735>2,0)","v":0},0,0,0,0,0,0,0,0,{"$f":"SUM(G740:O740)","v":0},{"$f":"IF(Q738-Q735=-2,4)+IF(Q738-Q735=-1,3)+IF(Q738-Q735=0,2)+IF(Q738-Q735=1,1)+IF(Q738-Q735>2,0)","v":0},0,0,0,0,0,0,0,0,{"$f":"SUM(Q740:Y740)","v":0},{"$f":"P740+Z740","v":0}]
[null,null,null,null,null,null,{"$f":"G738-G735","v":6},{"$f":"H738-H735","v":5},7,6,6,6,7,6,5,null,{"$f":"Q738-Q735","v":6},6,7,6,6,5,6,7,5]
[]
[]
[null,null,null,null,null,"Statistiques scores",null,"Eagle & moins",null,null,null,{"$f":"COUNTIF(G741:Y741,\"<=-2\")","v":0},"Par",null,{"$f":"COUNTIF(G741:Y741,\"=0\")","v":0},"Double bogey",null,null,null,null,{"$f":"COUNTIF(G741:Y741,\"=2\")","v":0}]
[null,null,null,null,null,null,null,"Birdie",null,null,null,{"$f":"COUNTIF(G741:Y741,\"=-1\")","v":0},"Bogey",null,{"$f":"COUNTIF(G741:Y741,\"=1\")","v":0},"Triple bogey & plus",null,null,null,null,{"$f":"COUNTIF(G741:Y741,\">=3\")","v":18}]
[null,null,null,null,null,null,null,{"$f":"M744","v":"Par"},null,null,null,{"$f":"O744","v":0}]
[null,null,null,null,null,null,null,{"$f":"M745","v":"Bogey"},null,null,null,{"$f":"O745","v":0}]
[null,null,null,null,null,null,null,{"$f":"P744","v":"Double bogey"},null,null,null,{"$f":"U744","v":0}]
[null,null,null,null,null,null,null,{"$f":"P745","v":"Triple bogey & plus"},null,null,null,{"$f":"U745","v":18}]
[]
[]
[]
[]
[null,null,null,null,null,"Nom",{"$f":"C38","v":0},null,null,null,null,"Slope",null,null,"SSS",null,"Coups reçus",null,null,null,null,null,null,null,null,"Date",{"$f":"$D$3","v":"2022-03-26"}]
[null,null,null,null,null,"Index",{"$f":"E38","v":20},null,null,null,null,{"$f":"$F$3","v":122},null,null,{"$f":"$G$3","v":70},null,{"$f":"ROUND((G755*(L755/113)+(O755-AA758)),0)","v":20}]
[]
[null,null,null,null,null,"Trou",1,2,3,4,5,6,7,8,9,"Aller",10,11,12,13,14,15,16,17,18,"Retour","Total"]
[null,null,null,null,null,"PAR",{"$f":"G$7","v":4},{"$f":"H$7","v":5},3,4,4,4,3,4,5,{"$f":"SUM(G758:O758)","v":36},{"$f":"Q$7","v":4},4,3,4,4,5,4,3,5,{"$f":"SUM(Q758:Y758)","v":36},{"$f":"SUM(P758+Z758)","v":72}]
[null,null,null,null,null,"HCP trous",{"$f":"G$8","v":2},{"$f":"H$8","v":8},10,14,6,4,16,12,18,null,{"$f":"Q$8","v":1},9,11,5,15,13,3,17,7]
[null,null,null,null,null,"Coups reçus",{"$f":"IF($Q755<=18,IF(G759<=$Q755,1,0),IF($Q755<=36,IF(G759<=($Q755-18),2,1),IF($Q755>36,IF(G759<=($Q755-36),3,2))))","v":2},{"$f":"IF($Q755<=18,IF(H759<=$Q755,1,0),IF($Q755<=36,IF(H759<=($Q755-18),2,1),IF($Q755>36,IF(H759<=($Q755-36),3,2))))","v":1},1,1,1,1,1,1,1,{"$f":"SUM(G760:O760)","v":10},{"$f":"IF($Q755<=18,IF(Q759<=$Q755,1,0),IF($Q755<=36,IF(Q759<=($Q755-18),2,1),IF($Q755>36,IF(Q759<=($Q755-36),3,2))))","v":2},1,1,1,1,1,1,1,1,{"$f":"SUM(Q760:Y760)","v":10},{"$f":"P760+Z760","v":20}]
[null,null,null,null,null,"Stroke play",{"$f":"G38","v":10},10,10,10,10,10,10,10,10,{"$f":"SUM(G761:O761)","v":90},{"$f":"Q38","v":10},10,10,10,10,10,10,10,10,{"$f":"SUM(Q761:Y761)","v":90},{"$f":"P761+Z761","v":180}]
[null,null,null,null,null,"Net Stableford",{"$f":"IF(G761-G758=-1,3+G760)+IF(G761-G758=0,2+G760)+IF(G761-G758=1,1+G760)+IF(G761-G758=2,G760)+IF(G761-G758=3,IF(G760-1>0,G760-1,0))+IF(G761-G758=4,IF(G760-2>0,G760-2,0))","v":0},{"$f":"IF(H761-H758=-1,3+H760)+IF(H761-H758=0,2+H760)+IF(H761-H758=1,1+H760)+IF(H761-H758=2,H760)+IF(H761-H758=3,IF(H760-1>0,H760-1,0))+IF(H761-H758=4,IF(H760-2>0,H760-2,0))","v":0},0,0,0,0,0,0,0,{"$f":"SUM(G762:O762)","v":0},{"$f":"IF(Q761-Q758=-1,3+Q760)+IF(Q761-Q758=0,2+Q760)+IF(Q761-Q758=1,1+Q760)+IF(Q761-Q758=2,Q760)+IF(Q761-Q758=3,IF(Q760-1>0,Q760-1,0))+IF(Q761-Q758=4,IF(Q760-2>0,Q760-2,0))","v":0},0,0,0,0,0,0,0,0,{"$f":"SUM(Q762:Y762)","v":0},{"$f":"P762+Z762","v":0}]
[null,null,null,null,null,"Score Brut",{"$f":"IF(G761-G758=-2,4)+IF(G761-G758=-1,3)+IF(G761-G758=0,2)+IF(G761-G758=1,1)+IF(G761-G758>2,0)","v":0},0,0,0,0,0,0,0,0,{"$f":"SUM(G763:O763)","v":0},{"$f":"IF(Q761-Q758=-2,4)+IF(Q761-Q758=-1,3)+IF(Q761-Q758=0,2)+IF(Q761-Q758=1,1)+IF(Q761-Q758>2,0)","v":0},0,0,0,0,0,0,0,0,{"$f":"SUM(Q763:Y763)","v":0},{"$f":"P763+Z763","v":0}]
[null,null,null,null,null,null,{"$f":"G761-G758","v":6},{"$f":"H761-H758","v":5},7,6,6,6,7,6,5,null,{"$f":"Q761-Q758","v":6},6,7,6,6,5,6,7,5]
[]
[]
[null,null,null,null,null,"Statistiques scores",null,"Eagle & moins",null,null,null,{"$f":"COUNTIF(G764:Y764,\"<=-2\")","v":0},"Par",null,{"$f":"COUNTIF(G764:Y764,\"=0\")","v":0},"Double bogey",null,null,null,null,{"$f":"COUNTIF(G764:Y764,\"=2\")","v":0}]
[null,null,null,null,null,null,null,"Birdie",null,null,null,{"$f":"COUNTIF(G764:Y764,\"=-1\")","v":0},"Bogey",null,{"$f":"COUNTIF(G764:Y764,\"=1\")","v":0},"Triple bogey & plus",null,null,null,null,{"$f":"COUNTIF(G764:Y764,\">=3\")","v":18}]
[null,null,null,null,null,null,null,{"$f":"M767","v":"Par"},null,null,null,{"$f":"O767","v":0}]
[null,null,null,null,null,null,null,{"$f":"M768","v":"Bogey"},null,null,null,{"$f":"O768","v":0}]
[null,null,null,null,null,null,null,{"$f":"P767","v":"Double bogey"},null,null,null,{"$f":"U767","v":0}]
[null,null,null,null,null,null,null,{"$f":"P768","v":"Triple bogey & plus"},null,null,null,{"$f":"U768","v":18}]

{"sheet":"sortie (3)","index":4,"n_rows":772,"n_cols":42,"rows_kept":772,"cut":false,"hidden":false,"merged":[[767,15,767,19],[768,7,768,8],[769,7,769,8],[754,6,754,9],[754,11,754,13],[754,14,754,15],[754,16,754,19],[766,5,767,6],[766,7,766,10],[766,12,766,13],[766,15,766,19],[767,7,767,10],[767,12,767,13],[744,15,744,19],[745,7,745,8],[746,7,746,8],[753,6,753,9],[753,11,753,13],[753,14,753,15],[753,16,753,19],[731,6,731,9],[731,11,731,13],[731,14,731,15],[731,16,731,19],[743,5,744,6],[743,7,743,10],[743,12,743,13],[743,15,743,19],[744,7,744,10],[744,12,744,13],[721,15,721,19],[722,7,722,8],[723,7,723,8],[730,6,730,9],[730,11,730,13],[730,14,730,15],[730,16,730,19],[708,6,708,9],[708,11,708,13],[708,14,708,15],[708,16,708,19],[720,5,721,6],[720,7,720,10],[720,12,720,13],[720,15,720,19],[721,7,721,10],[721,12,721,13],[698,15,698,19],[699,7,699,8],[700,7,700,8],[707,6,707,9],[707,11,707,13],[707,14,707,15],[707,16,707,19],[685,6,685,9],[685,11,685,13],[685,14,685,15],[685,16,685,19],[697,5,698,6],[697,7,697,10],[697,12,697,13],[697,15,697,19],[698,7,698,10],[698,12,698,13],[675,15,675,19],[676,7,676,8],[677,7,677,8],[684,6,684,9],[684,11,684,13],[684,14,684,15],[684,16,684,19],[662,6,662,9],[662,11,662,13],[662,14,662,15],[662,16,662,19],[674,5,675,6],[674,7,674,10],[674,12,674,13],[674,15,674,19],[675,7,675,10],[675,12,675,13],[652,15,652,19],[653,7,653,8],[654,7,654,8],[661,6,661,9],[661,11,661,13],[661,14,661,15],[661,16,661,19],[639,6,639,9],[639,11,639,13],[639,14,639,15],[639,16,639,19],[651,5,652,6],[651,7,651,10],[651,12,651,13],[651,15,651,19],[652,7,652,10],[652,12,652,13],[629,15,629,19],[630,7,630,8],[631,7,631,8],[638,6,638,9],[638,11,638,13],[638,14,638,15],[638,16,638,19],[616,6,616,9],[616,11,616,13],[616,14,616,15],[616,16,616,19],[628,5,629,6],[628,7,628,10],[628,12,628,13],[628,15,628,19],[629,7,629,10],[629,12,629,13],[606,15,606,19],[607,7,607,8],[608,7,608,8],[615,6,615,9],[615,11,615,13],[615,14,615,15],[615,16,615,19],[593,6,593,9],[593,11,593,13],[593,14,593,15],[593,16,593,19],[605,5,606,6],[605,7,605,10],[605,12,605,13],[605,15,605,19],[606,7,606,10],[606,12,606,13],[583,15,583,19],[584,7,584,8],[585,7,585,8],[592,6,592,9],[592,11,592,13],[592,14,592,15],[592,16,592,19],[570,6,570,9],[570,11,570,13],[570,14,570,15],[570,16,570,19],[582,5,583,6],[582,7,582,10],[582,12,582,13],[582,15,582,19],[583,7,583,10],[583,12,583,13],[560,15,560,19],[561,7,561,8],[562,7,562,8],[569,6,569,9],[569,11,569,13],[569,14,569,15],[569,16,569,19],[547,6,547,9],[547,11,547,13],[547,14,547,15],[547,16,547,19],[559,5,560,6],[559,7,559,10],[559,12,559,13],[559,15,559,19],[560,7,560,10],[560,12,560,13],[537,15,537,19],[538,7,538,8],[539,7,539,8],[546,6,546,9],[546,11,546,13],[546,14,546,15],[546,16,546,19],[524,6,524,9],[524,11,524,13],[524,14,524,15],[524,16,524,19],[536,5,537,6],[536,7,536,10],[536,12,536,13],[536,15,536,19],[537,7,537,10],[537,12,537,13],[514,15,514,19],[515,7,515,8],[516,7,516,8],[523,6,523,9],[523,11,523,13],[523,14,523,15],[523,16,523,19],[501,6,501,9],[501,11,501,13],[501,14,501,15],[501,16,501,19],[513,5,514,6],[513,7,513,10],[513,12,513,13],[513,15,513,19],[514,7,514,10],[514,12,514,13],[491,15,491,19],[492,7,492,8],[493,7,493,8],[500,6,500,9],[500,11,500,13],[500,14,500,15],[500,16,500,19],[478,6,478,9],[478,11,478,13],[478,14,478,15],[478,16,478,19],[490,5,491,6],[490,7,490,10],[490,12,490,13],[490,15,490,19],[491,7,491,10],[491,12,491,13],[468,15,468,19],[469,7,469,8],[470,7,470,8],[477,6,477,9],[477,11,477,13],[477,14,477,15],[477,16,477,19],[455,6,455,9],[455,11,455,13],[455,14,455,15],[455,16,455,19],[467,5,468,6],[467,7,467,10],[467,12,467,13],[467,15,467,19],[468,7,468,10],[468,12,468,13],[445,15,445,19],[446,7,446,8],[447,7,447,8],[454,6,454,9],[454,11,454,13],[454,14,454,15],[454,16,454,19],[432,6,432,9],[432,11,432,13],[432,14,432,15],[432,16,432,19],[444,5,445,6],[444,7,444,10],[444,12,444,13],[444,15,444,19],[445,7,445,10],[445,12,445,13],[422,15,422,19],[423,7,423,8],[424,7,424,8],[431,6,431,9],[431,11,431,13],[431,14,431,15],[431,16,431,19],[409,6,409,9],[409,11,409,13],[409,14,409,15],[409,16,409,19],[421,5,422,6],[421,7,421,10],[421,12,421,13],[421,15,421,19],[422,7,422,10],[422,12,422,13],[399,15,399,19],[400,7,400,8],[401,7,401,8],[408,6,408,9],[408,11,408,13],[408,14,408,15],[408,16,408,19],[386,6,386,9],[386,11,386,13],[386,14,386,15],[386,16,386,19],[398,5,399,6],[398,7,398,10],[398,12,398,13],[398,15,398,19],[399,7,399,10],[399,12,399,13],[376,15,376,19],[377,7,377,8],[378,7,378,8],[385,6,385,9],[385,11,385,13],[385,14,385,15],[385,16,385,19],[363,6,363,9],[363,11,363,13],[363,14,363,15],[363,16,363,19],[375,5,376,6],[375,7,375,10],[375,12,375,13],[375,15,375,19],[376,7,376,10],[376,12,376,13],[353,15,353,19],[354,7,354,8],[355,7,355,8],[362,6,362,9],[362,11,362,13],[362,14,362,15],[362,16,362,19],[340,6,340,9],[340,11,340,13],[340,14,340,15],[340,16,340,19],[352,5,353,6],[352,7,352,10],[352,12,352,13],[352,15,352,19],[353,7,353,10],[353,12,353,13],[330,15,330,19],[331,7,331,8],[332,7,332,8],[339,6,339,9],[339,11,339,13],[339,14,339,15],[339,16,339,19],[317,6,317,9],[317,11,317,13],[317,14,317,15],[317,16,317,19],[329,5,330,6],[329,7,329,10],[329,12,329,13],[329,15,329,19],[330,7,330,10],[330,12,330,13],[307,15,307,19],[308,7,308,8],[309,7,309,8],[316,6,316,9],[316,11,316,13],[316,14,316,15],[316,16,316,19],[294,6,294,9],[294,11,294,13],[294,14,294,15],[294,16,294,19],[306,5,307,6],[306,7,306,10],[306,12,306,13],[306,15,306,19],[307,7,307,10],[307,12,307,13],[284,15,284,19],[285,7,285,8],[286,7,286,8],[293,6,293,9],[293,11,293,13],[293,14,293,15],[293,16,293,19],[271,6,271,9],[271,11,271,13],[271,14,271,15],[271,16,271,19],[283,5,284,6],[283,7,283,10],[283,12,283,13],[283,15,283,19],[284,7,284,10],[284,12,284,13],[261,15,261,19],[262,7,262,8],[263,7,263,8],[270,6,270,9],[270,11,270,13],[270,14,270,15],[270,16,270,19],[248,6,248,9],[248,11,248,13],[248,14,248,15],[248,16,248,19],[260,5,261,6],[260,7,260,10],[260,12,260,13],[260,15,260,19],[261,7,261,10],[261,12,261,13],[238,15,238,19],[239,7,239,8],[240,7,240,8],[247,6,247,9],[247,11,247,13],[247,14,247,15],[247,16,247,19],[225,6,225,9],[225,11,225,13],[225,14,225,15],[225,16,225,19],[237,5,238,6],[237,7,237,10],[237,12,237,13],[237,15,237,19],[238,7,238,10],[238,12,238,13],[215,15,215,19],[216,7,216,8],[217,7,217,8],[224,6,224,9],[224,11,224,13],[224,14,224,15],[224,16,224,19],[202,6,202,9],[202,11,202,13],[202,14,202,15],[202,16,202,19],[214,5,215,6],[214,7,214,10],[214,12,214,13],[214,15,214,19],[215,7,215,10],[215,12,215,13],[192,15,192,19],[193,7,193,8],[194,7,194,8],[201,6,201,9],[201,11,201,13],[201,14,201,15],[201,16,201,19],[179,6,179,9],[179,11,179,13],[179,14,179,15],[179,16,179,19],[191,5,192,6],[191,7,191,10],[191,12,191,13],[191,15,191,19],[192,7,192,10],[192,12,192,13],[169,15,169,19],[170,7,170,8],[171,7,171,8],[178,6,178,9],[178,11,178,13],[178,14,178,15],[178,16,178,19],[156,6,156,9],[156,11,156,13],[156,14,156,15],[156,16,156,19],[168,5,169,6],[168,7,168,10],[168,12,168,13],[168,15,168,19],[169,7,169,10],[169,12,169,13],[146,15,146,19],[147,7,147,8],[148,7,148,8],[155,6,155,9],[155,11,155,13],[155,14,155,15],[155,16,155,19],[133,6,133,9],[133,11,133,13],[133,14,133,15],[133,16,133,19],[145,5,146,6],[145,7,145,10],[145,12,145,13],[145,15,145,19],[146,7,146,10],[146,12,146,13],[123,15,123,19],[124,7,124,8],[125,7,125,8],[132,6,132,9],[132,11,132,13],[132,14,132,15],[132,16,132,19],[110,6,110,9],[110,11,110,13],[110,14,110,15],[110,16,110,19],[122,5,123,6],[122,7,122,10],[122,12,122,13],[122,15,122,19],[123,7,123,10],[123,12,123,13],[100,15,100,19],[101,7,101,8],[102,7,102,8],[109,6,109,9],[109,11,109,13],[109,14,109,15],[109,16,109,19],[87,6,87,9],[87,11,87,13],[87,14,87,15],[87,16,87,19],[99,5,100,6],[99,7,99,10],[99,12,99,13],[99,15,99,19],[100,7,100,10],[100,12,100,13],[76,9,76,12],[76,13,76,15],[76,21,76,24],[76,25,76,26],[80,7,82,20],[86,6,86,9],[86,11,86,13],[86,14,86,15],[86,16,86,19],[74,9,74,12],[74,13,74,15],[74,21,74,24],[74,25,74,26],[75,9,75,12],[75,13,75,15],[75,21,75,24],[75,25,75,26],[72,9,72,12],[72,13,72,15],[72,21,72,24],[72,25,72,26],[73,9,73,12],[73,13,73,15],[73,21,73,24],[73,25,73,26],[70,9,70,12],[70,13,70,15],[70,21,70,24],[70,25,70,26],[71,9,71,12],[71,13,71,15],[71,21,71,24],[71,25,71,26],[68,9,68,12],[68,13,68,15],[68,21,68,24],[68,25,68,26],[69,9,69,12],[69,13,69,15],[69,21,69,24],[69,25,69,26],[66,9,66,12],[66,13,66,15],[66,21,66,24],[66,25,66,26],[67,9,67,12],[67,13,67,15],[67,21,67,24],[67,25,67,26],[64,9,64,12],[64,13,64,15],[64,21,64,24],[64,25,64,26],[65,9,65,12],[65,13,65,15],[65,21,65,24],[65,25,65,26],[62,9,62,12],[62,13,62,15],[62,21,62,24],[62,25,62,26],[63,9,63,12],[63,13,63,15],[63,21,63,24],[63,25,63,26],[60,9,60,12],[60,13,60,15],[60,21,60,24],[60,25,60,26],[61,9,61,12],[61,13,61,15],[61,21,61,24],[61,25,61,26],[58,9,58,12],[58,13,58,15],[58,21,58,24],[58,25,58,26],[59,9,59,12],[59,13,59,15],[59,21,59,24],[59,25,59,26],[56,9,56,12],[56,13,56,15],[56,21,56,24],[56,25,56,26],[57,9,57,12],[57,13,57,15],[57,21,57,24],[57,25,57,26],[54,9,54,12],[54,13,54,15],[54,21,54,24],[54,25,54,26],[55,9,55,12],[55,13,55,15],[55,21,55,24],[55,25,55,26],[52,9,52,12],[52,13,52,15],[52,21,52,24],[52,25,52,26],[53,9,53,12],[53,13,53,15],[53,21,53,24],[53,25,53,26],[1,6,1,9],[1,13,3,24],[2,6,2,9],[40,7,42,20],[50,9,50,12],[50,13,50,15],[50,21,50,24],[50,25,50,26],[51,9,51,12],[51,13,51,15],[51,21,51,24],[51,25,51,26],[48,9,48,12],[48,13,48,15],[48,21,48,24],[48,25,48,26],[49,9,49,12],[49,13,49,15],[49,21,49,24],[49,25,49,26],[44,2,44,4],[44,9,44,16],[44,21,44,27],[46,9,46,12],[46,13,46,15],[46,21,46,24],[46,25,46,26],[47,9,47,12],[47,13,47,15],[47,21,47,24],[47,25,47,26]]}
[]
[null,null,"Golf","B",null,"Slope","SSS",null,null,null,null,null,null,"CARTE DE SCORE"]
[null,null,"Date",null,null,133,68.599999999999994]
[]
[null,null,"Individuel Stableford BRUT/NET"]
[null,null,null,null,"Index","HCP trous",1,2,3,4,5,6,7,8,9,"Aller",10,11,12,13,14,15,16,17,18,"Retour","Total"]
[null,null,null,null,null,"PAR",4,4,5,4,3,5,3,5,3,{"$f":"SUM(G7:O7)","v":36},4,4,3,5,3,4,4,5,4,{"$f":"SUM(Q7:Y7)","v":36},{"$f":"SUM(P7+Z7)","v":72}]
[null,null,"Noms","Prénoms",null,"Trou",4,8,12,14,2,10,18,16,6,null,1,9,11,5,17,15,3,13,7,null,null,null,"NET","Classt","Rang","Points",null,"BRUT","Classt","Rang","Points",null,"STROKE","Classt","Rang","Points"]
[null,1,null,null,20,null,10,10,10,10,10,10,10,10,10,{"$f":"SUM(G9:O9)","v":90},10,10,10,10,10,10,10,10,10,{"$f":"SUM(Q9:Y9)","v":90},{"$f":"SUM(P9+Z9)","v":180},null,{"$f":"$AA$95","v":0},{"$f":"RANK(AC9,AC$9:AC$38,0)+COUNTIF(AC9:$AC$9,AC9)-1","v":1},{"$f":"RANK(AC9,AC$9:AC$38,0)","v":1},{"$f":"IF(ISBLANK($C9),0,1)*INDEX('Allocation Points'!$B$3:$AG$32,AE9,COUNTIF(AE$9:AE$38,AE9)+2)","v":0},null,{"$f":"AA96","v":0},{"$f":"RANK(AH9,AH$9:AH$38,0)+COUNTIF(AH9:$AH$9,AH9)-1","v":1},{"$f":"RANK(AH9,AH$9:AH$38,0)","v":1},{"$f":"IF(ISBLANK($C9),0,1)*INDEX('Allocation Points'!$B$3:$AG$32,AJ9,COUNTIF(AJ$9:AJ$38,AJ9)+2)","v":0},null,{"$f":"AA94","v":180},{"$f":"RANK(AM9,AM$9:AM$38,1)+COUNTIF(AM9:$AM$9,AM9)-1","v":1},{"$f":"RANK(AM9,AM$9:AM$38,1)","v":1},{"$f":"IF(ISBLANK($C9),0,1)*INDEX('Allocation Points'!$B$3:$AG$32,AO9,COUNTIF(AO$9:AO$38,AO9)+2)","v":0}]
[null,2,null,null,20,null,10,10,10,10,10,10,10,10,10,90,10,10,10,10,10,10,10,10,10,90,180,null,{"$f":"$AA$118","v":0},{"$f":"RANK(AC10,AC$9:AC$38,0)+COUNTIF(AC$9:$AC10,AC10)-1","v":2},{"$f":"RANK(AC10,AC$9:AC$38,0)","v":1},{"$f":"IF(ISBLANK($C10),0,1)*INDEX('Allocation Points'!$B$3:$AG$32,AE10,COUNTIF(AE$9:AE$38,AE10)+2)","v":0},null,{"$f":"AA119","v":0},{"$f":"RANK(AH10,AH$9:AH$38,0)+COUNTIF(AH$9:$AH10,AH10)-1","v":2},{"$f":"RANK(AH10,AH$9:AH$38,0)","v":1},{"$f":"IF(ISBLANK($C10),0,1)*INDEX('Allocation Points'!$B$3:$AG$32,AJ10,COUNTIF(AJ$9:AJ$38,AJ10)+2)","v":0},null,{"$f":"AA117","v":180},{"$f":"RANK(AM10,AM$9:AM$38,1)+COUNTIF(AM$9:$AM10,AM10)-1","v":2},{"$f":"RANK(AM10,AM$9:AM$38,1)","v":1},{"$f":"IF(ISBLANK($C10),0,1)*INDEX('Allocation Points'!$B$3:$AG$32,AO10,COUNTIF(AO$9:AO$38,AO10)+2)","v":0}]
[null,3,null,null,20,null,10,10,10,10,10,10,10,10,10,90,10,10,10,10,10,10,10,10,10,90,180,null,{"$f":"$AA$141","v":0},{"$f":"RANK(AC11,AC$9:AC$38,0)+COUNTIF(AC$9:$AC11,AC11)-1","v":3},1,{"$f":"IF(ISBLANK($C11),0,1)*INDEX('Allocation Points'!$B$3:$AG$32,AE11,COUNTIF(AE$9:AE$38,AE11)+2)","v":0},null,{"$f":"AA142","v":0},{"$f":"RANK(AH11,AH$9:AH$38,0)+COUNTIF(AH$9:$AH11,AH11)-1","v":3},1,{"$f":"IF(ISBLANK($C11),0,1)*INDEX('Allocation Points'!$B$3:$AG$32,AJ11,COUNTIF(AJ$9:AJ$38,AJ11)+2)","v":0},null,{"$f":"AA140","v":180},{"$f":"RANK(AM11,AM$9:AM$38,1)+COUNTIF(AM$9:$AM11,AM11)-1","v":3},1,{"$f":"IF(ISBLANK($C11),0,1)*INDEX('Allocation Points'!$B$3:$AG$32,AO11,COUNTIF(AO$9:AO$38,AO11)+2)","v":0}]
[null,4,null,null,20,null,10,10,10,10,10,10,10,10,10,90,10,10,10,10,10,10,10,10,10,90,180,null,{"$f":"$AA$164","v":0},{"$f":"RANK(AC12,AC$9:AC$38,0)+COUNTIF(AC$9:$AC12,AC12)-1","v":4},1,{"$f":"IF(ISBLANK($C12),0,1)*INDEX('Allocation Points'!$B$3:$AG$32,AE12,COUNTIF(AE$9:AE$38,AE12)+2)","v":0},null,{"$f":"AA165","v":0},{"$f":"RANK(AH12,AH$9:AH$38,0)+COUNTIF(AH$9:$AH12,AH12)-1","v":4},1,{"$f":"IF(ISBLANK($C12),0,1)*INDEX('Allocation Points'!$B$3:$AG$32,AJ12,COUNTIF(AJ$9:AJ$38,AJ12)+2)","v":0},null,{"$f":"AA163","v":180},{"$f":"RANK(AM12,AM$9:AM$38,1)+COUNTIF(AM$9:$AM12,AM12)-1","v":4},1,{"$f":"IF(ISBLANK($C12),0,1)*INDEX('Allocation Points'!$B$3:$AG$32,AO12,COUNTIF(AO$9:AO$38,AO12)+2)","v":0}]
[null,5,null,null,20,null,10,10,10,10,10,10,10,10,10,90,10,10,10,10,10,10,10,10,10,90,180,null,{"$f":"$AA$187","v":0},{"$f":"RANK(AC13,AC$9:AC$38,0)+COUNTIF(AC$9:$AC13,AC13)-1","v":5},1,{"$f":"IF(ISBLANK($C13),0,1)*INDEX('Allocation Points'!$B$3:$AG$32,AE13,COUNTIF(AE$9:AE$38,AE13)+2)","v":0},null,{"$f":"AA188","v":0},{"$f":"RANK(AH13,AH$9:AH$38,0)+COUNTIF(AH$9:$AH13,AH13)-1","v":5},1,{"$f":"IF(ISBLANK($C13),0,1)*INDEX('Allocation Points'!$B$3:$AG$32,AJ13,COUNTIF(AJ$9:AJ$38,AJ13)+2)","v":0},null,{"$f":"AA186","v":180},{"$f":"RANK(AM13,AM$9:AM$38,1)+COUNTIF(AM$9:$AM13,AM13)-1","v":5},1,{"$f":"IF(ISBLANK($C13),0,1)*INDEX('Allocation Points'!$B$3:$AG$32,AO13,COUNTIF(AO$9:AO$38,AO13)+2)","v":0}]
[null,6,null,null,20,null,10,10,10,10,10,10,10,10,10,90,10,10,10,10,10,10,10,10,10,90,180,null,{"$f":"$AA$210","v":0},{"$f":"RANK(AC14,AC$9:AC$38,0)+COUNTIF(AC$9:$AC14,AC14)-1","v":6},1,{"$f":"IF(ISBLANK($C14),0,1)*INDEX('Allocation Points'!$B$3:$AG$32,AE14,COUNTIF(AE$9:AE$38,AE14)+2)","v":0},null,{"$f":"AA211","v":0},{"$f":"RANK(AH14,AH$9:AH$38,0)+COUNTIF(AH$9:$AH14,AH14)-1","v":6},1,{"$f":"IF(ISBLANK($C14),0,1)*INDEX('Allocation Points'!$B$3:$AG$32,AJ14,COUNTIF(AJ$9:AJ$38,AJ14)+2)","v":0},null,{"$f":"AA209","v":180},{"$f":"RANK(AM14,AM$9:AM$38,1)+COUNTIF(AM$9:$AM14,AM14)-1","v":6},1,{"$f":"IF(ISBLANK($C14),0,1)*INDEX('Allocation Points'!$B$3:$AG$32,AO14,COUNTIF(AO$9:AO$38,AO14)+2)","v":0}]
[null,7,null,null,20,null,10,10,10,10,10,10,10,10,10,90,10,10,10,10,10,10,10,10,10,90,180,null,{"$f":"$AA$233","v":0},{"$f":"RANK(AC15,AC$9:AC$38,0)+COUNTIF(AC$9:$AC15,AC15)-1","v":7},1,{"$f":"IF(ISBLANK($C15),0,1)*INDEX('Allocation Points'!$B$3:$AG$32,AE15,COUNTIF(AE$9:AE$38,AE15)+2)","v":0},null,{"$f":"AA234","v":0},{"$f":"RANK(AH15,AH$9:AH$38,0)+COUNTIF(AH$9:$AH15,AH15)-1","v":7},1,{"$f":"IF(ISBLANK($C15),0,1)*INDEX('Allocation Points'!$B$3:$AG$32,AJ15,COUNTIF(AJ$9:AJ$38,AJ15)+2)","v":0},null,{"$f":"AA232","v":180},{"$f":"RANK(AM15,AM$9:AM$38,1)+COUNTIF(AM$9:$AM15,AM15)-1","v":7},1,{"$f":"IF(ISBLANK($C15),0,1)*INDEX('Allocation Points'!$B$3:$AG$32,AO15,COUNTIF(AO$9:AO$38,AO15)+2)","v":0}]
[null,8,null,null,20,null,10,10,10,10,10,10,10,10,10,90,10,10,10,10,10,10,10,10,10,90,180,null,{"$f":"$AA$256","v":0},{"$f":"RANK(AC16,AC$9:AC$38,0)+COUNTIF(AC$9:$AC16,AC16)-1","v":8},1,{"$f":"IF(ISBLANK($C16),0,1)*INDEX('Allocation Points'!$B$3:$AG$32,AE16,COUNTIF(AE$9:AE$38,AE16)+2)","v":0},null,{"$f":"AA257","v":0},{"$f":"RANK(AH16,AH$9:AH$38,0)+COUNTIF(AH$9:$AH16,AH16)-1","v":8},1,{"$f":"IF(ISBLANK($C16),0,1)*INDEX('Allocation Points'!$B$3:$AG$32,AJ16,COUNTIF(AJ$9:AJ$38,AJ16)+2)","v":0},null,{"$f":"AA255","v":180},{"$f":"RANK(AM16,AM$9:AM$38,1)+COUNTIF(AM$9:$AM16,AM16)-1","v":8},1,{"$f":"IF(ISBLANK($C16),0,1)*INDEX('Allocation Points'!$B$3:$AG$32,AO16,COUNTIF(AO$9:AO$38,AO16)+2)","v":0}]
[null,9,null,null,20,null,10,10,10,10,10,10,10,10,10,90,10,10,10,10,10,10,10,10,10,90,180,null,{"$f":"$AA$279","v":0},{"$f":"RANK(AC17,AC$9:AC$38,0)+COUNTIF(AC$9:$AC17,AC17)-1","v":9},1,{"$f":"IF(ISBLANK($C17),0,1)*INDEX('Allocation Points'!$B$3:$AG$32,AE17,COUNTIF(AE$9:AE$38,AE17)+2)","v":0},null,{"$f":"AA280","v":0},{"$f":"RANK(AH17,AH$9:AH$38,0)+COUNTIF(AH$9:$AH17,AH17)-1","v":9},1,{"$f":"IF(ISBLANK($C17),0,1)*INDEX('Allocation Points'!$B$3:$AG$32,AJ17,COUNTIF(AJ$9:AJ$38,AJ17)+2)","v":0},null,{"$f":"AA278","v":180},{"$f":"RANK(AM17,AM$9:AM$38,1)+COUNTIF(AM$9:$AM17,AM17)-1","v":9},1,{"$f":"IF(ISBLANK($C17),0,1)*INDEX('Allocation Points'!$B$3:$AG$32,AO17,COUNTIF(AO$9:AO$38,AO17)+2)","v":0}]
[null,10,null,null,20,null,10,10,10,10,10,10,10,10,10,90,10,10,10,10,10,10,10,10,10,90,180,null,{"$f":"$AA$302","v":0},{"$f":"RANK(AC18,AC$9:AC$38,0)+COUNTIF(AC$9:$AC18,AC18)-1","v":10},1,{"$f":"IF(ISBLANK($C18),0,1)*INDEX('Allocation Points'!$B$3:$AG$32,AE18,COUNTIF(AE$9:AE$38,AE18)+2)","v":0},null,{"$f":"AA303","v":0},{"$f":"RANK(AH18,AH$9:AH$38,0)+COUNTIF(AH$9:$AH18,AH18)-1","v":10},1,{"$f":"IF(ISBLANK($C18),0,1)*INDEX('Allocation Points'!$B$3:$AG$32,AJ18,COUNTIF(AJ$9:AJ$38,AJ18)+2)","v":0},null,{"$f":"AA301","v":180},{"$f":"RANK(AM18,AM$9:AM$38,1)+COUNTIF(AM$9:$AM18,AM18)-1","v":10},1,{"$f":"IF(ISBLANK($C18),0,1)*INDEX('Allocation Points'!$B$3:$AG$32,AO18,COUNTIF(AO$9:AO$38,AO18)+2)","v":0}]
[null,11,null,null,20,null,10,10,10,10,10,10,10,10,10,90,10,10,10,10,10,10,10,10,10,90,180,null,{"$f":"$AA$325","v":0},{"$f":"RANK(AC19,AC$9:AC$38,0)+COUNTIF(AC$9:$AC19,AC19)-1","v":11},1,{"$f":"IF(ISBLANK($C19),0,1)*INDEX('Allocation Points'!$B$3:$AG$32,AE19,COUNTIF(AE$9:AE$38,AE19)+2)","v":0},null,{"$f":"AA326","v":0},{"$f":"RANK(AH19,AH$9:AH$38,0)+COUNTIF(AH$9:$AH19,AH19)-1","v":11},1,{"$f":"IF(ISBLANK($C19),0,1)*INDEX('Allocation Points'!$B$3:$AG$32,AJ19,COUNTIF(AJ$9:AJ$38,AJ19)+2)","v":0},null,{"$f":"AA324","v":180},{"$f":"RANK(AM19,AM$9:AM$38,1)+COUNTIF(AM$9:$AM19,AM19)-1","v":11},1,{"$f":"IF(ISBLANK($C19),0,1)*INDEX('Allocation Points'!$B$3:$AG$32,AO19,COUNTIF(AO$9:AO$38,AO19)+2)","v":0}]
[null,12,null,null,20,null,10,10,10,10,10,10,10,10,10,90,10,10,10,10,10,10,10,10,10,90,180,null,{"$f":"$AA$348","v":0},{"$f":"RANK(AC20,AC$9:AC$38,0)+COUNTIF(AC$9:$AC20,AC20)-1","v":12},1,{"$f":"IF(ISBLANK($C20),0,1)*INDEX('Allocation Points'!$B$3:$AG$32,AE20,COUNTIF(AE$9:AE$38,AE20)+2)","v":0},null,{"$f":"AA349","v":0},{"$f":"RANK(AH20,AH$9:AH$38,0)+COUNTIF(AH$9:$AH20,AH20)-1","v":12},1,{"$f":"IF(ISBLANK($C20),0,1)*INDEX('Allocation Points'!$B$3:$AG$32,AJ20,COUNTIF(AJ$9:AJ$38,AJ20)+2)","v":0},null,{"$f":"AA347","v":180},{"$f":"RANK(AM20,AM$9:AM$38,1)+COUNTIF(AM$9:$AM20,AM20)-1","v":12},1,{"$f":"IF(ISBLANK($C20),0,1)*INDEX('Allocation Points'!$B$3:$AG$32,AO20,COUNTIF(AO$9:AO$38,AO20)+2)","v":0}]
[null,13,null,null,20,null,10,10,10,10,10,10,10,10,10,90,10,10,10,10,10,10,10,10,10,90,180,null,{"$f":"$AA$371","v":0},{"$f":"RANK(AC21,AC$9:AC$38,0)+COUNTIF(AC$9:$AC21,AC21)-1","v":13},1,{"$f":"IF(ISBLANK($C21),0,1)*INDEX('Allocation Points'!$B$3:$AG$32,AE21,COUNTIF(AE$9:AE$38,AE21)+2)","v":0},null,{"$f":"AA372","v":0},{"$f":"RANK(AH21,AH$9:AH$38,0)+COUNTIF(AH$9:$AH21,AH21)-1","v":13},1,{"$f":"IF(ISBLANK($C21),0,1)*INDEX('Allocation Points'!$B$3:$AG$32,AJ21,COUNTIF(AJ$9:AJ$38,AJ21)+2)","v":0},null,{"$f":"AA370","v":180},{"$f":"RANK(AM21,AM$9:AM$38,1)+COUNTIF(AM$9:$AM21,AM21)-1","v":13},1,{"$f":"IF(ISBLANK($C21),0,1)*INDEX('Allocation Points'!$B$3:$AG$32,AO21,COUNTIF(AO$9:AO$38,AO21)+2)","v":0}]
[null,14,null,null,20,null,10,10,10,10,10,10,10,10,10,90,10,10,10,10,10,10,10,10,10,90,180,null,{"$f":"$AA$394","v":0},{"$f":"RANK(AC22,AC$9:AC$38,0)+COUNTIF(AC$9:$AC22,AC22)-1","v":14},1,{"$f":"IF(ISBLANK($C22),0,1)*INDEX('Allocation Points'!$B$3:$AG$32,AE22,COUNTIF(AE$9:AE$38,AE22)+2)","v":0},null,{"$f":"AA395","v":0},{"$f":"RANK(AH22,AH$9:AH$38,0)+COUNTIF(AH$9:$AH22,AH22)-1","v":14},1,{"$f":"IF(ISBLANK($C22),0,1)*INDEX('Allocation Points'!$B$3:$AG$32,AJ22,COUNTIF(AJ$9:AJ$38,AJ22)+2)","v":0},null,{"$f":"AA393","v":180},{"$f":"RANK(AM22,AM$9:AM$38,1)+COUNTIF(AM$9:$AM22,AM22)-1","v":14},1,{"$f":"IF(ISBLANK($C22),0,1)*INDEX('Allocation Points'!$B$3:$AG$32,AO22,COUNTIF(AO$9:AO$38,AO22)+2)","v":0}]
[null,15,null,null,20,null,10,10,10,10,10,10,10,10,10,90,10,10,10,10,10,10,10,10,10,90,180,null,{"$f":"$AA$417","v":0},{"$f":"RANK(AC23,AC$9:AC$38,0)+COUNTIF(AC$9:$AC23,AC23)-1","v":15},1,{"$f":"IF(ISBLANK($C23),0,1)*INDEX('Allocation Points'!$B$3:$AG$32,AE23,COUNTIF(AE$9:AE$38,AE23)+2)","v":0},null,{"$f":"AA418","v":0},{"$f":"RANK(AH23,AH$9:AH$38,0)+COUNTIF(AH$9:$AH23,AH23)-1","v":15},1,{"$f":"IF(ISBLANK($C23),0,1)*INDEX('Allocation Points'!$B$3:$AG$32,AJ23,COUNTIF(AJ$9:AJ$38,AJ23)+2)","v":0},null,{"$f":"AA416","v":180},{"$f":"RANK(AM23,AM$9:AM$38,1)+COUNTIF(AM$9:$AM23,AM23)-1","v":15},1,{"$f":"IF(ISBLANK($C23),0,1)*INDEX('Allocation Points'!$B$3:$AG$32,AO23,COUNTIF(AO$9:AO$38,AO23)+2)","v":0}]
[null,16,null,null,20,null,10,10,10,10,10,10,10,10,10,90,10,10,10,10,10,10,10,10,10,90,180,null,{"$f":"$AA$440","v":0},{"$f":"RANK(AC24,AC$9:AC$38,0)+COUNTIF(AC$9:$AC24,AC24)-1","v":16},1,{"$f":"IF(ISBLANK($C24),0,1)*INDEX('Allocation Points'!$B$3:$AG$32,AE24,COUNTIF(AE$9:AE$38,AE24)+2)","v":0},null,{"$f":"AA441","v":0},{"$f":"RANK(AH24,AH$9:AH$38,0)+COUNTIF(AH$9:$AH24,AH24)-1","v":16},1,{"$f":"IF(ISBLANK($C24),0,1)*INDEX('Allocation Points'!$B$3:$AG$32,AJ24,COUNTIF(AJ$9:AJ$38,AJ24)+2)","v":0},null,{"$f":"AA439","v":180},{"$f":"RANK(AM24,AM$9:AM$38,1)+COUNTIF(AM$9:$AM24,AM24)-1","v":16},1,{"$f":"IF(ISBLANK($C24),0,1)*INDEX('Allocation Points'!$B$3:$AG$32,AO24,COUNTIF(AO$9:AO$38,AO24)+2)","v":0}]
[null,17,null,null,20,null,10,10,10,10,10,10,10,10,10,90,10,10,10,10,10,10,10,10,10,90,180,null,{"$f":"$AA$463","v":0},{"$f":"RANK(AC25,AC$9:AC$38,0)+COUNTIF(AC$9:$AC25,AC25)-1","v":17},1,{"$f":"IF(ISBLANK($C25),0,1)*INDEX('Allocation Points'!$B$3:$AG$32,AE25,COUNTIF(AE$9:AE$38,AE25)+2)","v":0},null,{"$f":"AA464","v":0},{"$f":"RANK(AH25,AH$9:AH$38,0)+COUNTIF(AH$9:$AH25,AH25)-1","v":17},1,{"$f":"IF(ISBLANK($C25),0,1)*INDEX('Allocation Points'!$B$3:$AG$32,AJ25,COUNTIF(AJ$9:AJ$38,AJ25)+2)","v":0},null,{"$f":"AA462","v":180},{"$f":"RANK(AM25,AM$9:AM$38,1)+COUNTIF(AM$9:$AM25,AM25)-1","v":17},1,{"$f":"IF(ISBLANK($C25),0,1)*INDEX('Allocation Points'!$B$3:$AG$32,AO25,COUNTIF(AO$9:AO$38,AO25)+2)","v":0}]
[null,18,null,null,20,null,10,10,10,10,10,10,10,10,10,90,10,10,10,10,10,10,10,10,10,90,180,null,{"$f":"$AA$486","v":0},{"$f":"RANK(AC26,AC$9:AC$38,0)+COUNTIF(AC$9:$AC26,AC26)-1","v":18},1,{"$f":"IF(ISBLANK($C26),0,1)*INDEX('Allocation Points'!$B$3:$AG$32,AE26,COUNTIF(AE$9:AE$38,AE26)+2)","v":0},null,{"$f":"AA487","v":0},{"$f":"RANK(AH26,AH$9:AH$38,0)+COUNTIF(AH$9:$AH26,AH26)-1","v":18},1,{"$f":"IF(ISBLANK($C26),0,1)*INDEX('Allocation Points'!$B$3:$AG$32,AJ26,COUNTIF(AJ$9:AJ$38,AJ26)+2)","v":0},null,{"$f":"AA485","v":180},{"$f":"RANK(AM26,AM$9:AM$38,1)+COUNTIF(AM$9:$AM26,AM26)-1","v":18},1,{"$f":"IF(ISBLANK($C26),0,1)*INDEX('Allocation Points'!$B$3:$AG$32,AO26,COUNTIF(AO$9:AO$38,AO26)+2)","v":0}]
[null,19,null,null,20,null,10,10,10,10,10,10,10,10,10,90,10,10,10,10,10,10,10,10,10,90,180,null,{"$f":"$AA$509","v":0},{"$f":"RANK(AC27,AC$9:AC$38,0)+COUNTIF(AC$9:$AC27,AC27)-1","v":19},1,{"$f":"IF(ISBLANK($C27),0,1)*INDEX('Allocation Points'!$B$3:$AG$32,AE27,COUNTIF(AE$9:AE$38,AE27)+2)","v":0},null,{"$f":"AA510","v":0},{"$f":"RANK(AH27,AH$9:AH$38,0)+COUNTIF(AH$9:$AH27,AH27)-1","v":19},1,{"$f":"IF(ISBLANK($C27),0,1)*INDEX('Allocation Points'!$B$3:$AG$32,AJ27,COUNTIF(AJ$9:AJ$38,AJ27)+2)","v":0},null,{"$f":"AA508","v":180},{"$f":"RANK(AM27,AM$9:AM$38,1)+COUNTIF(AM$9:$AM27,AM27)-1","v":19},1,{"$f":"IF(ISBLANK($C27),0,1)*INDEX('Allocation Points'!$B$3:$AG$32,AO27,COUNTIF(AO$9:AO$38,AO27)+2)","v":0}]
[null,20,null,null,20,null,10,10,10,10,10,10,10,10,10,90,10,10,10,10,10,10,10,10,10,90,180,null,{"$f":"$AA$532","v":0},{"$f":"RANK(AC28,AC$9:AC$38,0)+COUNTIF(AC$9:$AC28,AC28)-1","v":20},1,{"$f":"IF(ISBLANK($C28),0,1)*INDEX('Allocation Points'!$B$3:$AG$32,AE28,COUNTIF(AE$9:AE$38,AE28)+2)","v":0},null,{"$f":"AA533","v":0},{"$f":"RANK(AH28,AH$9:AH$38,0)+COUNTIF(AH$9:$AH28,AH28)-1","v":20},1,{"$f":"IF(ISBLANK($C28),0,1)*INDEX('Allocation Points'!$B$3:$AG$32,AJ28,COUNTIF(AJ$9:AJ$38,AJ28)+2)","v":0},null,{"$f":"AA531","v":180},{"$f":"RANK(AM28,AM$9:AM$38,1)+COUNTIF(AM$9:$AM28,AM28)-1","v":20},1,{"$f":"IF(ISBLANK($C28),0,1)*INDEX('Allocation Points'!$B$3:$AG$32,AO28,COUNTIF(AO$9:AO$38,AO28)+2)","v":0}]
[null,21,null,null,20,null,10,10,10,10,10,10,10,10,10,90,10,10,10,10,10,10,10,10,10,90,180,null,{"$f":"$AA$555","v":0},{"$f":"RANK(AC29,AC$9:AC$38,0)+COUNTIF(AC$9:$AC29,AC29)-1","v":21},1,{"$f":"IF(ISBLANK($C29),0,1)*INDEX('Allocation Points'!$B$3:$AG$32,AE29,COUNTIF(AE$9:AE$38,AE29)+2)","v":0},null,{"$f":"AA556","v":0},{"$f":"RANK(AH29,AH$9:AH$38,0)+COUNTIF(AH$9:$AH29,AH29)-1","v":21},1,{"$f":"IF(ISBLANK($C29),0,1)*INDEX('Allocation Points'!$B$3:$AG$32,AJ29,COUNTIF(AJ$9:AJ$38,AJ29)+2)","v":0},null,{"$f":"AA554","v":180},{"$f":"RANK(AM29,AM$9:AM$38,1)+COUNTIF(AM$9:$AM29,AM29)-1","v":21},1,{"$f":"IF(ISBLANK($C29),0,1)*INDEX('Allocation Points'!$B$3:$AG$32,AO29,COUNTIF(AO$9:AO$38,AO29)+2)","v":0}]
[null,22,null,null,20,null,10,10,10,10,10,10,10,10,10,90,10,10,10,10,10,10,10,10,10,90,180,null,{"$f":"$AA$578","v":0},{"$f":"RANK(AC30,AC$9:AC$38,0)+COUNTIF(AC$9:$AC30,AC30)-1","v":22},1,{"$f":"IF(ISBLANK($C30),0,1)*INDEX('Allocation Points'!$B$3:$AG$32,AE30,COUNTIF(AE$9:AE$38,AE30)+2)","v":0},null,{"$f":"AA579","v":0},{"$f":"RANK(AH30,AH$9:AH$38,0)+COUNTIF(AH$9:$AH30,AH30)-1","v":22},1,{"$f":"IF(ISBLANK($C30),0,1)*INDEX('Allocation Points'!$B$3:$AG$32,AJ30,COUNTIF(AJ$9:AJ$38,AJ30)+2)","v":0},null,{"$f":"AA577","v":180},{"$f":"RANK(AM30,AM$9:AM$38,1)+COUNTIF(AM$9:$AM30,AM30)-1","v":22},1,{"$f":"IF(ISBLANK($C30),0,1)*INDEX('Allocation Points'!$B$3:$AG$32,AO30,COUNTIF(AO$9:AO$38,AO30)+2)","v":0}]
[null,23,null,null,20,null,10,10,10,10,10,10,10,10,10,90,10,10,10,10,10,10,10,10,10,90,180,null,{"$f":"$AA$601","v":0},{"$f":"RANK(AC31,AC$9:AC$38,0)+COUNTIF(AC$9:$AC31,AC31)-1","v":23},1,{"$f":"IF(ISBLANK($C31),0,1)*INDEX('Allocation Points'!$B$3:$AG$32,AE31,COUNTIF(AE$9:AE$38,AE31)+2)","v":0},null,{"$f":"AA602","v":0},{"$f":"RANK(AH31,AH$9:AH$38,0)+COUNTIF(AH$9:$AH31,AH31)-1","v":23},1,{"$f":"IF(ISBLANK($C31),0,1)*INDEX('Allocation Points'!$B$3:$AG$32,AJ31,COUNTIF(AJ$9:AJ$38,AJ31)+2)","v":0},null,{"$f":"AA600","v":180},{"$f":"RANK(AM31,AM$9:AM$38,1)+COUNTIF(AM$9:$AM31,AM31)-1","v":23},1,{"$f":"IF(ISBLANK($C31),0,1)*INDEX('Allocation Points'!$B$3:$AG$32,AO31,COUNTIF(AO$9:AO$38,AO31)+2)","v":0}]
[null,24,null,null,20,null,10,10,10,10,10,10,10,10,10,90,10,10,10,10,10,10,10,10,10,90,180,null,{"$f":"$AA$624","v":0},{"$f":"RANK(AC32,AC$9:AC$38,0)+COUNTIF(AC$9:$AC32,AC32)-1","v":24},1,{"$f":"IF(ISBLANK($C32),0,1)*INDEX('Allocation Points'!$B$3:$AG$32,AE32,COUNTIF(AE$9:AE$38,AE32)+2)","v":0},null,{"$f":"AA625","v":0},{"$f":"RANK(AH32,AH$9:AH$38,0)+COUNTIF(AH$9:$AH32,AH32)-1","v":24},1,{"$f":"IF(ISBLANK($C32),0,1)*INDEX('Allocation Points'!$B$3:$AG$32,AJ32,COUNTIF(AJ$9:AJ$38,AJ32)+2)","v":0},null,{"$f":"AA623","v":180},{"$f":"RANK(AM32,AM$9:AM$38,1)+COUNTIF(AM$9:$AM32,AM32)-1","v":24},1,{"$f":"IF(ISBLANK($C32),0,1)*INDEX('Allocation Points'!$B$3:$AG$32,AO32,COUNTIF(AO$9:AO$38,AO32)+2)","v":0}]
[null,25,null,null,20,null,10,10,10,10,10,10,10,10,10,90,10,10,10,10,10,10,10,10,10,90,180,null,{"$f":"$AA$647","v":0},{"$f":"RANK(AC33,AC$9:AC$38,0)+COUNTIF(AC$9:$AC33,AC33)-1","v":25},1,{"$f":"IF(ISBLANK($C33),0,1)*INDEX('Allocation Points'!$B$3:$AG$32,AE33,COUNTIF(AE$9:AE$38,AE33)+2)","v":0},null,{"$f":"AA648","v":0},{"$f":"RANK(AH33,AH$9:AH$38,0)+COUNTIF(AH$9:$AH33,AH33)-1","v":25},1,{"$f":"IF(ISBLANK($C33),0,1)*INDEX('Allocation Points'!$B$3:$AG$32,AJ33,COUNTIF(AJ$9:AJ$38,AJ33)+2)","v":0},null,{"$f":"AA646","v":180},{"$f":"RANK(AM33,AM$9:AM$38,1)+COUNTIF(AM$9:$AM33,AM33)-1","v":25},1,{"$f":"IF(ISBLANK($C33),0,1)*INDEX('Allocation Points'!$B$3:$AG$32,AO33,COUNTIF(AO$9:AO$38,AO33)+2)","v":0}]
[null,26,null,null,20,null,10,10,10,10,10,10,10,10,10,90,10,10,10,10,10,10,10,10,10,90,180,null,{"$f":"$AA$670","v":0},{"$f":"RANK(AC34,AC$9:AC$38,0)+COUNTIF(AC$9:$AC34,AC34)-1","v":26},1,{"$f":"IF(ISBLANK($C34),0,1)*INDEX('Allocation Points'!$B$3:$AG$32,AE34,COUNTIF(AE$9:AE$38,AE34)+2)","v":0},null,{"$f":"AA671","v":0},{"$f":"RANK(AH34,AH$9:AH$38,0)+COUNTIF(AH$9:$AH34,AH34)-1","v":26},1,{"$f":"IF(ISBLANK($C34),0,1)*INDEX('Allocation Points'!$B$3:$AG$32,AJ34,COUNTIF(AJ$9:AJ$38,AJ34)+2)","v":0},null,{"$f":"AA669","v":180},{"$f":"RANK(AM34,AM$9:AM$38,1)+COUNTIF(AM$9:$AM34,AM34)-1","v":26},1,{"$f":"IF(ISBLANK($C34),0,1)*INDEX('Allocation Points'!$B$3:$AG$32,AO34,COUNTIF(AO$9:AO$38,AO34)+2)","v":0}]
[null,27,null,null,20,null,10,10,10,10,10,10,10,10,10,90,10,10,10,10,10,10,10,10,10,90,180,null,{"$f":"$AA$693","v":0},{"$f":"RANK(AC35,AC$9:AC$38,0)+COUNTIF(AC$9:$AC35,AC35)-1","v":27},1,{"$f":"IF(ISBLANK($C35),0,1)*INDEX('Allocation Points'!$B$3:$AG$32,AE35,COUNTIF(AE$9:AE$38,AE35)+2)","v":0},null,{"$f":"AA694","v":0},{"$f":"RANK(AH35,AH$9:AH$38,0)+COUNTIF(AH$9:$AH35,AH35)-1","v":27},1,{"$f":"IF(ISBLANK($C35),0,1)*INDEX('Allocation Points'!$B$3:$AG$32,AJ35,COUNTIF(AJ$9:AJ$38,AJ35)+2)","v":0},null,{"$f":"AA692","v":180},{"$f":"RANK(AM35,AM$9:AM$38,1)+COUNTIF(AM$9:$AM35,AM35)-1","v":27},1,{"$f":"IF(ISBLANK($C35),0,1)*INDEX('Allocation Points'!$B$3:$AG$32,AO35,COUNTIF(AO$9:AO$38,AO35)+2)","v":0}]
[null,28,null,null,20,null,10,10,10,10,10,10,10,10,10,90,10,10,10,10,10,10,10,10,10,90,180,null,{"$f":"$AA$716","v":0},{"$f":"RANK(AC36,AC$9:AC$38,0)+COUNTIF(AC$9:$AC36,AC36)-1","v":28},1,{"$f":"IF(ISBLANK($C36),0,1)*INDEX('Allocation Points'!$B$3:$AG$32,AE36,COUNTIF(AE$9:AE$38,AE36)+2)","v":0},null,{"$f":"AA717","v":0},{"$f":"RANK(AH36,AH$9:AH$38,0)+COUNTIF(AH$9:$AH36,AH36)-1","v":28},1,{"$f":"IF(ISBLANK($C36),0,1)*INDEX('Allocation Points'!$B$3:$AG$32,AJ36,COUNTIF(AJ$9:AJ$38,AJ36)+2)","v":0},null,{"$f":"AA715","v":180},{"$f":"RANK(AM36,AM$9:AM$38,1)+COUNTIF(AM$9:$AM36,AM36)-1","v":28},1,{"$f":"IF(ISBLANK($C36),0,1)*INDEX('Allocation Points'!$B$3:$AG$32,AO36,COUNTIF(AO$9:AO$38,AO36)+2)","v":0}]
[null,29,null,null,20,null,10,10,10,10,10,10,10,10,10,90,10,10,10,10,10,10,10,10,10,90,180,null,{"$f":"$AA$739","v":0},{"$f":"RANK(AC37,AC$9:AC$38,0)+COUNTIF(AC$9:$AC37,AC37)-1","v":29},1,{"$f":"IF(ISBLANK($C37),0,1)*INDEX('Allocation Points'!$B$3:$AG$32,AE37,COUNTIF(AE$9:AE$38,AE37)+2)","v":0},null,{"$f":"AA740","v":0},{"$f":"RANK(AH37,AH$9:AH$38,0)+COUNTIF(AH$9:$AH37,AH37)-1","v":29},1,{"$f":"IF(ISBLANK($C37),0,1)*INDEX('Allocation Points'!$B$3:$AG$32,AJ37,COUNTIF(AJ$9:AJ$38,AJ37)+2)","v":0},null,{"$f":"AA738","v":180},{"$f":"RANK(AM37,AM$9:AM$38,1)+COUNTIF(AM$9:$AM37,AM37)-1","v":29},1,{"$f":"IF(ISBLANK($C37),0,1)*INDEX('Allocation Points'!$B$3:$AG$32,AO37,COUNTIF(AO$9:AO$38,AO37)+2)","v":0}]
[null,30,null,null,20,null,10,10,10,10,10,10,10,10,10,90,10,10,10,10,10,10,10,10,10,90,180,null,{"$f":"$AA$762","v":0},{"$f":"RANK(AC38,AC$9:AC$38,0)+COUNTIF(AC$9:$AC38,AC38)-1","v":30},1,{"$f":"IF(ISBLANK($C38),0,1)*INDEX('Allocation Points'!$B$3:$AG$32,AE38,COUNTIF(AE$9:AE$38,AE38)+2)","v":0},null,{"$f":"AA763","v":0},{"$f":"RANK(AH38,AH$9:AH$38,0)+COUNTIF(AH$9:$AH38,AH38)-1","v":30},1,{"$f":"IF(ISBLANK($C38),0,1)*INDEX('Allocation Points'!$B$3:$AG$32,AJ38,COUNTIF(AJ$9:AJ$38,AJ38)+2)","v":0},null,{"$f":"AA761","v":180},{"$f":"RANK(AM38,AM$9:AM$38,1)+COUNTIF(AM$9:$AM38,AM38)-1","v":30},1,{"$f":"IF(ISBLANK($C38),0,1)*INDEX('Allocation Points'!$B$3:$AG$32,AO38,COUNTIF(AO$9:AO$38,AO38)+2)","v":0}]
[]
[]
[null,null,null,null,null,null,null,"CLASSEMENT"]
[]
[]
[]
[null,null,"NET",null,null,null,null,null,null,"BRUT",null,null,null,null,null,null,null,null,null,null,null,"STROKE"]
[]
[null,null,"Noms","Prénoms","NET",null,null,null,null,"Noms",null,null,null,"Prénoms",null,null,"BRUT",null,null,null,null,"Noms",null,null,null,"Prénoms",null,"STROKE"]
[null,1,{"$f":"INDEX($C$9:$AN$38,MATCH(B48,$AD$9:$AD$38,0),1)","v":0},{"$f":"INDEX($C$9:$AN$38,MATCH(B48,$AD$9:$AD$38,0),2)","v":0},{"$f":"INDEX($C$9:$AN$38,MATCH(B48,$AD$9:$AD$38,0),27)","v":0},null,null,null,1,{"$f":"INDEX($C$9:$AN$38,MATCH(I48,$AI$9:$AI$38,0),1)","v":0},null,null,null,{"$f":"INDEX($C$9:$AN$38,MATCH(I48,$AI$9:$AI$38,0),2)","v":0},null,null,{"$f":"INDEX($C$9:$AN$38,MATCH(I48,$AI$9:$AI$38,0),32)","v":0},null,null,null,1,{"$f":"INDEX($C$9:$AN$38,MATCH(U48,$AN$9:$AN$38,0),1)","v":0},null,null,null,{"$f":"INDEX($C$9:$AN$38,MATCH(U48,$AN$9:$AN$38,0),2)","v":0},null,{"$f":"INDEX($C$9:$AN$38,MATCH(U48,$AN$9:$AN$38,0),37)","v":180}]
[null,2,0,0,0,null,null,null,2,0,null,null,null,0,null,null,{"$f":"INDEX($C$9:$AN$38,MATCH(I49,$AI$9:$AI$38,0),32)","v":0},null,null,null,2,0,null,null,null,0,null,{"$f":"INDEX($C$9:$AN$38,MATCH(U49,$AN$9:$AN$38,0),37)","v":180}]
[null,3,0,0,0,null,null,null,3,0,null,null,null,0,null,null,0,null,null,null,3,0,null,null,null,0,null,180]
[null,4,0,0,0,null,null,null,4,0,null,null,null,0,null,null,0,null,null,null,4,0,null,null,null,0,null,180]
[null,5,0,0,0,null,null,null,5,0,null,null,null,0,null,null,0,null,null,null,5,0,null,null,null,0,null,180]
[null,6,0,0,0,null,null,null,6,0,null,null,null,0,null,null,0,null,null,null,6,0,null,null,null,0,null,180]
[null,7,0,0,0,null,null,null,7,0,null,null,null,0,null,null,0,null,null,null,7,0,null,null,null,0,null,180]
[null,8,0,0,0,null,null,null,8,0,null,null,null,0,null,null,0,null,null,null,8,0,null,null,null,0,null,180]
[null,9,0,0,0,null,null,null,9,0,null,null,null,0,null,null,0,null,null,null,9,0,null,null,null,0,null,180]
[null,10,0,0,0,null,null,null,10,0,null,null,null,0,null,null,0,null,null,null,10,0,null,null,null,0,null,180]
[null,11,0,0,0,null,null,null,11,0,null,null,null,0,null,null,0,null,null,null,11,0,null,null,null,0,null,180]
[null,12,0,0,0,null,null,null,12,0,null,null,null,0,null,null,0,null,null,null,12,0,null,null,null,0,null,180]
[null,13,0,0,0,null,null,null,13,0,null,null,null,0,null,null,0,null,null,null,13,0,null,null,null,0,null,180]
[null,14,0,0,0,null,null,null,14,0,null,null,null,0,null,null,0,null,null,null,14,0,null,null,null,0,null,180]
[null,15,0,0,0,null,null,null,15,0,null,null,null,0,null,null,0,null,null,null,15,0,null,null,null,0,null,180]
[null,16,0,0,0,null,null,null,16,0,null,null,null,0,null,null,0,null,null,null,16,0,null,null,null,0,null,180]
[null,17,0,0,0,null,null,null,17,0,null,null,null,0,null,null,0,null,null,null,17,0,null,null,null,0,null,180]
[null,18,0,0,0,null,null,null,18,0,null,null,null,0,null,null,0,null,null,null,18,0,null,null,null,0,null,180]
[null,19,0,0,0,null,null,null,19,0,null,null,null,0,null,null,0,null,null,null,19,0,null,null,null,0,null,180]
[null,20,0,0,0,null,null,null,20,0,null,null,null,0,null,null,0,null,null,null,20,0,null,null,null,0,null,180]
[null,21,0,0,0,null,null,null,21,0,null,null,null,0,null,null,0,null,null,null,21,0,null,null,null,0,null,180]
[null,22,0,0,0,null,null,null,22,0,null,null,null,0,null,null,0,null,null,null,22,0,null,null,null,0,null,180]
[null,23,0,0,0,null,null,null,23,0,null,null,null,0,null,null,0,null,null,null,23,0,null,null,null,0,null,180]
[null,24,0,0,0,null,null,null,24,0,null,null,null,0,null,null,0,null,null,null,24,0,null,null,null,0,null,180]
[null,25,0,0,0,null,null,null,25,0,null,null,null,0,null,null,0,null,null,null,25,0,null,null,null,0,null,180]
[null,26,0,0,0,null,null,null,26,0,null,null,null,0,null,null,0,null,null,null,26,0,null,null,null,0,null,180]
[null,27,0,0,0,null,null,null,27,0,null,null,null,0,null,null,0,null,null,null,27,0,null,null,null,0,null,180]
[null,28,0,0,0,null,null,null,28,0,null,null,null,0,null,null,0,null,null,null,28,0,null,null,null,0,null,180]
[null,29,0,0,0,null,null,null,29,0,null,null,null,0,null,null,0,null,null,null,29,0,null,null,null,0,null,180]
[null,30,0,0,0,null,null,null,30,0,null,null,null,0,null,null,0,null,null,null,30,0,null,null,null,0,null,180]
[]
[]
[]
[null,null,null,null,null,null,null,"STATISTIQUES INDIVIDUELLES"]
[]
[]
[]
[]
[]
[null,null,null,null,null,"Nom",{"$f":"C9","v":0},null,null,null,null,"Slope",null,null,"SSS",null,"Coups reçus",null,null,null,null,null,null,null,null,"Date",{"$f":"$D$3","v":"00:00:00"}]
[null,null,null,null,null,"Index",{"$f":"E9","v":20},null,null,null,null,{"$f":"$F$3","v":133},null,null,{"$f":"$G$3","v":68.599999999999994},null,{"$f":"ROUND((G88*(L88/113)+(O88-AA91)),0)","v":20}]
[]
[null,null,null,null,null,"Trou",1,2,3,4,5,6,7,8,9,"Aller",10,11,12,13,14,15,16,17,18,"Retour","Total"]
[null,null,null,null,null,"PAR",{"$f":"G$7","v":4},{"$f":"H$7","v":4},5,4,3,5,3,5,3,{"$f":"SUM(G91:O91)","v":36},{"$f":"Q$7","v":4},4,3,5,3,4,4,5,4,{"$f":"SUM(Q91:Y91)","v":36},{"$f":"SUM(P91+Z91)","v":72}]
[null,null,null,null,null,"HCP trous",{"$f":"G$8","v":4},{"$f":"H$8","v":8},12,14,2,10,18,16,6,null,{"$f":"Q$8","v":1},9,11,5,17,15,3,13,7]
[null,null,null,null,null,"Coups reçus",{"$f":"IF($Q88<=18,IF(G92<=$Q88,1,0),IF($Q88<=36,IF(G92<=($Q88-18),2,1),IF($Q88>36,IF(G92<=($Q88-36),3,2))))","v":1},{"$f":"IF($Q88<=18,IF(H92<=$Q88,1,0),IF($Q88<=36,IF(H92<=($Q88-18),2,1),IF($Q88>36,IF(H92<=($Q88-36),3,2))))","v":1},1,1,2,1,1,1,1,{"$f":"SUM(G93:O93)","v":10},{"$f":"IF($Q88<=18,IF(Q92<=$Q88,1,0),IF($Q88<=36,IF(Q92<=($Q88-18),2,1),IF($Q88>36,IF(Q92<=($Q88-36),3,2))))","v":2},1,1,1,1,1,1,1,1,{"$f":"SUM(Q93:Y93)","v":10},{"$f":"P93+Z93","v":20}]
[null,null,null,null,null,"Stroke play",{"$f":"G9","v":10},10,10,10,10,10,10,10,10,{"$f":"SUM(G94:O94)","v":90},{"$f":"Q9","v":10},10,10,10,10,10,10,10,10,{"$f":"SUM(Q94:Y94)","v":90},{"$f":"P94+Z94","v":180}]
[null,null,null,null,null,"Net Stableford",{"$f":"IF(G94-G91=-1,3+G93)+IF(G94-G91=0,2+G93)+IF(G94-G91=1,1+G93)+IF(G94-G91=2,G93)+IF(G94-G91=3,IF(G93-1>0,G93-1,0))+IF(G94-G91=4,IF(G93-2>0,G93-2,0))","v":0},{"$f":"IF(H94-H91=-1,3+H93)+IF(H94-H91=0,2+H93)+IF(H94-H91=1,1+H93)+IF(H94-H91=2,H93)+IF(H94-H91=3,IF(H93-1>0,H93-1,0))+IF(H94-H91=4,IF(H93-2>0,H93-2,0))","v":0},0,0,0,0,0,0,0,{"$f":"SUM(G95:O95)","v":0},{"$f":"IF(Q94-Q91=-1,3+Q93)+IF(Q94-Q91=0,2+Q93)+IF(Q94-Q91=1,1+Q93)+IF(Q94-Q91=2,Q93)+IF(Q94-Q91=3,IF(Q93-1>0,Q93-1,0))+IF(Q94-Q91=4,IF(Q93-2>0,Q93-2,0))","v":0},0,0,0,0,0,0,0,0,{"$f":"SUM(Q95:Y95)","v":0},{"$f":"P95+Z95","v":0}]
[null,null,null,null,null,"Score Brut",{"$f":"IF(G94-G91=-2,4)+IF(G94-G91=-1,3)+IF(G94-G91=0,2)+IF(G94-G91=1,1)+IF(G94-G91>2,0)","v":0},0,0,0,0,0,0,0,0,{"$f":"SUM(G96:O96)","v":0},{"$f":"IF(Q94-Q91=-2,4)+IF(Q94-Q91=-1,3)+IF(Q94-Q91=0,2)+IF(Q94-Q91=1,1)+IF(Q94-Q91>2,0)","v":0},0,0,0,0,0,0,0,0,{"$f":"SUM(Q96:Y96)","v":0},{"$f":"P96+Z96","v":0}]
[null,null,null,null,null,null,{"$f":"G94-G91","v":6},{"$f":"H94-H91","v":6},5,6,7,5,7,5,7,null,{"$f":"Q94-Q91","v":6},6,7,5,7,6,6,5,6]
[]
[]
[null,null,null,null,null,"Statistiques scores",null,"Eagle & moins",null,null,null,{"$f":"COUNTIF(G97:Y97,\"<=-2\")","v":0},"Par",null,{"$f":"COUNTIF(G97:Y97,\"=0\")","v":0},"Double bogey",null,null,null,null,{"$f":"COUNTIF(G97:Y97,\"=2\")","v":0}]
[null,null,null,null,null,null,null,"Birdie",null,null,null,{"$f":"COUNTIF(G97:Y97,\"=-1\")","v":0},"Bogey",null,{"$f":"COUNTIF(G97:Y97,\"=1\")","v":0},"Triple bogey & plus",null,null,null,null,{"$f":"COUNTIF(G97:Y97,\">=3\")","v":18}]
[null,null,null,null,null,null,null,{"$f":"M100","v":"Par"},null,null,null,{"$f":"O100","v":0}]
[null,null,null,null,null,null,null,{"$f":"M101","v":"Bogey"},null,null,null,{"$f":"O101","v":0}]
[null,null,null,null,null,null,null,{"$f":"P100","v":"Double bogey"},null,null,null,{"$f":"U100","v":0}]
[null,null,null,null,null,null,null,{"$f":"P101","v":"Triple bogey & plus"},null,null,null,{"$f":"U101","v":18}]
[]
[]
[]
[]
[null,null,null,null,null,"Nom",{"$f":"C10","v":0},null,null,null,null,"Slope",null,null,"SSS",null,"Coups reçus",null,null,null,null,null,null,null,null,"Date",{"$f":"$D$3","v":"00:00:00"}]
[null,null,null,null,null,"Index",{"$f":"E10","v":20},null,null,null,null,{"$f":"$F$3","v":133},null,null,{"$f":"$G$3","v":68.599999999999994},null,{"$f":"ROUND((G111*(L111/113)+(O111-AA114)),0)","v":20}]
[]
[null,null,null,null,null,"Trou",1,2,3,4,5,6,7,8,9,"Aller",10,11,12,13,14,15,16,17,18,"Retour","Total"]
[null,null,null,null,null,"PAR",{"$f":"G$7","v":4},{"$f":"H$7","v":4},5,4,3,5,3,5,3,{"$f":"SUM(G114:O114)","v":36},{"$f":"Q$7","v":4},4,3,5,3,4,4,5,4,{"$f":"SUM(Q114:Y114)","v":36},{"$f":"SUM(P114+Z114)","v":72}]
[null,null,null,null,null,"HCP trous",{"$f":"G$8","v":4},{"$f":"H$8","v":8},12,14,2,10,18,16,6,null,{"$f":"Q$8","v":1},9,11,5,17,15,3,13,7]
[null,null,null,null,null,"Coups reçus",{"$f":"IF($Q111<=18,IF(G115<=$Q111,1,0),IF($Q111<=36,IF(G115<=($Q111-18),2,1),IF($Q111>36,IF(G115<=($Q111-36),3,2))))","v":1},{"$f":"IF($Q111<=18,IF(H115<=$Q111,1,0),IF($Q111<=36,IF(H115<=($Q111-18),2,1),IF($Q111>36,IF(H115<=($Q111-36),3,2))))","v":1},1,1,2,1,1,1,1,{"$f":"SUM(G116:O116)","v":10},{"$f":"IF($Q111<=18,IF(Q115<=$Q111,1,0),IF($Q111<=36,IF(Q115<=($Q111-18),2,1),IF($Q111>36,IF(Q115<=($Q111-36),3,2))))","v":2},1,1,1,1,1,1,1,1,{"$f":"SUM(Q116:Y116)","v":10},{"$f":"P116+Z116","v":20}]
[null,null,null,null,null,"Stroke play",{"$f":"G10","v":10},10,10,10,10,10,10,10,10,{"$f":"SUM(G117:O117)","v":90},{"$f":"Q10","v":10},10,10,10,10,10,10,10,10,{"$f":"SUM(Q117:Y117)","v":90},{"$f":"P117+Z117","v":180}]
[null,null,null,null,null,"Net Stableford",{"$f":"IF(G117-G114=-1,3+G116)+IF(G117-G114=0,2+G116)+IF(G117-G114=1,1+G116)+IF(G117-G114=2,G116)+IF(G117-G114=3,IF(G116-1>0,G116-1,0))+IF(G117-G114=4,IF(G116-2>0,G116-2,0))","v":0},{"$f":"IF(H117-H114=-1,3+H116)+IF(H117-H114=0,2+H116)+IF(H117-H114=1,1+H116)+IF(H117-H114=2,H116)+IF(H117-H114=3,IF(H116-1>0,H116-1,0))+IF(H117-H114=4,IF(H116-2>0,H116-2,0))","v":0},0,0,0,0,0,0,0,{"$f":"SUM(G118:O118)","v":0},{"$f":"IF(Q117-Q114=-1,3+Q116)+IF(Q117-Q114=0,2+Q116)+IF(Q117-Q114=1,1+Q116)+IF(Q117-Q114=2,Q116)+IF(Q117-Q114=3,IF(Q116-1>0,Q116-1,0))+IF(Q117-Q114=4,IF(Q116-2>0,Q116-2,0))","v":0},0,0,0,0,0,0,0,0,{"$f":"SUM(Q118:Y118)","v":0},{"$f":"P118+Z118","v":0}]
[null,null,null,null,null,"Score Brut",{"$f":"IF(G117-G114=-2,4)+IF(G117-G114=-1,3)+IF(G117-G114=0,2)+IF(G117-G114=1,1)+IF(G117-G114>2,0)","v":0},0,0,0,0,0,0,0,0,{"$f":"SUM(G119:O119)","v":0},{"$f":"IF(Q117-Q114=-2,4)+IF(Q117-Q114=-1,3)+IF(Q117-Q114=0,2)+IF(Q117-Q114=1,1)+IF(Q117-Q114>2,0)","v":0},0,0,0,0,0,0,0,0,{"$f":"SUM(Q119:Y119)","v":0},{"$f":"P119+Z119","v":0}]
[null,null,null,null,null,null,{"$f":"G117-G114","v":6},{"$f":"H117-H114","v":6},5,6,7,5,7,5,7,null,{"$f":"Q117-Q114","v":6},6,7,5,7,6,6,5,6]
[]
[]
[null,null,null,null,null,"Statistiques scores",null,"Eagle & moins",null,null,null,{"$f":"COUNTIF(G120:Y120,\"<=-2\")","v":0},"Par",null,{"$f":"COUNTIF(G120:Y120,\"=0\")","v":0},"Double bogey",null,null,null,null,{"$f":"COUNTIF(G120:Y120,\"=2\")","v":0}]
[null,null,null,null,null,null,null,"Birdie",null,null,null,{"$f":"COUNTIF(G120:Y120,\"=-1\")","v":0},"Bogey",null,{"$f":"COUNTIF(G120:Y120,\"=1\")","v":0},"Triple bogey & plus",null,null,null,null,{"$f":"COUNTIF(G120:Y120,\">=3\")","v":18}]
[null,null,null,null,null,null,null,{"$f":"M123","v":"Par"},null,null,null,{"$f":"O123","v":0}]
[null,null,null,null,null,null,null,{"$f":"M124","v":"Bogey"},null,null,null,{"$f":"O124","v":0}]
[null,null,null,null,null,null,null,{"$f":"P123","v":"Double bogey"},null,null,null,{"$f":"U123","v":0}]
[null,null,null,null,null,null,null,{"$f":"P124","v":"Triple bogey & plus"},null,null,null,{"$f":"U124","v":18}]
[]
[]
[]
[]
[null,null,null,null,null,"Nom",{"$f":"C11","v":0},null,null,null,null,"Slope",null,null,"SSS",null,"Coups reçus",null,null,null,null,null,null,null,null,"Date",{"$f":"$D$3","v":"00:00:00"}]
[null,null,null,null,null,"Index",{"$f":"E11","v":20},null,null,null,null,{"$f":"$F$3","v":133},null,null,{"$f":"$G$3","v":68.599999999999994},null,{"$f":"ROUND((G134*(L134/113)+(O134-AA137)),0)","v":20}]
[]
[null,null,null,null,null,"Trou",1,2,3,4,5,6,7,8,9,"Aller",10,11,12,13,14,15,16,17,18,"Retour","Total"]
[null,null,null,null,null,"PAR",{"$f":"G$7","v":4},{"$f":"H$7","v":4},5,4,3,5,3,5,3,{"$f":"SUM(G137:O137)","v":36},{"$f":"Q$7","v":4},4,3,5,3,4,4,5,4,{"$f":"SUM(Q137:Y137)","v":36},{"$f":"SUM(P137+Z137)","v":72}]
[null,null,null,null,null,"HCP trous",{"$f":"G$8","v":4},{"$f":"H$8","v":8},12,14,2,10,18,16,6,null,{"$f":"Q$8","v":1},9,11,5,17,15,3,13,7]
[null,null,null,null,null,"Coups reçus",{"$f":"IF($Q134<=18,IF(G138<=$Q134,1,0),IF($Q134<=36,IF(G138<=($Q134-18),2,1),IF($Q134>36,IF(G138<=($Q134-36),3,2))))","v":1},{"$f":"IF($Q134<=18,IF(H138<=$Q134,1,0),IF($Q134<=36,IF(H138<=($Q134-18),2,1),IF($Q134>36,IF(H138<=($Q134-36),3,2))))","v":1},1,1,2,1,1,1,1,{"$f":"SUM(G139:O139)","v":10},{"$f":"IF($Q134<=18,IF(Q138<=$Q134,1,0),IF($Q134<=36,IF(Q138<=($Q134-18),2,1),IF($Q134>36,IF(Q138<=($Q134-36),3,2))))","v":2},1,1,1,1,1,1,1,1,{"$f":"SUM(Q139:Y139)","v":10},{"$f":"P139+Z139","v":20}]
[null,null,null,null,null,"Stroke play",{"$f":"G11","v":10},10,10,10,10,10,10,10,10,{"$f":"SUM(G140:O140)","v":90},{"$f":"Q11","v":10},10,10,10,10,10,10,10,10,{"$f":"SUM(Q140:Y140)","v":90},{"$f":"P140+Z140","v":180}]
[null,null,null,null,null,"Net Stableford",{"$f":"IF(G140-G137=-1,3+G139)+IF(G140-G137=0,2+G139)+IF(G140-G137=1,1+G139)+IF(G140-G137=2,G139)+IF(G140-G137=3,IF(G139-1>0,G139-1,0))+IF(G140-G137=4,IF(G139-2>0,G139-2,0))","v":0},{"$f":"IF(H140-H137=-1,3+H139)+IF(H140-H137=0,2+H139)+IF(H140-H137=1,1+H139)+IF(H140-H137=2,H139)+IF(H140-H137=3,IF(H139-1>0,H139-1,0))+IF(H140-H137=4,IF(H139-2>0,H139-2,0))","v":0},0,0,0,0,0,0,0,{"$f":"SUM(G141:O141)","v":0},{"$f":"IF(Q140-Q137=-1,3+Q139)+IF(Q140-Q137=0,2+Q139)+IF(Q140-Q137=1,1+Q139)+IF(Q140-Q137=2,Q139)+IF(Q140-Q137=3,IF(Q139-1>0,Q139-1,0))+IF(Q140-Q137=4,IF(Q139-2>0,Q139-2,0))","v":0},0,0,0,0,0,0,0,0,{"$f":"SUM(Q141:Y141)","v":0},{"$f":"P141+Z141","v":0}]
[null,null,null,null,null,"Score Brut",{"$f":"IF(G140-G137=-2,4)+IF(G140-G137=-1,3)+IF(G140-G137=0,2)+IF(G140-G137=1,1)+IF(G140-G137>2,0)","v":0},0,0,0,0,0,0,0,0,{"$f":"SUM(G142:O142)","v":0},{"$f":"IF(Q140-Q137=-2,4)+IF(Q140-Q137=-1,3)+IF(Q140-Q137=0,2)+IF(Q140-Q137=1,1)+IF(Q140-Q137>2,0)","v":0},0,0,0,0,0,0,0,0,{"$f":"SUM(Q142:Y142)","v":0},{"$f":"P142+Z142","v":0}]
[null,null,null,null,null,null,{"$f":"G140-G137","v":6},{"$f":"H140-H137","v":6},5,6,7,5,7,5,7,null,{"$f":"Q140-Q137","v":6},6,7,5,7,6,6,5,6]
[]
[]
[null,null,null,null,null,"Statistiques scores",null,"Eagle & moins",null,null,null,{"$f":"COUNTIF(G143:Y143,\"<=-2\")","v":0},"Par",null,{"$f":"COUNTIF(G143:Y143,\"=0\")","v":0},"Double bogey",null,null,null,null,{"$f":"COUNTIF(G143:Y143,\"=2\")","v":0}]
[null,null,null,null,null,null,null,"Birdie",null,null,null,{"$f":"COUNTIF(G143:Y143,\"=-1\")","v":0},"Bogey",null,{"$f":"COUNTIF(G143:Y143,\"=1\")","v":0},"Triple bogey & plus",null,null,null,null,{"$f":"COUNTIF(G143:Y143,\">=3\")","v":18}]
[null,null,null,null,null,null,null,{"$f":"M146","v":"Par"},null,null,null,{"$f":"O146","v":0}]
[null,null,null,null,null,null,null,{"$f":"M147","v":"Bogey"},null,null,null,{"$f":"O147","v":0}]
[null,null,null,null,null,null,null,{"$f":"P146","v":"Double bogey"},null,null,null,{"$f":"U146","v":0}]
[null,null,null,null,null,null,null,{"$f":"P147","v":"Triple bogey & plus"},null,null,null,{"$f":"U147","v":18}]
[]
[]
[]
[]
[null,null,null,null,null,"Nom",{"$f":"C12","v":0},null,null,null,null,"Slope",null,null,"SSS",null,"Coups reçus",null,null,null,null,null,null,null,null,"Date",{"$f":"$D$3","v":"00:00:00"}]
[null,null,null,null,null,"Index",{"$f":"E12","v":20},null,null,null,null,{"$f":"$F$3","v":133},null,null,{"$f":"$G$3","v":68.599999999999994},null,{"$f":"ROUND((G157*(L157/113)+(O157-AA160)),0)","v":20}]
[]
[null,null,null,null,null,"Trou",1,2,3,4,5,6,7,8,9,"Aller",10,11,12,13,14,15,16,17,18,"Retour","Total"]
[null,null,null,null,null,"PAR",{"$f":"G$7","v":4},{"$f":"H$7","v":4},5,4,3,5,3,5,3,{"$f":"SUM(G160:O160)","v":36},{"$f":"Q$7","v":4},4,3,5,3,4,4,5,4,{"$f":"SUM(Q160:Y160)","v":36},{"$f":"SUM(P160+Z160)","v":72}]
[null,null,null,null,null,"HCP trous",{"$f":"G$8","v":4},{"$f":"H$8","v":8},12,14,2,10,18,16,6,null,{"$f":"Q$8","v":1},9,11,5,17,15,3,13,7]
[null,null,null,null,null,"Coups reçus",{"$f":"IF($Q157<=18,IF(G161<=$Q157,1,0),IF($Q157<=36,IF(G161<=($Q157-18),2,1),IF($Q157>36,IF(G161<=($Q157-36),3,2))))","v":1},{"$f":"IF($Q157<=18,IF(H161<=$Q157,1,0),IF($Q157<=36,IF(H161<=($Q157-18),2,1),IF($Q157>36,IF(H161<=($Q157-36),3,2))))","v":1},1,1,2,1,1,1,1,{"$f":"SUM(G162:O162)","v":10},{"$f":"IF($Q157<=18,IF(Q161<=$Q157,1,0),IF($Q157<=36,IF(Q161<=($Q157-18),2,1),IF($Q157>36,IF(Q161<=($Q157-36),3,2))))","v":2},1,1,1,1,1,1,1,1,{"$f":"SUM(Q162:Y162)","v":10},{"$f":"P162+Z162","v":20}]
[null,null,null,null,null,"Stroke play",{"$f":"G12","v":10},10,10,10,10,10,10,10,10,{"$f":"SUM(G163:O163)","v":90},{"$f":"Q12","v":10},10,10,10,10,10,10,10,10,{"$f":"SUM(Q163:Y163)","v":90},{"$f":"P163+Z163","v":180}]
[null,null,null,null,null,"Net Stableford",{"$f":"IF(G163-G160=-1,3+G162)+IF(G163-G160=0,2+G162)+IF(G163-G160=1,1+G162)+IF(G163-G160=2,G162)+IF(G163-G160=3,IF(G162-1>0,G162-1,0))+IF(G163-G160=4,IF(G162-2>0,G162-2,0))","v":0},{"$f":"IF(H163-H160=-1,3+H162)+IF(H163-H160=0,2+H162)+IF(H163-H160=1,1+H162)+IF(H163-H160=2,H162)+IF(H163-H160=3,IF(H162-1>0,H162-1,0))+IF(H163-H160=4,IF(H162-2>0,H162-2,0))","v":0},0,0,0,0,0,0,0,{"$f":"SUM(G164:O164)","v":0},{"$f":"IF(Q163-Q160=-1,3+Q162)+IF(Q163-Q160=0,2+Q162)+IF(Q163-Q160=1,1+Q162)+IF(Q163-Q160=2,Q162)+IF(Q163-Q160=3,IF(Q162-1>0,Q162-1,0))+IF(Q163-Q160=4,IF(Q162-2>0,Q162-2,0))","v":0},0,0,0,0,0,0,0,0,{"$f":"SUM(Q164:Y164)","v":0},{"$f":"P164+Z164","v":0}]
[null,null,null,null,null,"Score Brut",{"$f":"IF(G163-G160=-2,4)+IF(G163-G160=-1,3)+IF(G163-G160=0,2)+IF(G163-G160=1,1)+IF(G163-G160>2,0)","v":0},0,0,0,0,0,0,0,0,{"$f":"SUM(G165:O165)","v":0},{"$f":"IF(Q163-Q160=-2,4)+IF(Q163-Q160=-1,3)+IF(Q163-Q160=0,2)+IF(Q163-Q160=1,1)+IF(Q163-Q160>2,0)","v":0},0,0,0,0,0,0,0,0,{"$f":"SUM(Q165:Y165)","v":0},{"$f":"P165+Z165","v":0}]
[null,null,null,null,null,null,{"$f":"G163-G160","v":6},{"$f":"H163-H160","v":6},5,6,7,5,7,5,7,null,{"$f":"Q163-Q160","v":6},6,7,5,7,6,6,5,6]
[]
[]
[null,null,null,null,null,"Statistiques scores",null,"Eagle & moins",null,null,null,{"$f":"COUNTIF(G166:Y166,\"<=-2\")","v":0},"Par",null,{"$f":"COUNTIF(G166:Y166,\"=0\")","v":0},"Double bogey",null,null,null,null,{"$f":"COUNTIF(G166:Y166,\"=2\")","v":0}]
[null,null,null,null,null,null,null,"Birdie",null,null,null,{"$f":"COUNTIF(G166:Y166,\"=-1\")","v":0},"Bogey",null,{"$f":"COUNTIF(G166:Y166,\"=1\")","v":0},"Triple bogey & plus",null,null,null,null,{"$f":"COUNTIF(G166:Y166,\">=3\")","v":18}]
[null,null,null,null,null,null,null,{"$f":"M169","v":"Par"},null,null,null,{"$f":"O169","v":0}]
[null,null,null,null,null,null,null,{"$f":"M170","v":"Bogey"},null,null,null,{"$f":"O170","v":0}]
[null,null,null,null,null,null,null,{"$f":"P169","v":"Double bogey"},null,null,null,{"$f":"U169","v":0}]
[null,null,null,null,null,null,null,{"$f":"P170","v":"Triple bogey & plus"},null,null,null,{"$f":"U170","v":18}]
[]
[]
[]
[]
[null,null,null,null,null,"Nom",{"$f":"C13","v":0},null,null,null,null,"Slope",null,null,"SSS",null,"Coups reçus",null,null,null,null,null,null,null,null,"Date",{"$f":"$D$3","v":"00:00:00"}]
[null,null,null,null,null,"Index",{"$f":"E13","v":20},null,null,null,null,{"$f":"$F$3","v":133},null,null,{"$f":"$G$3","v":68.599999999999994},null,{"$f":"ROUND((G180*(L180/113)+(O180-AA183)),0)","v":20}]
[]
[null,null,null,null,null,"Trou",1,2,3,4,5,6,7,8,9,"Aller",10,11,12,13,14,15,16,17,18,"Retour","Total"]
[null,null,null,null,null,"PAR",{"$f":"G$7","v":4},{"$f":"H$7","v":4},5,4,3,5,3,5,3,{"$f":"SUM(G183:O183)","v":36},{"$f":"Q$7","v":4},4,3,5,3,4,4,5,4,{"$f":"SUM(Q183:Y183)","v":36},{"$f":"SUM(P183+Z183)","v":72}]
[null,null,null,null,null,"HCP trous",{"$f":"G$8","v":4},{"$f":"H$8","v":8},12,14,2,10,18,16,6,null,{"$f":"Q$8","v":1},9,11,5,17,15,3,13,7]
[null,null,null,null,null,"Coups reçus",{"$f":"IF($Q180<=18,IF(G184<=$Q180,1,0),IF($Q180<=36,IF(G184<=($Q180-18),2,1),IF($Q180>36,IF(G184<=($Q180-36),3,2))))","v":1},{"$f":"IF($Q180<=18,IF(H184<=$Q180,1,0),IF($Q180<=36,IF(H184<=($Q180-18),2,1),IF($Q180>36,IF(H184<=($Q180-36),3,2))))","v":1},1,1,2,1,1,1,1,{"$f":"SUM(G185:O185)","v":10},{"$f":"IF($Q180<=18,IF(Q184<=$Q180,1,0),IF($Q180<=36,IF(Q184<=($Q180-18),2,1),IF($Q180>36,IF(Q184<=($Q180-36),3,2))))","v":2},1,1,1,1,1,1,1,1,{"$f":"SUM(Q185:Y185)","v":10},{"$f":"P185+Z185","v":20}]
[null,null,null,null,null,"Stroke play",{"$f":"G13","v":10},10,10,10,10,10,10,10,10,{"$f":"SUM(G186:O186)","v":90},{"$f":"Q13","v":10},10,10,10,10,10,10,10,10,{"$f":"SUM(Q186:Y186)","v":90},{"$f":"P186+Z186","v":180}]
[null,null,null,null,null,"Net Stableford",{"$f":"IF(G186-G183=-1,3+G185)+IF(G186-G183=0,2+G185)+IF(G186-G183=1,1+G185)+IF(G186-G183=2,G185)+IF(G186-G183=3,IF(G185-1>0,G185-1,0))+IF(G186-G183=4,IF(G185-2>0,G185-2,0))","v":0},{"$f":"IF(H186-H183=-1,3+H185)+IF(H186-H183=0,2+H185)+IF(H186-H183=1,1+H185)+IF(H186-H183=2,H185)+IF(H186-H183=3,IF(H185-1>0,H185-1,0))+IF(H186-H183=4,IF(H185-2>0,H185-2,0))","v":0},0,0,0,0,0,0,0,{"$f":"SUM(G187:O187)","v":0},{"$f":"IF(Q186-Q183=-1,3+Q185)+IF(Q186-Q183=0,2+Q185)+IF(Q186-Q183=1,1+Q185)+IF(Q186-Q183=2,Q185)+IF(Q186-Q183=3,IF(Q185-1>0,Q185-1,0))+IF(Q186-Q183=4,IF(Q185-2>0,Q185-2,0))","v":0},0,0,0,0,0,0,0,0,{"$f":"SUM(Q187:Y187)","v":0},{"$f":"P187+Z187","v":0}]
[null,null,null,null,null,"Score Brut",{"$f":"IF(G186-G183=-2,4)+IF(G186-G183=-1,3)+IF(G186-G183=0,2)+IF(G186-G183=1,1)+IF(G186-G183>2,0)","v":0},0,0,0,0,0,0,0,0,{"$f":"SUM(G188:O188)","v":0},{"$f":"IF(Q186-Q183=-2,4)+IF(Q186-Q183=-1,3)+IF(Q186-Q183=0,2)+IF(Q186-Q183=1,1)+IF(Q186-Q183>2,0)","v":0},0,0,0,0,0,0,0,0,{"$f":"SUM(Q188:Y188)","v":0},{"$f":"P188+Z188","v":0}]
[null,null,null,null,null,null,{"$f":"G186-G183","v":6},{"$f":"H186-H183","v":6},5,6,7,5,7,5,7,null,{"$f":"Q186-Q183","v":6},6,7,5,7,6,6,5,6]
[]
[]
[null,null,null,null,null,"Statistiques scores",null,"Eagle & moins",null,null,null,{"$f":"COUNTIF(G189:Y189,\"<=-2\")","v":0},"Par",null,{"$f":"COUNTIF(G189:Y189,\"=0\")","v":0},"Double bogey",null,null,null,null,{"$f":"COUNTIF(G189:Y189,\"=2\")","v":0}]
[null,null,null,null,null,null,null,"Birdie",null,null,null,{"$f":"COUNTIF(G189:Y189,\"=-1\")","v":0},"Bogey",null,{"$f":"COUNTIF(G189:Y189,\"=1\")","v":0},"Triple bogey & plus",null,null,null,null,{"$f":"COUNTIF(G189:Y189,\">=3\")","v":18}]
[null,null,null,null,null,null,null,{"$f":"M192","v":"Par"},null,null,null,{"$f":"O192","v":0}]
[null,null,null,null,null,null,null,{"$f":"M193","v":"Bogey"},null,null,null,{"$f":"O193","v":0}]
[null,null,null,null,null,null,null,{"$f":"P192","v":"Double bogey"},null,null,null,{"$f":"U192","v":0}]
[null,null,null,null,null,null,null,{"$f":"P193","v":"Triple bogey & plus"},null,null,null,{"$f":"U193","v":18}]
[]
[]
[]
[]
[null,null,null,null,null,"Nom",{"$f":"C14","v":0},null,null,null,null,"Slope",null,null,"SSS",null,"Coups reçus",null,null,null,null,null,null,null,null,"Date",{"$f":"$D$3","v":"00:00:00"}]
[null,null,null,null,null,"Index",{"$f":"E14","v":20},null,null,null,null,{"$f":"$F$3","v":133},null,null,{"$f":"$G$3","v":68.599999999999994},null,{"$f":"ROUND((G203*(L203/113)+(O203-AA206)),0)","v":20}]
[]
[null,null,null,null,null,"Trou",1,2,3,4,5,6,7,8,9,"Aller",10,11,12,13,14,15,16,17,18,"Retour","Total"]
[null,null,null,null,null,"PAR",{"$f":"G$7","v":4},{"$f":"H$7","v":4},5,4,3,5,3,5,3,{"$f":"SUM(G206:O206)","v":36},{"$f":"Q$7","v":4},4,3,5,3,4,4,5,4,{"$f":"SUM(Q206:Y206)","v":36},{"$f":"SUM(P206+Z206)","v":72}]
[null,null,null,null,null,"HCP trous",{"$f":"G$8","v":4},{"$f":"H$8","v":8},12,14,2,10,18,16,6,null,{"$f":"Q$8","v":1},9,11,5,17,15,3,13,7]
[null,null,null,null,null,"Coups reçus",{"$f":"IF($Q203<=18,IF(G207<=$Q203,1,0),IF($Q203<=36,IF(G207<=($Q203-18),2,1),IF($Q203>36,IF(G207<=($Q203-36),3,2))))","v":1},{"$f":"IF($Q203<=18,IF(H207<=$Q203,1,0),IF($Q203<=36,IF(H207<=($Q203-18),2,1),IF($Q203>36,IF(H207<=($Q203-36),3,2))))","v":1},1,1,2,1,1,1,1,{"$f":"SUM(G208:O208)","v":10},{"$f":"IF($Q203<=18,IF(Q207<=$Q203,1,0),IF($Q203<=36,IF(Q207<=($Q203-18),2,1),IF($Q203>36,IF(Q207<=($Q203-36),3,2))))","v":2},1,1,1,1,1,1,1,1,{"$f":"SUM(Q208:Y208)","v":10},{"$f":"P208+Z208","v":20}]
[null,null,null,null,null,"Stroke play",{"$f":"G14","v":10},10,10,10,10,10,10,10,10,{"$f":"SUM(G209:O209)","v":90},{"$f":"Q14","v":10},10,10,10,10,10,10,10,10,{"$f":"SUM(Q209:Y209)","v":90},{"$f":"P209+Z209","v":180}]
[null,null,null,null,null,"Net Stableford",{"$f":"IF(G209-G206=-1,3+G208)+IF(G209-G206=0,2+G208)+IF(G209-G206=1,1+G208)+IF(G209-G206=2,G208)+IF(G209-G206=3,IF(G208-1>0,G208-1,0))+IF(G209-G206=4,IF(G208-2>0,G208-2,0))","v":0},{"$f":"IF(H209-H206=-1,3+H208)+IF(H209-H206=0,2+H208)+IF(H209-H206=1,1+H208)+IF(H209-H206=2,H208)+IF(H209-H206=3,IF(H208-1>0,H208-1,0))+IF(H209-H206=4,IF(H208-2>0,H208-2,0))","v":0},0,0,0,0,0,0,0,{"$f":"SUM(G210:O210)","v":0},{"$f":"IF(Q209-Q206=-1,3+Q208)+IF(Q209-Q206=0,2+Q208)+IF(Q209-Q206=1,1+Q208)+IF(Q209-Q206=2,Q208)+IF(Q209-Q206=3,IF(Q208-1>0,Q208-1,0))+IF(Q209-Q206=4,IF(Q208-2>0,Q208-2,0))","v":0},0,0,0,0,0,0,0,0,{"$f":"SUM(Q210:Y210)","v":0},{"$f":"P210+Z210","v":0}]
[null,null,null,null,null,"Score Brut",{"$f":"IF(G209-G206=-2,4)+IF(G209-G206=-1,3)+IF(G209-G206=0,2)+IF(G209-G206=1,1)+IF(G209-G206>2,0)","v":0},0,0,0,0,0,0,0,0,{"$f":"SUM(G211:O211)","v":0},{"$f":"IF(Q209-Q206=-2,4)+IF(Q209-Q206=-1,3)+IF(Q209-Q206=0,2)+IF(Q209-Q206=1,1)+IF(Q209-Q206>2,0)","v":0},0,0,0,0,0,0,0,0,{"$f":"SUM(Q211:Y211)","v":0},{"$f":"P211+Z211","v":0}]
[null,null,null,null,null,null,{"$f":"G209-G206","v":6},{"$f":"H209-H206","v":6},5,6,7,5,7,5,7,null,{"$f":"Q209-Q206","v":6},6,7,5,7,6,6,5,6]
[]
[]
[null,null,null,null,null,"Statistiques scores",null,"Eagle & moins",null,null,null,{"$f":"COUNTIF(G212:Y212,\"<=-2\")","v":0},"Par",null,{"$f":"COUNTIF(G212:Y212,\"=0\")","v":0},"Double bogey",null,null,null,null,{"$f":"COUNTIF(G212:Y212,\"=2\")","v":0}]
[null,null,null,null,null,null,null,"Birdie",null,null,null,{"$f":"COUNTIF(G212:Y212,\"=-1\")","v":0},"Bogey",null,{"$f":"COUNTIF(G212:Y212,\"=1\")","v":0},"Triple bogey & plus",null,null,null,null,{"$f":"COUNTIF(G212:Y212,\">=3\")","v":18}]
[null,null,null,null,null,null,null,{"$f":"M215","v":"Par"},null,null,null,{"$f":"O215","v":0}]
[null,null,null,null,null,null,null,{"$f":"M216","v":"Bogey"},null,null,null,{"$f":"O216","v":0}]
[null,null,null,null,null,null,null,{"$f":"P215","v":"Double bogey"},null,null,null,{"$f":"U215","v":0}]
[null,null,null,null,null,null,null,{"$f":"P216","v":"Triple bogey & plus"},null,null,null,{"$f":"U216","v":18}]
[]
[]
[]
[]
[null,null,null,null,null,"Nom",{"$f":"C15","v":0},null,null,null,null,"Slope",null,null,"SSS",null,"Coups reçus",null,null,null,null,null,null,null,null,"Date",{"$f":"$D$3","v":"00:00:00"}]
[null,null,null,null,null,"Index",{"$f":"E15","v":20},null,null,null,null,{"$f":"$F$3","v":133},null,null,{"$f":"$G$3","v":68.599999999999994},null,{"$f":"ROUND((G226*(L226/113)+(O226-AA229)),0)","v":20}]
[]
[null,null,null,null,null,"Trou",1,2,3,4,5,6,7,8,9,"Aller",10,11,12,13,14,15,16,17,18,"Retour","Total"]
[null,null,null,null,null,"PAR",{"$f":"G$7","v":4},{"$f":"H$7","v":4},5,4,3,5,3,5,3,{"$f":"SUM(G229:O229)","v":36},{"$f":"Q$7","v":4},4,3,5,3,4,4,5,4,{"$f":"SUM(Q229:Y229)","v":36},{"$f":"SUM(P229+Z229)","v":72}]
[null,null,null,null,null,"HCP trous",{"$f":"G$8","v":4},{"$f":"H$8","v":8},12,14,2,10,18,16,6,null,{"$f":"Q$8","v":1},9,11,5,17,15,3,13,7]
[null,null,null,null,null,"Coups reçus",{"$f":"IF($Q226<=18,IF(G230<=$Q226,1,0),IF($Q226<=36,IF(G230<=($Q226-18),2,1),IF($Q226>36,IF(G230<=($Q226-36),3,2))))","v":1},{"$f":"IF($Q226<=18,IF(H230<=$Q226,1,0),IF($Q226<=36,IF(H230<=($Q226-18),2,1),IF($Q226>36,IF(H230<=($Q226-36),3,2))))","v":1},1,1,2,1,1,1,1,{"$f":"SUM(G231:O231)","v":10},{"$f":"IF($Q226<=18,IF(Q230<=$Q226,1,0),IF($Q226<=36,IF(Q230<=($Q226-18),2,1),IF($Q226>36,IF(Q230<=($Q226-36),3,2))))","v":2},1,1,1,1,1,1,1,1,{"$f":"SUM(Q231:Y231)","v":10},{"$f":"P231+Z231","v":20}]
[null,null,null,null,null,"Stroke play",{"$f":"G15","v":10},10,10,10,10,10,10,10,10,{"$f":"SUM(G232:O232)","v":90},{"$f":"Q15","v":10},10,10,10,10,10,10,10,10,{"$f":"SUM(Q232:Y232)","v":90},{"$f":"P232+Z232","v":180}]
[null,null,null,null,null,"Net Stableford",{"$f":"IF(G232-G229=-1,3+G231)+IF(G232-G229=0,2+G231)+IF(G232-G229=1,1+G231)+IF(G232-G229=2,G231)+IF(G232-G229=3,IF(G231-1>0,G231-1,0))+IF(G232-G229=4,IF(G231-2>0,G231-2,0))","v":0},{"$f":"IF(H232-H229=-1,3+H231)+IF(H232-H229=0,2+H231)+IF(H232-H229=1,1+H231)+IF(H232-H229=2,H231)+IF(H232-H229=3,IF(H231-1>0,H231-1,0))+IF(H232-H229=4,IF(H231-2>0,H231-2,0))","v":0},0,0,0,0,0,0,0,{"$f":"SUM(G233:O233)","v":0},{"$f":"IF(Q232-Q229=-1,3+Q231)+IF(Q232-Q229=0,2+Q231)+IF(Q232-Q229=1,1+Q231)+IF(Q232-Q229=2,Q231)+IF(Q232-Q229=3,IF(Q231-1>0,Q231-1,0))+IF(Q232-Q229=4,IF(Q231-2>0,Q231-2,0))","v":0},0,0,0,0,0,0,0,0,{"$f":"SUM(Q233:Y233)","v":0},{"$f":"P233+Z233","v":0}]
[null,null,null,null,null,"Score Brut",{"$f":"IF(G232-G229=-2,4)+IF(G232-G229=-1,3)+IF(G232-G229=0,2)+IF(G232-G229=1,1)+IF(G232-G229>2,0)","v":0},0,0,0,0,0,0,0,0,{"$f":"SUM(G234:O234)","v":0},{"$f":"IF(Q232-Q229=-2,4)+IF(Q232-Q229=-1,3)+IF(Q232-Q229=0,2)+IF(Q232-Q229=1,1)+IF(Q232-Q229>2,0)","v":0},0,0,0,0,0,0,0,0,{"$f":"SUM(Q234:Y234)","v":0},{"$f":"P234+Z234","v":0}]
[null,null,null,null,null,null,{"$f":"G232-G229","v":6},{"$f":"H232-H229","v":6},5,6,7,5,7,5,7,null,{"$f":"Q232-Q229","v":6},6,7,5,7,6,6,5,6]
[]
[]
[null,null,null,null,null,"Statistiques scores",null,"Eagle & moins",null,null,null,{"$f":"COUNTIF(G235:Y235,\"<=-2\")","v":0},"Par",null,{"$f":"COUNTIF(G235:Y235,\"=0\")","v":0},"Double bogey",null,null,null,null,{"$f":"COUNTIF(G235:Y235,\"=2\")","v":0}]
[null,null,null,null,null,null,null,"Birdie",null,null,null,{"$f":"COUNTIF(G235:Y235,\"=-1\")","v":0},"Bogey",null,{"$f":"COUNTIF(G235:Y235,\"=1\")","v":0},"Triple bogey & plus",null,null,null,null,{"$f":"COUNTIF(G235:Y235,\">=3\")","v":18}]
[null,null,null,null,null,null,null,{"$f":"M238","v":"Par"},null,null,null,{"$f":"O238","v":0}]
[null,null,null,null,null,null,null,{"$f":"M239","v":"Bogey"},null,null,null,{"$f":"O239","v":0}]
[null,null,null,null,null,null,null,{"$f":"P238","v":"Double bogey"},null,null,null,{"$f":"U238","v":0}]
[null,null,null,null,null,null,null,{"$f":"P239","v":"Triple bogey & plus"},null,null,null,{"$f":"U239","v":18}]
[]
[]
[]
[]
[null,null,null,null,null,"Nom",{"$f":"C16","v":0},null,null,null,null,"Slope",null,null,"SSS",null,"Coups reçus",null,null,null,null,null,null,null,null,"Date",{"$f":"$D$3","v":"00:00:00"}]
[null,null,null,null,null,"Index",{"$f":"E16","v":20},null,null,null,null,{"$f":"$F$3","v":133},null,null,{"$f":"$G$3","v":68.599999999999994},null,{"$f":"ROUND((G249*(L249/113)+(O249-AA252)),0)","v":20}]
[]
[null,null,null,null,null,"Trou",1,2,3,4,5,6,7,8,9,"Aller",10,11,12,13,14,15,16,17,18,"Retour","Total"]
[null,null,null,null,null,"PAR",{"$f":"G$7","v":4},{"$f":"H$7","v":4},5,4,3,5,3,5,3,{"$f":"SUM(G252:O252)","v":36},{"$f":"Q$7","v":4},4,3,5,3,4,4,5,4,{"$f":"SUM(Q252:Y252)","v":36},{"$f":"SUM(P252+Z252)","v":72}]
[null,null,null,null,null,"HCP trous",{"$f":"G$8","v":4},{"$f":"H$8","v":8},12,14,2,10,18,16,6,null,{"$f":"Q$8","v":1},9,11,5,17,15,3,13,7]
[null,null,null,null,null,"Coups reçus",{"$f":"IF($Q249<=18,IF(G253<=$Q249,1,0),IF($Q249<=36,IF(G253<=($Q249-18),2,1),IF($Q249>36,IF(G253<=($Q249-36),3,2))))","v":1},{"$f":"IF($Q249<=18,IF(H253<=$Q249,1,0),IF($Q249<=36,IF(H253<=($Q249-18),2,1),IF($Q249>36,IF(H253<=($Q249-36),3,2))))","v":1},1,1,2,1,1,1,1,{"$f":"SUM(G254:O254)","v":10},{"$f":"IF($Q249<=18,IF(Q253<=$Q249,1,0),IF($Q249<=36,IF(Q253<=($Q249-18),2,1),IF($Q249>36,IF(Q253<=($Q249-36),3,2))))","v":2},1,1,1,1,1,1,1,1,{"$f":"SUM(Q254:Y254)","v":10},{"$f":"P254+Z254","v":20}]
[null,null,null,null,null,"Stroke play",{"$f":"G16","v":10},10,10,10,10,10,10,10,10,{"$f":"SUM(G255:O255)","v":90},{"$f":"Q16","v":10},10,10,10,10,10,10,10,10,{"$f":"SUM(Q255:Y255)","v":90},{"$f":"P255+Z255","v":180}]
[null,null,null,null,null,"Net Stableford",{"$f":"IF(G255-G252=-1,3+G254)+IF(G255-G252=0,2+G254)+IF(G255-G252=1,1+G254)+IF(G255-G252=2,G254)+IF(G255-G252=3,IF(G254-1>0,G254-1,0))+IF(G255-G252=4,IF(G254-2>0,G254-2,0))","v":0},{"$f":"IF(H255-H252=-1,3+H254)+IF(H255-H252=0,2+H254)+IF(H255-H252=1,1+H254)+IF(H255-H252=2,H254)+IF(H255-H252=3,IF(H254-1>0,H254-1,0))+IF(H255-H252=4,IF(H254-2>0,H254-2,0))","v":0},0,0,0,0,0,0,0,{"$f":"SUM(G256:O256)","v":0},{"$f":"IF(Q255-Q252=-1,3+Q254)+IF(Q255-Q252=0,2+Q254)+IF(Q255-Q252=1,1+Q254)+IF(Q255-Q252=2,Q254)+IF(Q255-Q252=3,IF(Q254-1>0,Q254-1,0))+IF(Q255-Q252=4,IF(Q254-2>0,Q254-2,0))","v":0},0,0,0,0,0,0,0,0,{"$f":"SUM(Q256:Y256)","v":0},{"$f":"P256+Z256","v":0}]
[null,null,null,null,null,"Score Brut",{"$f":"IF(G255-G252=-2,4)+IF(G255-G252=-1,3)+IF(G255-G252=0,2)+IF(G255-G252=1,1)+IF(G255-G252>2,0)","v":0},0,0,0,0,0,0,0,0,{"$f":"SUM(G257:O257)","v":0},{"$f":"IF(Q255-Q252=-2,4)+IF(Q255-Q252=-1,3)+IF(Q255-Q252=0,2)+IF(Q255-Q252=1,1)+IF(Q255-Q252>2,0)","v":0},0,0,0,0,0,0,0,0,{"$f":"SUM(Q257:Y257)","v":0},{"$f":"P257+Z257","v":0}]
[null,null,null,null,null,null,{"$f":"G255-G252","v":6},{"$f":"H255-H252","v":6},5,6,7,5,7,5,7,null,{"$f":"Q255-Q252","v":6},6,7,5,7,6,6,5,6]
[]
[]
[null,null,null,null,null,"Statistiques scores",null,"Eagle & moins",null,null,null,{"$f":"COUNTIF(G258:Y258,\"<=-2\")","v":0},"Par",null,{"$f":"COUNTIF(G258:Y258,\"=0\")","v":0},"Double bogey",null,null,null,null,{"$f":"COUNTIF(G258:Y258,\"=2\")","v":0}]
[null,null,null,null,null,null,null,"Birdie",null,null,null,{"$f":"COUNTIF(G258:Y258,\"=-1\")","v":0},"Bogey",null,{"$f":"COUNTIF(G258:Y258,\"=1\")","v":0},"Triple bogey & plus",null,null,null,null,{"$f":"COUNTIF(G258:Y258,\">=3\")","v":18}]
[null,null,null,null,null,null,null,{"$f":"M261","v":"Par"},null,null,null,{"$f":"O261","v":0}]
[null,null,null,null,null,null,null,{"$f":"M262","v":"Bogey"},null,null,null,{"$f":"O262","v":0}]
[null,null,null,null,null,null,null,{"$f":"P261","v":"Double bogey"},null,null,null,{"$f":"U261","v":0}]
[null,null,null,null,null,null,null,{"$f":"P262","v":"Triple bogey & plus"},null,null,null,{"$f":"U262","v":18}]
[]
[]
[]
[]
[null,null,null,null,null,"Nom",{"$f":"C17","v":0},null,null,null,null,"Slope",null,null,"SSS",null,"Coups reçus",null,null,null,null,null,null,null,null,"Date",{"$f":"$D$3","v":"00:00:00"}]
[null,null,null,null,null,"Index",{"$f":"E17","v":20},null,null,null,null,{"$f":"$F$3","v":133},null,null,{"$f":"$G$3","v":68.599999999999994},null,{"$f":"ROUND((G272*(L272/113)+(O272-AA275)),0)","v":20}]
[]
[null,null,null,null,null,"Trou",1,2,3,4,5,6,7,8,9,"Aller",10,11,12,13,14,15,16,17,18,"Retour","Total"]
[null,null,null,null,null,"PAR",{"$f":"G$7","v":4},{"$f":"H$7","v":4},5,4,3,5,3,5,3,{"$f":"SUM(G275:O275)","v":36},{"$f":"Q$7","v":4},4,3,5,3,4,4,5,4,{"$f":"SUM(Q275:Y275)","v":36},{"$f":"SUM(P275+Z275)","v":72}]
[null,null,null,null,null,"HCP trous",{"$f":"G$8","v":4},{"$f":"H$8","v":8},12,14,2,10,18,16,6,null,{"$f":"Q$8","v":1},9,11,5,17,15,3,13,7]
[null,null,null,null,null,"Coups reçus",{"$f":"IF($Q272<=18,IF(G276<=$Q272,1,0),IF($Q272<=36,IF(G276<=($Q272-18),2,1),IF($Q272>36,IF(G276<=($Q272-36),3,2))))","v":1},{"$f":"IF($Q272<=18,IF(H276<=$Q272,1,0),IF($Q272<=36,IF(H276<=($Q272-18),2,1),IF($Q272>36,IF(H276<=($Q272-36),3,2))))","v":1},1,1,2,1,1,1,1,{"$f":"SUM(G277:O277)","v":10},{"$f":"IF($Q272<=18,IF(Q276<=$Q272,1,0),IF($Q272<=36,IF(Q276<=($Q272-18),2,1),IF($Q272>36,IF(Q276<=($Q272-36),3,2))))","v":2},1,1,1,1,1,1,1,1,{"$f":"SUM(Q277:Y277)","v":10},{"$f":"P277+Z277","v":20}]
[null,null,null,null,null,"Stroke play",{"$f":"G17","v":10},10,10,10,10,10,10,10,10,{"$f":"SUM(G278:O278)","v":90},{"$f":"Q17","v":10},10,10,10,10,10,10,10,10,{"$f":"SUM(Q278:Y278)","v":90},{"$f":"P278+Z278","v":180}]
[null,null,null,null,null,"Net Stableford",{"$f":"IF(G278-G275=-1,3+G277)+IF(G278-G275=0,2+G277)+IF(G278-G275=1,1+G277)+IF(G278-G275=2,G277)+IF(G278-G275=3,IF(G277-1>0,G277-1,0))+IF(G278-G275=4,IF(G277-2>0,G277-2,0))","v":0},{"$f":"IF(H278-H275=-1,3+H277)+IF(H278-H275=0,2+H277)+IF(H278-H275=1,1+H277)+IF(H278-H275=2,H277)+IF(H278-H275=3,IF(H277-1>0,H277-1,0))+IF(H278-H275=4,IF(H277-2>0,H277-2,0))","v":0},0,0,0,0,0,0,0,{"$f":"SUM(G279:O279)","v":0},{"$f":"IF(Q278-Q275=-1,3+Q277)+IF(Q278-Q275=0,2+Q277)+IF(Q278-Q275=1,1+Q277)+IF(Q278-Q275=2,Q277)+IF(Q278-Q275=3,IF(Q277-1>0,Q277-1,0))+IF(Q278-Q275=4,IF(Q277-2>0,Q277-2,0))","v":0},0,0,0,0,0,0,0,0,{"$f":"SUM(Q279:Y279)","v":0},{"$f":"P279+Z279","v":0}]
[null,null,null,null,null,"Score Brut",{"$f":"IF(G278-G275=-2,4)+IF(G278-G275=-1,3)+IF(G278-G275=0,2)+IF(G278-G275=1,1)+IF(G278-G275>2,0)","v":0},0,0,0,0,0,0,0,0,{"$f":"SUM(G280:O280)","v":0},{"$f":"IF(Q278-Q275=-2,4)+IF(Q278-Q275=-1,3)+IF(Q278-Q275=0,2)+IF(Q278-Q275=1,1)+IF(Q278-Q275>2,0)","v":0},0,0,0,0,0,0,0,0,{"$f":"SUM(Q280:Y280)","v":0},{"$f":"P280+Z280","v":0}]
[null,null,null,null,null,null,{"$f":"G278-G275","v":6},{"$f":"H278-H275","v":6},5,6,7,5,7,5,7,null,{"$f":"Q278-Q275","v":6},6,7,5,7,6,6,5,6]
[]
[]
[null,null,null,null,null,"Statistiques scores",null,"Eagle & moins",null,null,null,{"$f":"COUNTIF(G281:Y281,\"<=-2\")","v":0},"Par",null,{"$f":"COUNTIF(G281:Y281,\"=0\")","v":0},"Double bogey",null,null,null,null,{"$f":"COUNTIF(G281:Y281,\"=2\")","v":0}]
[null,null,null,null,null,null,null,"Birdie",null,null,null,{"$f":"COUNTIF(G281:Y281,\"=-1\")","v":0},"Bogey",null,{"$f":"COUNTIF(G281:Y281,\"=1\")","v":0},"Triple bogey & plus",null,null,null,null,{"$f":"COUNTIF(G281:Y281,\">=3\")","v":18}]
[null,null,null,null,null,null,null,{"$f":"M284","v":"Par"},null,null,null,{"$f":"O284","v":0}]
[null,null,null,null,null,null,null,{"$f":"M285","v":"Bogey"},null,null,null,{"$f":"O285","v":0}]
[null,null,null,null,null,null,null,{"$f":"P284","v":"Double bogey"},null,null,null,{"$f":"U284","v":0}]
[null,null,null,null,null,null,null,{"$f":"P285","v":"Triple bogey & plus"},null,null,null,{"$f":"U285","v":18}]
[]
[]
[]
[]
[null,null,null,null,null,"Nom",{"$f":"C18","v":0},null,null,null,null,"Slope",null,null,"SSS",null,"Coups reçus",null,null,null,null,null,null,null,null,"Date",{"$f":"$D$3","v":"00:00:00"}]
[null,null,null,null,null,"Index",{"$f":"E18","v":20},null,null,null,null,{"$f":"$F$3","v":133},null,null,{"$f":"$G$3","v":68.599999999999994},null,{"$f":"ROUND((G295*(L295/113)+(O295-AA298)),0)","v":20}]
[]
[null,null,null,null,null,"Trou",1,2,3,4,5,6,7,8,9,"Aller",10,11,12,13,14,15,16,17,18,"Retour","Total"]
[null,null,null,null,null,"PAR",{"$f":"G$7","v":4},{"$f":"H$7","v":4},5,4,3,5,3,5,3,{"$f":"SUM(G298:O298)","v":36},{"$f":"Q$7","v":4},4,3,5,3,4,4,5,4,{"$f":"SUM(Q298:Y298)","v":36},{"$f":"SUM(P298+Z298)","v":72}]
[null,null,null,null,null,"HCP trous",{"$f":"G$8","v":4},{"$f":"H$8","v":8},12,14,2,10,18,16,6,null,{"$f":"Q$8","v":1},9,11,5,17,15,3,13,7]
[null,null,null,null,null,"Coups reçus",{"$f":"IF($Q295<=18,IF(G299<=$Q295,1,0),IF($Q295<=36,IF(G299<=($Q295-18),2,1),IF($Q295>36,IF(G299<=($Q295-36),3,2))))","v":1},{"$f":"IF($Q295<=18,IF(H299<=$Q295,1,0),IF($Q295<=36,IF(H299<=($Q295-18),2,1),IF($Q295>36,IF(H299<=($Q295-36),3,2))))","v":1},1,1,2,1,1,1,1,{"$f":"SUM(G300:O300)","v":10},{"$f":"IF($Q295<=18,IF(Q299<=$Q295,1,0),IF($Q295<=36,IF(Q299<=($Q295-18),2,1),IF($Q295>36,IF(Q299<=($Q295-36),3,2))))","v":2},1,1,1,1,1,1,1,1,{"$f":"SUM(Q300:Y300)","v":10},{"$f":"P300+Z300","v":20}]
[null,null,null,null,null,"Stroke play",{"$f":"G18","v":10},10,10,10,10,10,10,10,10,{"$f":"SUM(G301:O301)","v":90},{"$f":"Q18","v":10},10,10,10,10,10,10,10,10,{"$f":"SUM(Q301:Y301)","v":90},{"$f":"P301+Z301","v":180}]
[null,null,null,null,null,"Net Stableford",{"$f":"IF(G301-G298=-1,3+G300)+IF(G301-G298=0,2+G300)+IF(G301-G298=1,1+G300)+IF(G301-G298=2,G300)+IF(G301-G298=3,IF(G300-1>0,G300-1,0))+IF(G301-G298=4,IF(G300-2>0,G300-2,0))","v":0},{"$f":"IF(H301-H298=-1,3+H300)+IF(H301-H298=0,2+H300)+IF(H301-H298=1,1+H300)+IF(H301-H298=2,H300)+IF(H301-H298=3,IF(H300-1>0,H300-1,0))+IF(H301-H298=4,IF(H300-2>0,H300-2,0))","v":0},0,0,0,0,0,0,0,{"$f":"SUM(G302:O302)","v":0},{"$f":"IF(Q301-Q298=-1,3+Q300)+IF(Q301-Q298=0,2+Q300)+IF(Q301-Q298=1,1+Q300)+IF(Q301-Q298=2,Q300)+IF(Q301-Q298=3,IF(Q300-1>0,Q300-1,0))+IF(Q301-Q298=4,IF(Q300-2>0,Q300-2,0))","v":0},0,0,0,0,0,0,0,0,{"$f":"SUM(Q302:Y302)","v":0},{"$f":"P302+Z302","v":0}]
[null,null,null,null,null,"Score Brut",{"$f":"IF(G301-G298=-2,4)+IF(G301-G298=-1,3)+IF(G301-G298=0,2)+IF(G301-G298=1,1)+IF(G301-G298>2,0)","v":0},0,0,0,0,0,0,0,0,{"$f":"SUM(G303:O303)","v":0},{"$f":"IF(Q301-Q298=-2,4)+IF(Q301-Q298=-1,3)+IF(Q301-Q298=0,2)+IF(Q301-Q298=1,1)+IF(Q301-Q298>2,0)","v":0},0,0,0,0,0,0,0,0,{"$f":"SUM(Q303:Y303)","v":0},{"$f":"P303+Z303","v":0}]
[null,null,null,null,null,null,{"$f":"G301-G298","v":6},{"$f":"H301-H298","v":6},5,6,7,5,7,5,7,null,{"$f":"Q301-Q298","v":6},6,7,5,7,6,6,5,6]
[]
[]
[null,null,null,null,null,"Statistiques scores",null,"Eagle & moins",null,null,null,{"$f":"COUNTIF(G304:Y304,\"<=-2\")","v":0},"Par",null,{"$f":"COUNTIF(G304:Y304,\"=0\")","v":0},"Double bogey",null,null,null,null,{"$f":"COUNTIF(G304:Y304,\"=2\")","v":0}]
[null,null,null,null,null,null,null,"Birdie",null,null,null,{"$f":"COUNTIF(G304:Y304,\"=-1\")","v":0},"Bogey",null,{"$f":"COUNTIF(G304:Y304,\"=1\")","v":0},"Triple bogey & plus",null,null,null,null,{"$f":"COUNTIF(G304:Y304,\">=3\")","v":18}]
[null,null,null,null,null,null,null,{"$f":"M307","v":"Par"},null,null,null,{"$f":"O307","v":0}]
[null,null,null,null,null,null,null,{"$f":"M308","v":"Bogey"},null,null,null,{"$f":"O308","v":0}]
[null,null,null,null,null,null,null,{"$f":"P307","v":"Double bogey"},null,null,null,{"$f":"U307","v":0}]
[null,null,null,null,null,null,null,{"$f":"P308","v":"Triple bogey & plus"},null,null,null,{"$f":"U308","v":18}]
[]
[]
[]
[]
[null,null,null,null,null,"Nom",{"$f":"C19","v":0},null,null,null,null,"Slope",null,null,"SSS",null,"Coups reçus",null,null,null,null,null,null,null,null,"Date",{"$f":"$D$3","v":"00:00:00"}]
[null,null,null,null,null,"Index",{"$f":"E19","v":20},null,null,null,null,{"$f":"$F$3","v":133},null,null,{"$f":"$G$3","v":68.599999999999994},null,{"$f":"ROUND((G318*(L318/113)+(O318-AA321)),0)","v":20}]
[]
[null,null,null,null,null,"Trou",1,2,3,4,5,6,7,8,9,"Aller",10,11,12,13,14,15,16,17,18,"Retour","Total"]
[null,null,null,null,null,"PAR",{"$f":"G$7","v":4},{"$f":"H$7","v":4},5,4,3,5,3,5,3,{"$f":"SUM(G321:O321)","v":36},{"$f":"Q$7","v":4},4,3,5,3,4,4,5,4,{"$f":"SUM(Q321:Y321)","v":36},{"$f":"SUM(P321+Z321)","v":72}]
[null,null,null,null,null,"HCP trous",{"$f":"G$8","v":4},{"$f":"H$8","v":8},12,14,2,10,18,16,6,null,{"$f":"Q$8","v":1},9,11,5,17,15,3,13,7]
[null,null,null,null,null,"Coups reçus",{"$f":"IF($Q318<=18,IF(G322<=$Q318,1,0),IF($Q318<=36,IF(G322<=($Q318-18),2,1),IF($Q318>36,IF(G322<=($Q318-36),3,2))))","v":1},{"$f":"IF($Q318<=18,IF(H322<=$Q318,1,0),IF($Q318<=36,IF(H322<=($Q318-18),2,1),IF($Q318>36,IF(H322<=($Q318-36),3,2))))","v":1},1,1,2,1,1,1,1,{"$f":"SUM(G323:O323)","v":10},{"$f":"IF($Q318<=18,IF(Q322<=$Q318,1,0),IF($Q318<=36,IF(Q322<=($Q318-18),2,1),IF($Q318>36,IF(Q322<=($Q318-36),3,2))))","v":2},1,1,1,1,1,1,1,1,{"$f":"SUM(Q323:Y323)","v":10},{"$f":"P323+Z323","v":20}]
[null,null,null,null,null,"Stroke play",{"$f":"G19","v":10},10,10,10,10,10,10,10,10,{"$f":"SUM(G324:O324)","v":90},{"$f":"Q19","v":10},10,10,10,10,10,10,10,10,{"$f":"SUM(Q324:Y324)","v":90},{"$f":"P324+Z324","v":180}]
[null,null,null,null,null,"Net Stableford",{"$f":"IF(G324-G321=-1,3+G323)+IF(G324-G321=0,2+G323)+IF(G324-G321=1,1+G323)+IF(G324-G321=2,G323)+IF(G324-G321=3,IF(G323-1>0,G323-1,0))+IF(G324-G321=4,IF(G323-2>0,G323-2,0))","v":0},{"$f":"IF(H324-H321=-1,3+H323)+IF(H324-H321=0,2+H323)+IF(H324-H321=1,1+H323)+IF(H324-H321=2,H323)+IF(H324-H321=3,IF(H323-1>0,H323-1,0))+IF(H324-H321=4,IF(H323-2>0,H323-2,0))","v":0},0,0,0,0,0,0,0,{"$f":"SUM(G325:O325)","v":0},{"$f":"IF(Q324-Q321=-1,3+Q323)+IF(Q324-Q321=0,2+Q323)+IF(Q324-Q321=1,1+Q323)+IF(Q324-Q321=2,Q323)+IF(Q324-Q321=3,IF(Q323-1>0,Q323-1,0))+IF(Q324-Q321=4,IF(Q323-2>0,Q323-2,0))","v":0},0,0,0,0,0,0,0,0,{"$f":"SUM(Q325:Y325)","v":0},{"$f":"P325+Z325","v":0}]
[null,null,null,null,null,"Score Brut",{"$f":"IF(G324-G321=-2,4)+IF(G324-G321=-1,3)+IF(G324-G321=0,2)+IF(G324-G321=1,1)+IF(G324-G321>2,0)","v":0},0,0,0,0,0,0,0,0,{"$f":"SUM(G326:O326)","v":0},{"$f":"IF(Q324-Q321=-2,4)+IF(Q324-Q321=-1,3)+IF(Q324-Q321=0,2)+IF(Q324-Q321=1,1)+IF(Q324-Q321>2,0)","v":0},0,0,0,0,0,0,0,0,{"$f":"SUM(Q326:Y326)","v":0},{"$f":"P326+Z326","v":0}]
[null,null,null,null,null,null,{"$f":"G324-G321","v":6},{"$f":"H324-H321","v":6},5,6,7,5,7,5,7,null,{"$f":"Q324-Q321","v":6},6,7,5,7,6,6,5,6]
[]
[]
[null,null,null,null,null,"Statistiques scores",null,"Eagle & moins",null,null,null,{"$f":"COUNTIF(G327:Y327,\"<=-2\")","v":0},"Par",null,{"$f":"COUNTIF(G327:Y327,\"=0\")","v":0},"Double bogey",null,null,null,null,{"$f":"COUNTIF(G327:Y327,\"=2\")","v":0}]
[null,null,null,null,null,null,null,"Birdie",null,null,null,{"$f":"COUNTIF(G327:Y327,\"=-1\")","v":0},"Bogey",null,{"$f":"COUNTIF(G327:Y327,\"=1\")","v":0},"Triple bogey & plus",null,null,null,null,{"$f":"COUNTIF(G327:Y327,\">=3\")","v":18}]
[null,null,null,null,null,null,null,{"$f":"M330","v":"Par"},null,null,null,{"$f":"O330","v":0}]
[null,null,null,null,null,null,null,{"$f":"M331","v":"Bogey"},null,null,null,{"$f":"O331","v":0}]
[null,null,null,null,null,null,null,{"$f":"P330","v":"Double bogey"},null,null,null,{"$f":"U330","v":0}]
[null,null,null,null,null,null,null,{"$f":"P331","v":"Triple bogey & plus"},null,null,null,{"$f":"U331","v":18}]
[]
[]
[]
[]
[null,null,null,null,null,"Nom",{"$f":"C20","v":0},null,null,null,null,"Slope",null,null,"SSS",null,"Coups reçus",null,null,null,null,null,null,null,null,"Date",{"$f":"$D$3","v":"00:00:00"}]
[null,null,null,null,null,"Index",{"$f":"E20","v":20},null,null,null,null,{"$f":"$F$3","v":133},null,null,{"$f":"$G$3","v":68.599999999999994},null,{"$f":"ROUND((G341*(L341/113)+(O341-AA344)),0)","v":20}]
[]
[null,null,null,null,null,"Trou",1,2,3,4,5,6,7,8,9,"Aller",10,11,12,13,14,15,16,17,18,"Retour","Total"]
[null,null,null,null,null,"PAR",{"$f":"G$7","v":4},{"$f":"H$7","v":4},5,4,3,5,3,5,3,{"$f":"SUM(G344:O344)","v":36},{"$f":"Q$7","v":4},4,3,5,3,4,4,5,4,{"$f":"SUM(Q344:Y344)","v":36},{"$f":"SUM(P344+Z344)","v":72}]
[null,null,null,null,null,"HCP trous",{"$f":"G$8","v":4},{"$f":"H$8","v":8},12,14,2,10,18,16,6,null,{"$f":"Q$8","v":1},9,11,5,17,15,3,13,7]
[null,null,null,null,null,"Coups reçus",{"$f":"IF($Q341<=18,IF(G345<=$Q341,1,0),IF($Q341<=36,IF(G345<=($Q341-18),2,1),IF($Q341>36,IF(G345<=($Q341-36),3,2))))","v":1},{"$f":"IF($Q341<=18,IF(H345<=$Q341,1,0),IF($Q341<=36,IF(H345<=($Q341-18),2,1),IF($Q341>36,IF(H345<=($Q341-36),3,2))))","v":1},1,1,2,1,1,1,1,{"$f":"SUM(G346:O346)","v":10},{"$f":"IF($Q341<=18,IF(Q345<=$Q341,1,0),IF($Q341<=36,IF(Q345<=($Q341-18),2,1),IF($Q341>36,IF(Q345<=($Q341-36),3,2))))","v":2},1,1,1,1,1,1,1,1,{"$f":"SUM(Q346:Y346)","v":10},{"$f":"P346+Z346","v":20}]
[null,null,null,null,null,"Stroke play",{"$f":"G20","v":10},10,10,10,10,10,10,10,10,{"$f":"SUM(G347:O347)","v":90},{"$f":"Q20","v":10},10,10,10,10,10,10,10,10,{"$f":"SUM(Q347:Y347)","v":90},{"$f":"P347+Z347","v":180}]
[null,null,null,null,null,"Net Stableford",{"$f":"IF(G347-G344=-1,3+G346)+IF(G347-G344=0,2+G346)+IF(G347-G344=1,1+G346)+IF(G347-G344=2,G346)+IF(G347-G344=3,IF(G346-1>0,G346-1,0))+IF(G347-G344=4,IF(G346-2>0,G346-2,0))","v":0},{"$f":"IF(H347-H344=-1,3+H346)+IF(H347-H344=0,2+H346)+IF(H347-H344=1,1+H346)+IF(H347-H344=2,H346)+IF(H347-H344=3,IF(H346-1>0,H346-1,0))+IF(H347-H344=4,IF(H346-2>0,H346-2,0))","v":0},0,0,0,0,0,0,0,{"$f":"SUM(G348:O348)","v":0},{"$f":"IF(Q347-Q344=-1,3+Q346)+IF(Q347-Q344=0,2+Q346)+IF(Q347-Q344=1,1+Q346)+IF(Q347-Q344=2,Q346)+IF(Q347-Q344=3,IF(Q346-1>0,Q346-1,0))+IF(Q347-Q344=4,IF(Q346-2>0,Q346-2,0))","v":0},0,0,0,0,0,0,0,0,{"$f":"SUM(Q348:Y348)","v":0},{"$f":"P348+Z348","v":0}]
[null,null,null,null,null,"Score Brut",{"$f":"IF(G347-G344=-2,4)+IF(G347-G344=-1,3)+IF(G347-G344=0,2)+IF(G347-G344=1,1)+IF(G347-G344>2,0)","v":0},0,0,0,0,0,0,0,0,{"$f":"SUM(G349:O349)","v":0},{"$f":"IF(Q347-Q344=-2,4)+IF(Q347-Q344=-1,3)+IF(Q347-Q344=0,2)+IF(Q347-Q344=1,1)+IF(Q347-Q344>2,0)","v":0},0,0,0,0,0,0,0,0,{"$f":"SUM(Q349:Y349)","v":0},{"$f":"P349+Z349","v":0}]
[null,null,null,null,null,null,{"$f":"G347-G344","v":6},{"$f":"H347-H344","v":6},5,6,7,5,7,5,7,null,{"$f":"Q347-Q344","v":6},6,7,5,7,6,6,5,6]
[]
[]
[null,null,null,null,null,"Statistiques scores",null,"Eagle & moins",null,null,null,{"$f":"COUNTIF(G350:Y350,\"<=-2\")","v":0},"Par",null,{"$f":"COUNTIF(G350:Y350,\"=0\")","v":0},"Double bogey",null,null,null,null,{"$f":"COUNTIF(G350:Y350,\"=2\")","v":0}]
[null,null,null,null,null,null,null,"Birdie",null,null,null,{"$f":"COUNTIF(G350:Y350,\"=-1\")","v":0},"Bogey",null,{"$f":"COUNTIF(G350:Y350,\"=1\")","v":0},"Triple bogey & plus",null,null,null,null,{"$f":"COUNTIF(G350:Y350,\">=3\")","v":18}]
[null,null,null,null,null,null,null,{"$f":"M353","v":"Par"},null,null,null,{"$f":"O353","v":0}]
[null,null,null,null,null,null,null,{"$f":"M354","v":"Bogey"},null,null,null,{"$f":"O354","v":0}]
[null,null,null,null,null,null,null,{"$f":"P353","v":"Double bogey"},null,null,null,{"$f":"U353","v":0}]
[null,null,null,null,null,null,null,{"$f":"P354","v":"Triple bogey & plus"},null,null,null,{"$f":"U354","v":18}]
[]
[]
[]
[]
[null,null,null,null,null,"Nom",{"$f":"C21","v":0},null,null,null,null,"Slope",null,null,"SSS",null,"Coups reçus",null,null,null,null,null,null,null,null,"Date",{"$f":"$D$3","v":"00:00:00"}]
[null,null,null,null,null,"Index",{"$f":"E21","v":20},null,null,null,null,{"$f":"$F$3","v":133},null,null,{"$f":"$G$3","v":68.599999999999994},null,{"$f":"ROUND((G364*(L364/113)+(O364-AA367)),0)","v":20}]
[]
[null,null,null,null,null,"Trou",1,2,3,4,5,6,7,8,9,"Aller",10,11,12,13,14,15,16,17,18,"Retour","Total"]
[null,null,null,null,null,"PAR",{"$f":"G$7","v":4},{"$f":"H$7","v":4},5,4,3,5,3,5,3,{"$f":"SUM(G367:O367)","v":36},{"$f":"Q$7","v":4},4,3,5,3,4,4,5,4,{"$f":"SUM(Q367:Y367)","v":36},{"$f":"SUM(P367+Z367)","v":72}]
[null,null,null,null,null,"HCP trous",{"$f":"G$8","v":4},{"$f":"H$8","v":8},12,14,2,10,18,16,6,null,{"$f":"Q$8","v":1},9,11,5,17,15,3,13,7]
[null,null,null,null,null,"Coups reçus",{"$f":"IF($Q364<=18,IF(G368<=$Q364,1,0),IF($Q364<=36,IF(G368<=($Q364-18),2,1),IF($Q364>36,IF(G368<=($Q364-36),3,2))))","v":1},{"$f":"IF($Q364<=18,IF(H368<=$Q364,1,0),IF($Q364<=36,IF(H368<=($Q364-18),2,1),IF($Q364>36,IF(H368<=($Q364-36),3,2))))","v":1},1,1,2,1,1,1,1,{"$f":"SUM(G369:O369)","v":10},{"$f":"IF($Q364<=18,IF(Q368<=$Q364,1,0),IF($Q364<=36,IF(Q368<=($Q364-18),2,1),IF($Q364>36,IF(Q368<=($Q364-36),3,2))))","v":2},1,1,1,1,1,1,1,1,{"$f":"SUM(Q369:Y369)","v":10},{"$f":"P369+Z369","v":20}]
[null,null,null,null,null,"Stroke play",{"$f":"G21","v":10},10,10,10,10,10,10,10,10,{"$f":"SUM(G370:O370)","v":90},{"$f":"Q21","v":10},10,10,10,10,10,10,10,10,{"$f":"SUM(Q370:Y370)","v":90},{"$f":"P370+Z370","v":180}]
[null,null,null,null,null,"Net Stableford",{"$f":"IF(G370-G367=-1,3+G369)+IF(G370-G367=0,2+G369)+IF(G370-G367=1,1+G369)+IF(G370-G367=2,G369)+IF(G370-G367=3,IF(G369-1>0,G369-1,0))+IF(G370-G367=4,IF(G369-2>0,G369-2,0))","v":0},{"$f":"IF(H370-H367=-1,3+H369)+IF(H370-H367=0,2+H369)+IF(H370-H367=1,1+H369)+IF(H370-H367=2,H369)+IF(H370-H367=3,IF(H369-1>0,H369-1,0))+IF(H370-H367=4,IF(H369-2>0,H369-2,0))","v":0},0,0,0,0,0,0,0,{"$f":"SUM(G371:O371)","v":0},{"$f":"IF(Q370-Q367=-1,3+Q369)+IF(Q370-Q367=0,2+Q369)+IF(Q370-Q367=1,1+Q369)+IF(Q370-Q367=2,Q369)+IF(Q370-Q367=3,IF(Q369-1>0,Q369-1,0))+IF(Q370-Q367=4,IF(Q369-2>0,Q369-2,0))","v":0},0,0,0,0,0,0,0,0,{"$f":"SUM(Q371:Y371)","v":0},{"$f":"P371+Z371","v":0}]
[null,null,null,null,null,"Score Brut",{"$f":"IF(G370-G367=-2,4)+IF(G370-G367=-1,3)+IF(G370-G367=0,2)+IF(G370-G367=1,1)+IF(G370-G367>2,0)","v":0},0,0,0,0,0,0,0,0,{"$f":"SUM(G372:O372)","v":0},{"$f":"IF(Q370-Q367=-2,4)+IF(Q370-Q367=-1,3)+IF(Q370-Q367=0,2)+IF(Q370-Q367=1,1)+IF(Q370-Q367>2,0)","v":0},0,0,0,0,0,0,0,0,{"$f":"SUM(Q372:Y372)","v":0},{"$f":"P372+Z372","v":0}]
[null,null,null,null,null,null,{"$f":"G370-G367","v":6},{"$f":"H370-H367","v":6},5,6,7,5,7,5,7,null,{"$f":"Q370-Q367","v":6},6,7,5,7,6,6,5,6]
[]
[]
[null,null,null,null,null,"Statistiques scores",null,"Eagle & moins",null,null,null,{"$f":"COUNTIF(G373:Y373,\"<=-2\")","v":0},"Par",null,{"$f":"COUNTIF(G373:Y373,\"=0\")","v":0},"Double bogey",null,null,null,null,{"$f":"COUNTIF(G373:Y373,\"=2\")","v":0}]
[null,null,null,null,null,null,null,"Birdie",null,null,null,{"$f":"COUNTIF(G373:Y373,\"=-1\")","v":0},"Bogey",null,{"$f":"COUNTIF(G373:Y373,\"=1\")","v":0},"Triple bogey & plus",null,null,null,null,{"$f":"COUNTIF(G373:Y373,\">=3\")","v":18}]
[null,null,null,null,null,null,null,{"$f":"M376","v":"Par"},null,null,null,{"$f":"O376","v":0}]
[null,null,null,null,null,null,null,{"$f":"M377","v":"Bogey"},null,null,null,{"$f":"O377","v":0}]
[null,null,null,null,null,null,null,{"$f":"P376","v":"Double bogey"},null,null,null,{"$f":"U376","v":0}]
[null,null,null,null,null,null,null,{"$f":"P377","v":"Triple bogey & plus"},null,null,null,{"$f":"U377","v":18}]
[]
[]
[]
[]
[null,null,null,null,null,"Nom",{"$f":"C22","v":0},null,null,null,null,"Slope",null,null,"SSS",null,"Coups reçus",null,null,null,null,null,null,null,null,"Date",{"$f":"$D$3","v":"00:00:00"}]
[null,null,null,null,null,"Index",{"$f":"E22","v":20},null,null,null,null,{"$f":"$F$3","v":133},null,null,{"$f":"$G$3","v":68.599999999999994},null,{"$f":"ROUND((G387*(L387/113)+(O387-AA390)),0)","v":20}]
[]
[null,null,null,null,null,"Trou",1,2,3,4,5,6,7,8,9,"Aller",10,11,12,13,14,15,16,17,18,"Retour","Total"]
[null,null,null,null,null,"PAR",{"$f":"G$7","v":4},{"$f":"H$7","v":4},5,4,3,5,3,5,3,{"$f":"SUM(G390:O390)","v":36},{"$f":"Q$7","v":4},4,3,5,3,4,4,5,4,{"$f":"SUM(Q390:Y390)","v":36},{"$f":"SUM(P390+Z390)","v":72}]
[null,null,null,null,null,"HCP trous",{"$f":"G$8","v":4},{"$f":"H$8","v":8},12,14,2,10,18,16,6,null,{"$f":"Q$8","v":1},9,11,5,17,15,3,13,7]
[null,null,null,null,null,"Coups reçus",{"$f":"IF($Q387<=18,IF(G391<=$Q387,1,0),IF($Q387<=36,IF(G391<=($Q387-18),2,1),IF($Q387>36,IF(G391<=($Q387-36),3,2))))","v":1},{"$f":"IF($Q387<=18,IF(H391<=$Q387,1,0),IF($Q387<=36,IF(H391<=($Q387-18),2,1),IF($Q387>36,IF(H391<=($Q387-36),3,2))))","v":1},1,1,2,1,1,1,1,{"$f":"SUM(G392:O392)","v":10},{"$f":"IF($Q387<=18,IF(Q391<=$Q387,1,0),IF($Q387<=36,IF(Q391<=($Q387-18),2,1),IF($Q387>36,IF(Q391<=($Q387-36),3,2))))","v":2},1,1,1,1,1,1,1,1,{"$f":"SUM(Q392:Y392)","v":10},{"$f":"P392+Z392","v":20}]
[null,null,null,null,null,"Stroke play",{"$f":"G22","v":10},10,10,10,10,10,10,10,10,{"$f":"SUM(G393:O393)","v":90},{"$f":"Q22","v":10},10,10,10,10,10,10,10,10,{"$f":"SUM(Q393:Y393)","v":90},{"$f":"P393+Z393","v":180}]
[null,null,null,null,null,"Net Stableford",{"$f":"IF(G393-G390=-1,3+G392)+IF(G393-G390=0,2+G392)+IF(G393-G390=1,1+G392)+IF(G393-G390=2,G392)+IF(G393-G390=3,IF(G392-1>0,G392-1,0))+IF(G393-G390=4,IF(G392-2>0,G392-2,0))","v":0},{"$f":"IF(H393-H390=-1,3+H392)+IF(H393-H390=0,2+H392)+IF(H393-H390=1,1+H392)+IF(H393-H390=2,H392)+IF(H393-H390=3,IF(H392-1>0,H392-1,0))+IF(H393-H390=4,IF(H392-2>0,H392-2,0))","v":0},0,0,0,0,0,0,0,{"$f":"SUM(G394:O394)","v":0},{"$f":"IF(Q393-Q390=-1,3+Q392)+IF(Q393-Q390=0,2+Q392)+IF(Q393-Q390=1,1+Q392)+IF(Q393-Q390=2,Q392)+IF(Q393-Q390=3,IF(Q392-1>0,Q392-1,0))+IF(Q393-Q390=4,IF(Q392-2>0,Q392-2,0))","v":0},0,0,0,0,0,0,0,0,{"$f":"SUM(Q394:Y394)","v":0},{"$f":"P394+Z394","v":0}]
[null,null,null,null,null,"Score Brut",{"$f":"IF(G393-G390=-2,4)+IF(G393-G390=-1,3)+IF(G393-G390=0,2)+IF(G393-G390=1,1)+IF(G393-G390>2,0)","v":0},0,0,0,0,0,0,0,0,{"$f":"SUM(G395:O395)","v":0},{"$f":"IF(Q393-Q390=-2,4)+IF(Q393-Q390=-1,3)+IF(Q393-Q390=0,2)+IF(Q393-Q390=1,1)+IF(Q393-Q390>2,0)","v":0},0,0,0,0,0,0,0,0,{"$f":"SUM(Q395:Y395)","v":0},{"$f":"P395+Z395","v":0}]
[null,null,null,null,null,null,{"$f":"G393-G390","v":6},{"$f":"H393-H390","v":6},5,6,7,5,7,5,7,null,{"$f":"Q393-Q390","v":6},6,7,5,7,6,6,5,6]
[]
[]
[null,null,null,null,null,"Statistiques scores",null,"Eagle & moins",null,null,null,{"$f":"COUNTIF(G396:Y396,\"<=-2\")","v":0},"Par",null,{"$f":"COUNTIF(G396:Y396,\"=0\")","v":0},"Double bogey",null,null,null,null,{"$f":"COUNTIF(G396:Y396,\"=2\")","v":0}]
[null,null,null,null,null,null,null,"Birdie",null,null,null,{"$f":"COUNTIF(G396:Y396,\"=-1\")","v":0},"Bogey",null,{"$f":"COUNTIF(G396:Y396,\"=1\")","v":0},"Triple bogey & plus",null,null,null,null,{"$f":"COUNTIF(G396:Y396,\">=3\")","v":18}]
[null,null,null,null,null,null,null,{"$f":"M399","v":"Par"},null,null,null,{"$f":"O399","v":0}]
[null,null,null,null,null,null,null,{"$f":"M400","v":"Bogey"},null,null,null,{"$f":"O400","v":0}]
[null,null,null,null,null,null,null,{"$f":"P399","v":"Double bogey"},null,null,null,{"$f":"U399","v":0}]
[null,null,null,null,null,null,null,{"$f":"P400","v":"Triple bogey & plus"},null,null,null,{"$f":"U400","v":18}]
[]
[]
[]
[]
[null,null,null,null,null,"Nom",{"$f":"C23","v":0},null,null,null,null,"Slope",null,null,"SSS",null,"Coups reçus",null,null,null,null,null,null,null,null,"Date",{"$f":"$D$3","v":"00:00:00"}]
[null,null,null,null,null,"Index",{"$f":"E23","v":20},null,null,null,null,{"$f":"$F$3","v":133},null,null,{"$f":"$G$3","v":68.599999999999994},null,{"$f":"ROUND((G410*(L410/113)+(O410-AA413)),0)","v":20}]
[]
[null,null,null,null,null,"Trou",1,2,3,4,5,6,7,8,9,"Aller",10,11,12,13,14,15,16,17,18,"Retour","Total"]
[null,null,null,null,null,"PAR",{"$f":"G$7","v":4},{"$f":"H$7","v":4},5,4,3,5,3,5,3,{"$f":"SUM(G413:O413)","v":36},{"$f":"Q$7","v":4},4,3,5,3,4,4,5,4,{"$f":"SUM(Q413:Y413)","v":36},{"$f":"SUM(P413+Z413)","v":72}]
[null,null,null,null,null,"HCP trous",{"$f":"G$8","v":4},{"$f":"H$8","v":8},12,14,2,10,18,16,6,null,{"$f":"Q$8","v":1},9,11,5,17,15,3,13,7]
[null,null,null,null,null,"Coups reçus",{"$f":"IF($Q410<=18,IF(G414<=$Q410,1,0),IF($Q410<=36,IF(G414<=($Q410-18),2,1),IF($Q410>36,IF(G414<=($Q410-36),3,2))))","v":1},{"$f":"IF($Q410<=18,IF(H414<=$Q410,1,0),IF($Q410<=36,IF(H414<=($Q410-18),2,1),IF($Q410>36,IF(H414<=($Q410-36),3,2))))","v":1},1,1,2,1,1,1,1,{"$f":"SUM(G415:O415)","v":10},{"$f":"IF($Q410<=18,IF(Q414<=$Q410,1,0),IF($Q410<=36,IF(Q414<=($Q410-18),2,1),IF($Q410>36,IF(Q414<=($Q410-36),3,2))))","v":2},1,1,1,1,1,1,1,1,{"$f":"SUM(Q415:Y415)","v":10},{"$f":"P415+Z415","v":20}]
[null,null,null,null,null,"Stroke play",{"$f":"G23","v":10},10,10,10,10,10,10,10,10,{"$f":"SUM(G416:O416)","v":90},{"$f":"Q23","v":10},10,10,10,10,10,10,10,10,{"$f":"SUM(Q416:Y416)","v":90},{"$f":"P416+Z416","v":180}]
[null,null,null,null,null,"Net Stableford",{"$f":"IF(G416-G413=-1,3+G415)+IF(G416-G413=0,2+G415)+IF(G416-G413=1,1+G415)+IF(G416-G413=2,G415)+IF(G416-G413=3,IF(G415-1>0,G415-1,0))+IF(G416-G413=4,IF(G415-2>0,G415-2,0))","v":0},{"$f":"IF(H416-H413=-1,3+H415)+IF(H416-H413=0,2+H415)+IF(H416-H413=1,1+H415)+IF(H416-H413=2,H415)+IF(H416-H413=3,IF(H415-1>0,H415-1,0))+IF(H416-H413=4,IF(H415-2>0,H415-2,0))","v":0},0,0,0,0,0,0,0,{"$f":"SUM(G417:O417)","v":0},{"$f":"IF(Q416-Q413=-1,3+Q415)+IF(Q416-Q413=0,2+Q415)+IF(Q416-Q413=1,1+Q415)+IF(Q416-Q413=2,Q415)+IF(Q416-Q413=3,IF(Q415-1>0,Q415-1,0))+IF(Q416-Q413=4,IF(Q415-2>0,Q415-2,0))","v":0},0,0,0,0,0,0,0,0,{"$f":"SUM(Q417:Y417)","v":0},{"$f":"P417+Z417","v":0}]
[null,null,null,null,null,"Score Brut",{"$f":"IF(G416-G413=-2,4)+IF(G416-G413=-1,3)+IF(G416-G413=0,2)+IF(G416-G413=1,1)+IF(G416-G413>2,0)","v":0},0,0,0,0,0,0,0,0,{"$f":"SUM(G418:O418)","v":0},{"$f":"IF(Q416-Q413=-2,4)+IF(Q416-Q413=-1,3)+IF(Q416-Q413=0,2)+IF(Q416-Q413=1,1)+IF(Q416-Q413>2,0)","v":0},0,0,0,0,0,0,0,0,{"$f":"SUM(Q418:Y418)","v":0},{"$f":"P418+Z418","v":0}]
[null,null,null,null,null,null,{"$f":"G416-G413","v":6},{"$f":"H416-H413","v":6},5,6,7,5,7,5,7,null,{"$f":"Q416-Q413","v":6},6,7,5,7,6,6,5,6]
[]
[]
[null,null,null,null,null,"Statistiques scores",null,"Eagle & moins",null,null,null,{"$f":"COUNTIF(G419:Y419,\"<=-2\")","v":0},"Par",null,{"$f":"COUNTIF(G419:Y419,\"=0\")","v":0},"Double bogey",null,null,null,null,{"$f":"COUNTIF(G419:Y419,\"=2\")","v":0}]
[null,null,null,null,null,null,null,"Birdie",null,null,null,{"$f":"COUNTIF(G419:Y419,\"=-1\")","v":0},"Bogey",null,{"$f":"COUNTIF(G419:Y419,\"=1\")","v":0},"Triple bogey & plus",null,null,null,null,{"$f":"COUNTIF(G419:Y419,\">=3\")","v":18}]
[null,null,null,null,null,null,null,{"$f":"M422","v":"Par"},null,null,null,{"$f":"O422","v":0}]
[null,null,null,null,null,null,null,{"$f":"M423","v":"Bogey"},null,null,null,{"$f":"O423","v":0}]
[null,null,null,null,null,null,null,{"$f":"P422","v":"Double bogey"},null,null,null,{"$f":"U422","v":0}]
[null,null,null,null,null,null,null,{"$f":"P423","v":"Triple bogey & plus"},null,null,null,{"$f":"U423","v":18}]
[]
[]
[]
[]
[null,null,null,null,null,"Nom",{"$f":"C24","v":0},null,null,null,null,"Slope",null,null,"SSS",null,"Coups reçus",null,null,null,null,null,null,null,null,"Date",{"$f":"$D$3","v":"00:00:00"}]
[null,null,null,null,null,"Index",{"$f":"E24","v":20},null,null,null,null,{"$f":"$F$3","v":133},null,null,{"$f":"$G$3","v":68.599999999999994},null,{"$f":"ROUND((G433*(L433/113)+(O433-AA436)),0)","v":20}]
[]
[null,null,null,null,null,"Trou",1,2,3,4,5,6,7,8,9,"Aller",10,11,12,13,14,15,16,17,18,"Retour","Total"]
[null,null,null,null,null,"PAR",{"$f":"G$7","v":4},{"$f":"H$7","v":4},5,4,3,5,3,5,3,{"$f":"SUM(G436:O436)","v":36},{"$f":"Q$7","v":4},4,3,5,3,4,4,5,4,{"$f":"SUM(Q436:Y436)","v":36},{"$f":"SUM(P436+Z436)","v":72}]
[null,null,null,null,null,"HCP trous",{"$f":"G$8","v":4},{"$f":"H$8","v":8},12,14,2,10,18,16,6,null,{"$f":"Q$8","v":1},9,11,5,17,15,3,13,7]
[null,null,null,null,null,"Coups reçus",{"$f":"IF($Q433<=18,IF(G437<=$Q433,1,0),IF($Q433<=36,IF(G437<=($Q433-18),2,1),IF($Q433>36,IF(G437<=($Q433-36),3,2))))","v":1},{"$f":"IF($Q433<=18,IF(H437<=$Q433,1,0),IF($Q433<=36,IF(H437<=($Q433-18),2,1),IF($Q433>36,IF(H437<=($Q433-36),3,2))))","v":1},1,1,2,1,1,1,1,{"$f":"SUM(G438:O438)","v":10},{"$f":"IF($Q433<=18,IF(Q437<=$Q433,1,0),IF($Q433<=36,IF(Q437<=($Q433-18),2,1),IF($Q433>36,IF(Q437<=($Q433-36),3,2))))","v":2},1,1,1,1,1,1,1,1,{"$f":"SUM(Q438:Y438)","v":10},{"$f":"P438+Z438","v":20}]
[null,null,null,null,null,"Stroke play",{"$f":"G24","v":10},10,10,10,10,10,10,10,10,{"$f":"SUM(G439:O439)","v":90},{"$f":"Q24","v":10},10,10,10,10,10,10,10,10,{"$f":"SUM(Q439:Y439)","v":90},{"$f":"P439+Z439","v":180}]
[null,null,null,null,null,"Net Stableford",{"$f":"IF(G439-G436=-1,3+G438)+IF(G439-G436=0,2+G438)+IF(G439-G436=1,1+G438)+IF(G439-G436=2,G438)+IF(G439-G436=3,IF(G438-1>0,G438-1,0))+IF(G439-G436=4,IF(G438-2>0,G438-2,0))","v":0},{"$f":"IF(H439-H436=-1,3+H438)+IF(H439-H436=0,2+H438)+IF(H439-H436=1,1+H438)+IF(H439-H436=2,H438)+IF(H439-H436=3,IF(H438-1>0,H438-1,0))+IF(H439-H436=4,IF(H438-2>0,H438-2,0))","v":0},0,0,0,0,0,0,0,{"$f":"SUM(G440:O440)","v":0},{"$f":"IF(Q439-Q436=-1,3+Q438)+IF(Q439-Q436=0,2+Q438)+IF(Q439-Q436=1,1+Q438)+IF(Q439-Q436=2,Q438)+IF(Q439-Q436=3,IF(Q438-1>0,Q438-1,0))+IF(Q439-Q436=4,IF(Q438-2>0,Q438-2,0))","v":0},0,0,0,0,0,0,0,0,{"$f":"SUM(Q440:Y440)","v":0},{"$f":"P440+Z440","v":0}]
[null,null,null,null,null,"Score Brut",{"$f":"IF(G439-G436=-2,4)+IF(G439-G436=-1,3)+IF(G439-G436=0,2)+IF(G439-G436=1,1)+IF(G439-G436>2,0)","v":0},0,0,0,0,0,0,0,0,{"$f":"SUM(G441:O441)","v":0},{"$f":"IF(Q439-Q436=-2,4)+IF(Q439-Q436=-1,3)+IF(Q439-Q436=0,2)+IF(Q439-Q436=1,1)+IF(Q439-Q436>2,0)","v":0},0,0,0,0,0,0,0,0,{"$f":"SUM(Q441:Y441)","v":0},{"$f":"P441+Z441","v":0}]
[null,null,null,null,null,null,{"$f":"G439-G436","v":6},{"$f":"H439-H436","v":6},5,6,7,5,7,5,7,null,{"$f":"Q439-Q436","v":6},6,7,5,7,6,6,5,6]
[]
[]
[null,null,null,null,null,"Statistiques scores",null,"Eagle & moins",null,null,null,{"$f":"COUNTIF(G442:Y442,\"<=-2\")","v":0},"Par",null,{"$f":"COUNTIF(G442:Y442,\"=0\")","v":0},"Double bogey",null,null,null,null,{"$f":"COUNTIF(G442:Y442,\"=2\")","v":0}]
[null,null,null,null,null,null,null,"Birdie",null,null,null,{"$f":"COUNTIF(G442:Y442,\"=-1\")","v":0},"Bogey",null,{"$f":"COUNTIF(G442:Y442,\"=1\")","v":0},"Triple bogey & plus",null,null,null,null,{"$f":"COUNTIF(G442:Y442,\">=3\")","v":18}]
[null,null,null,null,null,null,null,{"$f":"M445","v":"Par"},null,null,null,{"$f":"O445","v":0}]
[null,null,null,null,null,null,null,{"$f":"M446","v":"Bogey"},null,null,null,{"$f":"O446","v":0}]
[null,null,null,null,null,null,null,{"$f":"P445","v":"Double bogey"},null,null,null,{"$f":"U445","v":0}]
[null,null,null,null,null,null,null,{"$f":"P446","v":"Triple bogey & plus"},null,null,null,{"$f":"U446","v":18}]
[]
[]
[]
[]
[null,null,null,null,null,"Nom",{"$f":"C25","v":0},null,null,null,null,"Slope",null,null,"SSS",null,"Coups reçus",null,null,null,null,null,null,null,null,"Date",{"$f":"$D$3","v":"00:00:00"}]
[null,null,null,null,null,"Index",{"$f":"E25","v":20},null,null,null,null,{"$f":"$F$3","v":133},null,null,{"$f":"$G$3","v":68.599999999999994},null,{"$f":"ROUND((G456*(L456/113)+(O456-AA459)),0)","v":20}]
[]
[null,null,null,null,null,"Trou",1,2,3,4,5,6,7,8,9,"Aller",10,11,12,13,14,15,16,17,18,"Retour","Total"]
[null,null,null,null,null,"PAR",{"$f":"G$7","v":4},{"$f":"H$7","v":4},5,4,3,5,3,5,3,{"$f":"SUM(G459:O459)","v":36},{"$f":"Q$7","v":4},4,3,5,3,4,4,5,4,{"$f":"SUM(Q459:Y459)","v":36},{"$f":"SUM(P459+Z459)","v":72}]
[null,null,null,null,null,"HCP trous",{"$f":"G$8","v":4},{"$f":"H$8","v":8},12,14,2,10,18,16,6,null,{"$f":"Q$8","v":1},9,11,5,17,15,3,13,7]
[null,null,null,null,null,"Coups reçus",{"$f":"IF($Q456<=18,IF(G460<=$Q456,1,0),IF($Q456<=36,IF(G460<=($Q456-18),2,1),IF($Q456>36,IF(G460<=($Q456-36),3,2))))","v":1},{"$f":"IF($Q456<=18,IF(H460<=$Q456,1,0),IF($Q456<=36,IF(H460<=($Q456-18),2,1),IF($Q456>36,IF(H460<=($Q456-36),3,2))))","v":1},1,1,2,1,1,1,1,{"$f":"SUM(G461:O461)","v":10},{"$f":"IF($Q456<=18,IF(Q460<=$Q456,1,0),IF($Q456<=36,IF(Q460<=($Q456-18),2,1),IF($Q456>36,IF(Q460<=($Q456-36),3,2))))","v":2},1,1,1,1,1,1,1,1,{"$f":"SUM(Q461:Y461)","v":10},{"$f":"P461+Z461","v":20}]
[null,null,null,null,null,"Stroke play",{"$f":"G25","v":10},10,10,10,10,10,10,10,10,{"$f":"SUM(G462:O462)","v":90},{"$f":"Q25","v":10},10,10,10,10,10,10,10,10,{"$f":"SUM(Q462:Y462)","v":90},{"$f":"P462+Z462","v":180}]
[null,null,null,null,null,"Net Stableford",{"$f":"IF(G462-G459=-1,3+G461)+IF(G462-G459=0,2+G461)+IF(G462-G459=1,1+G461)+IF(G462-G459=2,G461)+IF(G462-G459=3,IF(G461-1>0,G461-1,0))+IF(G462-G459=4,IF(G461-2>0,G461-2,0))","v":0},{"$f":"IF(H462-H459=-1,3+H461)+IF(H462-H459=0,2+H461)+IF(H462-H459=1,1+H461)+IF(H462-H459=2,H461)+IF(H462-H459=3,IF(H461-1>0,H461-1,0))+IF(H462-H459=4,IF(H461-2>0,H461-2,0))","v":0},0,0,0,0,0,0,0,{"$f":"SUM(G463:O463)","v":0},{"$f":"IF(Q462-Q459=-1,3+Q461)+IF(Q462-Q459=0,2+Q461)+IF(Q462-Q459=1,1+Q461)+IF(Q462-Q459=2,Q461)+IF(Q462-Q459=3,IF(Q461-1>0,Q461-1,0))+IF(Q462-Q459=4,IF(Q461-2>0,Q461-2,0))","v":0},0,0,0,0,0,0,0,0,{"$f":"SUM(Q463:Y463)","v":0},{"$f":"P463+Z463","v":0}]
[null,null,null,null,null,"Score Brut",{"$f":"IF(G462-G459=-2,4)+IF(G462-G459=-1,3)+IF(G462-G459=0,2)+IF(G462-G459=1,1)+IF(G462-G459>2,0)","v":0},0,0,0,0,0,0,0,0,{"$f":"SUM(G464:O464)","v":0},{"$f":"IF(Q462-Q459=-2,4)+IF(Q462-Q459=-1,3)+IF(Q462-Q459=0,2)+IF(Q462-Q459=1,1)+IF(Q462-Q459>2,0)","v":0},0,0,0,0,0,0,0,0,{"$f":"SUM(Q464:Y464)","v":0},{"$f":"P464+Z464","v":0}]
[null,null,null,null,null,null,{"$f":"G462-G459","v":6},{"$f":"H462-H459","v":6},5,6,7,5,7,5,7,null,{"$f":"Q462-Q459","v":6},6,7,5,7,6,6,5,6]
[]
[]
[null,null,null,null,null,"Statistiques scores",null,"Eagle & moins",null,null,null,{"$f":"COUNTIF(G465:Y465,\"<=-2\")","v":0},"Par",null,{"$f":"COUNTIF(G465:Y465,\"=0\")","v":0},"Double bogey",null,null,null,null,{"$f":"COUNTIF(G465:Y465,\"=2\")","v":0}]
[null,null,null,null,null,null,null,"Birdie",null,null,null,{"$f":"COUNTIF(G465:Y465,\"=-1\")","v":0},"Bogey",null,{"$f":"COUNTIF(G465:Y465,\"=1\")","v":0},"Triple bogey & plus",null,null,null,null,{"$f":"COUNTIF(G465:Y465,\">=3\")","v":18}]
[null,null,null,null,null,null,null,{"$f":"M468","v":"Par"},null,null,null,{"$f":"O468","v":0}]
[null,null,null,null,null,null,null,{"$f":"M469","v":"Bogey"},null,null,null,{"$f":"O469","v":0}]
[null,null,null,null,null,null,null,{"$f":"P468","v":"Double bogey"},null,null,null,{"$f":"U468","v":0}]
[null,null,null,null,null,null,null,{"$f":"P469","v":"Triple bogey & plus"},null,null,null,{"$f":"U469","v":18}]
[]
[]
[]
[]
[null,null,null,null,null,"Nom",{"$f":"C26","v":0},null,null,null,null,"Slope",null,null,"SSS",null,"Coups reçus",null,null,null,null,null,null,null,null,"Date",{"$f":"$D$3","v":"00:00:00"}]
[null,null,null,null,null,"Index",{"$f":"E26","v":20},null,null,null,null,{"$f":"$F$3","v":133},null,null,{"$f":"$G$3","v":68.599999999999994},null,{"$f":"ROUND((G479*(L479/113)+(O479-AA482)),0)","v":20}]
[]
[null,null,null,null,null,"Trou",1,2,3,4,5,6,7,8,9,"Aller",10,11,12,13,14,15,16,17,18,"Retour","Total"]
[null,null,null,null,null,"PAR",{"$f":"G$7","v":4},{"$f":"H$7","v":4},5,4,3,5,3,5,3,{"$f":"SUM(G482:O482)","v":36},{"$f":"Q$7","v":4},4,3,5,3,4,4,5,4,{"$f":"SUM(Q482:Y482)","v":36},{"$f":"SUM(P482+Z482)","v":72}]
[null,null,null,null,null,"HCP trous",{"$f":"G$8","v":4},{"$f":"H$8","v":8},12,14,2,10,18,16,6,null,{"$f":"Q$8","v":1},9,11,5,17,15,3,13,7]
[null,null,null,null,null,"Coups reçus",{"$f":"IF($Q479<=18,IF(G483<=$Q479,1,0),IF($Q479<=36,IF(G483<=($Q479-18),2,1),IF($Q479>36,IF(G483<=($Q479-36),3,2))))","v":1},{"$f":"IF($Q479<=18,IF(H483<=$Q479,1,0),IF($Q479<=36,IF(H483<=($Q479-18),2,1),IF($Q479>36,IF(H483<=($Q479-36),3,2))))","v":1},1,1,2,1,1,1,1,{"$f":"SUM(G484:O484)","v":10},{"$f":"IF($Q479<=18,IF(Q483<=$Q479,1,0),IF($Q479<=36,IF(Q483<=($Q479-18),2,1),IF($Q479>36,IF(Q483<=($Q479-36),3,2))))","v":2},1,1,1,1,1,1,1,1,{"$f":"SUM(Q484:Y484)","v":10},{"$f":"P484+Z484","v":20}]
[null,null,null,null,null,"Stroke play",{"$f":"G26","v":10},10,10,10,10,10,10,10,10,{"$f":"SUM(G485:O485)","v":90},{"$f":"Q26","v":10},10,10,10,10,10,10,10,10,{"$f":"SUM(Q485:Y485)","v":90},{"$f":"P485+Z485","v":180}]
[null,null,null,null,null,"Net Stableford",{"$f":"IF(G485-G482=-1,3+G484)+IF(G485-G482=0,2+G484)+IF(G485-G482=1,1+G484)+IF(G485-G482=2,G484)+IF(G485-G482=3,IF(G484-1>0,G484-1,0))+IF(G485-G482=4,IF(G484-2>0,G484-2,0))","v":0},{"$f":"IF(H485-H482=-1,3+H484)+IF(H485-H482=0,2+H484)+IF(H485-H482=1,1+H484)+IF(H485-H482=2,H484)+IF(H485-H482=3,IF(H484-1>0,H484-1,0))+IF(H485-H482=4,IF(H484-2>0,H484-2,0))","v":0},0,0,0,0,0,0,0,{"$f":"SUM(G486:O486)","v":0},{"$f":"IF(Q485-Q482=-1,3+Q484)+IF(Q485-Q482=0,2+Q484)+IF(Q485-Q482=1,1+Q484)+IF(Q485-Q482=2,Q484)+IF(Q485-Q482=3,IF(Q484-1>0,Q484-1,0))+IF(Q485-Q482=4,IF(Q484-2>0,Q484-2,0))","v":0},0,0,0,0,0,0,0,0,{"$f":"SUM(Q486:Y486)","v":0},{"$f":"P486+Z486","v":0}]
[null,null,null,null,null,"Score Brut",{"$f":"IF(G485-G482=-2,4)+IF(G485-G482=-1,3)+IF(G485-G482=0,2)+IF(G485-G482=1,1)+IF(G485-G482>2,0)","v":0},0,0,0,0,0,0,0,0,{"$f":"SUM(G487:O487)","v":0},{"$f":"IF(Q485-Q482=-2,4)+IF(Q485-Q482=-1,3)+IF(Q485-Q482=0,2)+IF(Q485-Q482=1,1)+IF(Q485-Q482>2,0)","v":0},0,0,0,0,0,0,0,0,{"$f":"SUM(Q487:Y487)","v":0},{"$f":"P487+Z487","v":0}]
[null,null,null,null,null,null,{"$f":"G485-G482","v":6},{"$f":"H485-H482","v":6},5,6,7,5,7,5,7,null,{"$f":"Q485-Q482","v":6},6,7,5,7,6,6,5,6]
[]
[]
[null,null,null,null,null,"Statistiques scores",null,"Eagle & moins",null,null,null,{"$f":"COUNTIF(G488:Y488,\"<=-2\")","v":0},"Par",null,{"$f":"COUNTIF(G488:Y488,\"=0\")","v":0},"Double bogey",null,null,null,null,{"$f":"COUNTIF(G488:Y488,\"=2\")","v":0}]
[null,null,null,null,null,null,null,"Birdie",null,null,null,{"$f":"COUNTIF(G488:Y488,\"=-1\")","v":0},"Bogey",null,{"$f":"COUNTIF(G488:Y488,\"=1\")","v":0},"Triple bogey & plus",null,null,null,null,{"$f":"COUNTIF(G488:Y488,\">=3\")","v":18}]
[null,null,null,null,null,null,null,{"$f":"M491","v":"Par"},null,null,null,{"$f":"O491","v":0}]
[null,null,null,null,null,null,null,{"$f":"M492","v":"Bogey"},null,null,null,{"$f":"O492","v":0}]
[null,null,null,null,null,null,null,{"$f":"P491","v":"Double bogey"},null,null,null,{"$f":"U491","v":0}]
[null,null,null,null,null,null,null,{"$f":"P492","v":"Triple bogey & plus"},null,null,null,{"$f":"U492","v":18}]
[]
[]
[]
[]
[null,null,null,null,null,"Nom",{"$f":"C27","v":0},null,null,null,null,"Slope",null,null,"SSS",null,"Coups reçus",null,null,null,null,null,null,null,null,"Date",{"$f":"$D$3","v":"00:00:00"}]
[null,null,null,null,null,"Index",{"$f":"E27","v":20},null,null,null,null,{"$f":"$F$3","v":133},null,null,{"$f":"$G$3","v":68.599999999999994},null,{"$f":"ROUND((G502*(L502/113)+(O502-AA505)),0)","v":20}]
[]
[null,null,null,null,null,"Trou",1,2,3,4,5,6,7,8,9,"Aller",10,11,12,13,14,15,16,17,18,"Retour","Total"]
[null,null,null,null,null,"PAR",{"$f":"G$7","v":4},{"$f":"H$7","v":4},5,4,3,5,3,5,3,{"$f":"SUM(G505:O505)","v":36},{"$f":"Q$7","v":4},4,3,5,3,4,4,5,4,{"$f":"SUM(Q505:Y505)","v":36},{"$f":"SUM(P505+Z505)","v":72}]
[null,null,null,null,null,"HCP trous",{"$f":"G$8","v":4},{"$f":"H$8","v":8},12,14,2,10,18,16,6,null,{"$f":"Q$8","v":1},9,11,5,17,15,3,13,7]
[null,null,null,null,null,"Coups reçus",{"$f":"IF($Q502<=18,IF(G506<=$Q502,1,0),IF($Q502<=36,IF(G506<=($Q502-18),2,1),IF($Q502>36,IF(G506<=($Q502-36),3,2))))","v":1},{"$f":"IF($Q502<=18,IF(H506<=$Q502,1,0),IF($Q502<=36,IF(H506<=($Q502-18),2,1),IF($Q502>36,IF(H506<=($Q502-36),3,2))))","v":1},1,1,2,1,1,1,1,{"$f":"SUM(G507:O507)","v":10},{"$f":"IF($Q502<=18,IF(Q506<=$Q502,1,0),IF($Q502<=36,IF(Q506<=($Q502-18),2,1),IF($Q502>36,IF(Q506<=($Q502-36),3,2))))","v":2},1,1,1,1,1,1,1,1,{"$f":"SUM(Q507:Y507)","v":10},{"$f":"P507+Z507","v":20}]
[null,null,null,null,null,"Stroke play",{"$f":"G27","v":10},10,10,10,10,10,10,10,10,{"$f":"SUM(G508:O508)","v":90},{"$f":"Q27","v":10},10,10,10,10,10,10,10,10,{"$f":"SUM(Q508:Y508)","v":90},{"$f":"P508+Z508","v":180}]
[null,null,null,null,null,"Net Stableford",{"$f":"IF(G508-G505=-1,3+G507)+IF(G508-G505=0,2+G507)+IF(G508-G505=1,1+G507)+IF(G508-G505=2,G507)+IF(G508-G505=3,IF(G507-1>0,G507-1,0))+IF(G508-G505=4,IF(G507-2>0,G507-2,0))","v":0},{"$f":"IF(H508-H505=-1,3+H507)+IF(H508-H505=0,2+H507)+IF(H508-H505=1,1+H507)+IF(H508-H505=2,H507)+IF(H508-H505=3,IF(H507-1>0,H507-1,0))+IF(H508-H505=4,IF(H507-2>0,H507-2,0))","v":0},0,0,0,0,0,0,0,{"$f":"SUM(G509:O509)","v":0},{"$f":"IF(Q508-Q505=-1,3+Q507)+IF(Q508-Q505=0,2+Q507)+IF(Q508-Q505=1,1+Q507)+IF(Q508-Q505=2,Q507)+IF(Q508-Q505=3,IF(Q507-1>0,Q507-1,0))+IF(Q508-Q505=4,IF(Q507-2>0,Q507-2,0))","v":0},0,0,0,0,0,0,0,0,{"$f":"SUM(Q509:Y509)","v":0},{"$f":"P509+Z509","v":0}]
[null,null,null,null,null,"Score Brut",{"$f":"IF(G508-G505=-2,4)+IF(G508-G505=-1,3)+IF(G508-G505=0,2)+IF(G508-G505=1,1)+IF(G508-G505>2,0)","v":0},0,0,0,0,0,0,0,0,{"$f":"SUM(G510:O510)","v":0},{"$f":"IF(Q508-Q505=-2,4)+IF(Q508-Q505=-1,3)+IF(Q508-Q505=0,2)+IF(Q508-Q505=1,1)+IF(Q508-Q505>2,0)","v":0},0,0,0,0,0,0,0,0,{"$f":"SUM(Q510:Y510)","v":0},{"$f":"P510+Z510","v":0}]
[null,null,null,null,null,null,{"$f":"G508-G505","v":6},{"$f":"H508-H505","v":6},5,6,7,5,7,5,7,null,{"$f":"Q508-Q505","v":6},6,7,5,7,6,6,5,6]
[]
[]
[null,null,null,null,null,"Statistiques scores",null,"Eagle & moins",null,null,null,{"$f":"COUNTIF(G511:Y511,\"<=-2\")","v":0},"Par",null,{"$f":"COUNTIF(G511:Y511,\"=0\")","v":0},"Double bogey",null,null,null,null,{"$f":"COUNTIF(G511:Y511,\"=2\")","v":0}]
[null,null,null,null,null,null,null,"Birdie",null,null,null,{"$f":"COUNTIF(G511:Y511,\"=-1\")","v":0},"Bogey",null,{"$f":"COUNTIF(G511:Y511,\"=1\")","v":0},"Triple bogey & plus",null,null,null,null,{"$f":"COUNTIF(G511:Y511,\">=3\")","v":18}]
[null,null,null,null,null,null,null,{"$f":"M514","v":"Par"},null,null,null,{"$f":"O514","v":0}]
[null,null,null,null,null,null,null,{"$f":"M515","v":"Bogey"},null,null,null,{"$f":"O515","v":0}]
[null,null,null,null,null,null,null,{"$f":"P514","v":"Double bogey"},null,null,null,{"$f":"U514","v":0}]
[null,null,null,null,null,null,null,{"$f":"P515","v":"Triple bogey & plus"},null,null,null,{"$f":"U515","v":18}]
[]
[]
[]
[]
[null,null,null,null,null,"Nom",{"$f":"C28","v":0},null,null,null,null,"Slope",null,null,"SSS",null,"Coups reçus",null,null,null,null,null,null,null,null,"Date",{"$f":"$D$3","v":"00:00:00"}]
[null,null,null,null,null,"Index",{"$f":"E28","v":20},null,null,null,null,{"$f":"$F$3","v":133},null,null,{"$f":"$G$3","v":68.599999999999994},null,{"$f":"ROUND((G525*(L525/113)+(O525-AA528)),0)","v":20}]
[]
[null,null,null,null,null,"Trou",1,2,3,4,5,6,7,8,9,"Aller",10,11,12,13,14,15,16,17,18,"Retour","Total"]
[null,null,null,null,null,"PAR",{"$f":"G$7","v":4},{"$f":"H$7","v":4},5,4,3,5,3,5,3,{"$f":"SUM(G528:O528)","v":36},{"$f":"Q$7","v":4},4,3,5,3,4,4,5,4,{"$f":"SUM(Q528:Y528)","v":36},{"$f":"SUM(P528+Z528)","v":72}]
[null,null,null,null,null,"HCP trous",{"$f":"G$8","v":4},{"$f":"H$8","v":8},12,14,2,10,18,16,6,null,{"$f":"Q$8","v":1},9,11,5,17,15,3,13,7]
[null,null,null,null,null,"Coups reçus",{"$f":"IF($Q525<=18,IF(G529<=$Q525,1,0),IF($Q525<=36,IF(G529<=($Q525-18),2,1),IF($Q525>36,IF(G529<=($Q525-36),3,2))))","v":1},{"$f":"IF($Q525<=18,IF(H529<=$Q525,1,0),IF($Q525<=36,IF(H529<=($Q525-18),2,1),IF($Q525>36,IF(H529<=($Q525-36),3,2))))","v":1},1,1,2,1,1,1,1,{"$f":"SUM(G530:O530)","v":10},{"$f":"IF($Q525<=18,IF(Q529<=$Q525,1,0),IF($Q525<=36,IF(Q529<=($Q525-18),2,1),IF($Q525>36,IF(Q529<=($Q525-36),3,2))))","v":2},1,1,1,1,1,1,1,1,{"$f":"SUM(Q530:Y530)","v":10},{"$f":"P530+Z530","v":20}]
[null,null,null,null,null,"Stroke play",{"$f":"G28","v":10},10,10,10,10,10,10,10,10,{"$f":"SUM(G531:O531)","v":90},{"$f":"Q28","v":10},10,10,10,10,10,10,10,10,{"$f":"SUM(Q531:Y531)","v":90},{"$f":"P531+Z531","v":180}]
[null,null,null,null,null,"Net Stableford",{"$f":"IF(G531-G528=-1,3+G530)+IF(G531-G528=0,2+G530)+IF(G531-G528=1,1+G530)+IF(G531-G528=2,G530)+IF(G531-G528=3,IF(G530-1>0,G530-1,0))+IF(G531-G528=4,IF(G530-2>0,G530-2,0))","v":0},{"$f":"IF(H531-H528=-1,3+H530)+IF(H531-H528=0,2+H530)+IF(H531-H528=1,1+H530)+IF(H531-H528=2,H530)+IF(H531-H528=3,IF(H530-1>0,H530-1,0))+IF(H531-H528=4,IF(H530-2>0,H530-2,0))","v":0},0,0,0,0,0,0,0,{"$f":"SUM(G532:O532)","v":0},{"$f":"IF(Q531-Q528=-1,3+Q530)+IF(Q531-Q528=0,2+Q530)+IF(Q531-Q528=1,1+Q530)+IF(Q531-Q528=2,Q530)+IF(Q531-Q528=3,IF(Q530-1>0,Q530-1,0))+IF(Q531-Q528=4,IF(Q530-2>0,Q530-2,0))","v":0},0,0,0,0,0,0,0,0,{"$f":"SUM(Q532:Y532)","v":0},{"$f":"P532+Z532","v":0}]
[null,null,null,null,null,"Score Brut",{"$f":"IF(G531-G528=-2,4)+IF(G531-G528=-1,3)+IF(G531-G528=0,2)+IF(G531-G528=1,1)+IF(G531-G528>2,0)","v":0},0,0,0,0,0,0,0,0,{"$f":"SUM(G533:O533)","v":0},{"$f":"IF(Q531-Q528=-2,4)+IF(Q531-Q528=-1,3)+IF(Q531-Q528=0,2)+IF(Q531-Q528=1,1)+IF(Q531-Q528>2,0)","v":0},0,0,0,0,0,0,0,0,{"$f":"SUM(Q533:Y533)","v":0},{"$f":"P533+Z533","v":0}]
[null,null,null,null,null,null,{"$f":"G531-G528","v":6},{"$f":"H531-H528","v":6},5,6,7,5,7,5,7,null,{"$f":"Q531-Q528","v":6},6,7,5,7,6,6,5,6]
[]
[]
[null,null,null,null,null,"Statistiques scores",null,"Eagle & moins",null,null,null,{"$f":"COUNTIF(G534:Y534,\"<=-2\")","v":0},"Par",null,{"$f":"COUNTIF(G534:Y534,\"=0\")","v":0},"Double bogey",null,null,null,null,{"$f":"COUNTIF(G534:Y534,\"=2\")","v":0}]
[null,null,null,null,null,null,null,"Birdie",null,null,null,{"$f":"COUNTIF(G534:Y534,\"=-1\")","v":0},"Bogey",null,{"$f":"COUNTIF(G534:Y534,\"=1\")","v":0},"Triple bogey & plus",null,null,null,null,{"$f":"COUNTIF(G534:Y534,\">=3\")","v":18}]
[null,null,null,null,null,null,null,{"$f":"M537","v":"Par"},null,null,null,{"$f":"O537","v":0}]
[null,null,null,null,null,null,null,{"$f":"M538","v":"Bogey"},null,null,null,{"$f":"O538","v":0}]
[null,null,null,null,null,null,null,{"$f":"P537","v":"Double bogey"},null,null,null,{"$f":"U537","v":0}]
[null,null,null,null,null,null,null,{"$f":"P538","v":"Triple bogey & plus"},null,null,null,{"$f":"U538","v":18}]
[]
[]
[]
[]
[null,null,null,null,null,"Nom",{"$f":"C29","v":0},null,null,null,null,"Slope",null,null,"SSS",null,"Coups reçus",null,null,null,null,null,null,null,null,"Date",{"$f":"$D$3","v":"00:00:00"}]
[null,null,null,null,null,"Index",{"$f":"E29","v":20},null,null,null,null,{"$f":"$F$3","v":133},null,null,{"$f":"$G$3","v":68.599999999999994},null,{"$f":"ROUND((G548*(L548/113)+(O548-AA551)),0)","v":20}]
[]
[null,null,null,null,null,"Trou",1,2,3,4,5,6,7,8,9,"Aller",10,11,12,13,14,15,16,17,18,"Retour","Total"]
[null,null,null,null,null,"PAR",{"$f":"G$7","v":4},{"$f":"H$7","v":4},5,4,3,5,3,5,3,{"$f":"SUM(G551:O551)","v":36},{"$f":"Q$7","v":4},4,3,5,3,4,4,5,4,{"$f":"SUM(Q551:Y551)","v":36},{"$f":"SUM(P551+Z551)","v":72}]
[null,null,null,null,null,"HCP trous",{"$f":"G$8","v":4},{"$f":"H$8","v":8},12,14,2,10,18,16,6,null,{"$f":"Q$8","v":1},9,11,5,17,15,3,13,7]
[null,null,null,null,null,"Coups reçus",{"$f":"IF($Q548<=18,IF(G552<=$Q548,1,0),IF($Q548<=36,IF(G552<=($Q548-18),2,1),IF($Q548>36,IF(G552<=($Q548-36),3,2))))","v":1},{"$f":"IF($Q548<=18,IF(H552<=$Q548,1,0),IF($Q548<=36,IF(H552<=($Q548-18),2,1),IF($Q548>36,IF(H552<=($Q548-36),3,2))))","v":1},1,1,2,1,1,1,1,{"$f":"SUM(G553:O553)","v":10},{"$f":"IF($Q548<=18,IF(Q552<=$Q548,1,0),IF($Q548<=36,IF(Q552<=($Q548-18),2,1),IF($Q548>36,IF(Q552<=($Q548-36),3,2))))","v":2},1,1,1,1,1,1,1,1,{"$f":"SUM(Q553:Y553)","v":10},{"$f":"P553+Z553","v":20}]
[null,null,null,null,null,"Stroke play",{"$f":"G29","v":10},10,10,10,10,10,10,10,10,{"$f":"SUM(G554:O554)","v":90},{"$f":"Q29","v":10},10,10,10,10,10,10,10,10,{"$f":"SUM(Q554:Y554)","v":90},{"$f":"P554+Z554","v":180}]
[null,null,null,null,null,"Net Stableford",{"$f":"IF(G554-G551=-1,3+G553)+IF(G554-G551=0,2+G553)+IF(G554-G551=1,1+G553)+IF(G554-G551=2,G553)+IF(G554-G551=3,IF(G553-1>0,G553-1,0))+IF(G554-G551=4,IF(G553-2>0,G553-2,0))","v":0},{"$f":"IF(H554-H551=-1,3+H553)+IF(H554-H551=0,2+H553)+IF(H554-H551=1,1+H553)+IF(H554-H551=2,H553)+IF(H554-H551=3,IF(H553-1>0,H553-1,0))+IF(H554-H551=4,IF(H553-2>0,H553-2,0))","v":0},0,0,0,0,0,0,0,{"$f":"SUM(G555:O555)","v":0},{"$f":"IF(Q554-Q551=-1,3+Q553)+IF(Q554-Q551=0,2+Q553)+IF(Q554-Q551=1,1+Q553)+IF(Q554-Q551=2,Q553)+IF(Q554-Q551=3,IF(Q553-1>0,Q553-1,0))+IF(Q554-Q551=4,IF(Q553-2>0,Q553-2,0))","v":0},0,0,0,0,0,0,0,0,{"$f":"SUM(Q555:Y555)","v":0},{"$f":"P555+Z555","v":0}]
[null,null,null,null,null,"Score Brut",{"$f":"IF(G554-G551=-2,4)+IF(G554-G551=-1,3)+IF(G554-G551=0,2)+IF(G554-G551=1,1)+IF(G554-G551>2,0)","v":0},0,0,0,0,0,0,0,0,{"$f":"SUM(G556:O556)","v":0},{"$f":"IF(Q554-Q551=-2,4)+IF(Q554-Q551=-1,3)+IF(Q554-Q551=0,2)+IF(Q554-Q551=1,1)+IF(Q554-Q551>2,0)","v":0},0,0,0,0,0,0,0,0,{"$f":"SUM(Q556:Y556)","v":0},{"$f":"P556+Z556","v":0}]
[null,null,null,null,null,null,{"$f":"G554-G551","v":6},{"$f":"H554-H551","v":6},5,6,7,5,7,5,7,null,{"$f":"Q554-Q551","v":6},6,7,5,7,6,6,5,6]
[]
[]
[null,null,null,null,null,"Statistiques scores",null,"Eagle & moins",null,null,null,{"$f":"COUNTIF(G557:Y557,\"<=-2\")","v":0},"Par",null,{"$f":"COUNTIF(G557:Y557,\"=0\")","v":0},"Double bogey",null,null,null,null,{"$f":"COUNTIF(G557:Y557,\"=2\")","v":0}]
[null,null,null,null,null,null,null,"Birdie",null,null,null,{"$f":"COUNTIF(G557:Y557,\"=-1\")","v":0},"Bogey",null,{"$f":"COUNTIF(G557:Y557,\"=1\")","v":0},"Triple bogey & plus",null,null,null,null,{"$f":"COUNTIF(G557:Y557,\">=3\")","v":18}]
[null,null,null,null,null,null,null,{"$f":"M560","v":"Par"},null,null,null,{"$f":"O560","v":0}]
[null,null,null,null,null,null,null,{"$f":"M561","v":"Bogey"},null,null,null,{"$f":"O561","v":0}]
[null,null,null,null,null,null,null,{"$f":"P560","v":"Double bogey"},null,null,null,{"$f":"U560","v":0}]
[null,null,null,null,null,null,null,{"$f":"P561","v":"Triple bogey & plus"},null,null,null,{"$f":"U561","v":18}]
[]
[]
[]
[]
[null,null,null,null,null,"Nom",{"$f":"C30","v":0},null,null,null,null,"Slope",null,null,"SSS",null,"Coups reçus",null,null,null,null,null,null,null,null,"Date",{"$f":"$D$3","v":"00:00:00"}]
[null,null,null,null,null,"Index",{"$f":"E30","v":20},null,null,null,null,{"$f":"$F$3","v":133},null,null,{"$f":"$G$3","v":68.599999999999994},null,{"$f":"ROUND((G571*(L571/113)+(O571-AA574)),0)","v":20}]
[]
[null,null,null,null,null,"Trou",1,2,3,4,5,6,7,8,9,"Aller",10,11,12,13,14,15,16,17,18,"Retour","Total"]
[null,null,null,null,null,"PAR",{"$f":"G$7","v":4},{"$f":"H$7","v":4},5,4,3,5,3,5,3,{"$f":"SUM(G574:O574)","v":36},{"$f":"Q$7","v":4},4,3,5,3,4,4,5,4,{"$f":"SUM(Q574:Y574)","v":36},{"$f":"SUM(P574+Z574)","v":72}]
[null,null,null,null,null,"HCP trous",{"$f":"G$8","v":4},{"$f":"H$8","v":8},12,14,2,10,18,16,6,null,{"$f":"Q$8","v":1},9,11,5,17,15,3,13,7]
[null,null,null,null,null,"Coups reçus",{"$f":"IF($Q571<=18,IF(G575<=$Q571,1,0),IF($Q571<=36,IF(G575<=($Q571-18),2,1),IF($Q571>36,IF(G575<=($Q571-36),3,2))))","v":1},{"$f":"IF($Q571<=18,IF(H575<=$Q571,1,0),IF($Q571<=36,IF(H575<=($Q571-18),2,1),IF($Q571>36,IF(H575<=($Q571-36),3,2))))","v":1},1,1,2,1,1,1,1,{"$f":"SUM(G576:O576)","v":10},{"$f":"IF($Q571<=18,IF(Q575<=$Q571,1,0),IF($Q571<=36,IF(Q575<=($Q571-18),2,1),IF($Q571>36,IF(Q575<=($Q571-36),3,2))))","v":2},1,1,1,1,1,1,1,1,{"$f":"SUM(Q576:Y576)","v":10},{"$f":"P576+Z576","v":20}]
[null,null,null,null,null,"Stroke play",{"$f":"G30","v":10},10,10,10,10,10,10,10,10,{"$f":"SUM(G577:O577)","v":90},{"$f":"Q30","v":10},10,10,10,10,10,10,10,10,{"$f":"SUM(Q577:Y577)","v":90},{"$f":"P577+Z577","v":180}]
[null,null,null,null,null,"Net Stableford",{"$f":"IF(G577-G574=-1,3+G576)+IF(G577-G574=0,2+G576)+IF(G577-G574=1,1+G576)+IF(G577-G574=2,G576)+IF(G577-G574=3,IF(G576-1>0,G576-1,0))+IF(G577-G574=4,IF(G576-2>0,G576-2,0))","v":0},{"$f":"IF(H577-H574=-1,3+H576)+IF(H577-H574=0,2+H576)+IF(H577-H574=1,1+H576)+IF(H577-H574=2,H576)+IF(H577-H574=3,IF(H576-1>0,H576-1,0))+IF(H577-H574=4,IF(H576-2>0,H576-2,0))","v":0},0,0,0,0,0,0,0,{"$f":"SUM(G578:O578)","v":0},{"$f":"IF(Q577-Q574=-1,3+Q576)+IF(Q577-Q574=0,2+Q576)+IF(Q577-Q574=1,1+Q576)+IF(Q577-Q574=2,Q576)+IF(Q577-Q574=3,IF(Q576-1>0,Q576-1,0))+IF(Q577-Q574=4,IF(Q576-2>0,Q576-2,0))","v":0},0,0,0,0,0,0,0,0,{"$f":"SUM(Q578:Y578)","v":0},{"$f":"P578+Z578","v":0}]
[null,null,null,null,null,"Score Brut",{"$f":"IF(G577-G574=-2,4)+IF(G577-G574=-1,3)+IF(G577-G574=0,2)+IF(G577-G574=1,1)+IF(G577-G574>2,0)","v":0},0,0,0,0,0,0,0,0,{"$f":"SUM(G579:O579)","v":0},{"$f":"IF(Q577-Q574=-2,4)+IF(Q577-Q574=-1,3)+IF(Q577-Q574=0,2)+IF(Q577-Q574=1,1)+IF(Q577-Q574>2,0)","v":0},0,0,0,0,0,0,0,0,{"$f":"SUM(Q579:Y579)","v":0},{"$f":"P579+Z579","v":0}]
[null,null,null,null,null,null,{"$f":"G577-G574","v":6},{"$f":"H577-H574","v":6},5,6,7,5,7,5,7,null,{"$f":"Q577-Q574","v":6},6,7,5,7,6,6,5,6]
[]
[]
[null,null,null,null,null,"Statistiques scores",null,"Eagle & moins",null,null,null,{"$f":"COUNTIF(G580:Y580,\"<=-2\")","v":0},"Par",null,{"$f":"COUNTIF(G580:Y580,\"=0\")","v":0},"Double bogey",null,null,null,null,{"$f":"COUNTIF(G580:Y580,\"=2\")","v":0}]
[null,null,null,null,null,null,null,"Birdie",null,null,null,{"$f":"COUNTIF(G580:Y580,\"=-1\")","v":0},"Bogey",null,{"$f":"COUNTIF(G580:Y580,\"=1\")","v":0},"Triple bogey & plus",null,null,null,null,{"$f":"COUNTIF(G580:Y580,\">=3\")","v":18}]
[null,null,null,null,null,null,null,{"$f":"M583","v":"Par"},null,null,null,{"$f":"O583","v":0}]
[null,null,null,null,null,null,null,{"$f":"M584","v":"Bogey"},null,null,null,{"$f":"O584","v":0}]
[null,null,null,null,null,null,null,{"$f":"P583","v":"Double bogey"},null,null,null,{"$f":"U583","v":0}]
[null,null,null,null,null,null,null,{"$f":"P584","v":"Triple bogey & plus"},null,null,null,{"$f":"U584","v":18}]
[]
[]
[]
[]
[null,null,null,null,null,"Nom",{"$f":"C31","v":0},null,null,null,null,"Slope",null,null,"SSS",null,"Coups reçus",null,null,null,null,null,null,null,null,"Date",{"$f":"$D$3","v":"00:00:00"}]
[null,null,null,null,null,"Index",{"$f":"E31","v":20},null,null,null,null,{"$f":"$F$3","v":133},null,null,{"$f":"$G$3","v":68.599999999999994},null,{"$f":"ROUND((G594*(L594/113)+(O594-AA597)),0)","v":20}]
[]
[null,null,null,null,null,"Trou",1,2,3,4,5,6,7,8,9,"Aller",10,11,12,13,14,15,16,17,18,"Retour","Total"]
[null,null,null,null,null,"PAR",{"$f":"G$7","v":4},{"$f":"H$7","v":4},5,4,3,5,3,5,3,{"$f":"SUM(G597:O597)","v":36},{"$f":"Q$7","v":4},4,3,5,3,4,4,5,4,{"$f":"SUM(Q597:Y597)","v":36},{"$f":"SUM(P597+Z597)","v":72}]
[null,null,null,null,null,"HCP trous",{"$f":"G$8","v":4},{"$f":"H$8","v":8},12,14,2,10,18,16,6,null,{"$f":"Q$8","v":1},9,11,5,17,15,3,13,7]
[null,null,null,null,null,"Coups reçus",{"$f":"IF($Q594<=18,IF(G598<=$Q594,1,0),IF($Q594<=36,IF(G598<=($Q594-18),2,1),IF($Q594>36,IF(G598<=($Q594-36),3,2))))","v":1},{"$f":"IF($Q594<=18,IF(H598<=$Q594,1,0),IF($Q594<=36,IF(H598<=($Q594-18),2,1),IF($Q594>36,IF(H598<=($Q594-36),3,2))))","v":1},1,1,2,1,1,1,1,{"$f":"SUM(G599:O599)","v":10},{"$f":"IF($Q594<=18,IF(Q598<=$Q594,1,0),IF($Q594<=36,IF(Q598<=($Q594-18),2,1),IF($Q594>36,IF(Q598<=($Q594-36),3,2))))","v":2},1,1,1,1,1,1,1,1,{"$f":"SUM(Q599:Y599)","v":10},{"$f":"P599+Z599","v":20}]
[null,null,null,null,null,"Stroke play",{"$f":"G31","v":10},10,10,10,10,10,10,10,10,{"$f":"SUM(G600:O600)","v":90},{"$f":"Q31","v":10},10,10,10,10,10,10,10,10,{"$f":"SUM(Q600:Y600)","v":90},{"$f":"P600+Z600","v":180}]
[null,null,null,null,null,"Net Stableford",{"$f":"IF(G600-G597=-1,3+G599)+IF(G600-G597=0,2+G599)+IF(G600-G597=1,1+G599)+IF(G600-G597=2,G599)+IF(G600-G597=3,IF(G599-1>0,G599-1,0))+IF(G600-G597=4,IF(G599-2>0,G599-2,0))","v":0},{"$f":"IF(H600-H597=-1,3+H599)+IF(H600-H597=0,2+H599)+IF(H600-H597=1,1+H599)+IF(H600-H597=2,H599)+IF(H600-H597=3,IF(H599-1>0,H599-1,0))+IF(H600-H597=4,IF(H599-2>0,H599-2,0))","v":0},0,0,0,0,0,0,0,{"$f":"SUM(G601:O601)","v":0},{"$f":"IF(Q600-Q597=-1,3+Q599)+IF(Q600-Q597=0,2+Q599)+IF(Q600-Q597=1,1+Q599)+IF(Q600-Q597=2,Q599)+IF(Q600-Q597=3,IF(Q599-1>0,Q599-1,0))+IF(Q600-Q597=4,IF(Q599-2>0,Q599-2,0))","v":0},0,0,0,0,0,0,0,0,{"$f":"SUM(Q601:Y601)","v":0},{"$f":"P601+Z601","v":0}]
[null,null,null,null,null,"Score Brut",{"$f":"IF(G600-G597=-2,4)+IF(G600-G597=-1,3)+IF(G600-G597=0,2)+IF(G600-G597=1,1)+IF(G600-G597>2,0)","v":0},0,0,0,0,0,0,0,0,{"$f":"SUM(G602:O602)","v":0},{"$f":"IF(Q600-Q597=-2,4)+IF(Q600-Q597=-1,3)+IF(Q600-Q597=0,2)+IF(Q600-Q597=1,1)+IF(Q600-Q597>2,0)","v":0},0,0,0,0,0,0,0,0,{"$f":"SUM(Q602:Y602)","v":0},{"$f":"P602+Z602","v":0}]
[null,null,null,null,null,null,{"$f":"G600-G597","v":6},{"$f":"H600-H597","v":6},5,6,7,5,7,5,7,null,{"$f":"Q600-Q597","v":6},6,7,5,7,6,6,5,6]
[]
[]
[null,null,null,null,null,"Statistiques scores",null,"Eagle & moins",null,null,null,{"$f":"COUNTIF(G603:Y603,\"<=-2\")","v":0},"Par",null,{"$f":"COUNTIF(G603:Y603,\"=0\")","v":0},"Double bogey",null,null,null,null,{"$f":"COUNTIF(G603:Y603,\"=2\")","v":0}]
[null,null,null,null,null,null,null,"Birdie",null,null,null,{"$f":"COUNTIF(G603:Y603,\"=-1\")","v":0},"Bogey",null,{"$f":"COUNTIF(G603:Y603,\"=1\")","v":0},"Triple bogey & plus",null,null,null,null,{"$f":"COUNTIF(G603:Y603,\">=3\")","v":18}]
[null,null,null,null,null,null,null,{"$f":"M606","v":"Par"},null,null,null,{"$f":"O606","v":0}]
[null,null,null,null,null,null,null,{"$f":"M607","v":"Bogey"},null,null,null,{"$f":"O607","v":0}]
[null,null,null,null,null,null,null,{"$f":"P606","v":"Double bogey"},null,null,null,{"$f":"U606","v":0}]
[null,null,null,null,null,null,null,{"$f":"P607","v":"Triple bogey & plus"},null,null,null,{"$f":"U607","v":18}]
[]
[]
[]
[]
[null,null,null,null,null,"Nom",{"$f":"C32","v":0},null,null,null,null,"Slope",null,null,"SSS",null,"Coups reçus",null,null,null,null,null,null,null,null,"Date",{"$f":"$D$3","v":"00:00:00"}]
[null,null,null,null,null,"Index",{"$f":"E32","v":20},null,null,null,null,{"$f":"$F$3","v":133},null,null,{"$f":"$G$3","v":68.599999999999994},null,{"$f":"ROUND((G617*(L617/113)+(O617-AA620)),0)","v":20}]
[]
[null,null,null,null,null,"Trou",1,2,3,4,5,6,7,8,9,"Aller",10,11,12,13,14,15,16,17,18,"Retour","Total"]
[null,null,null,null,null,"PAR",{"$f":"G$7","v":4},{"$f":"H$7","v":4},5,4,3,5,3,5,3,{"$f":"SUM(G620:O620)","v":36},{"$f":"Q$7","v":4},4,3,5,3,4,4,5,4,{"$f":"SUM(Q620:Y620)","v":36},{"$f":"SUM(P620+Z620)","v":72}]
[null,null,null,null,null,"HCP trous",{"$f":"G$8","v":4},{"$f":"H$8","v":8},12,14,2,10,18,16,6,null,{"$f":"Q$8","v":1},9,11,5,17,15,3,13,7]
[null,null,null,null,null,"Coups reçus",{"$f":"IF($Q617<=18,IF(G621<=$Q617,1,0),IF($Q617<=36,IF(G621<=($Q617-18),2,1),IF($Q617>36,IF(G621<=($Q617-36),3,2))))","v":1},{"$f":"IF($Q617<=18,IF(H621<=$Q617,1,0),IF($Q617<=36,IF(H621<=($Q617-18),2,1),IF($Q617>36,IF(H621<=($Q617-36),3,2))))","v":1},1,1,2,1,1,1,1,{"$f":"SUM(G622:O622)","v":10},{"$f":"IF($Q617<=18,IF(Q621<=$Q617,1,0),IF($Q617<=36,IF(Q621<=($Q617-18),2,1),IF($Q617>36,IF(Q621<=($Q617-36),3,2))))","v":2},1,1,1,1,1,1,1,1,{"$f":"SUM(Q622:Y622)","v":10},{"$f":"P622+Z622","v":20}]
[null,null,null,null,null,"Stroke play",{"$f":"G32","v":10},10,10,10,10,10,10,10,10,{"$f":"SUM(G623:O623)","v":90},{"$f":"Q32","v":10},10,10,10,10,10,10,10,10,{"$f":"SUM(Q623:Y623)","v":90},{"$f":"P623+Z623","v":180}]
[null,null,null,null,null,"Net Stableford",{"$f":"IF(G623-G620=-1,3+G622)+IF(G623-G620=0,2+G622)+IF(G623-G620=1,1+G622)+IF(G623-G620=2,G622)+IF(G623-G620=3,IF(G622-1>0,G622-1,0))+IF(G623-G620=4,IF(G622-2>0,G622-2,0))","v":0},{"$f":"IF(H623-H620=-1,3+H622)+IF(H623-H620=0,2+H622)+IF(H623-H620=1,1+H622)+IF(H623-H620=2,H622)+IF(H623-H620=3,IF(H622-1>0,H622-1,0))+IF(H623-H620=4,IF(H622-2>0,H622-2,0))","v":0},0,0,0,0,0,0,0,{"$f":"SUM(G624:O624)","v":0},{"$f":"IF(Q623-Q620=-1,3+Q622)+IF(Q623-Q620=0,2+Q622)+IF(Q623-Q620=1,1+Q622)+IF(Q623-Q620=2,Q622)+IF(Q623-Q620=3,IF(Q622-1>0,Q622-1,0))+IF(Q623-Q620=4,IF(Q622-2>0,Q622-2,0))","v":0},0,0,0,0,0,0,0,0,{"$f":"SUM(Q624:Y624)","v":0},{"$f":"P624+Z624","v":0}]
[null,null,null,null,null,"Score Brut",{"$f":"IF(G623-G620=-2,4)+IF(G623-G620=-1,3)+IF(G623-G620=0,2)+IF(G623-G620=1,1)+IF(G623-G620>2,0)","v":0},0,0,0,0,0,0,0,0,{"$f":"SUM(G625:O625)","v":0},{"$f":"IF(Q623-Q620=-2,4)+IF(Q623-Q620=-1,3)+IF(Q623-Q620=0,2)+IF(Q623-Q620=1,1)+IF(Q623-Q620>2,0)","v":0},0,0,0,0,0,0,0,0,{"$f":"SUM(Q625:Y625)","v":0},{"$f":"P625+Z625","v":0}]
[null,null,null,null,null,null,{"$f":"G623-G620","v":6},{"$f":"H623-H620","v":6},5,6,7,5,7,5,7,null,{"$f":"Q623-Q620","v":6},6,7,5,7,6,6,5,6]
[]
[]
[null,null,null,null,null,"Statistiques scores",null,"Eagle & moins",null,null,null,{"$f":"COUNTIF(G626:Y626,\"<=-2\")","v":0},"Par",null,{"$f":"COUNTIF(G626:Y626,\"=0\")","v":0},"Double bogey",null,null,null,null,{"$f":"COUNTIF(G626:Y626,\"=2\")","v":0}]
[null,null,null,null,null,null,null,"Birdie",null,null,null,{"$f":"COUNTIF(G626:Y626,\"=-1\")","v":0},"Bogey",null,{"$f":"COUNTIF(G626:Y626,\"=1\")","v":0},"Triple bogey & plus",null,null,null,null,{"$f":"COUNTIF(G626:Y626,\">=3\")","v":18}]
[null,null,null,null,null,null,null,{"$f":"M629","v":"Par"},null,null,null,{"$f":"O629","v":0}]
[null,null,null,null,null,null,null,{"$f":"M630","v":"Bogey"},null,null,null,{"$f":"O630","v":0}]
[null,null,null,null,null,null,null,{"$f":"P629","v":"Double bogey"},null,null,null,{"$f":"U629","v":0}]
[null,null,null,null,null,null,null,{"$f":"P630","v":"Triple bogey & plus"},null,null,null,{"$f":"U630","v":18}]
[]
[]
[]
[]
[null,null,null,null,null,"Nom",{"$f":"C33","v":0},null,null,null,null,"Slope",null,null,"SSS",null,"Coups reçus",null,null,null,null,null,null,null,null,"Date",{"$f":"$D$3","v":"00:00:00"}]
[null,null,null,null,null,"Index",{"$f":"E33","v":20},null,null,null,null,{"$f":"$F$3","v":133},null,null,{"$f":"$G$3","v":68.599999999999994},null,{"$f":"ROUND((G640*(L640/113)+(O640-AA643)),0)","v":20}]
[]
[null,null,null,null,null,"Trou",1,2,3,4,5,6,7,8,9,"Aller",10,11,12,13,14,15,16,17,18,"Retour","Total"]
[null,null,null,null,null,"PAR",{"$f":"G$7","v":4},{"$f":"H$7","v":4},5,4,3,5,3,5,3,{"$f":"SUM(G643:O643)","v":36},{"$f":"Q$7","v":4},4,3,5,3,4,4,5,4,{"$f":"SUM(Q643:Y643)","v":36},{"$f":"SUM(P643+Z643)","v":72}]
[null,null,null,null,null,"HCP trous",{"$f":"G$8","v":4},{"$f":"H$8","v":8},12,14,2,10,18,16,6,null,{"$f":"Q$8","v":1},9,11,5,17,15,3,13,7]
[null,null,null,null,null,"Coups reçus",{"$f":"IF($Q640<=18,IF(G644<=$Q640,1,0),IF($Q640<=36,IF(G644<=($Q640-18),2,1),IF($Q640>36,IF(G644<=($Q640-36),3,2))))","v":1},{"$f":"IF($Q640<=18,IF(H644<=$Q640,1,0),IF($Q640<=36,IF(H644<=($Q640-18),2,1),IF($Q640>36,IF(H644<=($Q640-36),3,2))))","v":1},1,1,2,1,1,1,1,{"$f":"SUM(G645:O645)","v":10},{"$f":"IF($Q640<=18,IF(Q644<=$Q640,1,0),IF($Q640<=36,IF(Q644<=($Q640-18),2,1),IF($Q640>36,IF(Q644<=($Q640-36),3,2))))","v":2},1,1,1,1,1,1,1,1,{"$f":"SUM(Q645:Y645)","v":10},{"$f":"P645+Z645","v":20}]
[null,null,null,null,null,"Stroke play",{"$f":"G33","v":10},10,10,10,10,10,10,10,10,{"$f":"SUM(G646:O646)","v":90},{"$f":"Q33","v":10},10,10,10,10,10,10,10,10,{"$f":"SUM(Q646:Y646)","v":90},{"$f":"P646+Z646","v":180}]
[null,null,null,null,null,"Net Stableford",{"$f":"IF(G646-G643=-1,3+G645)+IF(G646-G643=0,2+G645)+IF(G646-G643=1,1+G645)+IF(G646-G643=2,G645)+IF(G646-G643=3,IF(G645-1>0,G645-1,0))+IF(G646-G643=4,IF(G645-2>0,G645-2,0))","v":0},{"$f":"IF(H646-H643=-1,3+H645)+IF(H646-H643=0,2+H645)+IF(H646-H643=1,1+H645)+IF(H646-H643=2,H645)+IF(H646-H643=3,IF(H645-1>0,H645-1,0))+IF(H646-H643=4,IF(H645-2>0,H645-2,0))","v":0},0,0,0,0,0,0,0,{"$f":"SUM(G647:O647)","v":0},{"$f":"IF(Q646-Q643=-1,3+Q645)+IF(Q646-Q643=0,2+Q645)+IF(Q646-Q643=1,1+Q645)+IF(Q646-Q643=2,Q645)+IF(Q646-Q643=3,IF(Q645-1>0,Q645-1,0))+IF(Q646-Q643=4,IF(Q645-2>0,Q645-2,0))","v":0},0,0,0,0,0,0,0,0,{"$f":"SUM(Q647:Y647)","v":0},{"$f":"P647+Z647","v":0}]
[null,null,null,null,null,"Score Brut",{"$f":"IF(G646-G643=-2,4)+IF(G646-G643=-1,3)+IF(G646-G643=0,2)+IF(G646-G643=1,1)+IF(G646-G643>2,0)","v":0},0,0,0,0,0,0,0,0,{"$f":"SUM(G648:O648)","v":0},{"$f":"IF(Q646-Q643=-2,4)+IF(Q646-Q643=-1,3)+IF(Q646-Q643=0,2)+IF(Q646-Q643=1,1)+IF(Q646-Q643>2,0)","v":0},0,0,0,0,0,0,0,0,{"$f":"SUM(Q648:Y648)","v":0},{"$f":"P648+Z648","v":0}]
[null,null,null,null,null,null,{"$f":"G646-G643","v":6},{"$f":"H646-H643","v":6},5,6,7,5,7,5,7,null,{"$f":"Q646-Q643","v":6},6,7,5,7,6,6,5,6]
[]
[]
[null,null,null,null,null,"Statistiques scores",null,"Eagle & moins",null,null,null,{"$f":"COUNTIF(G649:Y649,\"<=-2\")","v":0},"Par",null,{"$f":"COUNTIF(G649:Y649,\"=0\")","v":0},"Double bogey",null,null,null,null,{"$f":"COUNTIF(G649:Y649,\"=2\")","v":0}]
[null,null,null,null,null,null,null,"Birdie",null,null,null,{"$f":"COUNTIF(G649:Y649,\"=-1\")","v":0},"Bogey",null,{"$f":"COUNTIF(G649:Y649,\"=1\")","v":0},"Triple bogey & plus",null,null,null,null,{"$f":"COUNTIF(G649:Y649,\">=3\")","v":18}]
[null,null,null,null,null,null,null,{"$f":"M652","v":"Par"},null,null,null,{"$f":"O652","v":0}]
[null,null,null,null,null,null,null,{"$f":"M653","v":"Bogey"},null,null,null,{"$f":"O653","v":0}]
[null,null,null,null,null,null,null,{"$f":"P652","v":"Double bogey"},null,null,null,{"$f":"U652","v":0}]
[null,null,null,null,null,null,null,{"$f":"P653","v":"Triple bogey & plus"},null,null,null,{"$f":"U653","v":18}]
[]
[]
[]
[]
[null,null,null,null,null,"Nom",{"$f":"C34","v":0},null,null,null,null,"Slope",null,null,"SSS",null,"Coups reçus",null,null,null,null,null,null,null,null,"Date",{"$f":"$D$3","v":"00:00:00"}]
[null,null,null,null,null,"Index",{"$f":"E34","v":20},null,null,null,null,{"$f":"$F$3","v":133},null,null,{"$f":"$G$3","v":68.599999999999994},null,{"$f":"ROUND((G663*(L663/113)+(O663-AA666)),0)","v":20}]
[]
[null,null,null,null,null,"Trou",1,2,3,4,5,6,7,8,9,"Aller",10,11,12,13,14,15,16,17,18,"Retour","Total"]
[null,null,null,null,null,"PAR",{"$f":"G$7","v":4},{"$f":"H$7","v":4},5,4,3,5,3,5,3,{"$f":"SUM(G666:O666)","v":36},{"$f":"Q$7","v":4},4,3,5,3,4,4,5,4,{"$f":"SUM(Q666:Y666)","v":36},{"$f":"SUM(P666+Z666)","v":72}]
[null,null,null,null,null,"HCP trous",{"$f":"G$8","v":4},{"$f":"H$8","v":8},12,14,2,10,18,16,6,null,{"$f":"Q$8","v":1},9,11,5,17,15,3,13,7]
[null,null,null,null,null,"Coups reçus",{"$f":"IF($Q663<=18,IF(G667<=$Q663,1,0),IF($Q663<=36,IF(G667<=($Q663-18),2,1),IF($Q663>36,IF(G667<=($Q663-36),3,2))))","v":1},{"$f":"IF($Q663<=18,IF(H667<=$Q663,1,0),IF($Q663<=36,IF(H667<=($Q663-18),2,1),IF($Q663>36,IF(H667<=($Q663-36),3,2))))","v":1},1,1,2,1,1,1,1,{"$f":"SUM(G668:O668)","v":10},{"$f":"IF($Q663<=18,IF(Q667<=$Q663,1,0),IF($Q663<=36,IF(Q667<=($Q663-18),2,1),IF($Q663>36,IF(Q667<=($Q663-36),3,2))))","v":2},1,1,1,1,1,1,1,1,{"$f":"SUM(Q668:Y668)","v":10},{"$f":"P668+Z668","v":20}]
[null,null,null,null,null,"Stroke play",{"$f":"G34","v":10},10,10,10,10,10,10,10,10,{"$f":"SUM(G669:O669)","v":90},{"$f":"Q34","v":10},10,10,10,10,10,10,10,10,{"$f":"SUM(Q669:Y669)","v":90},{"$f":"P669+Z669","v":180}]
[null,null,null,null,null,"Net Stableford",{"$f":"IF(G669-G666=-1,3+G668)+IF(G669-G666=0,2+G668)+IF(G669-G666=1,1+G668)+IF(G669-G666=2,G668)+IF(G669-G666=3,IF(G668-1>0,G668-1,0))+IF(G669-G666=4,IF(G668-2>0,G668-2,0))","v":0},{"$f":"IF(H669-H666=-1,3+H668)+IF(H669-H666=0,2+H668)+IF(H669-H666=1,1+H668)+IF(H669-H666=2,H668)+IF(H669-H666=3,IF(H668-1>0,H668-1,0))+IF(H669-H666=4,IF(H668-2>0,H668-2,0))","v":0},0,0,0,0,0,0,0,{"$f":"SUM(G670:O670)","v":0},{"$f":"IF(Q669-Q666=-1,3+Q668)+IF(Q669-Q666=0,2+Q668)+IF(Q669-Q666=1,1+Q668)+IF(Q669-Q666=2,Q668)+IF(Q669-Q666=3,IF(Q668-1>0,Q668-1,0))+IF(Q669-Q666=4,IF(Q668-2>0,Q668-2,0))","v":0},0,0,0,0,0,0,0,0,{"$f":"SUM(Q670:Y670)","v":0},{"$f":"P670+Z670","v":0}]
[null,null,null,null,null,"Score Brut",{"$f":"IF(G669-G666=-2,4)+IF(G669-G666=-1,3)+IF(G669-G666=0,2)+IF(G669-G666=1,1)+IF(G669-G666>2,0)","v":0},0,0,0,0,0,0,0,0,{"$f":"SUM(G671:O671)","v":0},{"$f":"IF(Q669-Q666=-2,4)+IF(Q669-Q666=-1,3)+IF(Q669-Q666=0,2)+IF(Q669-Q666=1,1)+IF(Q669-Q666>2,0)","v":0},0,0,0,0,0,0,0,0,{"$f":"SUM(Q671:Y671)","v":0},{"$f":"P671+Z671","v":0}]
[null,null,null,null,null,null,{"$f":"G669-G666","v":6},{"$f":"H669-H666","v":6},5,6,7,5,7,5,7,null,{"$f":"Q669-Q666","v":6},6,7,5,7,6,6,5,6]
[]
[]
[null,null,null,null,null,"Statistiques scores",null,"Eagle & moins",null,null,null,{"$f":"COUNTIF(G672:Y672,\"<=-2\")","v":0},"Par",null,{"$f":"COUNTIF(G672:Y672,\"=0\")","v":0},"Double bogey",null,null,null,null,{"$f":"COUNTIF(G672:Y672,\"=2\")","v":0}]
[null,null,null,null,null,null,null,"Birdie",null,null,null,{"$f":"COUNTIF(G672:Y672,\"=-1\")","v":0},"Bogey",null,{"$f":"COUNTIF(G672:Y672,\"=1\")","v":0},"Triple bogey & plus",null,null,null,null,{"$f":"COUNTIF(G672:Y672,\">=3\")","v":18}]
[null,null,null,null,null,null,null,{"$f":"M675","v":"Par"},null,null,null,{"$f":"O675","v":0}]
[null,null,null,null,null,null,null,{"$f":"M676","v":"Bogey"},null,null,null,{"$f":"O676","v":0}]
[null,null,null,null,null,null,null,{"$f":"P675","v":"Double bogey"},null,null,null,{"$f":"U675","v":0}]
[null,null,null,null,null,null,null,{"$f":"P676","v":"Triple bogey & plus"},null,null,null,{"$f":"U676","v":18}]
[]
[]
[]
[]
[null,null,null,null,null,"Nom",{"$f":"C35","v":0},null,null,null,null,"Slope",null,null,"SSS",null,"Coups reçus",null,null,null,null,null,null,null,null,"Date",{"$f":"$D$3","v":"00:00:00"}]
[null,null,null,null,null,"Index",{"$f":"E35","v":20},null,null,null,null,{"$f":"$F$3","v":133},null,null,{"$f":"$G$3","v":68.599999999999994},null,{"$f":"ROUND((G686*(L686/113)+(O686-AA689)),0)","v":20}]
[]
[null,null,null,null,null,"Trou",1,2,3,4,5,6,7,8,9,"Aller",10,11,12,13,14,15,16,17,18,"Retour","Total"]
[null,null,null,null,null,"PAR",{"$f":"G$7","v":4},{"$f":"H$7","v":4},5,4,3,5,3,5,3,{"$f":"SUM(G689:O689)","v":36},{"$f":"Q$7","v":4},4,3,5,3,4,4,5,4,{"$f":"SUM(Q689:Y689)","v":36},{"$f":"SUM(P689+Z689)","v":72}]
[null,null,null,null,null,"HCP trous",{"$f":"G$8","v":4},{"$f":"H$8","v":8},12,14,2,10,18,16,6,null,{"$f":"Q$8","v":1},9,11,5,17,15,3,13,7]
[null,null,null,null,null,"Coups reçus",{"$f":"IF($Q686<=18,IF(G690<=$Q686,1,0),IF($Q686<=36,IF(G690<=($Q686-18),2,1),IF($Q686>36,IF(G690<=($Q686-36),3,2))))","v":1},{"$f":"IF($Q686<=18,IF(H690<=$Q686,1,0),IF($Q686<=36,IF(H690<=($Q686-18),2,1),IF($Q686>36,IF(H690<=($Q686-36),3,2))))","v":1},1,1,2,1,1,1,1,{"$f":"SUM(G691:O691)","v":10},{"$f":"IF($Q686<=18,IF(Q690<=$Q686,1,0),IF($Q686<=36,IF(Q690<=($Q686-18),2,1),IF($Q686>36,IF(Q690<=($Q686-36),3,2))))","v":2},1,1,1,1,1,1,1,1,{"$f":"SUM(Q691:Y691)","v":10},{"$f":"P691+Z691","v":20}]
[null,null,null,null,null,"Stroke play",{"$f":"G35","v":10},10,10,10,10,10,10,10,10,{"$f":"SUM(G692:O692)","v":90},{"$f":"Q35","v":10},10,10,10,10,10,10,10,10,{"$f":"SUM(Q692:Y692)","v":90},{"$f":"P692+Z692","v":180}]
[null,null,null,null,null,"Net Stableford",{"$f":"IF(G692-G689=-1,3+G691)+IF(G692-G689=0,2+G691)+IF(G692-G689=1,1+G691)+IF(G692-G689=2,G691)+IF(G692-G689=3,IF(G691-1>0,G691-1,0))+IF(G692-G689=4,IF(G691-2>0,G691-2,0))","v":0},{"$f":"IF(H692-H689=-1,3+H691)+IF(H692-H689=0,2+H691)+IF(H692-H689=1,1+H691)+IF(H692-H689=2,H691)+IF(H692-H689=3,IF(H691-1>0,H691-1,0))+IF(H692-H689=4,IF(H691-2>0,H691-2,0))","v":0},0,0,0,0,0,0,0,{"$f":"SUM(G693:O693)","v":0},{"$f":"IF(Q692-Q689=-1,3+Q691)+IF(Q692-Q689=0,2+Q691)+IF(Q692-Q689=1,1+Q691)+IF(Q692-Q689=2,Q691)+IF(Q692-Q689=3,IF(Q691-1>0,Q691-1,0))+IF(Q692-Q689=4,IF(Q691-2>0,Q691-2,0))","v":0},0,0,0,0,0,0,0,0,{"$f":"SUM(Q693:Y693)","v":0},{"$f":"P693+Z693","v":0}]
[null,null,null,null,null,"Score Brut",{"$f":"IF(G692-G689=-2,4)+IF(G692-G689=-1,3)+IF(G692-G689=0,2)+IF(G692-G689=1,1)+IF(G692-G689>2,0)","v":0},0,0,0,0,0,0,0,0,{"$f":"SUM(G694:O694)","v":0},{"$f":"IF(Q692-Q689=-2,4)+IF(Q692-Q689=-1,3)+IF(Q692-Q689=0,2)+IF(Q692-Q689=1,1)+IF(Q692-Q689>2,0)","v":0},0,0,0,0,0,0,0,0,{"$f":"SUM(Q694:Y694)","v":0},{"$f":"P694+Z694","v":0}]
[null,null,null,null,null,null,{"$f":"G692-G689","v":6},{"$f":"H692-H689","v":6},5,6,7,5,7,5,7,null,{"$f":"Q692-Q689","v":6},6,7,5,7,6,6,5,6]
[]
[]
[null,null,null,null,null,"Statistiques scores",null,"Eagle & moins",null,null,null,{"$f":"COUNTIF(G695:Y695,\"<=-2\")","v":0},"Par",null,{"$f":"COUNTIF(G695:Y695,\"=0\")","v":0},"Double bogey",null,null,null,null,{"$f":"COUNTIF(G695:Y695,\"=2\")","v":0}]
[null,null,null,null,null,null,null,"Birdie",null,null,null,{"$f":"COUNTIF(G695:Y695,\"=-1\")","v":0},"Bogey",null,{"$f":"COUNTIF(G695:Y695,\"=1\")","v":0},"Triple bogey & plus",null,null,null,null,{"$f":"COUNTIF(G695:Y695,\">=3\")","v":18}]
[null,null,null,null,null,null,null,{"$f":"M698","v":"Par"},null,null,null,{"$f":"O698","v":0}]
[null,null,null,null,null,null,null,{"$f":"M699","v":"Bogey"},null,null,null,{"$f":"O699","v":0}]
[null,null,null,null,null,null,null,{"$f":"P698","v":"Double bogey"},null,null,null,{"$f":"U698","v":0}]
[null,null,null,null,null,null,null,{"$f":"P699","v":"Triple bogey & plus"},null,null,null,{"$f":"U699","v":18}]
[]
[]
[]
[]
[null,null,null,null,null,"Nom",{"$f":"C36","v":0},null,null,null,null,"Slope",null,null,"SSS",null,"Coups reçus",null,null,null,null,null,null,null,null,"Date",{"$f":"$D$3","v":"00:00:00"}]
[null,null,null,null,null,"Index",{"$f":"E36","v":20},null,null,null,null,{"$f":"$F$3","v":133},null,null,{"$f":"$G$3","v":68.599999999999994},null,{"$f":"ROUND((G709*(L709/113)+(O709-AA712)),0)","v":20}]
[]
[null,null,null,null,null,"Trou",1,2,3,4,5,6,7,8,9,"Aller",10,11,12,13,14,15,16,17,18,"Retour","Total"]
[null,null,null,null,null,"PAR",{"$f":"G$7","v":4},{"$f":"H$7","v":4},5,4,3,5,3,5,3,{"$f":"SUM(G712:O712)","v":36},{"$f":"Q$7","v":4},4,3,5,3,4,4,5,4,{"$f":"SUM(Q712:Y712)","v":36},{"$f":"SUM(P712+Z712)","v":72}]
[null,null,null,null,null,"HCP trous",{"$f":"G$8","v":4},{"$f":"H$8","v":8},12,14,2,10,18,16,6,null,{"$f":"Q$8","v":1},9,11,5,17,15,3,13,7]
[null,null,null,null,null,"Coups reçus",{"$f":"IF($Q709<=18,IF(G713<=$Q709,1,0),IF($Q709<=36,IF(G713<=($Q709-18),2,1),IF($Q709>36,IF(G713<=($Q709-36),3,2))))","v":1},{"$f":"IF($Q709<=18,IF(H713<=$Q709,1,0),IF($Q709<=36,IF(H713<=($Q709-18),2,1),IF($Q709>36,IF(H713<=($Q709-36),3,2))))","v":1},1,1,2,1,1,1,1,{"$f":"SUM(G714:O714)","v":10},{"$f":"IF($Q709<=18,IF(Q713<=$Q709,1,0),IF($Q709<=36,IF(Q713<=($Q709-18),2,1),IF($Q709>36,IF(Q713<=($Q709-36),3,2))))","v":2},1,1,1,1,1,1,1,1,{"$f":"SUM(Q714:Y714)","v":10},{"$f":"P714+Z714","v":20}]
[null,null,null,null,null,"Stroke play",{"$f":"G36","v":10},10,10,10,10,10,10,10,10,{"$f":"SUM(G715:O715)","v":90},{"$f":"Q36","v":10},10,10,10,10,10,10,10,10,{"$f":"SUM(Q715:Y715)","v":90},{"$f":"P715+Z715","v":180}]
[null,null,null,null,null,"Net Stableford",{"$f":"IF(G715-G712=-1,3+G714)+IF(G715-G712=0,2+G714)+IF(G715-G712=1,1+G714)+IF(G715-G712=2,G714)+IF(G715-G712=3,IF(G714-1>0,G714-1,0))+IF(G715-G712=4,IF(G714-2>0,G714-2,0))","v":0},{"$f":"IF(H715-H712=-1,3+H714)+IF(H715-H712=0,2+H714)+IF(H715-H712=1,1+H714)+IF(H715-H712=2,H714)+IF(H715-H712=3,IF(H714-1>0,H714-1,0))+IF(H715-H712=4,IF(H714-2>0,H714-2,0))","v":0},0,0,0,0,0,0,0,{"$f":"SUM(G716:O716)","v":0},{"$f":"IF(Q715-Q712=-1,3+Q714)+IF(Q715-Q712=0,2+Q714)+IF(Q715-Q712=1,1+Q714)+IF(Q715-Q712=2,Q714)+IF(Q715-Q712=3,IF(Q714-1>0,Q714-1,0))+IF(Q715-Q712=4,IF(Q714-2>0,Q714-2,0))","v":0},0,0,0,0,0,0,0,0,{"$f":"SUM(Q716:Y716)","v":0},{"$f":"P716+Z716","v":0}]
[null,null,null,null,null,"Score Brut",{"$f":"IF(G715-G712=-2,4)+IF(G715-G712=-1,3)+IF(G715-G712=0,2)+IF(G715-G712=1,1)+IF(G715-G712>2,0)","v":0},0,0,0,0,0,0,0,0,{"$f":"SUM(G717:O717)","v":0},{"$f":"IF(Q715-Q712=-2,4)+IF(Q715-Q712=-1,3)+IF(Q715-Q712=0,2)+IF(Q715-Q712=1,1)+IF(Q715-Q712>2,0)","v":0},0,0,0,0,0,0,0,0,{"$f":"SUM(Q717:Y717)","v":0},{"$f":"P717+Z717","v":0}]
[null,null,null,null,null,null,{"$f":"G715-G712","v":6},{"$f":"H715-H712","v":6},5,6,7,5,7,5,7,null,{"$f":"Q715-Q712","v":6},6,7,5,7,6,6,5,6]
[]
[]
[null,null,null,null,null,"Statistiques scores",null,"Eagle & moins",null,null,null,{"$f":"COUNTIF(G718:Y718,\"<=-2\")","v":0},"Par",null,{"$f":"COUNTIF(G718:Y718,\"=0\")","v":0},"Double bogey",null,null,null,null,{"$f":"COUNTIF(G718:Y718,\"=2\")","v":0}]
[null,null,null,null,null,null,null,"Birdie",null,null,null,{"$f":"COUNTIF(G718:Y718,\"=-1\")","v":0},"Bogey",null,{"$f":"COUNTIF(G718:Y718,\"=1\")","v":0},"Triple bogey & plus",null,null,null,null,{"$f":"COUNTIF(G718:Y718,\">=3\")","v":18}]
[null,null,null,null,null,null,null,{"$f":"M721","v":"Par"},null,null,null,{"$f":"O721","v":0}]
[null,null,null,null,null,null,null,{"$f":"M722","v":"Bogey"},null,null,null,{"$f":"O722","v":0}]
[null,null,null,null,null,null,null,{"$f":"P721","v":"Double bogey"},null,null,null,{"$f":"U721","v":0}]
[null,null,null,null,null,null,null,{"$f":"P722","v":"Triple bogey & plus"},null,null,null,{"$f":"U722","v":18}]
[]
[]
[]
[]
[null,null,null,null,null,"Nom",{"$f":"C37","v":0},null,null,null,null,"Slope",null,null,"SSS",null,"Coups reçus",null,null,null,null,null,null,null,null,"Date",{"$f":"$D$3","v":"00:00:00"}]
[null,null,null,null,null,"Index",{"$f":"E37","v":20},null,null,null,null,{"$f":"$F$3","v":133},null,null,{"$f":"$G$3","v":68.599999999999994},null,{"$f":"ROUND((G732*(L732/113)+(O732-AA735)),0)","v":20}]
[]
[null,null,null,null,null,"Trou",1,2,3,4,5,6,7,8,9,"Aller",10,11,12,13,14,15,16,17,18,"Retour","Total"]
[null,null,null,null,null,"PAR",{"$f":"G$7","v":4},{"$f":"H$7","v":4},5,4,3,5,3,5,3,{"$f":"SUM(G735:O735)","v":36},{"$f":"Q$7","v":4},4,3,5,3,4,4,5,4,{"$f":"SUM(Q735:Y735)","v":36},{"$f":"SUM(P735+Z735)","v":72}]
[null,null,null,null,null,"HCP trous",{"$f":"G$8","v":4},{"$f":"H$8","v":8},12,14,2,10,18,16,6,null,{"$f":"Q$8","v":1},9,11,5,17,15,3,13,7]
[null,null,null,null,null,"Coups reçus",{"$f":"IF($Q732<=18,IF(G736<=$Q732,1,0),IF($Q732<=36,IF(G736<=($Q732-18),2,1),IF($Q732>36,IF(G736<=($Q732-36),3,2))))","v":1},{"$f":"IF($Q732<=18,IF(H736<=$Q732,1,0),IF($Q732<=36,IF(H736<=($Q732-18),2,1),IF($Q732>36,IF(H736<=($Q732-36),3,2))))","v":1},1,1,2,1,1,1,1,{"$f":"SUM(G737:O737)","v":10},{"$f":"IF($Q732<=18,IF(Q736<=$Q732,1,0),IF($Q732<=36,IF(Q736<=($Q732-18),2,1),IF($Q732>36,IF(Q736<=($Q732-36),3,2))))","v":2},1,1,1,1,1,1,1,1,{"$f":"SUM(Q737:Y737)","v":10},{"$f":"P737+Z737","v":20}]
[null,null,null,null,null,"Stroke play",{"$f":"G37","v":10},10,10,10,10,10,10,10,10,{"$f":"SUM(G738:O738)","v":90},{"$f":"Q37","v":10},10,10,10,10,10,10,10,10,{"$f":"SUM(Q738:Y738)","v":90},{"$f":"P738+Z738","v":180}]
[null,null,null,null,null,"Net Stableford",{"$f":"IF(G738-G735=-1,3+G737)+IF(G738-G735=0,2+G737)+IF(G738-G735=1,1+G737)+IF(G738-G735=2,G737)+IF(G738-G735=3,IF(G737-1>0,G737-1,0))+IF(G738-G735=4,IF(G737-2>0,G737-2,0))","v":0},{"$f":"IF(H738-H735=-1,3+H737)+IF(H738-H735=0,2+H737)+IF(H738-H735=1,1+H737)+IF(H738-H735=2,H737)+IF(H738-H735=3,IF(H737-1>0,H737-1,0))+IF(H738-H735=4,IF(H737-2>0,H737-2,0))","v":0},0,0,0,0,0,0,0,{"$f":"SUM(G739:O739)","v":0},{"$f":"IF(Q738-Q735=-1,3+Q737)+IF(Q738-Q735=0,2+Q737)+IF(Q738-Q735=1,1+Q737)+IF(Q738-Q735=2,Q737)+IF(Q738-Q735=3,IF(Q737-1>0,Q737-1,0))+IF(Q738-Q735=4,IF(Q737-2>0,Q737-2,0))","v":0},0,0,0,0,0,0,0,0,{"$f":"SUM(Q739:Y739)","v":0},{"$f":"P739+Z739","v":0}]
[null,null,null,null,null,"Score Brut",{"$f":"IF(G738-G735=-2,4)+IF(G738-G735=-1,3)+IF(G738-G735=0,2)+IF(G738-G735=1,1)+IF(G738-G735>2,0)","v":0},0,0,0,0,0,0,0,0,{"$f":"SUM(G740:O740)","v":0},{"$f":"IF(Q738-Q735=-2,4)+IF(Q738-Q735=-1,3)+IF(Q738-Q735=0,2)+IF(Q738-Q735=1,1)+IF(Q738-Q735>2,0)","v":0},0,0,0,0,0,0,0,0,{"$f":"SUM(Q740:Y740)","v":0},{"$f":"P740+Z740","v":0}]
[null,null,null,null,null,null,{"$f":"G738-G735","v":6},{"$f":"H738-H735","v":6},5,6,7,5,7,5,7,null,{"$f":"Q738-Q735","v":6},6,7,5,7,6,6,5,6]
[]
[]
[null,null,null,null,null,"Statistiques scores",null,"Eagle & moins",null,null,null,{"$f":"COUNTIF(G741:Y741,\"<=-2\")","v":0},"Par",null,{"$f":"COUNTIF(G741:Y741,\"=0\")","v":0},"Double bogey",null,null,null,null,{"$f":"COUNTIF(G741:Y741,\"=2\")","v":0}]
[null,null,null,null,null,null,null,"Birdie",null,null,null,{"$f":"COUNTIF(G741:Y741,\"=-1\")","v":0},"Bogey",null,{"$f":"COUNTIF(G741:Y741,\"=1\")","v":0},"Triple bogey & plus",null,null,null,null,{"$f":"COUNTIF(G741:Y741,\">=3\")","v":18}]
[null,null,null,null,null,null,null,{"$f":"M744","v":"Par"},null,null,null,{"$f":"O744","v":0}]
[null,null,null,null,null,null,null,{"$f":"M745","v":"Bogey"},null,null,null,{"$f":"O745","v":0}]
[null,null,null,null,null,null,null,{"$f":"P744","v":"Double bogey"},null,null,null,{"$f":"U744","v":0}]
[null,null,null,null,null,null,null,{"$f":"P745","v":"Triple bogey & plus"},null,null,null,{"$f":"U745","v":18}]
[]
[]
[]
[]
[null,null,null,null,null,"Nom",{"$f":"C38","v":0},null,null,null,null,"Slope",null,null,"SSS",null,"Coups reçus",null,null,null,null,null,null,null,null,"Date",{"$f":"$D$3","v":"00:00:00"}]
[null,null,null,null,null,"Index",{"$f":"E38","v":20},null,null,null,null,{"$f":"$F$3","v":133},null,null,{"$f":"$G$3","v":68.599999999999994},null,{"$f":"ROUND((G755*(L755/113)+(O755-AA758)),0)","v":20}]
[]
[null,null,null,null,null,"Trou",1,2,3,4,5,6,7,8,9,"Aller",10,11,12,13,14,15,16,17,18,"Retour","Total"]
[null,null,null,null,null,"PAR",{"$f":"G$7","v":4},{"$f":"H$7","v":4},5,4,3,5,3,5,3,{"$f":"SUM(G758:O758)","v":36},{"$f":"Q$7","v":4},4,3,5,3,4,4,5,4,{"$f":"SUM(Q758:Y758)","v":36},{"$f":"SUM(P758+Z758)","v":72}]
[null,null,null,null,null,"HCP trous",{"$f":"G$8","v":4},{"$f":"H$8","v":8},12,14,2,10,18,16,6,null,{"$f":"Q$8","v":1},9,11,5,17,15,3,13,7]
[null,null,null,null,null,"Coups reçus",{"$f":"IF($Q755<=18,IF(G759<=$Q755,1,0),IF($Q755<=36,IF(G759<=($Q755-18),2,1),IF($Q755>36,IF(G759<=($Q755-36),3,2))))","v":1},{"$f":"IF($Q755<=18,IF(H759<=$Q755,1,0),IF($Q755<=36,IF(H759<=($Q755-18),2,1),IF($Q755>36,IF(H759<=($Q755-36),3,2))))","v":1},1,1,2,1,1,1,1,{"$f":"SUM(G760:O760)","v":10},{"$f":"IF($Q755<=18,IF(Q759<=$Q755,1,0),IF($Q755<=36,IF(Q759<=($Q755-18),2,1),IF($Q755>36,IF(Q759<=($Q755-36),3,2))))","v":2},1,1,1,1,1,1,1,1,{"$f":"SUM(Q760:Y760)","v":10},{"$f":"P760+Z760","v":20}]
[null,null,null,null,null,"Stroke play",{"$f":"G38","v":10},10,10,10,10,10,10,10,10,{"$f":"SUM(G761:O761)","v":90},{"$f":"Q38","v":10},10,10,10,10,10,10,10,10,{"$f":"SUM(Q761:Y761)","v":90},{"$f":"P761+Z761","v":180}]
[null,null,null,null,null,"Net Stableford",{"$f":"IF(G761-G758=-1,3+G760)+IF(G761-G758=0,2+G760)+IF(G761-G758=1,1+G760)+IF(G761-G758=2,G760)+IF(G761-G758=3,IF(G760-1>0,G760-1,0))+IF(G761-G758=4,IF(G760-2>0,G760-2,0))","v":0},{"$f":"IF(H761-H758=-1,3+H760)+IF(H761-H758=0,2+H760)+IF(H761-H758=1,1+H760)+IF(H761-H758=2,H760)+IF(H761-H758=3,IF(H760-1>0,H760-1,0))+IF(H761-H758=4,IF(H760-2>0,H760-2,0))","v":0},0,0,0,0,0,0,0,{"$f":"SUM(G762:O762)","v":0},{"$f":"IF(Q761-Q758=-1,3+Q760)+IF(Q761-Q758=0,2+Q760)+IF(Q761-Q758=1,1+Q760)+IF(Q761-Q758=2,Q760)+IF(Q761-Q758=3,IF(Q760-1>0,Q760-1,0))+IF(Q761-Q758=4,IF(Q760-2>0,Q760-2,0))","v":0},0,0,0,0,0,0,0,0,{"$f":"SUM(Q762:Y762)","v":0},{"$f":"P762+Z762","v":0}]
[null,null,null,null,null,"Score Brut",{"$f":"IF(G761-G758=-2,4)+IF(G761-G758=-1,3)+IF(G761-G758=0,2)+IF(G761-G758=1,1)+IF(G761-G758>2,0)","v":0},0,0,0,0,0,0,0,0,{"$f":"SUM(G763:O763)","v":0},{"$f":"IF(Q761-Q758=-2,4)+IF(Q761-Q758=-1,3)+IF(Q761-Q758=0,2)+IF(Q761-Q758=1,1)+IF(Q761-Q758>2,0)","v":0},0,0,0,0,0,0,0,0,{"$f":"SUM(Q763:Y763)","v":0},{"$f":"P763+Z763","v":0}]
[null,null,null,null,null,null,{"$f":"G761-G758","v":6},{"$f":"H761-H758","v":6},5,6,7,5,7,5,7,null,{"$f":"Q761-Q758","v":6},6,7,5,7,6,6,5,6]
[]
[]
[null,null,null,null,null,"Statistiques scores",null,"Eagle & moins",null,null,null,{"$f":"COUNTIF(G764:Y764,\"<=-2\")","v":0},"Par",null,{"$f":"COUNTIF(G764:Y764,\"=0\")","v":0},"Double bogey",null,null,null,null,{"$f":"COUNTIF(G764:Y764,\"=2\")","v":0}]
[null,null,null,null,null,null,null,"Birdie",null,null,null,{"$f":"COUNTIF(G764:Y764,\"=-1\")","v":0},"Bogey",null,{"$f":"COUNTIF(G764:Y764,\"=1\")","v":0},"Triple bogey & plus",null,null,null,null,{"$f":"COUNTIF(G764:Y764,\">=3\")","v":18}]
[null,null,null,null,null,null,null,{"$f":"M767","v":"Par"},null,null,null,{"$f":"O767","v":0}]
[null,null,null,null,null,null,null,{"$f":"M768","v":"Bogey"},null,null,null,{"$f":"O768","v":0}]
[null,null,null,null,null,null,null,{"$f":"P767","v":"Double bogey"},null,null,null,{"$f":"U767","v":0}]
[null,null,null,null,null,null,null,{"$f":"P768","v":"Triple bogey & plus"},null,null,null,{"$f":"U768","v":18}]

{"sheet":"sortie (4)","index":5,"n_rows":772,"n_cols":42,"rows_kept":772,"cut":false,"hidden":false,"merged":[[767,15,767,19],[768,7,768,8],[769,7,769,8],[754,6,754,9],[754,11,754,13],[754,14,754,15],[754,16,754,19],[766,5,767,6],[766,7,766,10],[766,12,766,13],[766,15,766,19],[767,7,767,10],[767,12,767,13],[744,15,744,19],[745,7,745,8],[746,7,746,8],[753,6,753,9],[753,11,753,13],[753,14,753,15],[753,16,753,19],[731,6,731,9],[731,11,731,13],[731,14,731,15],[731,16,731,19],[743,5,744,6],[743,7,743,10],[743,12,743,13],[743,15,743,19],[744,7,744,10],[744,12,744,13],[721,15,721,19],[722,7,722,8],[723,7,723,8],[730,6,730,9],[730,11,730,13],[730,14,730,15],[730,16,730,19],[708,6,708,9],[708,11,708,13],[708,14,708,15],[708,16,708,19],[720,5,721,6],[720,7,720,10],[720,12,720,13],[720,15,720,19],[721,7,721,10],[721,12,721,13],[698,15,698,19],[699,7,699,8],[700,7,700,8],[707,6,707,9],[707,11,707,13],[707,14,707,15],[707,16,707,19],[685,6,685,9],[685,11,685,13],[685,14,685,15],[685,16,685,19],[697,5,698,6],[697,7,697,10],[697,12,697,13],[697,15,697,19],[698,7,698,10],[698,12,698,13],[675,15,675,19],[676,7,676,8],[677,7,677,8],[684,6,684,9],[684,11,684,13],[684,14,684,15],[684,16,684,19],[662,6,662,9],[662,11,662,13],[662,14,662,15],[662,16,662,19],[674,5,675,6],[674,7,674,10],[674,12,674,13],[674,15,674,19],[675,7,675,10],[675,12,675,13],[652,15,652,19],[653,7,653,8],[654,7,654,8],[661,6,661,9],[661,11,661,13],[661,14,661,15],[661,16,661,19],[639,6,639,9],[639,11,639,13],[639,14,639,15],[639,16,639,19],[651,5,652,6],[651,7,651,10],[651,12,651,13],[651,15,651,19],[652,7,652,10],[652,12,652,13],[629,15,629,19],[630,7,630,8],[631,7,631,8],[638,6,638,9],[638,11,638,13],[638,14,638,15],[638,16,638,19],[616,6,616,9],[616,11,616,13],[616,14,616,15],[616,16,616,19],[628,5,629,6],[628,7,628,10],[628,12,628,13],[628,15,628,19],[629,7,629,10],[629,12,629,13],[606,15,606,19],[607,7,607,8],[608,7,608,8],[615,6,615,9],[615,11,615,13],[615,14,615,15],[615,16,615,19],[593,6,593,9],[593,11,593,13],[593,14,593,15],[593,16,593,19],[605,5,606,6],[605,7,605,10],[605,12,605,13],[605,15,605,19],[606,7,606,10],[606,12,606,13],[583,15,583,19],[584,7,584,8],[585,7,585,8],[592,6,592,9],[592,11,592,13],[592,14,592,15],[592,16,592,19],[570,6,570,9],[570,11,570,13],[570,14,570,15],[570,16,570,19],[582,5,583,6],[582,7,582,10],[582,12,582,13],[582,15,582,19],[583,7,583,10],[583,12,583,13],[560,15,560,19],[561,7,561,8],[562,7,562,8],[569,6,569,9],[569,11,569,13],[569,14,569,15],[569,16,569,19],[547,6,547,9],[547,11,547,13],[547,14,547,15],[547,16,547,19],[559,5,560,6],[559,7,559,10],[559,12,559,13],[559,15,559,19],[560,7,560,10],[560,12,560,13],[537,15,537,19],[538,7,538,8],[539,7,539,8],[546,6,546,9],[546,11,546,13],[546,14,546,15],[546,16,546,19],[524,6,524,9],[524,11,524,13],[524,14,524,15],[524,16,524,19],[536,5,537,6],[536,7,536,10],[536,12,536,13],[536,15,536,19],[537,7,537,10],[537,12,537,13],[514,15,514,19],[515,7,515,8],[516,7,516,8],[523,6,523,9],[523,11,523,13],[523,14,523,15],[523,16,523,19],[501,6,501,9],[501,11,501,13],[501,14,501,15],[501,16,501,19],[513,5,514,6],[513,7,513,10],[513,12,513,13],[513,15,513,19],[514,7,514,10],[514,12,514,13],[491,15,491,19],[492,7,492,8],[493,7,493,8],[500,6,500,9],[500,11,500,13],[500,14,500,15],[500,16,500,19],[478,6,478,9],[478,11,478,13],[478,14,478,15],[478,16,478,19],[490,5,491,6],[490,7,490,10],[490,12,490,13],[490,15,490,19],[491,7,491,10],[491,12,491,13],[468,15,468,19],[469,7,469,8],[470,7,470,8],[477,6,477,9],[477,11,477,13],[477,14,477,15],[477,16,477,19],[455,6,455,9],[455,11,455,13],[455,14,455,15],[455,16,455,19],[467,5,468,6],[467,7,467,10],[467,12,467,13],[467,15,467,19],[468,7,468,10],[468,12,468,13],[445,15,445,19],[446,7,446,8],[447,7,447,8],[454,6,454,9],[454,11,454,13],[454,14,454,15],[454,16,454,19],[432,6,432,9],[432,11,432,13],[432,14,432,15],[432,16,432,19],[444,5,445,6],[444,7,444,10],[444,12,444,13],[444,15,444,19],[445,7,445,10],[445,12,445,13],[422,15,422,19],[423,7,423,8],[424,7,424,8],[431,6,431,9],[431,11,431,13],[431,14,431,15],[431,16,431,19],[409,6,409,9],[409,11,409,13],[409,14,409,15],[409,16,409,19],[421,5,422,6],[421,7,421,10],[421,12,421,13],[421,15,421,19],[422,7,422,10],[422,12,422,13],[399,15,399,19],[400,7,400,8],[401,7,401,8],[408,6,408,9],[408,11,408,13],[408,14,408,15],[408,16,408,19],[386,6,386,9],[386,11,386,13],[386,14,386,15],[386,16,386,19],[398,5,399,6],[398,7,398,10],[398,12,398,13],[398,15,398,19],[399,7,399,10],[399,12,399,13],[376,15,376,19],[377,7,377,8],[378,7,378,8],[385,6,385,9],[385,11,385,13],[385,14,385,15],[385,16,385,19],[363,6,363,9],[363,11,363,13],[363,14,363,15],[363,16,363,19],[375,5,376,6],[375,7,375,10],[375,12,375,13],[375,15,375,19],[376,7,376,10],[376,12,376,13],[353,15,353,19],[354,7,354,8],[355,7,355,8],[362,6,362,9],[362,11,362,13],[362,14,362,15],[362,16,362,19],[340,6,340,9],[340,11,340,13],[340,14,340,15],[340,16,340,19],[352,5,353,6],[352,7,352,10],[352,12,352,13],[352,15,352,19],[353,7,353,10],[353,12,353,13],[330,15,330,19],[331,7,331,8],[332,7,332,8],[339,6,339,9],[339,11,339,13],[339,14,339,15],[339,16,339,19],[317,6,317,9],[317,11,317,13],[317,14,317,15],[317,16,317,19],[329,5,330,6],[329,7,329,10],[329,12,329,13],[329,15,329,19],[330,7,330,10],[330,12,330,13],[307,15,307,19],[308,7,308,8],[309,7,309,8],[316,6,316,9],[316,11,316,13],[316,14,316,15],[316,16,316,19],[294,6,294,9],[294,11,294,13],[294,14,294,15],[294,16,294,19],[306,5,307,6],[306,7,306,10],[306,12,306,13],[306,15,306,19],[307,7,307,10],[307,12,307,13],[284,15,284,19],[285,7,285,8],[286,7,286,8],[293,6,293,9],[293,11,293,13],[293,14,293,15],[293,16,293,19],[271,6,271,9],[271,11,271,13],[271,14,271,15],[271,16,271,19],[283,5,284,6],[283,7,283,10],[283,12,283,13],[283,15,283,19],[284,7,284,10],[284,12,284,13],[261,15,261,19],[262,7,262,8],[263,7,263,8],[270,6,270,9],[270,11,270,13],[270,14,270,15],[270,16,270,19],[248,6,248,9],[248,11,248,13],[248,14,248,15],[248,16,248,19],[260,5,261,6],[260,7,260,10],[260,12,260,13],[260,15,260,19],[261,7,261,10],[261,12,261,13],[238,15,238,19],[239,7,239,8],[240,7,240,8],[247,6,247,9],[247,11,247,13],[247,14,247,15],[247,16,247,19],[225,6,225,9],[225,11,225,13],[225,14,225,15],[225,16,225,19],[237,5,238,6],[237,7,237,10],[237,12,237,13],[237,15,237,19],[238,7,238,10],[238,12,238,13],[215,15,215,19],[216,7,216,8],[217,7,217,8],[224,6,224,9],[224,11,224,13],[224,14,224,15],[224,16,224,19],[202,6,202,9],[202,11,202,13],[202,14,202,15],[202,16,202,19],[214,5,215,6],[214,7,214,10],[214,12,214,13],[214,15,214,19],[215,7,215,10],[215,12,215,13],[192,15,192,19],[193,7,193,8],[194,7,194,8],[201,6,201,9],[201,11,201,13],[201,14,201,15],[201,16,201,19],[179,6,179,9],[179,11,179,13],[179,14,179,15],[179,16,179,19],[191,5,192,6],[191,7,191,10],[191,12,191,13],[191,15,191,19],[192,7,192,10],[192,12,192,13],[169,15,169,19],[170,7,170,8],[171,7,171,8],[178,6,178,9],[178,11,178,13],[178,14,178,15],[178,16,178,19],[156,6,156,9],[156,11,156,13],[156,14,156,15],[156,16,156,19],[168,5,169,6],[168,7,168,10],[168,12,168,13],[168,15,168,19],[169,7,169,10],[169,12,169,13],[146,15,146,19],[147,7,147,8],[148,7,148,8],[155,6,155,9],[155,11,155,13],[155,14,155,15],[155,16,155,19],[133,6,133,9],[133,11,133,13],[133,14,133,15],[133,16,133,19],[145,5,146,6],[145,7,145,10],[145,12,145,13],[145,15,145,19],[146,7,146,10],[146,12,146,13],[123,15,123,19],[124,7,124,8],[125,7,125,8],[132,6,132,9],[132,11,132,13],[132,14,132,15],[132,16,132,19],[110,6,110,9],[110,11,110,13],[110,14,110,15],[110,16,110,19],[122,5,123,6],[122,7,122,10],[122,12,122,13],[122,15,122,19],[123,7,123,10],[123,12,123,13],[100,15,100,19],[101,7,101,8],[102,7,102,8],[109,6,109,9],[109,11,109,13],[109,14,109,15],[109,16,109,19],[87,6,87,9],[87,11,87,13],[87,14,87,15],[87,16,87,19],[99,5,100,6],[99,7,99,10],[99,12,99,13],[99,15,99,19],[100,7,100,10],[100,12,100,13],[76,9,76,12],[76,13,76,15],[76,21,76,24],[76,25,76,26],[80,7,82,20],[86,6,86,9],[86,11,86,13],[86,14,86,15],[86,16,86,19],[74,9,74,12],[74,13,74,15],[74,21,74,24],[74,25,74,26],[75,9,75,12],[75,13,75,15],[75,21,75,24],[75,25,75,26],[72,9,72,12],[72,13,72,15],[72,21,72,24],[72,25,72,26],[73,9,73,12],[73,13,73,15],[73,21,73,24],[73,25,73,26],[70,9,70,12],[70,13,70,15],[70,21,70,24],[70,25,70,26],[71,9,71,12],[71,13,71,15],[71,21,71,24],[71,25,71,26],[68,9,68,12],[68,13,68,15],[68,21,68,24],[68,25,68,26],[69,9,69,12],[69,13,69,15],[69,21,69,24],[69,25,69,26],[66,9,66,12],[66,13,66,15],[66,21,66,24],[66,25,66,26],[67,9,67,12],[67,13,67,15],[67,21,67,24],[67,25,67,26],[64,9,64,12],[64,13,64,15],[64,21,64,24],[64,25,64,26],[65,9,65,12],[65,13,65,15],[65,21,65,24],[65,25,65,26],[62,9,62,12],[62,13,62,15],[62,21,62,24],[62,25,62,26],[63,9,63,12],[63,13,63,15],[63,21,63,24],[63,25,63,26],[60,9,60,12],[60,13,60,15],[60,21,60,24],[60,25,60,26],[61,9,61,12],[61,13,61,15],[61,21,61,24],[61,25,61,26],[58,9,58,12],[58,13,58,15],[58,21,58,24],[58,25,58,26],[59,9,59,12],[59,13,59,15],[59,21,59,24],[59,25,59,26],[56,9,56,12],[56,13,56,15],[56,21,56,24],[56,25,56,26],[57,9,57,12],[57,13,57,15],[57,21,57,24],[57,25,57,26],[54,9,54,12],[54,13,54,15],[54,21,54,24],[54,25,54,26],[55,9,55,12],[55,13,55,15],[55,21,55,24],[55,25,55,26],[52,9,52,12],[52,13,52,15],[52,21,52,24],[52,25,52,26],[53,9,53,12],[53,13,53,15],[53,21,53,24],[53,25,53,26],[1,6,1,9],[1,13,3,24],[2,6,2,9],[40,7,42,20],[50,9,50,12],[50,13,50,15],[50,21,50,24],[50,25,50,26],[51,9,51,12],[51,13,51,15],[51,21,51,24],[51,25,51,26],[48,9,48,12],[48,13,48,15],[48,21,48,24],[48,25,48,26],[49,9,49,12],[49,13,49,15],[49,21,49,24],[49,25,49,26],[44,2,44,4],[44,9,44,16],[44,21,44,27],[46,9,46,12],[46,13,46,15],[46,21,46,24],[46,25,46,26],[47,9,47,12],[47,13,47,15],[47,21,47,24],[47,25,47,26]]}
[]
[null,null,"Golf","C",null,"Slope","SSS",null,null,null,null,null,null,"CARTE DE SCORE"]
[null,null,"Date",null,null,133,68.599999999999994]
[]
[null,null,"Individuel Stableford BRUT/NET"]
[null,null,null,null,"Index","HCP trous",1,2,3,4,5,6,7,8,9,"Aller",10,11,12,13,14,15,16,17,18,"Retour","Total"]
[null,null,null,null,null,"PAR",4,4,5,4,3,5,3,5,3,{"$f":"SUM(G7:O7)","v":36},4,4,3,5,3,4,4,5,4,{"$f":"SUM(Q7:Y7)","v":36},{"$f":"SUM(P7+Z7)","v":72}]
[null,null,"Noms","Prénoms",null,"Trou",4,8,12,14,2,10,18,16,6,null,1,9,11,5,17,15,3,13,7,null,null,null,"NET","Classt","Rang","Points",null,"BRUT","Classt","Rang","Points",null,"STROKE","Classt","Rang","Points"]
[null,1,null,null,20,null,10,10,10,10,10,10,10,10,10,{"$f":"SUM(G9:O9)","v":90},10,10,10,10,10,10,10,10,10,{"$f":"SUM(Q9:Y9)","v":90},{"$f":"SUM(P9+Z9)","v":180},null,{"$f":"$AA$95","v":0},{"$f":"RANK(AC9,AC$9:AC$38,0)+COUNTIF(AC9:$AC$9,AC9)-1","v":1},{"$f":"RANK(AC9,AC$9:AC$38,0)","v":1},{"$f":"IF(ISBLANK($C9),0,1)*INDEX('Allocation Points'!$B$3:$AG$32,AE9,COUNTIF(AE$9:AE$38,AE9)+2)","v":0},null,{"$f":"AA96","v":0},{"$f":"RANK(AH9,AH$9:AH$38,0)+COUNTIF(AH9:$AH$9,AH9)-1","v":1},{"$f":"RANK(AH9,AH$9:AH$38,0)","v":1},{"$f":"IF(ISBLANK($C9),0,1)*INDEX('Allocation Points'!$B$3:$AG$32,AJ9,COUNTIF(AJ$9:AJ$38,AJ9)+2)","v":0},null,{"$f":"AA94","v":180},{"$f":"RANK(AM9,AM$9:AM$38,1)+COUNTIF(AM9:$AM$9,AM9)-1","v":1},{"$f":"RANK(AM9,AM$9:AM$38,1)","v":1},{"$f":"IF(ISBLANK($C9),0,1)*INDEX('Allocation Points'!$B$3:$AG$32,AO9,COUNTIF(AO$9:AO$38,AO9)+2)","v":0}]
[null,2,null,null,20,null,10,10,10,10,10,10,10,10,10,90,10,10,10,10,10,10,10,10,10,90,180,null,{"$f":"$AA$118","v":0},{"$f":"RANK(AC10,AC$9:AC$38,0)+COUNTIF(AC$9:$AC10,AC10)-1","v":2},{"$f":"RANK(AC10,AC$9:AC$38,0)","v":1},{"$f":"IF(ISBLANK($C10),0,1)*INDEX('Allocation Points'!$B$3:$AG$32,AE10,COUNTIF(AE$9:AE$38,AE10)+2)","v":0},null,{"$f":"AA119","v":0},{"$f":"RANK(AH10,AH$9:AH$38,0)+COUNTIF(AH$9:$AH10,AH10)-1","v":2},{"$f":"RANK(AH10,AH$9:AH$38,0)","v":1},{"$f":"IF(ISBLANK($C10),0,1)*INDEX('Allocation Points'!$B$3:$AG$32,AJ10,COUNTIF(AJ$9:AJ$38,AJ10)+2)","v":0},null,{"$f":"AA117","v":180},{"$f":"RANK(AM10,AM$9:AM$38,1)+COUNTIF(AM$9:$AM10,AM10)-1","v":2},{"$f":"RANK(AM10,AM$9:AM$38,1)","v":1},{"$f":"IF(ISBLANK($C10),0,1)*INDEX('Allocation Points'!$B$3:$AG$32,AO10,COUNTIF(AO$9:AO$38,AO10)+2)","v":0}]
[null,3,null,null,20,null,10,10,10,10,10,10,10,10,10,90,10,10,10,10,10,10,10,10,10,90,180,null,{"$f":"$AA$141","v":0},{"$f":"RANK(AC11,AC$9:AC$38,0)+COUNTIF(AC$9:$AC11,AC11)-1","v":3},1,{"$f":"IF(ISBLANK($C11),0,1)*INDEX('Allocation Points'!$B$3:$AG$32,AE11,COUNTIF(AE$9:AE$38,AE11)+2)","v":0},null,{"$f":"AA142","v":0},{"$f":"RANK(AH11,AH$9:AH$38,0)+COUNTIF(AH$9:$AH11,AH11)-1","v":3},1,{"$f":"IF(ISBLANK($C11),0,1)*INDEX('Allocation Points'!$B$3:$AG$32,AJ11,COUNTIF(AJ$9:AJ$38,AJ11)+2)","v":0},null,{"$f":"AA140","v":180},{"$f":"RANK(AM11,AM$9:AM$38,1)+COUNTIF(AM$9:$AM11,AM11)-1","v":3},1,{"$f":"IF(ISBLANK($C11),0,1)*INDEX('Allocation Points'!$B$3:$AG$32,AO11,COUNTIF(AO$9:AO$38,AO11)+2)","v":0}]
[null,4,null,null,20,null,10,10,10,10,10,10,10,10,10,90,10,10,10,10,10,10,10,10,10,90,180,null,{"$f":"$AA$164","v":0},{"$f":"RANK(AC12,AC$9:AC$38,0)+COUNTIF(AC$9:$AC12,AC12)-1","v":4},1,{"$f":"IF(ISBLANK($C12),0,1)*INDEX('Allocation Points'!$B$3:$AG$32,AE12,COUNTIF(AE$9:AE$38,AE12)+2)","v":0},null,{"$f":"AA165","v":0},{"$f":"RANK(AH12,AH$9:AH$38,0)+COUNTIF(AH$9:$AH12,AH12)-1","v":4},1,{"$f":"IF(ISBLANK($C12),0,1)*INDEX('Allocation Points'!$B$3:$AG$32,AJ12,COUNTIF(AJ$9:AJ$38,AJ12)+2)","v":0},null,{"$f":"AA163","v":180},{"$f":"RANK(AM12,AM$9:AM$38,1)+COUNTIF(AM$9:$AM12,AM12)-1","v":4},1,{"$f":"IF(ISBLANK($C12),0,1)*INDEX('Allocation Points'!$B$3:$AG$32,AO12,COUNTIF(AO$9:AO$38,AO12)+2)","v":0}]
[null,5,null,null,20,null,10,10,10,10,10,10,10,10,10,90,10,10,10,10,10,10,10,10,10,90,180,null,{"$f":"$AA$187","v":0},{"$f":"RANK(AC13,AC$9:AC$38,0)+COUNTIF(AC$9:$AC13,AC13)-1","v":5},1,{"$f":"IF(ISBLANK($C13),0,1)*INDEX('Allocation Points'!$B$3:$AG$32,AE13,COUNTIF(AE$9:AE$38,AE13)+2)","v":0},null,{"$f":"AA188","v":0},{"$f":"RANK(AH13,AH$9:AH$38,0)+COUNTIF(AH$9:$AH13,AH13)-1","v":5},1,{"$f":"IF(ISBLANK($C13),0,1)*INDEX('Allocation Points'!$B$3:$AG$32,AJ13,COUNTIF(AJ$9:AJ$38,AJ13)+2)","v":0},null,{"$f":"AA186","v":180},{"$f":"RANK(AM13,AM$9:AM$38,1)+COUNTIF(AM$9:$AM13,AM13)-1","v":5},1,{"$f":"IF(ISBLANK($C13),0,1)*INDEX('Allocation Points'!$B$3:$AG$32,AO13,COUNTIF(AO$9:AO$38,AO13)+2)","v":0}]
[null,6,null,null,20,null,10,10,10,10,10,10,10,10,10,90,10,10,10,10,10,10,10,10,10,90,180,null,{"$f":"$AA$210","v":0},{"$f":"RANK(AC14,AC$9:AC$38,0)+COUNTIF(AC$9:$AC14,AC14)-1","v":6},1,{"$f":"IF(ISBLANK($C14),0,1)*INDEX('Allocation Points'!$B$3:$AG$32,AE14,COUNTIF(AE$9:AE$38,AE14)+2)","v":0},null,{"$f":"AA211","v":0},{"$f":"RANK(AH14,AH$9:AH$38,0)+COUNTIF(AH$9:$AH14,AH14)-1","v":6},1,{"$f":"IF(ISBLANK($C14),0,1)*INDEX('Allocation Points'!$B$3:$AG$32,AJ14,COUNTIF(AJ$9:AJ$38,AJ14)+2)","v":0},null,{"$f":"AA209","v":180},{"$f":"RANK(AM14,AM$9:AM$38,1)+COUNTIF(AM$9:$AM14,AM14)-1","v":6},1,{"$f":"IF(ISBLANK($C14),0,1)*INDEX('Allocation Points'!$B$3:$AG$32,AO14,COUNTIF(AO$9:AO$38,AO14)+2)","v":0}]
[null,7,null,null,20,null,10,10,10,10,10,10,10,10,10,90,10,10,10,10,10,10,10,10,10,90,180,null,{"$f":"$AA$233","v":0},{"$f":"RANK(AC15,AC$9:AC$38,0)+COUNTIF(AC$9:$AC15,AC15)-1","v":7},1,{"$f":"IF(ISBLANK($C15),0,1)*INDEX('Allocation Points'!$B$3:$AG$32,AE15,COUNTIF(AE$9:AE$38,AE15)+2)","v":0},null,{"$f":"AA234","v":0},{"$f":"RANK(AH15,AH$9:AH$38,0)+COUNTIF(AH$9:$AH15,AH15)-1","v":7},1,{"$f":"IF(ISBLANK($C15),0,1)*INDEX('Allocation Points'!$B$3:$AG$32,AJ15,COUNTIF(AJ$9:AJ$38,AJ15)+2)","v":0},null,{"$f":"AA232","v":180},{"$f":"RANK(AM15,AM$9:AM$38,1)+COUNTIF(AM$9:$AM15,AM15)-1","v":7},1,{"$f":"IF(ISBLANK($C15),0,1)*INDEX('Allocation Points'!$B$3:$AG$32,AO15,COUNTIF(AO$9:AO$38,AO15)+2)","v":0}]
[null,8,null,null,20,null,10,10,10,10,10,10,10,10,10,90,10,10,10,10,10,10,10,10,10,90,180,null,{"$f":"$AA$256","v":0},{"$f":"RANK(AC16,AC$9:AC$38,0)+COUNTIF(AC$9:$AC16,AC16)-1","v":8},1,{"$f":"IF(ISBLANK($C16),0,1)*INDEX('Allocation Points'!$B$3:$AG$32,AE16,COUNTIF(AE$9:AE$38,AE16)+2)","v":0},null,{"$f":"AA257","v":0},{"$f":"RANK(AH16,AH$9:AH$38,0)+COUNTIF(AH$9:$AH16,AH16)-1","v":8},1,{"$f":"IF(ISBLANK($C16),0,1)*INDEX('Allocation Points'!$B$3:$AG$32,AJ16,COUNTIF(AJ$9:AJ$38,AJ16)+2)","v":0},null,{"$f":"AA255","v":180},{"$f":"RANK(AM16,AM$9:AM$38,1)+COUNTIF(AM$9:$AM16,AM16)-1","v":8},1,{"$f":"IF(ISBLANK($C16),0,1)*INDEX('Allocation Points'!$B$3:$AG$32,AO16,COUNTIF(AO$9:AO$38,AO16)+2)","v":0}]
[null,9,null,null,20,null,10,10,10,10,10,10,10,10,10,90,10,10,10,10,10,10,10,10,10,90,180,null,{"$f":"$AA$279","v":0},{"$f":"RANK(AC17,AC$9:AC$38,0)+COUNTIF(AC$9:$AC17,AC17)-1","v":9},1,{"$f":"IF(ISBLANK($C17),0,1)*INDEX('Allocation Points'!$B$3:$AG$32,AE17,COUNTIF(AE$9:AE$38,AE17)+2)","v":0},null,{"$f":"AA280","v":0},{"$f":"RANK(AH17,AH$9:AH$38,0)+COUNTIF(AH$9:$AH17,AH17)-1","v":9},1,{"$f":"IF(ISBLANK($C17),0,1)*INDEX('Allocation Points'!$B$3:$AG$32,AJ17,COUNTIF(AJ$9:AJ$38,AJ17)+2)","v":0},null,{"$f":"AA278","v":180},{"$f":"RANK(AM17,AM$9:AM$38,1)+COUNTIF(AM$9:$AM17,AM17)-1","v":9},1,{"$f":"IF(ISBLANK($C17),0,1)*INDEX('Allocation Points'!$B$3:$AG$32,AO17,COUNTIF(AO$9:AO$38,AO17)+2)","v":0}]
[null,10,null,null,20,null,10,10,10,10,10,10,10,10,10,90,10,10,10,10,10,10,10,10,10,90,180,null,{"$f":"$AA$302","v":0},{"$f":"RANK(AC18,AC$9:AC$38,0)+COUNTIF(AC$9:$AC18,AC18)-1","v":10},1,{"$f":"IF(ISBLANK($C18),0,1)*INDEX('Allocation Points'!$B$3:$AG$32,AE18,COUNTIF(AE$9:AE$38,AE18)+2)","v":0},null,{"$f":"AA303","v":0},{"$f":"RANK(AH18,AH$9:AH$38,0)+COUNTIF(AH$9:$AH18,AH18)-1","v":10},1,{"$f":"IF(ISBLANK($C18),0,1)*INDEX('Allocation Points'!$B$3:$AG$32,AJ18,COUNTIF(AJ$9:AJ$38,AJ18)+2)","v":0},null,{"$f":"AA301","v":180},{"$f":"RANK(AM18,AM$9:AM$38,1)+COUNTIF(AM$9:$AM18,AM18)-1","v":10},1,{"$f":"IF(ISBLANK($C18),0,1)*INDEX('Allocation Points'!$B$3:$AG$32,AO18,COUNTIF(AO$9:AO$38,AO18)+2)","v":0}]
[null,11,null,null,20,null,10,10,10,10,10,10,10,10,10,90,10,10,10,10,10,10,10,10,10,90,180,null,{"$f":"$AA$325","v":0},{"$f":"RANK(AC19,AC$9:AC$38,0)+COUNTIF(AC$9:$AC19,AC19)-1","v":11},1,{"$f":"IF(ISBLANK($C19),0,1)*INDEX('Allocation Points'!$B$3:$AG$32,AE19,COUNTIF(AE$9:AE$38,AE19)+2)","v":0},null,{"$f":"AA326","v":0},{"$f":"RANK(AH19,AH$9:AH$38,0)+COUNTIF(AH$9:$AH19,AH19)-1","v":11},1,{"$f":"IF(ISBLANK($C19),0,1)*INDEX('Allocation Points'!$B$3:$AG$32,AJ19,COUNTIF(AJ$9:AJ$38,AJ19)+2)","v":0},null,{"$f":"AA324","v":180},{"$f":"RANK(AM19,AM$9:AM$38,1)+COUNTIF(AM$9:$AM19,AM19)-1","v":11},1,{"$f":"IF(ISBLANK($C19),0,1)*INDEX('Allocation Points'!$B$3:$AG$32,AO19,COUNTIF(AO$9:AO$38,AO19)+2)","v":0}]
[null,12,null,null,20,null,10,10,10,10,10,10,10,10,10,90,10,10,10,10,10,10,10,10,10,90,180,null,{"$f":"$AA$348","v":0},{"$f":"RANK(AC20,AC$9:AC$38,0)+COUNTIF(AC$9:$AC20,AC20)-1","v":12},1,{"$f":"IF(ISBLANK($C20),0,1)*INDEX('Allocation Points'!$B$3:$AG$32,AE20,COUNTIF(AE$9:AE$38,AE20)+2)","v":0},null,{"$f":"AA349","v":0},{"$f":"RANK(AH20,AH$9:AH$38,0)+COUNTIF(AH$9:$AH20,AH20)-1","v":12},1,{"$f":"IF(ISBLANK($C20),0,1)*INDEX('Allocation Points'!$B$3:$AG$32,AJ20,COUNTIF(AJ$9:AJ$38,AJ20)+2)","v":0},null,{"$f":"AA347","v":180},{"$f":"RANK(AM20,AM$9:AM$38,1)+COUNTIF(AM$9:$AM20,AM20)-1","v":12},1,{"$f":"IF(ISBLANK($C20),0,1)*INDEX('Allocation Points'!$B$3:$AG$32,AO20,COUNTIF(AO$9:AO$38,AO20)+2)","v":0}]
[null,13,null,null,20,null,10,10,10,10,10,10,10,10,10,90,10,10,10,10,10,10,10,10,10,90,180,null,{"$f":"$AA$371","v":0},{"$f":"RANK(AC21,AC$9:AC$38,0)+COUNTIF(AC$9:$AC21,AC21)-1","v":13},1,{"$f":"IF(ISBLANK($C21),0,1)*INDEX('Allocation Points'!$B$3:$AG$32,AE21,COUNTIF(AE$9:AE$38,AE21)+2)","v":0},null,{"$f":"AA372","v":0},{"$f":"RANK(AH21,AH$9:AH$38,0)+COUNTIF(AH$9:$AH21,AH21)-1","v":13},1,{"$f":"IF(ISBLANK($C21),0,1)*INDEX('Allocation Points'!$B$3:$AG$32,AJ21,COUNTIF(AJ$9:AJ$38,AJ21)+2)","v":0},null,{"$f":"AA370","v":180},{"$f":"RANK(AM21,AM$9:AM$38,1)+COUNTIF(AM$9:$AM21,AM21)-1","v":13},1,{"$f":"IF(ISBLANK($C21),0,1)*INDEX('Allocation Points'!$B$3:$AG$32,AO21,COUNTIF(AO$9:AO$38,AO21)+2)","v":0}]
[null,14,null,null,20,null,10,10,10,10,10,10,10,10,10,90,10,10,10,10,10,10,10,10,10,90,180,null,{"$f":"$AA$394","v":0},{"$f":"RANK(AC22,AC$9:AC$38,0)+COUNTIF(AC$9:$AC22,AC22)-1","v":14},1,{"$f":"IF(ISBLANK($C22),0,1)*INDEX('Allocation Points'!$B$3:$AG$32,AE22,COUNTIF(AE$9:AE$38,AE22)+2)","v":0},null,{"$f":"AA395","v":0},{"$f":"RANK(AH22,AH$9:AH$38,0)+COUNTIF(AH$9:$AH22,AH22)-1","v":14},1,{"$f":"IF(ISBLANK($C22),0,1)*INDEX('Allocation Points'!$B$3:$AG$32,AJ22,COUNTIF(AJ$9:AJ$38,AJ22)+2)","v":0},null,{"$f":"AA393","v":180},{"$f":"RANK(AM22,AM$9:AM$38,1)+COUNTIF(AM$9:$AM22,AM22)-1","v":14},1,{"$f":"IF(ISBLANK($C22),0,1)*INDEX('Allocation Points'!$B$3:$AG$32,AO22,COUNTIF(AO$9:AO$38,AO22)+2)","v":0}]
[null,15,null,null,20,null,10,10,10,10,10,10,10,10,10,90,10,10,10,10,10,10,10,10,10,90,180,null,{"$f":"$AA$417","v":0},{"$f":"RANK(AC23,AC$9:AC$38,0)+COUNTIF(AC$9:$AC23,AC23)-1","v":15},1,{"$f":"IF(ISBLANK($C23),0,1)*INDEX('Allocation Points'!$B$3:$AG$32,AE23,COUNTIF(AE$9:AE$38,AE23)+2)","v":0},null,{"$f":"AA418","v":0},{"$f":"RANK(AH23,AH$9:AH$38,0)+COUNTIF(AH$9:$AH23,AH23)-1","v":15},1,{"$f":"IF(ISBLANK($C23),0,1)*INDEX('Allocation Points'!$B$3:$AG$32,AJ23,COUNTIF(AJ$9:AJ$38,AJ23)+2)","v":0},null,{"$f":"AA416","v":180},{"$f":"RANK(AM23,AM$9:AM$38,1)+COUNTIF(AM$9:$AM23,AM23)-1","v":15},1,{"$f":"IF(ISBLANK($C23),0,1)*INDEX('Allocation Points'!$B$3:$AG$32,AO23,COUNTIF(AO$9:AO$38,AO23)+2)","v":0}]
[null,16,null,null,20,null,10,10,10,10,10,10,10,10,10,90,10,10,10,10,10,10,10,10,10,90,180,null,{"$f":"$AA$440","v":0},{"$f":"RANK(AC24,AC$9:AC$38,0)+COUNTIF(AC$9:$AC24,AC24)-1","v":16},1,{"$f":"IF(ISBLANK($C24),0,1)*INDEX('Allocation Points'!$B$3:$AG$32,AE24,COUNTIF(AE$9:AE$38,AE24)+2)","v":0},null,{"$f":"AA441","v":0},{"$f":"RANK(AH24,AH$9:AH$38,0)+COUNTIF(AH$9:$AH24,AH24)-1","v":16},1,{"$f":"IF(ISBLANK($C24),0,1)*INDEX('Allocation Points'!$B$3:$AG$32,AJ24,COUNTIF(AJ$9:AJ$38,AJ24)+2)","v":0},null,{"$f":"AA439","v":180},{"$f":"RANK(AM24,AM$9:AM$38,1)+COUNTIF(AM$9:$AM24,AM24)-1","v":16},1,{"$f":"IF(ISBLANK($C24),0,1)*INDEX('Allocation Points'!$B$3:$AG$32,AO24,COUNTIF(AO$9:AO$38,AO24)+2)","v":0}]
[null,17,null,null,20,null,10,10,10,10,10,10,10,10,10,90,10,10,10,10,10,10,10,10,10,90,180,null,{"$f":"$AA$463","v":0},{"$f":"RANK(AC25,AC$9:AC$38,0)+COUNTIF(AC$9:$AC25,AC25)-1","v":17},1,{"$f":"IF(ISBLANK($C25),0,1)*INDEX('Allocation Points'!$B$3:$AG$32,AE25,COUNTIF(AE$9:AE$38,AE25)+2)","v":0},null,{"$f":"AA464","v":0},{"$f":"RANK(AH25,AH$9:AH$38,0)+COUNTIF(AH$9:$AH25,AH25)-1","v":17},1,{"$f":"IF(ISBLANK($C25),0,1)*INDEX('Allocation Points'!$B$3:$AG$32,AJ25,COUNTIF(AJ$9:AJ$38,AJ25)+2)","v":0},null,{"$f":"AA462","v":180},{"$f":"RANK(AM25,AM$9:AM$38,1)+COUNTIF(AM$9:$AM25,AM25)-1","v":17},1,{"$f":"IF(ISBLANK($C25),0,1)*INDEX('Allocation Points'!$B$3:$AG$32,AO25,COUNTIF(AO$9:AO$38,AO25)+2)","v":0}]
[null,18,null,null,20,null,10,10,10,10,10,10,10,10,10,90,10,10,10,10,10,10,10,10,10,90,180,null,{"$f":"$AA$486","v":0},{"$f":"RANK(AC26,AC$9:AC$38,0)+COUNTIF(AC$9:$AC26,AC26)-1","v":18},1,{"$f":"IF(ISBLANK($C26),0,1)*INDEX('Allocation Points'!$B$3:$AG$32,AE26,COUNTIF(AE$9:AE$38,AE26)+2)","v":0},null,{"$f":"AA487","v":0},{"$f":"RANK(AH26,AH$9:AH$38,0)+COUNTIF(AH$9:$AH26,AH26)-1","v":18},1,{"$f":"IF(ISBLANK($C26),0,1)*INDEX('Allocation Points'!$B$3:$AG$32,AJ26,COUNTIF(AJ$9:AJ$38,AJ26)+2)","v":0},null,{"$f":"AA485","v":180},{"$f":"RANK(AM26,AM$9:AM$38,1)+COUNTIF(AM$9:$AM26,AM26)-1","v":18},1,{"$f":"IF(ISBLANK($C26),0,1)*INDEX('Allocation Points'!$B$3:$AG$32,AO26,COUNTIF(AO$9:AO$38,AO26)+2)","v":0}]
[null,19,null,null,20,null,10,10,10,10,10,10,10,10,10,90,10,10,10,10,10,10,10,10,10,90,180,null,{"$f":"$AA$509","v":0},{"$f":"RANK(AC27,AC$9:AC$38,0)+COUNTIF(AC$9:$AC27,AC27)-1","v":19},1,{"$f":"IF(ISBLANK($C27),0,1)*INDEX('Allocation Points'!$B$3:$AG$32,AE27,COUNTIF(AE$9:AE$38,AE27)+2)","v":0},null,{"$f":"AA510","v":0},{"$f":"RANK(AH27,AH$9:AH$38,0)+COUNTIF(AH$9:$AH27,AH27)-1","v":19},1,{"$f":"IF(ISBLANK($C27),0,1)*INDEX('Allocation Points'!$B$3:$AG$32,AJ27,COUNTIF(AJ$9:AJ$38,AJ27)+2)","v":0},null,{"$f":"AA508","v":180},{"$f":"RANK(AM27,AM$9:AM$38,1)+COUNTIF(AM$9:$AM27,AM27)-1","v":19},1,{"$f":"IF(ISBLANK($C27),0,1)*INDEX('Allocation Points'!$B$3:$AG$32,AO27,COUNTIF(AO$9:AO$38,AO27)+2)","v":0}]
[null,20,null,null,20,null,10,10,10,10,10,10,10,10,10,90,10,10,10,10,10,10,10,10,10,90,180,null,{"$f":"$AA$532","v":0},{"$f":"RANK(AC28,AC$9:AC$38,0)+COUNTIF(AC$9:$AC28,AC28)-1","v":20},1,{"$f":"IF(ISBLANK($C28),0,1)*INDEX('Allocation Points'!$B$3:$AG$32,AE28,COUNTIF(AE$9:AE$38,AE28)+2)","v":0},null,{"$f":"AA533","v":0},{"$f":"RANK(AH28,AH$9:AH$38,0)+COUNTIF(AH$9:$AH28,AH28)-1","v":20},1,{"$f":"IF(ISBLANK($C28),0,1)*INDEX('Allocation Points'!$B$3:$AG$32,AJ28,COUNTIF(AJ$9:AJ$38,AJ28)+2)","v":0},null,{"$f":"AA531","v":180},{"$f":"RANK(AM28,AM$9:AM$38,1)+COUNTIF(AM$9:$AM28,AM28)-1","v":20},1,{"$f":"IF(ISBLANK($C28),0,1)*INDEX('Allocation Points'!$B$3:$AG$32,AO28,COUNTIF(AO$9:AO$38,AO28)+2)","v":0}]
[null,21,null,null,20,null,10,10,10,10,10,10,10,10,10,90,10,10,10,10,10,10,10,10,10,90,180,null,{"$f":"$AA$555","v":0},{"$f":"RANK(AC29,AC$9:AC$38,0)+COUNTIF(AC$9:$AC29,AC29)-1","v":21},1,{"$f":"IF(ISBLANK($C29),0,1)*INDEX('Allocation Points'!$B$3:$AG$32,AE29,COUNTIF(AE$9:AE$38,AE29)+2)","v":0},null,{"$f":"AA556","v":0},{"$f":"RANK(AH29,AH$9:AH$38,0)+COUNTIF(AH$9:$AH29,AH29)-1","v":21},1,{"$f":"IF(ISBLANK($C29),0,1)*INDEX('Allocation Points'!$B$3:$AG$32,AJ29,COUNTIF(AJ$9:AJ$38,AJ29)+2)","v":0},null,{"$f":"AA554","v":180},{"$f":"RANK(AM29,AM$9:AM$38,1)+COUNTIF(AM$9:$AM29,AM29)-1","v":21},1,{"$f":"IF(ISBLANK($C29),0,1)*INDEX('Allocation Points'!$B$3:$AG$32,AO29,COUNTIF(AO$9:AO$38,AO29)+2)","v":0}]
[null,22,null,null,20,null,10,10,10,10,10,10,10,10,10,90,10,10,10,10,10,10,10,10,10,90,180,null,{"$f":"$AA$578","v":0},{"$f":"RANK(AC30,AC$9:AC$38,0)+COUNTIF(AC$9:$AC30,AC30)-1","v":22},1,{"$f":"IF(ISBLANK($C30),0,1)*INDEX('Allocation Points'!$B$3:$AG$32,AE30,COUNTIF(AE$9:AE$38,AE30)+2)","v":0},null,{"$f":"AA579","v":0},{"$f":"RANK(AH30,AH$9:AH$38,0)+COUNTIF(AH$9:$AH30,AH30)-1","v":22},1,{"$f":"IF(ISBLANK($C30),0,1)*INDEX('Allocation Points'!$B$3:$AG$32,AJ30,COUNTIF(AJ$9:AJ$38,AJ30)+2)","v":0},null,{"$f":"AA577","v":180},{"$f":"RANK(AM30,AM$9:AM$38,1)+COUNTIF(AM$9:$AM30,AM30)-1","v":22},1,{"$f":"IF(ISBLANK($C30),0,1)*INDEX('Allocation Points'!$B$3:$AG$32,AO30,COUNTIF(AO$9:AO$38,AO30)+2)","v":0}]
[null,23,null,null,20,null,10,10,10,10,10,10,10,10,10,90,10,10,10,10,10,10,10,10,10,90,180,null,{"$f":"$AA$601","v":0},{"$f":"RANK(AC31,AC$9:AC$38,0)+COUNTIF(AC$9:$AC31,AC31)-1","v":23},1,{"$f":"IF(ISBLANK($C31),0,1)*INDEX('Allocation Points'!$B$3:$AG$32,AE31,COUNTIF(AE$9:AE$38,AE31)+2)","v":0},null,{"$f":"AA602","v":0},{"$f":"RANK(AH31,AH$9:AH$38,0)+COUNTIF(AH$9:$AH31,AH31)-1","v":23},1,{"$f":"IF(ISBLANK($C31),0,1)*INDEX('Allocation Points'!$B$3:$AG$32,AJ31,COUNTIF(AJ$9:AJ$38,AJ31)+2)","v":0},null,{"$f":"AA600","v":180},{"$f":"RANK(AM31,AM$9:AM$38,1)+COUNTIF(AM$9:$AM31,AM31)-1","v":23},1,{"$f":"IF(ISBLANK($C31),0,1)*INDEX('Allocation Points'!$B$3:$AG$32,AO31,COUNTIF(AO$9:AO$38,AO31)+2)","v":0}]
[null,24,null,null,20,null,10,10,10,10,10,10,10,10,10,90,10,10,10,10,10,10,10,10,10,90,180,null,{"$f":"$AA$624","v":0},{"$f":"RANK(AC32,AC$9:AC$38,0)+COUNTIF(AC$9:$AC32,AC32)-1","v":24},1,{"$f":"IF(ISBLANK($C32),0,1)*INDEX('Allocation Points'!$B$3:$AG$32,AE32,COUNTIF(AE$9:AE$38,AE32)+2)","v":0},null,{"$f":"AA625","v":0},{"$f":"RANK(AH32,AH$9:AH$38,0)+COUNTIF(AH$9:$AH32,AH32)-1","v":24},1,{"$f":"IF(ISBLANK($C32),0,1)*INDEX('Allocation Points'!$B$3:$AG$32,AJ32,COUNTIF(AJ$9:AJ$38,AJ32)+2)","v":0},null,{"$f":"AA623","v":180},{"$f":"RANK(AM32,AM$9:AM$38,1)+COUNTIF(AM$9:$AM32,AM32)-1","v":24},1,{"$f":"IF(ISBLANK($C32),0,1)*INDEX('Allocation Points'!$B$3:$AG$32,AO32,COUNTIF(AO$9:AO$38,AO32)+2)","v":0}]
[null,25,null,null,20,null,10,10,10,10,10,10,10,10,10,90,10,10,10,10,10,10,10,10,10,90,180,null,{"$f":"$AA$647","v":0},{"$f":"RANK(AC33,AC$9:AC$38,0)+COUNTIF(AC$9:$AC33,AC33)-1","v":25},1,{"$f":"IF(ISBLANK($C33),0,1)*INDEX('Allocation Points'!$B$3:$AG$32,AE33,COUNTIF(AE$9:AE$38,AE33)+2)","v":0},null,{"$f":"AA648","v":0},{"$f":"RANK(AH33,AH$9:AH$38,0)+COUNTIF(AH$9:$AH33,AH33)-1","v":25},1,{"$f":"IF(ISBLANK($C33),0,1)*INDEX('Allocation Points'!$B$3:$AG$32,AJ33,COUNTIF(AJ$9:AJ$38,AJ33)+2)","v":0},null,{"$f":"AA646","v":180},{"$f":"RANK(AM33,AM$9:AM$38,1)+COUNTIF(AM$9:$AM33,AM33)-1","v":25},1,{"$f":"IF(ISBLANK($C33),0,1)*INDEX('Allocation Points'!$B$3:$AG$32,AO33,COUNTIF(AO$9:AO$38,AO33)+2)","v":0}]
[null,26,null,null,20,null,10,10,10,10,10,10,10,10,10,90,10,10,10,10,10,10,10,10,10,90,180,null,{"$f":"$AA$670","v":0},{"$f":"RANK(AC34,AC$9:AC$38,0)+COUNTIF(AC$9:$AC34,AC34)-1","v":26},1,{"$f":"IF(ISBLANK($C34),0,1)*INDEX('Allocation Points'!$B$3:$AG$32,AE34,COUNTIF(AE$9:AE$38,AE34)+2)","v":0},null,{"$f":"AA671","v":0},{"$f":"RANK(AH34,AH$9:AH$38,0)+COUNTIF(AH$9:$AH34,AH34)-1","v":26},1,{"$f":"IF(ISBLANK($C34),0,1)*INDEX('Allocation Points'!$B$3:$AG$32,AJ34,COUNTIF(AJ$9:AJ$38,AJ34)+2)","v":0},null,{"$f":"AA669","v":180},{"$f":"RANK(AM34,AM$9:AM$38,1)+COUNTIF(AM$9:$AM34,AM34)-1","v":26},1,{"$f":"IF(ISBLANK($C34),0,1)*INDEX('Allocation Points'!$B$3:$AG$32,AO34,COUNTIF(AO$9:AO$38,AO34)+2)","v":0}]
[null,27,null,null,20,null,10,10,10,10,10,10,10,10,10,90,10,10,10,10,10,10,10,10,10,90,180,null,{"$f":"$AA$693","v":0},{"$f":"RANK(AC35,AC$9:AC$38,0)+COUNTIF(AC$9:$AC35,AC35)-1","v":27},1,{"$f":"IF(ISBLANK($C35),0,1)*INDEX('Allocation Points'!$B$3:$AG$32,AE35,COUNTIF(AE$9:AE$38,AE35)+2)","v":0},null,{"$f":"AA694","v":0},{"$f":"RANK(AH35,AH$9:AH$38,0)+COUNTIF(AH$9:$AH35,AH35)-1","v":27},1,{"$f":"IF(ISBLANK($C35),0,1)*INDEX('Allocation Points'!$B$3:$AG$32,AJ35,COUNTIF(AJ$9:AJ$38,AJ35)+2)","v":0},null,{"$f":"AA692","v":180},{"$f":"RANK(AM35,AM$9:AM$38,1)+COUNTIF(AM$9:$AM35,AM35)-1","v":27},1,{"$f":"IF(ISBLANK($C35),0,1)*INDEX('Allocation Points'!$B$3:$AG$32,AO35,COUNTIF(AO$9:AO$38,AO35)+2)","v":0}]
[null,28,null,null,20,null,10,10,10,10,10,10,10,10,10,90,10,10,10,10,10,10,10,10,10,90,180,null,{"$f":"$AA$716","v":0},{"$f":"RANK(AC36,AC$9:AC$38,0)+COUNTIF(AC$9:$AC36,AC36)-1","v":28},1,{"$f":"IF(ISBLANK($C36),0,1)*INDEX('Allocation Points'!$B$3:$AG$32,AE36,COUNTIF(AE$9:AE$38,AE36)+2)","v":0},null,{"$f":"AA717","v":0},{"$f":"RANK(AH36,AH$9:AH$38,0)+COUNTIF(AH$9:$AH36,AH36)-1","v":28},1,{"$f":"IF(ISBLANK($C36),0,1)*INDEX('Allocation Points'!$B$3:$AG$32,AJ36,COUNTIF(AJ$9:AJ$38,AJ36)+2)","v":0},null,{"$f":"AA715","v":180},{"$f":"RANK(AM36,AM$9:AM$38,1)+COUNTIF(AM$9:$AM36,AM36)-1","v":28},1,{"$f":"IF(ISBLANK($C36),0,1)*INDEX('Allocation Points'!$B$3:$AG$32,AO36,COUNTIF(AO$9:AO$38,AO36)+2)","v":0}]
[null,29,null,null,20,null,10,10,10,10,10,10,10,10,10,90,10,10,10,10,10,10,10,10,10,90,180,null,{"$f":"$AA$739","v":0},{"$f":"RANK(AC37,AC$9:AC$38,0)+COUNTIF(AC$9:$AC37,AC37)-1","v":29},1,{"$f":"IF(ISBLANK($C37),0,1)*INDEX('Allocation Points'!$B$3:$AG$32,AE37,COUNTIF(AE$9:AE$38,AE37)+2)","v":0},null,{"$f":"AA740","v":0},{"$f":"RANK(AH37,AH$9:AH$38,0)+COUNTIF(AH$9:$AH37,AH37)-1","v":29},1,{"$f":"IF(ISBLANK($C37),0,1)*INDEX('Allocation Points'!$B$3:$AG$32,AJ37,COUNTIF(AJ$9:AJ$38,AJ37)+2)","v":0},null,{"$f":"AA738","v":180},{"$f":"RANK(AM37,AM$9:AM$38,1)+COUNTIF(AM$9:$AM37,AM37)-1","v":29},1,{"$f":"IF(ISBLANK($C37),0,1)*INDEX('Allocation Points'!$B$3:$AG$32,AO37,COUNTIF(AO$9:AO$38,AO37)+2)","v":0}]
[null,30,null,null,20,null,10,10,10,10,10,10,10,10,10,90,10,10,10,10,10,10,10,10,10,90,180,null,{"$f":"$AA$762","v":0},{"$f":"RANK(AC38,AC$9:AC$38,0)+COUNTIF(AC$9:$AC38,AC38)-1","v":30},1,{"$f":"IF(ISBLANK($C38),0,1)*INDEX('Allocation Points'!$B$3:$AG$32,AE38,COUNTIF(AE$9:AE$38,AE38)+2)","v":0},null,{"$f":"AA763","v":0},{"$f":"RANK(AH38,AH$9:AH$38,0)+COUNTIF(AH$9:$AH38,AH38)-1","v":30},1,{"$f":"IF(ISBLANK($C38),0,1)*INDEX('Allocation Points'!$B$3:$AG$32,AJ38,COUNTIF(AJ$9:AJ$38,AJ38)+2)","v":0},null,{"$f":"AA761","v":180},{"$f":"RANK(AM38,AM$9:AM$38,1)+COUNTIF(AM$9:$AM38,AM38)-1","v":30},1,{"$f":"IF(ISBLANK($C38),0,1)*INDEX('Allocation Points'!$B$3:$AG$32,AO38,COUNTIF(AO$9:AO$38,AO38)+2)","v":0}]
[]
[]
[null,null,null,null,null,null,null,"CLASSEMENT"]
[]
[]
[]
[null,null,"NET",null,null,null,null,null,null,"BRUT",null,null,null,null,null,null,null,null,null,null,null,"STROKE"]
[]
[null,null,"Noms","Prénoms","NET",null,null,null,null,"Noms",null,null,null,"Prénoms",null,null,"BRUT",null,null,null,null,"Noms",null,null,null,"Prénoms",null,"STROKE"]
[null,1,{"$f":"INDEX($C$9:$AN$38,MATCH(B48,$AD$9:$AD$38,0),1)","v":0},{"$f":"INDEX($C$9:$AN$38,MATCH(B48,$AD$9:$AD$38,0),2)","v":0},{"$f":"INDEX($C$9:$AN$38,MATCH(B48,$AD$9:$AD$38,0),27)","v":0},null,null,null,1,{"$f":"INDEX($C$9:$AN$38,MATCH(I48,$AI$9:$AI$38,0),1)","v":0},null,null,null,{"$f":"INDEX($C$9:$AN$38,MATCH(I48,$AI$9:$AI$38,0),2)","v":0},null,null,{"$f":"INDEX($C$9:$AN$38,MATCH(I48,$AI$9:$AI$38,0),32)","v":0},null,null,null,1,{"$f":"INDEX($C$9:$AN$38,MATCH(U48,$AN$9:$AN$38,0),1)","v":0},null,null,null,{"$f":"INDEX($C$9:$AN$38,MATCH(U48,$AN$9:$AN$38,0),2)","v":0},null,{"$f":"INDEX($C$9:$AN$38,MATCH(U48,$AN$9:$AN$38,0),37)","v":180}]
[null,2,0,0,0,null,null,null,2,0,null,null,null,0,null,null,{"$f":"INDEX($C$9:$AN$38,MATCH(I49,$AI$9:$AI$38,0),32)","v":0},null,null,null,2,0,null,null,null,0,null,{"$f":"INDEX($C$9:$AN$38,MATCH(U49,$AN$9:$AN$38,0),37)","v":180}]
[null,3,0,0,0,null,null,null,3,0,null,null,null,0,null,null,0,null,null,null,3,0,null,null,null,0,null,180]
[null,4,0,0,0,null,null,null,4,0,null,null,null,0,null,null,0,null,null,null,4,0,null,null,null,0,null,180]
[null,5,0,0,0,null,null,null,5,0,null,null,null,0,null,null,0,null,null,null,5,0,null,null,null,0,null,180]
[null,6,0,0,0,null,null,null,6,0,null,null,null,0,null,null,0,null,null,null,6,0,null,null,null,0,null,180]
[null,7,0,0,0,null,null,null,7,0,null,null,null,0,null,null,0,null,null,null,7,0,null,null,null,0,null,180]
[null,8,0,0,0,null,null,null,8,0,null,null,null,0,null,null,0,null,null,null,8,0,null,null,null,0,null,180]
[null,9,0,0,0,null,null,null,9,0,null,null,null,0,null,null,0,null,null,null,9,0,null,null,null,0,null,180]
[null,10,0,0,0,null,null,null,10,0,null,null,null,0,null,null,0,null,null,null,10,0,null,null,null,0,null,180]
[null,11,0,0,0,null,null,null,11,0,null,null,null,0,null,null,0,null,null,null,11,0,null,null,null,0,null,180]
[null,12,0,0,0,null,null,null,12,0,null,null,null,0,null,null,0,null,null,null,12,0,null,null,null,0,null,180]
[null,13,0,0,0,null,null,null,13,0,null,null,null,0,null,null,0,null,null,null,13,0,null,null,null,0,null,180]
[null,14,0,0,0,null,null,null,14,0,null,null,null,0,null,null,0,null,null,null,14,0,null,null,null,0,null,180]
[null,15,0,0,0,null,null,null,15,0,null,null,null,0,null,null,0,null,null,null,15,0,null,null,null,0,null,180]
[null,16,0,0,0,null,null,null,16,0,null,null,null,0,null,null,0,null,null,null,16,0,null,null,null,0,null,180]
[null,17,0,0,0,null,null,null,17,0,null,null,null,0,null,null,0,null,null,null,17,0,null,null,null,0,null,180]
[null,18,0,0,0,null,null,null,18,0,null,null,null,0,null,null,0,null,null,null,18,0,null,null,null,0,null,180]
[null,19,0,0,0,null,null,null,19,0,null,null,null,0,null,null,0,null,null,null,19,0,null,null,null,0,null,180]
[null,20,0,0,0,null,null,null,20,0,null,null,null,0,null,null,0,null,null,null,20,0,null,null,null,0,null,180]
[null,21,0,0,0,null,null,null,21,0,null,null,null,0,null,null,0,null,null,null,21,0,null,null,null,0,null,180]
[null,22,0,0,0,null,null,null,22,0,null,null,null,0,null,null,0,null,null,null,22,0,null,null,null,0,null,180]
[null,23,0,0,0,null,null,null,23,0,null,null,null,0,null,null,0,null,null,null,23,0,null,null,null,0,null,180]
[null,24,0,0,0,null,null,null,24,0,null,null,null,0,null,null,0,null,null,null,24,0,null,null,null,0,null,180]
[null,25,0,0,0,null,null,null,25,0,null,null,null,0,null,null,0,null,null,null,25,0,null,null,null,0,null,180]
[null,26,0,0,0,null,null,null,26,0,null,null,null,0,null,null,0,null,null,null,26,0,null,null,null,0,null,180]
[null,27,0,0,0,null,null,null,27,0,null,null,null,0,null,null,0,null,null,null,27,0,null,null,null,0,null,180]
[null,28,0,0,0,null,null,null,28,0,null,null,null,0,null,null,0,null,null,null,28,0,null,null,null,0,null,180]
[null,29,0,0,0,null,null,null,29,0,null,null,null,0,null,null,0,null,null,null,29,0,null,null,null,0,null,180]
[null,30,0,0,0,null,null,null,30,0,null,null,null,0,null,null,0,null,null,null,30,0,null,null,null,0,null,180]
[]
[]
[]
[null,null,null,null,null,null,null,"STATISTIQUES INDIVIDUELLES"]
[]
[]
[]
[]
[]
[null,null,null,null,null,"Nom",{"$f":"C9","v":0},null,null,null,null,"Slope",null,null,"SSS",null,"Coups reçus",null,null,null,null,null,null,null,null,"Date",{"$f":"$D$3","v":"00:00:00"}]
[null,null,null,null,null,"Index",{"$f":"E9","v":20},null,null,null,null,{"$f":"$F$3","v":133},null,null,{"$f":"$G$3","v":68.599999999999994},null,{"$f":"ROUND((G88*(L88/113)+(O88-AA91)),0)","v":20}]
[]
[null,null,null,null,null,"Trou",1,2,3,4,5,6,7,8,9,"Aller",10,11,12,13,14,15,16,17,18,"Retour","Total"]
[null,null,null,null,null,"PAR",{"$f":"G$7","v":4},{"$f":"H$7","v":4},5,4,3,5,3,5,3,{"$f":"SUM(G91:O91)","v":36},{"$f":"Q$7","v":4},4,3,5,3,4,4,5,4,{"$f":"SUM(Q91:Y91)","v":36},{"$f":"SUM(P91+Z91)","v":72}]
[null,null,null,null,null,"HCP trous",{"$f":"G$8","v":4},{"$f":"H$8","v":8},12,14,2,10,18,16,6,null,{"$f":"Q$8","v":1},9,11,5,17,15,3,13,7]
[null,null,null,null,null,"Coups reçus",{"$f":"IF($Q88<=18,IF(G92<=$Q88,1,0),IF($Q88<=36,IF(G92<=($Q88-18),2,1),IF($Q88>36,IF(G92<=($Q88-36),3,2))))","v":1},{"$f":"IF($Q88<=18,IF(H92<=$Q88,1,0),IF($Q88<=36,IF(H92<=($Q88-18),2,1),IF($Q88>36,IF(H92<=($Q88-36),3,2))))","v":1},1,1,2,1,1,1,1,{"$f":"SUM(G93:O93)","v":10},{"$f":"IF($Q88<=18,IF(Q92<=$Q88,1,0),IF($Q88<=36,IF(Q92<=($Q88-18),2,1),IF($Q88>36,IF(Q92<=($Q88-36),3,2))))","v":2},1,1,1,1,1,1,1,1,{"$f":"SUM(Q93:Y93)","v":10},{"$f":"P93+Z93","v":20}]
[null,null,null,null,null,"Stroke play",{"$f":"G9","v":10},10,10,10,10,10,10,10,10,{"$f":"SUM(G94:O94)","v":90},{"$f":"Q9","v":10},10,10,10,10,10,10,10,10,{"$f":"SUM(Q94:Y94)","v":90},{"$f":"P94+Z94","v":180}]
[null,null,null,null,null,"Net Stableford",{"$f":"IF(G94-G91=-1,3+G93)+IF(G94-G91=0,2+G93)+IF(G94-G91=1,1+G93)+IF(G94-G91=2,G93)+IF(G94-G91=3,IF(G93-1>0,G93-1,0))+IF(G94-G91=4,IF(G93-2>0,G93-2,0))","v":0},{"$f":"IF(H94-H91=-1,3+H93)+IF(H94-H91=0,2+H93)+IF(H94-H91=1,1+H93)+IF(H94-H91=2,H93)+IF(H94-H91=3,IF(H93-1>0,H93-1,0))+IF(H94-H91=4,IF(H93-2>0,H93-2,0))","v":0},0,0,0,0,0,0,0,{"$f":"SUM(G95:O95)","v":0},{"$f":"IF(Q94-Q91=-1,3+Q93)+IF(Q94-Q91=0,2+Q93)+IF(Q94-Q91=1,1+Q93)+IF(Q94-Q91=2,Q93)+IF(Q94-Q91=3,IF(Q93-1>0,Q93-1,0))+IF(Q94-Q91=4,IF(Q93-2>0,Q93-2,0))","v":0},0,0,0,0,0,0,0,0,{"$f":"SUM(Q95:Y95)","v":0},{"$f":"P95+Z95","v":0}]
[null,null,null,null,null,"Score Brut",{"$f":"IF(G94-G91=-2,4)+IF(G94-G91=-1,3)+IF(G94-G91=0,2)+IF(G94-G91=1,1)+IF(G94-G91>2,0)","v":0},0,0,0,0,0,0,0,0,{"$f":"SUM(G96:O96)","v":0},{"$f":"IF(Q94-Q91=-2,4)+IF(Q94-Q91=-1,3)+IF(Q94-Q91=0,2)+IF(Q94-Q91=1,1)+IF(Q94-Q91>2,0)","v":0},0,0,0,0,0,0,0,0,{"$f":"SUM(Q96:Y96)","v":0},{"$f":"P96+Z96","v":0}]
[null,null,null,null,null,null,{"$f":"G94-G91","v":6},{"$f":"H94-H91","v":6},5,6,7,5,7,5,7,null,{"$f":"Q94-Q91","v":6},6,7,5,7,6,6,5,6]
[]
[]
[null,null,null,null,null,"Statistiques scores",null,"Eagle & moins",null,null,null,{"$f":"COUNTIF(G97:Y97,\"<=-2\")","v":0},"Par",null,{"$f":"COUNTIF(G97:Y97,\"=0\")","v":0},"Double bogey",null,null,null,null,{"$f":"COUNTIF(G97:Y97,\"=2\")","v":0}]
[null,null,null,null,null,null,null,"Birdie",null,null,null,{"$f":"COUNTIF(G97:Y97,\"=-1\")","v":0},"Bogey",null,{"$f":"COUNTIF(G97:Y97,\"=1\")","v":0},"Triple bogey & plus",null,null,null,null,{"$f":"COUNTIF(G97:Y97,\">=3\")","v":18}]
[null,null,null,null,null,null,null,{"$f":"M100","v":"Par"},null,null,null,{"$f":"O100","v":0}]
[null,null,null,null,null,null,null,{"$f":"M101","v":"Bogey"},null,null,null,{"$f":"O101","v":0}]
[null,null,null,null,null,null,null,{"$f":"P100","v":"Double bogey"},null,null,null,{"$f":"U100","v":0}]
[null,null,null,null,null,null,null,{"$f":"P101","v":"Triple bogey & plus"},null,null,null,{"$f":"U101","v":18}]
[]
[]
[]
[]
[null,null,null,null,null,"Nom",{"$f":"C10","v":0},null,null,null,null,"Slope",null,null,"SSS",null,"Coups reçus",null,null,null,null,null,null,null,null,"Date",{"$f":"$D$3","v":"00:00:00"}]
[null,null,null,null,null,"Index",{"$f":"E10","v":20},null,null,null,null,{"$f":"$F$3","v":133},null,null,{"$f":"$G$3","v":68.599999999999994},null,{"$f":"ROUND((G111*(L111/113)+(O111-AA114)),0)","v":20}]
[]
[null,null,null,null,null,"Trou",1,2,3,4,5,6,7,8,9,"Aller",10,11,12,13,14,15,16,17,18,"Retour","Total"]
[null,null,null,null,null,"PAR",{"$f":"G$7","v":4},{"$f":"H$7","v":4},5,4,3,5,3,5,3,{"$f":"SUM(G114:O114)","v":36},{"$f":"Q$7","v":4},4,3,5,3,4,4,5,4,{"$f":"SUM(Q114:Y114)","v":36},{"$f":"SUM(P114+Z114)","v":72}]
[null,null,null,null,null,"HCP trous",{"$f":"G$8","v":4},{"$f":"H$8","v":8},12,14,2,10,18,16,6,null,{"$f":"Q$8","v":1},9,11,5,17,15,3,13,7]
[null,null,null,null,null,"Coups reçus",{"$f":"IF($Q111<=18,IF(G115<=$Q111,1,0),IF($Q111<=36,IF(G115<=($Q111-18),2,1),IF($Q111>36,IF(G115<=($Q111-36),3,2))))","v":1},{"$f":"IF($Q111<=18,IF(H115<=$Q111,1,0),IF($Q111<=36,IF(H115<=($Q111-18),2,1),IF($Q111>36,IF(H115<=($Q111-36),3,2))))","v":1},1,1,2,1,1,1,1,{"$f":"SUM(G116:O116)","v":10},{"$f":"IF($Q111<=18,IF(Q115<=$Q111,1,0),IF($Q111<=36,IF(Q115<=($Q111-18),2,1),IF($Q111>36,IF(Q115<=($Q111-36),3,2))))","v":2},1,1,1,1,1,1,1,1,{"$f":"SUM(Q116:Y116)","v":10},{"$f":"P116+Z116","v":20}]
[null,null,null,null,null,"Stroke play",{"$f":"G10","v":10},10,10,10,10,10,10,10,10,{"$f":"SUM(G117:O117)","v":90},{"$f":"Q10","v":10},10,10,10,10,10,10,10,10,{"$f":"SUM(Q117:Y117)","v":90},{"$f":"P117+Z117","v":180}]
[null,null,null,null,null,"Net Stableford",{"$f":"IF(G117-G114=-1,3+G116)+IF(G117-G114=0,2+G116)+IF(G117-G114=1,1+G116)+IF(G117-G114=2,G116)+IF(G117-G114=3,IF(G116-1>0,G116-1,0))+IF(G117-G114=4,IF(G116-2>0,G116-2,0))","v":0},{"$f":"IF(H117-H114=-1,3+H116)+IF(H117-H114=0,2+H116)+IF(H117-H114=1,1+H116)+IF(H117-H114=2,H116)+IF(H117-H114=3,IF(H116-1>0,H116-1,0))+IF(H117-H114=4,IF(H116-2>0,H116-2,0))","v":0},0,0,0,0,0,0,0,{"$f":"SUM(G118:O118)","v":0},{"$f":"IF(Q117-Q114=-1,3+Q116)+IF(Q117-Q114=0,2+Q116)+IF(Q117-Q114=1,1+Q116)+IF(Q117-Q114=2,Q116)+IF(Q117-Q114=3,IF(Q116-1>0,Q116-1,0))+IF(Q117-Q114=4,IF(Q116-2>0,Q116-2,0))","v":0},0,0,0,0,0,0,0,0,{"$f":"SUM(Q118:Y118)","v":0},{"$f":"P118+Z118","v":0}]
[null,null,null,null,null,"Score Brut",{"$f":"IF(G117-G114=-2,4)+IF(G117-G114=-1,3)+IF(G117-G114=0,2)+IF(G117-G114=1,1)+IF(G117-G114>2,0)","v":0},0,0,0,0,0,0,0,0,{"$f":"SUM(G119:O119)","v":0},{"$f":"IF(Q117-Q114=-2,4)+IF(Q117-Q114=-1,3)+IF(Q117-Q114=0,2)+IF(Q117-Q114=1,1)+IF(Q117-Q114>2,0)","v":0},0,0,0,0,0,0,0,0,{"$f":"SUM(Q119:Y119)","v":0},{"$f":"P119+Z119","v":0}]
[null,null,null,null,null,null,{"$f":"G117-G114","v":6},{"$f":"H117-H114","v":6},5,6,7,5,7,5,7,null,{"$f":"Q117-Q114","v":6},6,7,5,7,6,6,5,6]
[]
[]
[null,null,null,null,null,"Statistiques scores",null,"Eagle & moins",null,null,null,{"$f":"COUNTIF(G120:Y120,\"<=-2\")","v":0},"Par",null,{"$f":"COUNTIF(G120:Y120,\"=0\")","v":0},"Double bogey",null,null,null,null,{"$f":"COUNTIF(G120:Y120,\"=2\")","v":0}]
[null,null,null,null,null,null,null,"Birdie",null,null,null,{"$f":"COUNTIF(G120:Y120,\"=-1\")","v":0},"Bogey",null,{"$f":"COUNTIF(G120:Y120,\"=1\")","v":0},"Triple bogey & plus",null,null,null,null,{"$f":"COUNTIF(G120:Y120,\">=3\")","v":18}]
[null,null,null,null,null,null,null,{"$f":"M123","v":"Par"},null,null,null,{"$f":"O123","v":0}]
[null,null,null,null,null,null,null,{"$f":"M124","v":"Bogey"},null,null,null,{"$f":"O124","v":0}]
[null,null,null,null,null,null,null,{"$f":"P123","v":"Double bogey"},null,null,null,{"$f":"U123","v":0}]
[null,null,null,null,null,null,null,{"$f":"P124","v":"Triple bogey & plus"},null,null,null,{"$f":"U124","v":18}]
[]
[]
[]
[]
[null,null,null,null,null,"Nom",{"$f":"C11","v":0},null,null,null,null,"Slope",null,null,"SSS",null,"Coups reçus",null,null,null,null,null,null,null,null,"Date",{"$f":"$D$3","v":"00:00:00"}]
[null,null,null,null,null,"Index",{"$f":"E11","v":20},null,null,null,null,{"$f":"$F$3","v":133},null,null,{"$f":"$G$3","v":68.599999999999994},null,{"$f":"ROUND((G134*(L134/113)+(O134-AA137)),0)","v":20}]
[]
[null,null,null,null,null,"Trou",1,2,3,4,5,6,7,8,9,"Aller",10,11,12,13,14,15,16,17,18,"Retour","Total"]
[null,null,null,null,null,"PAR",{"$f":"G$7","v":4},{"$f":"H$7","v":4},5,4,3,5,3,5,3,{"$f":"SUM(G137:O137)","v":36},{"$f":"Q$7","v":4},4,3,5,3,4,4,5,4,{"$f":"SUM(Q137:Y137)","v":36},{"$f":"SUM(P137+Z137)","v":72}]
[null,null,null,null,null,"HCP trous",{"$f":"G$8","v":4},{"$f":"H$8","v":8},12,14,2,10,18,16,6,null,{"$f":"Q$8","v":1},9,11,5,17,15,3,13,7]
[null,null,null,null,null,"Coups reçus",{"$f":"IF($Q134<=18,IF(G138<=$Q134,1,0),IF($Q134<=36,IF(G138<=($Q134-18),2,1),IF($Q134>36,IF(G138<=($Q134-36),3,2))))","v":1},{"$f":"IF($Q134<=18,IF(H138<=$Q134,1,0),IF($Q134<=36,IF(H138<=($Q134-18),2,1),IF($Q134>36,IF(H138<=($Q134-36),3,2))))","v":1},1,1,2,1,1,1,1,{"$f":"SUM(G139:O139)","v":10},{"$f":"IF($Q134<=18,IF(Q138<=$Q134,1,0),IF($Q134<=36,IF(Q138<=($Q134-18),2,1),IF($Q134>36,IF(Q138<=($Q134-36),3,2))))","v":2},1,1,1,1,1,1,1,1,{"$f":"SUM(Q139:Y139)","v":10},{"$f":"P139+Z139","v":20}]
[null,null,null,null,null,"Stroke play",{"$f":"G11","v":10},10,10,10,10,10,10,10,10,{"$f":"SUM(G140:O140)","v":90},{"$f":"Q11","v":10},10,10,10,10,10,10,10,10,{"$f":"SUM(Q140:Y140)","v":90},{"$f":"P140+Z140","v":180}]
[null,null,null,null,null,"Net Stableford",{"$f":"IF(G140-G137=-1,3+G139)+IF(G140-G137=0,2+G139)+IF(G140-G137=1,1+G139)+IF(G140-G137=2,G139)+IF(G140-G137=3,IF(G139-1>0,G139-1,0))+IF(G140-G137=4,IF(G139-2>0,G139-2,0))","v":0},{"$f":"IF(H140-H137=-1,3+H139)+IF(H140-H137=0,2+H139)+IF(H140-H137=1,1+H139)+IF(H140-H137=2,H139)+IF(H140-H137=3,IF(H139-1>0,H139-1,0))+IF(H140-H137=4,IF(H139-2>0,H139-2,0))","v":0},0,0,0,0,0,0,0,{"$f":"SUM(G141:O141)","v":0},{"$f":"IF(Q140-Q137=-1,3+Q139)+IF(Q140-Q137=0,2+Q139)+IF(Q140-Q137=1,1+Q139)+IF(Q140-Q137=2,Q139)+IF(Q140-Q137=3,IF(Q139-1>0,Q139-1,0))+IF(Q140-Q137=4,IF(Q139-2>0,Q139-2,0))","v":0},0,0,0,0,0,0,0,0,{"$f":"SUM(Q141:Y141)","v":0},{"$f":"P141+Z141","v":0}]
[null,null,null,null,null,"Score Brut",{"$f":"IF(G140-G137=-2,4)+IF(G140-G137=-1,3)+IF(G140-G137=0,2)+IF(G140-G137=1,1)+IF(G140-G137>2,0)","v":0},0,0,0,0,0,0,0,0,{"$f":"SUM(G142:O142)","v":0},{"$f":"IF(Q140-Q137=-2,4)+IF(Q140-Q137=-1,3)+IF(Q140-Q137=0,2)+IF(Q140-Q137=1,1)+IF(Q140-Q137>2,0)","v":0},0,0,0,0,0,0,0,0,{"$f":"SUM(Q142:Y142)","v":0},{"$f":"P142+Z142","v":0}]
[null,null,null,null,null,null,{"$f":"G140-G137","v":6},{"$f":"H140-H137","v":6},5,6,7,5,7,5,7,null,{"$f":"Q140-Q137","v":6},6,7,5,7,6,6,5,6]
[]
[]
[null,null,null,null,null,"Statistiques scores",null,"Eagle & moins",null,null,null,{"$f":"COUNTIF(G143:Y143,\"<=-2\")","v":0},"Par",null,{"$f":"COUNTIF(G143:Y143,\"=0\")","v":0},"Double bogey",null,null,null,null,{"$f":"COUNTIF(G143:Y143,\"=2\")","v":0}]
[null,null,null,null,null,null,null,"Birdie",null,null,null,{"$f":"COUNTIF(G143:Y143,\"=-1\")","v":0},"Bogey",null,{"$f":"COUNTIF(G143:Y143,\"=1\")","v":0},"Triple bogey & plus",null,null,null,null,{"$f":"COUNTIF(G143:Y143,\">=3\")","v":18}]
[null,null,null,null,null,null,null,{"$f":"M146","v":"Par"},null,null,null,{"$f":"O146","v":0}]
[null,null,null,null,null,null,null,{"$f":"M147","v":"Bogey"},null,null,null,{"$f":"O147","v":0}]
[null,null,null,null,null,null,null,{"$f":"P146","v":"Double bogey"},null,null,null,{"$f":"U146","v":0}]
[null,null,null,null,null,null,null,{"$f":"P147","v":"Triple bogey & plus"},null,null,null,{"$f":"U147","v":18}]
[]
[]
[]
[]
[null,null,null,null,null,"Nom",{"$f":"C12","v":0},null,null,null,null,"Slope",null,null,"SSS",null,"Coups reçus",null,null,null,null,null,null,null,null,"Date",{"$f":"$D$3","v":"00:00:00"}]
[null,null,null,null,null,"Index",{"$f":"E12","v":20},null,null,null,null,{"$f":"$F$3","v":133},null,null,{"$f":"$G$3","v":68.599999999999994},null,{"$f":"ROUND((G157*(L157/113)+(O157-AA160)),0)","v":20}]
[]
[null,null,null,null,null,"Trou",1,2,3,4,5,6,7,8,9,"Aller",10,11,12,13,14,15,16,17,18,"Retour","Total"]
[null,null,null,null,null,"PAR",{"$f":"G$7","v":4},{"$f":"H$7","v":4},5,4,3,5,3,5,3,{"$f":"SUM(G160:O160)","v":36},{"$f":"Q$7","v":4},4,3,5,3,4,4,5,4,{"$f":"SUM(Q160:Y160)","v":36},{"$f":"SUM(P160+Z160)","v":72}]
[null,null,null,null,null,"HCP trous",{"$f":"G$8","v":4},{"$f":"H$8","v":8},12,14,2,10,18,16,6,null,{"$f":"Q$8","v":1},9,11,5,17,15,3,13,7]
[null,null,null,null,null,"Coups reçus",{"$f":"IF($Q157<=18,IF(G161<=$Q157,1,0),IF($Q157<=36,IF(G161<=($Q157-18),2,1),IF($Q157>36,IF(G161<=($Q157-36),3,2))))","v":1},{"$f":"IF($Q157<=18,IF(H161<=$Q157,1,0),IF($Q157<=36,IF(H161<=($Q157-18),2,1),IF($Q157>36,IF(H161<=($Q157-36),3,2))))","v":1},1,1,2,1,1,1,1,{"$f":"SUM(G162:O162)","v":10},{"$f":"IF($Q157<=18,IF(Q161<=$Q157,1,0),IF($Q157<=36,IF(Q161<=($Q157-18),2,1),IF($Q157>36,IF(Q161<=($Q157-36),3,2))))","v":2},1,1,1,1,1,1,1,1,{"$f":"SUM(Q162:Y162)","v":10},{"$f":"P162+Z162","v":20}]
[null,null,null,null,null,"Stroke play",{"$f":"G12","v":10},10,10,10,10,10,10,10,10,{"$f":"SUM(G163:O163)","v":90},{"$f":"Q12","v":10},10,10,10,10,10,10,10,10,{"$f":"SUM(Q163:Y163)","v":90},{"$f":"P163+Z163","v":180}]
[null,null,null,null,null,"Net Stableford",{"$f":"IF(G163-G160=-1,3+G162)+IF(G163-G160=0,2+G162)+IF(G163-G160=1,1+G162)+IF(G163-G160=2,G162)+IF(G163-G160=3,IF(G162-1>0,G162-1,0))+IF(G163-G160=4,IF(G162-2>0,G162-2,0))","v":0},{"$f":"IF(H163-H160=-1,3+H162)+IF(H163-H160=0,2+H162)+IF(H163-H160=1,1+H162)+IF(H163-H160=2,H162)+IF(H163-H160=3,IF(H162-1>0,H162-1,0))+IF(H163-H160=4,IF(H162-2>0,H162-2,0))","v":0},0,0,0,0,0,0,0,{"$f":"SUM(G164:O164)","v":0},{"$f":"IF(Q163-Q160=-1,3+Q162)+IF(Q163-Q160=0,2+Q162)+IF(Q163-Q160=1,1+Q162)+IF(Q163-Q160=2,Q162)+IF(Q163-Q160=3,IF(Q162-1>0,Q162-1,0))+IF(Q163-Q160=4,IF(Q162-2>0,Q162-2,0))","v":0},0,0,0,0,0,0,0,0,{"$f":"SUM(Q164:Y164)","v":0},{"$f":"P164+Z164","v":0}]
[null,null,null,null,null,"Score Brut",{"$f":"IF(G163-G160=-2,4)+IF(G163-G160=-1,3)+IF(G163-G160=0,2)+IF(G163-G160=1,1)+IF(G163-G160>2,0)","v":0},0,0,0,0,0,0,0,0,{"$f":"SUM(G165:O165)","v":0},{"$f":"IF(Q163-Q160=-2,4)+IF(Q163-Q160=-1,3)+IF(Q163-Q160=0,2)+IF(Q163-Q160=1,1)+IF(Q163-Q160>2,0)","v":0},0,0,0,0,0,0,0,0,{"$f":"SUM(Q165:Y165)","v":0},{"$f":"P165+Z165","v":0}]
[null,null,null,null,null,null,{"$f":"G163-G160","v":6},{"$f":"H163-H160","v":6},5,6,7,5,7,5,7,null,{"$f":"Q163-Q160","v":6},6,7,5,7,6,6,5,6]
[]
[]
[null,null,null,null,null,"Statistiques scores",null,"Eagle & moins",null,null,null,{"$f":"COUNTIF(G166:Y166,\"<=-2\")","v":0},"Par",null,{"$f":"COUNTIF(G166:Y166,\"=0\")","v":0},"Double bogey",null,null,null,null,{"$f":"COUNTIF(G166:Y166,\"=2\")","v":0}]
[null,null,null,null,null,null,null,"Birdie",null,null,null,{"$f":"COUNTIF(G166:Y166,\"=-1\")","v":0},"Bogey",null,{"$f":"COUNTIF(G166:Y166,\"=1\")","v":0},"Triple bogey & plus",null,null,null,null,{"$f":"COUNTIF(G166:Y166,\">=3\")","v":18}]
[null,null,null,null,null,null,null,{"$f":"M169","v":"Par"},null,null,null,{"$f":"O169","v":0}]
[null,null,null,null,null,null,null,{"$f":"M170","v":"Bogey"},null,null,null,{"$f":"O170","v":0}]
[null,null,null,null,null,null,null,{"$f":"P169","v":"Double bogey"},null,null,null,{"$f":"U169","v":0}]
[null,null,null,null,null,null,null,{"$f":"P170","v":"Triple bogey & plus"},null,null,null,{"$f":"U170","v":18}]
[]
[]
[]
[]
[null,null,null,null,null,"Nom",{"$f":"C13","v":0},null,null,null,null,"Slope",null,null,"SSS",null,"Coups reçus",null,null,null,null,null,null,null,null,"Date",{"$f":"$D$3","v":"00:00:00"}]
[null,null,null,null,null,"Index",{"$f":"E13","v":20},null,null,null,null,{"$f":"$F$3","v":133},null,null,{"$f":"$G$3","v":68.599999999999994},null,{"$f":"ROUND((G180*(L180/113)+(O180-AA183)),0)","v":20}]
[]
[null,null,null,null,null,"Trou",1,2,3,4,5,6,7,8,9,"Aller",10,11,12,13,14,15,16,17,18,"Retour","Total"]
[null,null,null,null,null,"PAR",{"$f":"G$7","v":4},{"$f":"H$7","v":4},5,4,3,5,3,5,3,{"$f":"SUM(G183:O183)","v":36},{"$f":"Q$7","v":4},4,3,5,3,4,4,5,4,{"$f":"SUM(Q183:Y183)","v":36},{"$f":"SUM(P183+Z183)","v":72}]
[null,null,null,null,null,"HCP trous",{"$f":"G$8","v":4},{"$f":"H$8","v":8},12,14,2,10,18,16,6,null,{"$f":"Q$8","v":1},9,11,5,17,15,3,13,7]
[null,null,null,null,null,"Coups reçus",{"$f":"IF($Q180<=18,IF(G184<=$Q180,1,0),IF($Q180<=36,IF(G184<=($Q180-18),2,1),IF($Q180>36,IF(G184<=($Q180-36),3,2))))","v":1},{"$f":"IF($Q180<=18,IF(H184<=$Q180,1,0),IF($Q180<=36,IF(H184<=($Q180-18),2,1),IF($Q180>36,IF(H184<=($Q180-36),3,2))))","v":1},1,1,2,1,1,1,1,{"$f":"SUM(G185:O185)","v":10},{"$f":"IF($Q180<=18,IF(Q184<=$Q180,1,0),IF($Q180<=36,IF(Q184<=($Q180-18),2,1),IF($Q180>36,IF(Q184<=($Q180-36),3,2))))","v":2},1,1,1,1,1,1,1,1,{"$f":"SUM(Q185:Y185)","v":10},{"$f":"P185+Z185","v":20}]
[null,null,null,null,null,"Stroke play",{"$f":"G13","v":10},10,10,10,10,10,10,10,10,{"$f":"SUM(G186:O186)","v":90},{"$f":"Q13","v":10},10,10,10,10,10,10,10,10,{"$f":"SUM(Q186:Y186)","v":90},{"$f":"P186+Z186","v":180}]
[null,null,null,null,null,"Net Stableford",{"$f":"IF(G186-G183=-1,3+G185)+IF(G186-G183=0,2+G185)+IF(G186-G183=1,1+G185)+IF(G186-G183=2,G185)+IF(G186-G183=3,IF(G185-1>0,G185-1,0))+IF(G186-G183=4,IF(G185-2>0,G185-2,0))","v":0},{"$f":"IF(H186-H183=-1,3+H185)+IF(H186-H183=0,2+H185)+IF(H186-H183=1,1+H185)+IF(H186-H183=2,H185)+IF(H186-H183=3,IF(H185-1>0,H185-1,0))+IF(H186-H183=4,IF(H185-2>0,H185-2,0))","v":0},0,0,0,0,0,0,0,{"$f":"SUM(G187:O187)","v":0},{"$f":"IF(Q186-Q183=-1,3+Q185)+IF(Q186-Q183=0,2+Q185)+IF(Q186-Q183=1,1+Q185)+IF(Q186-Q183=2,Q185)+IF(Q186-Q183=3,IF(Q185-1>0,Q185-1,0))+IF(Q186-Q183=4,IF(Q185-2>0,Q185-2,0))","v":0},0,0,0,0,0,0,0,0,{"$f":"SUM(Q187:Y187)","v":0},{"$f":"P187+Z187","v":0}]
[null,null,null,null,null,"Score Brut",{"$f":"IF(G186-G183=-2,4)+IF(G186-G183=-1,3)+IF(G186-G183=0,2)+IF(G186-G183=1,1)+IF(G186-G183>2,0)","v":0},0,0,0,0,0,0,0,0,{"$f":"SUM(G188:O188)","v":0},{"$f":"IF(Q186-Q183=-2,4)+IF(Q186-Q183=-1,3)+IF(Q186-Q183=0,2)+IF(Q186-Q183=1,1)+IF(Q186-Q183>2,0)","v":0},0,0,0,0,0,0,0,0,{"$f":"SUM(Q188:Y188)","v":0},{"$f":"P188+Z188","v":0}]
[null,null,null,null,null,null,{"$f":"G186-G183","v":6},{"$f":"H186-H183","v":6},5,6,7,5,7,5,7,null,{"$f":"Q186-Q183","v":6},6,7,5,7,6,6,5,6]
[]
[]
[null,null,null,null,null,"Statistiques scores",null,"Eagle & moins",null,null,null,{"$f":"COUNTIF(G189:Y189,\"<=-2\")","v":0},"Par",null,{"$f":"COUNTIF(G189:Y189,\"=0\")","v":0},"Double bogey",null,null,null,null,{"$f":"COUNTIF(G189:Y189,\"=2\")","v":0}]
[null,null,null,null,null,null,null,"Birdie",null,null,null,{"$f":"COUNTIF(G189:Y189,\"=-1\")","v":0},"Bogey",null,{"$f":"COUNTIF(G189:Y189,\"=1\")","v":0},"Triple bogey & plus",null,null,null,null,{"$f":"COUNTIF(G189:Y189,\">=3\")","v":18}]
[null,null,null,null,null,null,null,{"$f":"M192","v":"Par"},null,null,null,{"$f":"O192","v":0}]
[null,null,null,null,null,null,null,{"$f":"M193","v":"Bogey"},null,null,null,{"$f":"O193","v":0}]
[null,null,null,null,null,null,null,{"$f":"P192","v":"Double bogey"},null,null,null,{"$f":"U192","v":0}]
[null,null,null,null,null,null,null,{"$f":"P193","v":"Triple bogey & plus"},null,null,null,{"$f":"U193","v":18}]
[]
[]
[]
[]
[null,null,null,null,null,"Nom",{"$f":"C14","v":0},null,null,null,null,"Slope",null,null,"SSS",null,"Coups reçus",null,null,null,null,null,null,null,null,"Date",{"$f":"$D$3","v":"00:00:00"}]
[null,null,null,null,null,"Index",{"$f":"E14","v":20},null,null,null,null,{"$f":"$F$3","v":133},null,null,{"$f":"$G$3","v":68.599999999999994},null,{"$f":"ROUND((G203*(L203/113)+(O203-AA206)),0)","v":20}]
[]
[null,null,null,null,null,"Trou",1,2,3,4,5,6,7,8,9,"Aller",10,11,12,13,14,15,16,17,18,"Retour","Total"]
[null,null,null,null,null,"PAR",{"$f":"G$7","v":4},{"$f":"H$7","v":4},5,4,3,5,3,5,3,{"$f":"SUM(G206:O206)","v":36},{"$f":"Q$7","v":4},4,3,5,3,4,4,5,4,{"$f":"SUM(Q206:Y206)","v":36},{"$f":"SUM(P206+Z206)","v":72}]
[null,null,null,null,null,"HCP trous",{"$f":"G$8","v":4},{"$f":"H$8","v":8},12,14,2,10,18,16,6,null,{"$f":"Q$8","v":1},9,11,5,17,15,3,13,7]
[null,null,null,null,null,"Coups reçus",{"$f":"IF($Q203<=18,IF(G207<=$Q203,1,0),IF($Q203<=36,IF(G207<=($Q203-18),2,1),IF($Q203>36,IF(G207<=($Q203-36),3,2))))","v":1},{"$f":"IF($Q203<=18,IF(H207<=$Q203,1,0),IF($Q203<=36,IF(H207<=($Q203-18),2,1),IF($Q203>36,IF(H207<=($Q203-36),3,2))))","v":1},1,1,2,1,1,1,1,{"$f":"SUM(G208:O208)","v":10},{"$f":"IF($Q203<=18,IF(Q207<=$Q203,1,0),IF($Q203<=36,IF(Q207<=($Q203-18),2,1),IF($Q203>36,IF(Q207<=($Q203-36),3,2))))","v":2},1,1,1,1,1,1,1,1,{"$f":"SUM(Q208:Y208)","v":10},{"$f":"P208+Z208","v":20}]
[null,null,null,null,null,"Stroke play",{"$f":"G14","v":10},10,10,10,10,10,10,10,10,{"$f":"SUM(G209:O209)","v":90},{"$f":"Q14","v":10},10,10,10,10,10,10,10,10,{"$f":"SUM(Q209:Y209)","v":90},{"$f":"P209+Z209","v":180}]
[null,null,null,null,null,"Net Stableford",{"$f":"IF(G209-G206=-1,3+G208)+IF(G209-G206=0,2+G208)+IF(G209-G206=1,1+G208)+IF(G209-G206=2,G208)+IF(G209-G206=3,IF(G208-1>0,G208-1,0))+IF(G209-G206=4,IF(G208-2>0,G208-2,0))","v":0},{"$f":"IF(H209-H206=-1,3+H208)+IF(H209-H206=0,2+H208)+IF(H209-H206=1,1+H208)+IF(H209-H206=2,H208)+IF(H209-H206=3,IF(H208-1>0,H208-1,0))+IF(H209-H206=4,IF(H208-2>0,H208-2,0))","v":0},0,0,0,0,0,0,0,{"$f":"SUM(G210:O210)","v":0},{"$f":"IF(Q209-Q206=-1,3+Q208)+IF(Q209-Q206=0,2+Q208)+IF(Q209-Q206=1,1+Q208)+IF(Q209-Q206=2,Q208)+IF(Q209-Q206=3,IF(Q208-1>0,Q208-1,0))+IF(Q209-Q206=4,IF(Q208-2>0,Q208-2,0))","v":0},0,0,0,0,0,0,0,0,{"$f":"SUM(Q210:Y210)","v":0},{"$f":"P210+Z210","v":0}]
[null,null,null,null,null,"Score Brut",{"$f":"IF(G209-G206=-2,4)+IF(G209-G206=-1,3)+IF(G209-G206=0,2)+IF(G209-G206=1,1)+IF(G209-G206>2,0)","v":0},0,0,0,0,0,0,0,0,{"$f":"SUM(G211:O211)","v":0},{"$f":"IF(Q209-Q206=-2,4)+IF(Q209-Q206=-1,3)+IF(Q209-Q206=0,2)+IF(Q209-Q206=1,1)+IF(Q209-Q206>2,0)","v":0},0,0,0,0,0,0,0,0,{"$f":"SUM(Q211:Y211)","v":0},{"$f":"P211+Z211","v":0}]
[null,null,null,null,null,null,{"$f":"G209-G206","v":6},{"$f":"H209-H206","v":6},5,6,7,5,7,5,7,null,{"$f":"Q209-Q206","v":6},6,7,5,7,6,6,5,6]
[]
[]
[null,null,null,null,null,"Statistiques scores",null,"Eagle & moins",null,null,null,{"$f":"COUNTIF(G212:Y212,\"<=-2\")","v":0},"Par",null,{"$f":"COUNTIF(G212:Y212,\"=0\")","v":0},"Double bogey",null,null,null,null,{"$f":"COUNTIF(G212:Y212,\"=2\")","v":0}]
[null,null,null,null,null,null,null,"Birdie",null,null,null,{"$f":"COUNTIF(G212:Y212,\"=-1\")","v":0},"Bogey",null,{"$f":"COUNTIF(G212:Y212,\"=1\")","v":0},"Triple bogey & plus",null,null,null,null,{"$f":"COUNTIF(G212:Y212,\">=3\")","v":18}]
[null,null,null,null,null,null,null,{"$f":"M215","v":"Par"},null,null,null,{"$f":"O215","v":0}]
[null,null,null,null,null,null,null,{"$f":"M216","v":"Bogey"},null,null,null,{"$f":"O216","v":0}]
[null,null,null,null,null,null,null,{"$f":"P215","v":"Double bogey"},null,null,null,{"$f":"U215","v":0}]
[null,null,null,null,null,null,null,{"$f":"P216","v":"Triple bogey & plus"},null,null,null,{"$f":"U216","v":18}]
[]
[]
[]
[]
[null,null,null,null,null,"Nom",{"$f":"C15","v":0},null,null,null,null,"Slope",null,null,"SSS",null,"Coups reçus",null,null,null,null,null,null,null,null,"Date",{"$f":"$D$3","v":"00:00:00"}]
[null,null,null,null,null,"Index",{"$f":"E15","v":20},null,null,null,null,{"$f":"$F$3","v":133},null,null,{"$f":"$G$3","v":68.599999999999994},null,{"$f":"ROUND((G226*(L226/113)+(O226-AA229)),0)","v":20}]
[]
[null,null,null,null,null,"Trou",1,2,3,4,5,6,7,8,9,"Aller",10,11,12,13,14,15,16,17,18,"Retour","Total"]
[null,null,null,null,null,"PAR",{"$f":"G$7","v":4},{"$f":"H$7","v":4},5,4,3,5,3,5,3,{"$f":"SUM(G229:O229)","v":36},{"$f":"Q$7","v":4},4,3,5,3,4,4,5,4,{"$f":"SUM(Q229:Y229)","v":36},{"$f":"SUM(P229+Z229)","v":72}]
[null,null,null,null,null,"HCP trous",{"$f":"G$8","v":4},{"$f":"H$8","v":8},12,14,2,10,18,16,6,null,{"$f":"Q$8","v":1},9,11,5,17,15,3,13,7]
[null,null,null,null,null,"Coups reçus",{"$f":"IF($Q226<=18,IF(G230<=$Q226,1,0),IF($Q226<=36,IF(G230<=($Q226-18),2,1),IF($Q226>36,IF(G230<=($Q226-36),3,2))))","v":1},{"$f":"IF($Q226<=18,IF(H230<=$Q226,1,0),IF($Q226<=36,IF(H230<=($Q226-18),2,1),IF($Q226>36,IF(H230<=($Q226-36),3,2))))","v":1},1,1,2,1,1,1,1,{"$f":"SUM(G231:O231)","v":10},{"$f":"IF($Q226<=18,IF(Q230<=$Q226,1,0),IF($Q226<=36,IF(Q230<=($Q226-18),2,1),IF($Q226>36,IF(Q230<=($Q226-36),3,2))))","v":2},1,1,1,1,1,1,1,1,{"$f":"SUM(Q231:Y231)","v":10},{"$f":"P231+Z231","v":20}]
[null,null,null,null,null,"Stroke play",{"$f":"G15","v":10},10,10,10,10,10,10,10,10,{"$f":"SUM(G232:O232)","v":90},{"$f":"Q15","v":10},10,10,10,10,10,10,10,10,{"$f":"SUM(Q232:Y232)","v":90},{"$f":"P232+Z232","v":180}]
[null,null,null,null,null,"Net Stableford",{"$f":"IF(G232-G229=-1,3+G231)+IF(G232-G229=0,2+G231)+IF(G232-G229=1,1+G231)+IF(G232-G229=2,G231)+IF(G232-G229=3,IF(G231-1>0,G231-1,0))+IF(G232-G229=4,IF(G231-2>0,G231-2,0))","v":0},{"$f":"IF(H232-H229=-1,3+H231)+IF(H232-H229=0,2+H231)+IF(H232-H229=1,1+H231)+IF(H232-H229=2,H231)+IF(H232-H229=3,IF(H231-1>0,H231-1,0))+IF(H232-H229=4,IF(H231-2>0,H231-2,0))","v":0},0,0,0,0,0,0,0,{"$f":"SUM(G233:O233)","v":0},{"$f":"IF(Q232-Q229=-1,3+Q231)+IF(Q232-Q229=0,2+Q231)+IF(Q232-Q229=1,1+Q231)+IF(Q232-Q229=2,Q231)+IF(Q232-Q229=3,IF(Q231-1>0,Q231-1,0))+IF(Q232-Q229=4,IF(Q231-2>0,Q231-2,0))","v":0},0,0,0,0,0,0,0,0,{"$f":"SUM(Q233:Y233)","v":0},{"$f":"P233+Z233","v":0}]
[null,null,null,null,null,"Score Brut",{"$f":"IF(G232-G229=-2,4)+IF(G232-G229=-1,3)+IF(G232-G229=0,2)+IF(G232-G229=1,1)+IF(G232-G229>2,0)","v":0},0,0,0,0,0,0,0,0,{"$f":"SUM(G234:O234)","v":0},{"$f":"IF(Q232-Q229=-2,4)+IF(Q232-Q229=-1,3)+IF(Q232-Q229=0,2)+IF(Q232-Q229=1,1)+IF(Q232-Q229>2,0)","v":0},0,0,0,0,0,0,0,0,{"$f":"SUM(Q234:Y234)","v":0},{"$f":"P234+Z234","v":0}]
[null,null,null,null,null,null,{"$f":"G232-G229","v":6},{"$f":"H232-H229","v":6},5,6,7,5,7,5,7,null,{"$f":"Q232-Q229","v":6},6,7,5,7,6,6,5,6]
[]
[]
[null,null,null,null,null,"Statistiques scores",null,"Eagle & moins",null,null,null,{"$f":"COUNTIF(G235:Y235,\"<=-2\")","v":0},"Par",null,{"$f":"COUNTIF(G235:Y235,\"=0\")","v":0},"Double bogey",null,null,null,null,{"$f":"COUNTIF(G235:Y235,\"=2\")","v":0}]
[null,null,null,null,null,null,null,"Birdie",null,null,null,{"$f":"COUNTIF(G235:Y235,\"=-1\")","v":0},"Bogey",null,{"$f":"COUNTIF(G235:Y235,\"=1\")","v":0},"Triple bogey & plus",null,null,null,null,{"$f":"COUNTIF(G235:Y235,\">=3\")","v":18}]
[null,null,null,null,null,null,null,{"$f":"M238","v":"Par"},null,null,null,{"$f":"O238","v":0}]
[null,null,null,null,null,null,null,{"$f":"M239","v":"Bogey"},null,null,null,{"$f":"O239","v":0}]
[null,null,null,null,null,null,null,{"$f":"P238","v":"Double bogey"},null,null,null,{"$f":"U238","v":0}]
[null,null,null,null,null,null,null,{"$f":"P239","v":"Triple bogey & plus"},null,null,null,{"$f":"U239","v":18}]
[]
[]
[]
[]
[null,null,null,null,null,"Nom",{"$f":"C16","v":0},null,null,null,null,"Slope",null,null,"SSS",null,"Coups reçus",null,null,null,null,null,null,null,null,"Date",{"$f":"$D$3","v":"00:00:00"}]
[null,null,null,null,null,"Index",{"$f":"E16","v":20},null,null,null,null,{"$f":"$F$3","v":133},null,null,{"$f":"$G$3","v":68.599999999999994},null,{"$f":"ROUND((G249*(L249/113)+(O249-AA252)),0)","v":20}]
[]
[null,null,null,null,null,"Trou",1,2,3,4,5,6,7,8,9,"Aller",10,11,12,13,14,15,16,17,18,"Retour","Total"]
[null,null,null,null,null,"PAR",{"$f":"G$7","v":4},{"$f":"H$7","v":4},5,4,3,5,3,5,3,{"$f":"SUM(G252:O252)","v":36},{"$f":"Q$7","v":4},4,3,5,3,4,4,5,4,{"$f":"SUM(Q252:Y252)","v":36},{"$f":"SUM(P252+Z252)","v":72}]
[null,null,null,null,null,"HCP trous",{"$f":"G$8","v":4},{"$f":"H$8","v":8},12,14,2,10,18,16,6,null,{"$f":"Q$8","v":1},9,11,5,17,15,3,13,7]
[null,null,null,null,null,"Coups reçus",{"$f":"IF($Q249<=18,IF(G253<=$Q249,1,0),IF($Q249<=36,IF(G253<=($Q249-18),2,1),IF($Q249>36,IF(G253<=($Q249-36),3,2))))","v":1},{"$f":"IF($Q249<=18,IF(H253<=$Q249,1,0),IF($Q249<=36,IF(H253<=($Q249-18),2,1),IF($Q249>36,IF(H253<=($Q249-36),3,2))))","v":1},1,1,2,1,1,1,1,{"$f":"SUM(G254:O254)","v":10},{"$f":"IF($Q249<=18,IF(Q253<=$Q249,1,0),IF($Q249<=36,IF(Q253<=($Q249-18),2,1),IF($Q249>36,IF(Q253<=($Q249-36),3,2))))","v":2},1,1,1,1,1,1,1,1,{"$f":"SUM(Q254:Y254)","v":10},{"$f":"P254+Z254","v":20}]
[null,null,null,null,null,"Stroke play",{"$f":"G16","v":10},10,10,10,10,10,10,10,10,{"$f":"SUM(G255:O255)","v":90},{"$f":"Q16","v":10},10,10,10,10,10,10,10,10,{"$f":"SUM(Q255:Y255)","v":90},{"$f":"P255+Z255","v":180}]
[null,null,null,null,null,"Net Stableford",{"$f":"IF(G255-G252=-1,3+G254)+IF(G255-G252=0,2+G254)+IF(G255-G252=1,1+G254)+IF(G255-G252=2,G254)+IF(G255-G252=3,IF(G254-1>0,G254-1,0))+IF(G255-G252=4,IF(G254-2>0,G254-2,0))","v":0},{"$f":"IF(H255-H252=-1,3+H254)+IF(H255-H252=0,2+H254)+IF(H255-H252=1,1+H254)+IF(H255-H252=2,H254)+IF(H255-H252=3,IF(H254-1>0,H254-1,0))+IF(H255-H252=4,IF(H254-2>0,H254-2,0))","v":0},0,0,0,0,0,0,0,{"$f":"SUM(G256:O256)","v":0},{"$f":"IF(Q255-Q252=-1,3+Q254)+IF(Q255-Q252=0,2+Q254)+IF(Q255-Q252=1,1+Q254)+IF(Q255-Q252=2,Q254)+IF(Q255-Q252=3,IF(Q254-1>0,Q254-1,0))+IF(Q255-Q252=4,IF(Q254-2>0,Q254-2,0))","v":0},0,0,0,0,0,0,0,0,{"$f":"SUM(Q256:Y256)","v":0},{"$f":"P256+Z256","v":0}]
[null,null,null,null,null,"Score Brut",{"$f":"IF(G255-G252=-2,4)+IF(G255-G252=-1,3)+IF(G255-G252=0,2)+IF(G255-G252=1,1)+IF(G255-G252>2,0)","v":0},0,0,0,0,0,0,0,0,{"$f":"SUM(G257:O257)","v":0},{"$f":"IF(Q255-Q252=-2,4)+IF(Q255-Q252=-1,3)+IF(Q255-Q252=0,2)+IF(Q255-Q252=1,1)+IF(Q255-Q252>2,0)","v":0},0,0,0,0,0,0,0,0,{"$f":"SUM(Q257:Y257)","v":0},{"$f":"P257+Z257","v":0}]
[null,null,null,null,null,null,{"$f":"G255-G252","v":6},{"$f":"H255-H252","v":6},5,6,7,5,7,5,7,null,{"$f":"Q255-Q252","v":6},6,7,5,7,6,6,5,6]
[]
[]
[null,null,null,null,null,"Statistiques scores",null,"Eagle & moins",null,null,null,{"$f":"COUNTIF(G258:Y258,\"<=-2\")","v":0},"Par",null,{"$f":"COUNTIF(G258:Y258,\"=0\")","v":0},"Double bogey",null,null,null,null,{"$f":"COUNTIF(G258:Y258,\"=2\")","v":0}]
[null,null,null,null,null,null,null,"Birdie",null,null,null,{"$f":"COUNTIF(G258:Y258,\"=-1\")","v":0},"Bogey",null,{"$f":"COUNTIF(G258:Y258,\"=1\")","v":0},"Triple bogey & plus",null,null,null,null,{"$f":"COUNTIF(G258:Y258,\">=3\")","v":18}]
[null,null,null,null,null,null,null,{"$f":"M261","v":"Par"},null,null,null,{"$f":"O261","v":0}]
[null,null,null,null,null,null,null,{"$f":"M262","v":"Bogey"},null,null,null,{"$f":"O262","v":0}]
[null,null,null,null,null,null,null,{"$f":"P261","v":"Double bogey"},null,null,null,{"$f":"U261","v":0}]
[null,null,null,null,null,null,null,{"$f":"P262","v":"Triple bogey & plus"},null,null,null,{"$f":"U262","v":18}]
[]
[]
[]
[]
[null,null,null,null,null,"Nom",{"$f":"C17","v":0},null,null,null,null,"Slope",null,null,"SSS",null,"Coups reçus",null,null,null,null,null,null,null,null,"Date",{"$f":"$D$3","v":"00:00:00"}]
[null,null,null,null,null,"Index",{"$f":"E17","v":20},null,null,null,null,{"$f":"$F$3","v":133},null,null,{"$f":"$G$3","v":68.599999999999994},null,{"$f":"ROUND((G272*(L272/113)+(O272-AA275)),0)","v":20}]
[]
[null,null,null,null,null,"Trou",1,2,3,4,5,6,7,8,9,"Aller",10,11,12,13,14,15,16,17,18,"Retour","Total"]
[null,null,null,null,null,"PAR",{"$f":"G$7","v":4},{"$f":"H$7","v":4},5,4,3,5,3,5,3,{"$f":"SUM(G275:O275)","v":36},{"$f":"Q$7","v":4},4,3,5,3,4,4,5,4,{"$f":"SUM(Q275:Y275)","v":36},{"$f":"SUM(P275+Z275)","v":72}]
[null,null,null,null,null,"HCP trous",{"$f":"G$8","v":4},{"$f":"H$8","v":8},12,14,2,10,18,16,6,null,{"$f":"Q$8","v":1},9,11,5,17,15,3,13,7]
[null,null,null,null,null,"Coups reçus",{"$f":"IF($Q272<=18,IF(G276<=$Q272,1,0),IF($Q272<=36,IF(G276<=($Q272-18),2,1),IF($Q272>36,IF(G276<=($Q272-36),3,2))))","v":1},{"$f":"IF($Q272<=18,IF(H276<=$Q272,1,0),IF($Q272<=36,IF(H276<=($Q272-18),2,1),IF($Q272>36,IF(H276<=($Q272-36),3,2))))","v":1},1,1,2,1,1,1,1,{"$f":"SUM(G277:O277)","v":10},{"$f":"IF($Q272<=18,IF(Q276<=$Q272,1,0),IF($Q272<=36,IF(Q276<=($Q272-18),2,1),IF($Q272>36,IF(Q276<=($Q272-36),3,2))))","v":2},1,1,1,1,1,1,1,1,{"$f":"SUM(Q277:Y277)","v":10},{"$f":"P277+Z277","v":20}]
[null,null,null,null,null,"Stroke play",{"$f":"G17","v":10},10,10,10,10,10,10,10,10,{"$f":"SUM(G278:O278)","v":90},{"$f":"Q17","v":10},10,10,10,10,10,10,10,10,{"$f":"SUM(Q278:Y278)","v":90},{"$f":"P278+Z278","v":180}]
[null,null,null,null,null,"Net Stableford",{"$f":"IF(G278-G275=-1,3+G277)+IF(G278-G275=0,2+G277)+IF(G278-G275=1,1+G277)+IF(G278-G275=2,G277)+IF(G278-G275=3,IF(G277-1>0,G277-1,0))+IF(G278-G275=4,IF(G277-2>0,G277-2,0))","v":0},{"$f":"IF(H278-H275=-1,3+H277)+IF(H278-H275=0,2+H277)+IF(H278-H275=1,1+H277)+IF(H278-H275=2,H277)+IF(H278-H275=3,IF(H277-1>0,H277-1,0))+IF(H278-H275=4,IF(H277-2>0,H277-2,0))","v":0},0,0,0,0,0,0,0,{"$f":"SUM(G279:O279)","v":0},{"$f":"IF(Q278-Q275=-1,3+Q277)+IF(Q278-Q275=0,2+Q277)+IF(Q278-Q275=1,1+Q277)+IF(Q278-Q275=2,Q277)+IF(Q278-Q275=3,IF(Q277-1>0,Q277-1,0))+IF(Q278-Q275=4,IF(Q277-2>0,Q277-2,0))","v":0},0,0,0,0,0,0,0,0,{"$f":"SUM(Q279:Y279)","v":0},{"$f":"P279+Z279","v":0}]
[null,null,null,null,null,"Score Brut",{"$f":"IF(G278-G275=-2,4)+IF(G278-G275=-1,3)+IF(G278-G275=0,2)+IF(G278-G275=1,1)+IF(G278-G275>2,0)","v":0},0,0,0,0,0,0,0,0,{"$f":"SUM(G280:O280)","v":0},{"$f":"IF(Q278-Q275=-2,4)+IF(Q278-Q275=-1,3)+IF(Q278-Q275=0,2)+IF(Q278-Q275=1,1)+IF(Q278-Q275>2,0)","v":0},0,0,0,0,0,0,0,0,{"$f":"SUM(Q280:Y280)","v":0},{"$f":"P280+Z280","v":0}]
[null,null,null,null,null,null,{"$f":"G278-G275","v":6},{"$f":"H278-H275","v":6},5,6,7,5,7,5,7,null,{"$f":"Q278-Q275","v":6},6,7,5,7,6,6,5,6]
[]
[]
[null,null,null,null,null,"Statistiques scores",null,"Eagle & moins",null,null,null,{"$f":"COUNTIF(G281:Y281,\"<=-2\")","v":0},"Par",null,{"$f":"COUNTIF(G281:Y281,\"=0\")","v":0},"Double bogey",null,null,null,null,{"$f":"COUNTIF(G281:Y281,\"=2\")","v":0}]
[null,null,null,null,null,null,null,"Birdie",null,null,null,{"$f":"COUNTIF(G281:Y281,\"=-1\")","v":0},"Bogey",null,{"$f":"COUNTIF(G281:Y281,\"=1\")","v":0},"Triple bogey & plus",null,null,null,null,{"$f":"COUNTIF(G281:Y281,\">=3\")","v":18}]
[null,null,null,null,null,null,null,{"$f":"M284","v":"Par"},null,null,null,{"$f":"O284","v":0}]
[null,null,null,null,null,null,null,{"$f":"M285","v":"Bogey"},null,null,null,{"$f":"O285","v":0}]
[null,null,null,null,null,null,null,{"$f":"P284","v":"Double bogey"},null,null,null,{"$f":"U284","v":0}]
[null,null,null,null,null,null,null,{"$f":"P285","v":"Triple bogey & plus"},null,null,null,{"$f":"U285","v":18}]
[]
[]
[]
[]
[null,null,null,null,null,"Nom",{"$f":"C18","v":0},null,null,null,null,"Slope",null,null,"SSS",null,"Coups reçus",null,null,null,null,null,null,null,null,"Date",{"$f":"$D$3","v":"00:00:00"}]
[null,null,null,null,null,"Index",{"$f":"E18","v":20},null,null,null,null,{"$f":"$F$3","v":133},null,null,{"$f":"$G$3","v":68.599999999999994},null,{"$f":"ROUND((G295*(L295/113)+(O295-AA298)),0)","v":20}]
[]
[null,null,null,null,null,"Trou",1,2,3,4,5,6,7,8,9,"Aller",10,11,12,13,14,15,16,17,18,"Retour","Total"]
[null,null,null,null,null,"PAR",{"$f":"G$7","v":4},{"$f":"H$7","v":4},5,4,3,5,3,5,3,{"$f":"SUM(G298:O298)","v":36},{"$f":"Q$7","v":4},4,3,5,3,4,4,5,4,{"$f":"SUM(Q298:Y298)","v":36},{"$f":"SUM(P298+Z298)","v":72}]
[null,null,null,null,null,"HCP trous",{"$f":"G$8","v":4},{"$f":"H$8","v":8},12,14,2,10,18,16,6,null,{"$f":"Q$8","v":1},9,11,5,17,15,3,13,7]
[null,null,null,null,null,"Coups reçus",{"$f":"IF($Q295<=18,IF(G299<=$Q295,1,0),IF($Q295<=36,IF(G299<=($Q295-18),2,1),IF($Q295>36,IF(G299<=($Q295-36),3,2))))","v":1},{"$f":"IF($Q295<=18,IF(H299<=$Q295,1,0),IF($Q295<=36,IF(H299<=($Q295-18),2,1),IF($Q295>36,IF(H299<=($Q295-36),3,2))))","v":1},1,1,2,1,1,1,1,{"$f":"SUM(G300:O300)","v":10},{"$f":"IF($Q295<=18,IF(Q299<=$Q295,1,0),IF($Q295<=36,IF(Q299<=($Q295-18),2,1),IF($Q295>36,IF(Q299<=($Q295-36),3,2))))","v":2},1,1,1,1,1,1,1,1,{"$f":"SUM(Q300:Y300)","v":10},{"$f":"P300+Z300","v":20}]
[null,null,null,null,null,"Stroke play",{"$f":"G18","v":10},10,10,10,10,10,10,10,10,{"$f":"SUM(G301:O301)","v":90},{"$f":"Q18","v":10},10,10,10,10,10,10,10,10,{"$f":"SUM(Q301:Y301)","v":90},{"$f":"P301+Z301","v":180}]
[null,null,null,null,null,"Net Stableford",{"$f":"IF(G301-G298=-1,3+G300)+IF(G301-G298=0,2+G300)+IF(G301-G298=1,1+G300)+IF(G301-G298=2,G300)+IF(G301-G298=3,IF(G300-1>0,G300-1,0))+IF(G301-G298=4,IF(G300-2>0,G300-2,0))","v":0},{"$f":"IF(H301-H298=-1,3+H300)+IF(H301-H298=0,2+H300)+IF(H301-H298=1,1+H300)+IF(H301-H298=2,H300)+IF(H301-H298=3,IF(H300-1>0,H300-1,0))+IF(H301-H298=4,IF(H300-2>0,H300-2,0))","v":0},0,0,0,0,0,0,0,{"$f":"SUM(G302:O302)","v":0},{"$f":"IF(Q301-Q298=-1,3+Q300)+IF(Q301-Q298=0,2+Q300)+IF(Q301-Q298=1,1+Q300)+IF(Q301-Q298=2,Q300)+IF(Q301-Q298=3,IF(Q300-1>0,Q300-1,0))+IF(Q301-Q298=4,IF(Q300-2>0,Q300-2,0))","v":0},0,0,0,0,0,0,0,0,{"$f":"SUM(Q302:Y302)","v":0},{"$f":"P302+Z302","v":0}]
[null,null,null,null,null,"Score Brut",{"$f":"IF(G301-G298=-2,4)+IF(G301-G298=-1,3)+IF(G301-G298=0,2)+IF(G301-G298=1,1)+IF(G301-G298>2,0)","v":0},0,0,0,0,0,0,0,0,{"$f":"SUM(G303:O303)","v":0},{"$f":"IF(Q301-Q298=-2,4)+IF(Q301-Q298=-1,3)+IF(Q301-Q298=0,2)+IF(Q301-Q298=1,1)+IF(Q301-Q298>2,0)","v":0},0,0,0,0,0,0,0,0,{"$f":"SUM(Q303:Y303)","v":0},{"$f":"P303+Z303","v":0}]
[null,null,null,null,null,null,{"$f":"G301-G298","v":6},{"$f":"H301-H298","v":6},5,6,7,5,7,5,7,null,{"$f":"Q301-Q298","v":6},6,7,5,7,6,6,5,6]
[]
[]
[null,null,null,null,null,"Statistiques scores",null,"Eagle & moins",null,null,null,{"$f":"COUNTIF(G304:Y304,\"<=-2\")","v":0},"Par",null,{"$f":"COUNTIF(G304:Y304,\"=0\")","v":0},"Double bogey",null,null,null,null,{"$f":"COUNTIF(G304:Y304,\"=2\")","v":0}]
[null,null,null,null,null,null,null,"Birdie",null,null,null,{"$f":"COUNTIF(G304:Y304,\"=-1\")","v":0},"Bogey",null,{"$f":"COUNTIF(G304:Y304,\"=1\")","v":0},"Triple bogey & plus",null,null,null,null,{"$f":"COUNTIF(G304:Y304,\">=3\")","v":18}]
[null,null,null,null,null,null,null,{"$f":"M307","v":"Par"},null,null,null,{"$f":"O307","v":0}]
[null,null,null,null,null,null,null,{"$f":"M308","v":"Bogey"},null,null,null,{"$f":"O308","v":0}]
[null,null,null,null,null,null,null,{"$f":"P307","v":"Double bogey"},null,null,null,{"$f":"U307","v":0}]
[null,null,null,null,null,null,null,{"$f":"P308","v":"Triple bogey & plus"},null,null,null,{"$f":"U308","v":18}]
[]
[]
[]
[]
[null,null,null,null,null,"Nom",{"$f":"C19","v":0},null,null,null,null,"Slope",null,null,"SSS",null,"Coups reçus",null,null,null,null,null,null,null,null,"Date",{"$f":"$D$3","v":"00:00:00"}]
[null,null,null,null,null,"Index",{"$f":"E19","v":20},null,null,null,null,{"$f":"$F$3","v":133},null,null,{"$f":"$G$3","v":68.599999999999994},null,{"$f":"ROUND((G318*(L318/113)+(O318-AA321)),0)","v":20}]
[]
[null,null,null,null,null,"Trou",1,2,3,4,5,6,7,8,9,"Aller",10,11,12,13,14,15,16,17,18,"Retour","Total"]
[null,null,null,null,null,"PAR",{"$f":"G$7","v":4},{"$f":"H$7","v":4},5,4,3,5,3,5,3,{"$f":"SUM(G321:O321)","v":36},{"$f":"Q$7","v":4},4,3,5,3,4,4,5,4,{"$f":"SUM(Q321:Y321)","v":36},{"$f":"SUM(P321+Z321)","v":72}]
[null,null,null,null,null,"HCP trous",{"$f":"G$8","v":4},{"$f":"H$8","v":8},12,14,2,10,18,16,6,null,{"$f":"Q$8","v":1},9,11,5,17,15,3,13,7]
[null,null,null,null,null,"Coups reçus",{"$f":"IF($Q318<=18,IF(G322<=$Q318,1,0),IF($Q318<=36,IF(G322<=($Q318-18),2,1),IF($Q318>36,IF(G322<=($Q318-36),3,2))))","v":1},{"$f":"IF($Q318<=18,IF(H322<=$Q318,1,0),IF($Q318<=36,IF(H322<=($Q318-18),2,1),IF($Q318>36,IF(H322<=($Q318-36),3,2))))","v":1},1,1,2,1,1,1,1,{"$f":"SUM(G323:O323)","v":10},{"$f":"IF($Q318<=18,IF(Q322<=$Q318,1,0),IF($Q318<=36,IF(Q322<=($Q318-18),2,1),IF($Q318>36,IF(Q322<=($Q318-36),3,2))))","v":2},1,1,1,1,1,1,1,1,{"$f":"SUM(Q323:Y323)","v":10},{"$f":"P323+Z323","v":20}]
[null,null,null,null,null,"Stroke play",{"$f":"G19","v":10},10,10,10,10,10,10,10,10,{"$f":"SUM(G324:O324)","v":90},{"$f":"Q19","v":10},10,10,10,10,10,10,10,10,{"$f":"SUM(Q324:Y324)","v":90},{"$f":"P324+Z324","v":180}]
[null,null,null,null,null,"Net Stableford",{"$f":"IF(G324-G321=-1,3+G323)+IF(G324-G321=0,2+G323)+IF(G324-G321=1,1+G323)+IF(G324-G321=2,G323)+IF(G324-G321=3,IF(G323-1>0,G323-1,0))+IF(G324-G321=4,IF(G323-2>0,G323-2,0))","v":0},{"$f":"IF(H324-H321=-1,3+H323)+IF(H324-H321=0,2+H323)+IF(H324-H321=1,1+H323)+IF(H324-H321=2,H323)+IF(H324-H321=3,IF(H323-1>0,H323-1,0))+IF(H324-H321=4,IF(H323-2>0,H323-2,0))","v":0},0,0,0,0,0,0,0,{"$f":"SUM(G325:O325)","v":0},{"$f":"IF(Q324-Q321=-1,3+Q323)+IF(Q324-Q321=0,2+Q323)+IF(Q324-Q321=1,1+Q323)+IF(Q324-Q321=2,Q323)+IF(Q324-Q321=3,IF(Q323-1>0,Q323-1,0))+IF(Q324-Q321=4,IF(Q323-2>0,Q323-2,0))","v":0},0,0,0,0,0,0,0,0,{"$f":"SUM(Q325:Y325)","v":0},{"$f":"P325+Z325","v":0}]
[null,null,null,null,null,"Score Brut",{"$f":"IF(G324-G321=-2,4)+IF(G324-G321=-1,3)+IF(G324-G321=0,2)+IF(G324-G321=1,1)+IF(G324-G321>2,0)","v":0},0,0,0,0,0,0,0,0,{"$f":"SUM(G326:O326)","v":0},{"$f":"IF(Q324-Q321=-2,4)+IF(Q324-Q321=-1,3)+IF(Q324-Q321=0,2)+IF(Q324-Q321=1,1)+IF(Q324-Q321>2,0)","v":0},0,0,0,0,0,0,0,0,{"$f":"SUM(Q326:Y326)","v":0},{"$f":"P326+Z326","v":0}]
[null,null,null,null,null,null,{"$f":"G324-G321","v":6},{"$f":"H324-H321","v":6},5,6,7,5,7,5,7,null,{"$f":"Q324-Q321","v":6},6,7,5,7,6,6,5,6]
[]
[]
[null,null,null,null,null,"Statistiques scores",null,"Eagle & moins",null,null,null,{"$f":"COUNTIF(G327:Y327,\"<=-2\")","v":0},"Par",null,{"$f":"COUNTIF(G327:Y327,\"=0\")","v":0},"Double bogey",null,null,null,null,{"$f":"COUNTIF(G327:Y327,\"=2\")","v":0}]
[null,null,null,null,null,null,null,"Birdie",null,null,null,{"$f":"COUNTIF(G327:Y327,\"=-1\")","v":0},"Bogey",null,{"$f":"COUNTIF(G327:Y327,\"=1\")","v":0},"Triple bogey & plus",null,null,null,null,{"$f":"COUNTIF(G327:Y327,\">=3\")","v":18}]
[null,null,null,null,null,null,null,{"$f":"M330","v":"Par"},null,null,null,{"$f":"O330","v":0}]
[null,null,null,null,null,null,null,{"$f":"M331","v":"Bogey"},null,null,null,{"$f":"O331","v":0}]
[null,null,null,null,null,null,null,{"$f":"P330","v":"Double bogey"},null,null,null,{"$f":"U330","v":0}]
[null,null,null,null,null,null,null,{"$f":"P331","v":"Triple bogey & plus"},null,null,null,{"$f":"U331","v":18}]
[]
[]
[]
[]
[null,null,null,null,null,"Nom",{"$f":"C20","v":0},null,null,null,null,"Slope",null,null,"SSS",null,"Coups reçus",null,null,null,null,null,null,null,null,"Date",{"$f":"$D$3","v":"00:00:00"}]
[null,null,null,null,null,"Index",{"$f":"E20","v":20},null,null,null,null,{"$f":"$F$3","v":133},null,null,{"$f":"$G$3","v":68.599999999999994},null,{"$f":"ROUND((G341*(L341/113)+(O341-AA344)),0)","v":20}]
[]
[null,null,null,null,null,"Trou",1,2,3,4,5,6,7,8,9,"Aller",10,11,12,13,14,15,16,17,18,"Retour","Total"]
[null,null,null,null,null,"PAR",{"$f":"G$7","v":4},{"$f":"H$7","v":4},5,4,3,5,3,5,3,{"$f":"SUM(G344:O344)","v":36},{"$f":"Q$7","v":4},4,3,5,3,4,4,5,4,{"$f":"SUM(Q344:Y344)","v":36},{"$f":"SUM(P344+Z344)","v":72}]
[null,null,null,null,null,"HCP trous",{"$f":"G$8","v":4},{"$f":"H$8","v":8},12,14,2,10,18,16,6,null,{"$f":"Q$8","v":1},9,11,5,17,15,3,13,7]
[null,null,null,null,null,"Coups reçus",{"$f":"IF($Q341<=18,IF(G345<=$Q341,1,0),IF($Q341<=36,IF(G345<=($Q341-18),2,1),IF($Q341>36,IF(G345<=($Q341-36),3,2))))","v":1},{"$f":"IF($Q341<=18,IF(H345<=$Q341,1,0),IF($Q341<=36,IF(H345<=($Q341-18),2,1),IF($Q341>36,IF(H345<=($Q341-36),3,2))))","v":1},1,1,2,1,1,1,1,{"$f":"SUM(G346:O346)","v":10},{"$f":"IF($Q341<=18,IF(Q345<=$Q341,1,0),IF($Q341<=36,IF(Q345<=($Q341-18),2,1),IF($Q341>36,IF(Q345<=($Q341-36),3,2))))","v":2},1,1,1,1,1,1,1,1,{"$f":"SUM(Q346:Y346)","v":10},{"$f":"P346+Z346","v":20}]
[null,null,null,null,null,"Stroke play",{"$f":"G20","v":10},10,10,10,10,10,10,10,10,{"$f":"SUM(G347:O347)","v":90},{"$f":"Q20","v":10},10,10,10,10,10,10,10,10,{"$f":"SUM(Q347:Y347)","v":90},{"$f":"P347+Z347","v":180}]
[null,null,null,null,null,"Net Stableford",{"$f":"IF(G347-G344=-1,3+G346)+IF(G347-G344=0,2+G346)+IF(G347-G344=1,1+G346)+IF(G347-G344=2,G346)+IF(G347-G344=3,IF(G346-1>0,G346-1,0))+IF(G347-G344=4,IF(G346-2>0,G346-2,0))","v":0},{"$f":"IF(H347-H344=-1,3+H346)+IF(H347-H344=0,2+H346)+IF(H347-H344=1,1+H346)+IF(H347-H344=2,H346)+IF(H347-H344=3,IF(H346-1>0,H346-1,0))+IF(H347-H344=4,IF(H346-2>0,H346-2,0))","v":0},0,0,0,0,0,0,0,{"$f":"SUM(G348:O348)","v":0},{"$f":"IF(Q347-Q344=-1,3+Q346)+IF(Q347-Q344=0,2+Q346)+IF(Q347-Q344=1,1+Q346)+IF(Q347-Q344=2,Q346)+IF(Q347-Q344=3,IF(Q346-1>0,Q346-1,0))+IF(Q347-Q344=4,IF(Q346-2>0,Q346-2,0))","v":0},0,0,0,0,0,0,0,0,{"$f":"SUM(Q348:Y348)","v":0},{"$f":"P348+Z348","v":0}]
[null,null,null,null,null,"Score Brut",{"$f":"IF(G347-G344=-2,4)+IF(G347-G344=-1,3)+IF(G347-G344=0,2)+IF(G347-G344=1,1)+IF(G347-G344>2,0)","v":0},0,0,0,0,0,0,0,0,{"$f":"SUM(G349:O349)","v":0},{"$f":"IF(Q347-Q344=-2,4)+IF(Q347-Q344=-1,3)+IF(Q347-Q344=0,2)+IF(Q347-Q344=1,1)+IF(Q347-Q344>2,0)","v":0},0,0,0,0,0,0,0,0,{"$f":"SUM(Q349:Y349)","v":0},{"$f":"P349+Z349","v":0}]
[null,null,null,null,null,null,{"$f":"G347-G344","v":6},{"$f":"H347-H344","v":6},5,6,7,5,7,5,7,null,{"$f":"Q347-Q344","v":6},6,7,5,7,6,6,5,6]
[]
[]
[null,null,null,null,null,"Statistiques scores",null,"Eagle & moins",null,null,null,{"$f":"COUNTIF(G350:Y350,\"<=-2\")","v":0},"Par",null,{"$f":"COUNTIF(G350:Y350,\"=0\")","v":0},"Double bogey",null,null,null,null,{"$f":"COUNTIF(G350:Y350,\"=2\")","v":0}]
[null,null,null,null,null,null,null,"Birdie",null,null,null,{"$f":"COUNTIF(G350:Y350,\"=-1\")","v":0},"Bogey",null,{"$f":"COUNTIF(G350:Y350,\"=1\")","v":0},"Triple bogey & plus",null,null,null,null,{"$f":"COUNTIF(G350:Y350,\">=3\")","v":18}]
[null,null,null,null,null,null,null,{"$f":"M353","v":"Par"},null,null,null,{"$f":"O353","v":0}]
[null,null,null,null,null,null,null,{"$f":"M354","v":"Bogey"},null,null,null,{"$f":"O354","v":0}]
[null,null,null,null,null,null,null,{"$f":"P353","v":"Double bogey"},null,null,null,{"$f":"U353","v":0}]
[null,null,null,null,null,null,null,{"$f":"P354","v":"Triple bogey & plus"},null,null,null,{"$f":"U354","v":18}]
[]
[]
[]
[]
[null,null,null,null,null,"Nom",{"$f":"C21","v":0},null,null,null,null,"Slope",null,null,"SSS",null,"Coups reçus",null,null,null,null,null,null,null,null,"Date",{"$f":"$D$3","v":"00:00:00"}]
[null,null,null,null,null,"Index",{"$f":"E21","v":20},null,null,null,null,{"$f":"$F$3","v":133},null,null,{"$f":"$G$3","v":68.599999999999994},null,{"$f":"ROUND((G364*(L364/113)+(O364-AA367)),0)","v":20}]
[]
[null,null,null,null,null,"Trou",1,2,3,4,5,6,7,8,9,"Aller",10,11,12,13,14,15,16,17,18,"Retour","Total"]
[null,null,null,null,null,"PAR",{"$f":"G$7","v":4},{"$f":"H$7","v":4},5,4,3,5,3,5,3,{"$f":"SUM(G367:O367)","v":36},{"$f":"Q$7","v":4},4,3,5,3,4,4,5,4,{"$f":"SUM(Q367:Y367)","v":36},{"$f":"SUM(P367+Z367)","v":72}]
[null,null,null,null,null,"HCP trous",{"$f":"G$8","v":4},{"$f":"H$8","v":8},12,14,2,10,18,16,6,null,{"$f":"Q$8","v":1},9,11,5,17,15,3,13,7]
[null,null,null,null,null,"Coups reçus",{"$f":"IF($Q364<=18,IF(G368<=$Q364,1,0),IF($Q364<=36,IF(G368<=($Q364-18),2,1),IF($Q364>36,IF(G368<=($Q364-36),3,2))))","v":1},{"$f":"IF($Q364<=18,IF(H368<=$Q364,1,0),IF($Q364<=36,IF(H368<=($Q364-18),2,1),IF($Q364>36,IF(H368<=($Q364-36),3,2))))","v":1},1,1,2,1,1,1,1,{"$f":"SUM(G369:O369)","v":10},{"$f":"IF($Q364<=18,IF(Q368<=$Q364,1,0),IF($Q364<=36,IF(Q368<=($Q364-18),2,1),IF($Q364>36,IF(Q368<=($Q364-36),3,2))))","v":2},1,1,1,1,1,1,1,1,{"$f":"SUM(Q369:Y369)","v":10},{"$f":"P369+Z369","v":20}]
[null,null,null,null,null,"Stroke play",{"$f":"G21","v":10},10,10,10,10,10,10,10,10,{"$f":"SUM(G370:O370)","v":90},{"$f":"Q21","v":10},10,10,10,10,10,10,10,10,{"$f":"SUM(Q370:Y370)","v":90},{"$f":"P370+Z370","v":180}]
[null,null,null,null,null,"Net Stableford",{"$f":"IF(G370-G367=-1,3+G369)+IF(G370-G367=0,2+G369)+IF(G370-G367=1,1+G369)+IF(G370-G367=2,G369)+IF(G370-G367=3,IF(G369-1>0,G369-1,0))+IF(G370-G367=4,IF(G369-2>0,G369-2,0))","v":0},{"$f":"IF(H370-H367=-1,3+H369)+IF(H370-H367=0,2+H369)+IF(H370-H367=1,1+H369)+IF(H370-H367=2,H369)+IF(H370-H367=3,IF(H369-1>0,H369-1,0))+IF(H370-H367=4,IF(H369-2>0,H369-2,0))","v":0},0,0,0,0,0,0,0,{"$f":"SUM(G371:O371)","v":0},{"$f":"IF(Q370-Q367=-1,3+Q369)+IF(Q370-Q367=0,2+Q369)+IF(Q370-Q367=1,1+Q369)+IF(Q370-Q367=2,Q369)+IF(Q370-Q367=3,IF(Q369-1>0,Q369-1,0))+IF(Q370-Q367=4,IF(Q369-2>0,Q369-2,0))","v":0},0,0,0,0,0,0,0,0,{"$f":"SUM(Q371:Y371)","v":0},{"$f":"P371+Z371","v":0}]
[null,null,null,null,null,"Score Brut",{"$f":"IF(G370-G367=-2,4)+IF(G370-G367=-1,3)+IF(G370-G367=0,2)+IF(G370-G367=1,1)+IF(G370-G367>2,0)","v":0},0,0,0,0,0,0,0,0,{"$f":"SUM(G372:O372)","v":0},{"$f":"IF(Q370-Q367=-2,4)+IF(Q370-Q367=-1,3)+IF(Q370-Q367=0,2)+IF(Q370-Q367=1,1)+IF(Q370-Q367>2,0)","v":0},0,0,0,0,0,0,0,0,{"$f":"SUM(Q372:Y372)","v":0},{"$f":"P372+Z372","v":0}]
[null,null,null,null,null,null,{"$f":"G370-G367","v":6},{"$f":"H370-H367","v":6},5,6,7,5,7,5,7,null,{"$f":"Q370-Q367","v":6},6,7,5,7,6,6,5,6]
[]
[]
[null,null,null,null,null,"Statistiques scores",null,"Eagle & moins",null,null,null,{"$f":"COUNTIF(G373:Y373,\"<=-2\")","v":0},"Par",null,{"$f":"COUNTIF(G373:Y373,\"=0\")","v":0},"Double bogey",null,null,null,null,{"$f":"COUNTIF(G373:Y373,\"=2\")","v":0}]
[null,null,null,null,null,null,null,"Birdie",null,null,null,{"$f":"COUNTIF(G373:Y373,\"=-1\")","v":0},"Bogey",null,{"$f":"COUNTIF(G373:Y373,\"=1\")","v":0},"Triple bogey & plus",null,null,null,null,{"$f":"COUNTIF(G373:Y373,\">=3\")","v":18}]
[null,null,null,null,null,null,null,{"$f":"M376","v":"Par"},null,null,null,{"$f":"O376","v":0}]
[null,null,null,null,null,null,null,{"$f":"M377","v":"Bogey"},null,null,null,{"$f":"O377","v":0}]
[null,null,null,null,null,null,null,{"$f":"P376","v":"Double bogey"},null,null,null,{"$f":"U376","v":0}]
[null,null,null,null,null,null,null,{"$f":"P377","v":"Triple bogey & plus"},null,null,null,{"$f":"U377","v":18}]
[]
[]
[]
[]
[null,null,null,null,null,"Nom",{"$f":"C22","v":0},null,null,null,null,"Slope",null,null,"SSS",null,"Coups reçus",null,null,null,null,null,null,null,null,"Date",{"$f":"$D$3","v":"00:00:00"}]
[null,null,null,null,null,"Index",{"$f":"E22","v":20},null,null,null,null,{"$f":"$F$3","v":133},null,null,{"$f":"$G$3","v":68.599999999999994},null,{"$f":"ROUND((G387*(L387/113)+(O387-AA390)),0)","v":20}]
[]
[null,null,null,null,null,"Trou",1,2,3,4,5,6,7,8,9,"Aller",10,11,12,13,14,15,16,17,18,"Retour","Total"]
[null,null,null,null,null,"PAR",{"$f":"G$7","v":4},{"$f":"H$7","v":4},5,4,3,5,3,5,3,{"$f":"SUM(G390:O390)","v":36},{"$f":"Q$7","v":4},4,3,5,3,4,4,5,4,{"$f":"SUM(Q390:Y390)","v":36},{"$f":"SUM(P390+Z390)","v":72}]
[null,null,null,null,null,"HCP trous",{"$f":"G$8","v":4},{"$f":"H$8","v":8},12,14,2,10,18,16,6,null,{"$f":"Q$8","v":1},9,11,5,17,15,3,13,7]
[null,null,null,null,null,"Coups reçus",{"$f":"IF($Q387<=18,IF(G391<=$Q387,1,0),IF($Q387<=36,IF(G391<=($Q387-18),2,1),IF($Q387>36,IF(G391<=($Q387-36),3,2))))","v":1},{"$f":"IF($Q387<=18,IF(H391<=$Q387,1,0),IF($Q387<=36,IF(H391<=($Q387-18),2,1),IF($Q387>36,IF(H391<=($Q387-36),3,2))))","v":1},1,1,2,1,1,1,1,{"$f":"SUM(G392:O392)","v":10},{"$f":"IF($Q387<=18,IF(Q391<=$Q387,1,0),IF($Q387<=36,IF(Q391<=($Q387-18),2,1),IF($Q387>36,IF(Q391<=($Q387-36),3,2))))","v":2},1,1,1,1,1,1,1,1,{"$f":"SUM(Q392:Y392)","v":10},{"$f":"P392+Z392","v":20}]
[null,null,null,null,null,"Stroke play",{"$f":"G22","v":10},10,10,10,10,10,10,10,10,{"$f":"SUM(G393:O393)","v":90},{"$f":"Q22","v":10},10,10,10,10,10,10,10,10,{"$f":"SUM(Q393:Y393)","v":90},{"$f":"P393+Z393","v":180}]
[null,null,null,null,null,"Net Stableford",{"$f":"IF(G393-G390=-1,3+G392)+IF(G393-G390=0,2+G392)+IF(G393-G390=1,1+G392)+IF(G393-G390=2,G392)+IF(G393-G390=3,IF(G392-1>0,G392-1,0))+IF(G393-G390=4,IF(G392-2>0,G392-2,0))","v":0},{"$f":"IF(H393-H390=-1,3+H392)+IF(H393-H390=0,2+H392)+IF(H393-H390=1,1+H392)+IF(H393-H390=2,H392)+IF(H393-H390=3,IF(H392-1>0,H392-1,0))+IF(H393-H390=4,IF(H392-2>0,H392-2,0))","v":0},0,0,0,0,0,0,0,{"$f":"SUM(G394:O394)","v":0},{"$f":"IF(Q393-Q390=-1,3+Q392)+IF(Q393-Q390=0,2+Q392)+IF(Q393-Q390=1,1+Q392)+IF(Q393-Q390=2,Q392)+IF(Q393-Q390=3,IF(Q392-1>0,Q392-1,0))+IF(Q393-Q390=4,IF(Q392-2>0,Q392-2,0))","v":0},0,0,0,0,0,0,0,0,{"$f":"SUM(Q394:Y394)","v":0},{"$f":"P394+Z394","v":0}]
[null,null,null,null,null,"Score Brut",{"$f":"IF(G393-G390=-2,4)+IF(G393-G390=-1,3)+IF(G393-G390=0,2)+IF(G393-G390=1,1)+IF(G393-G390>2,0)","v":0},0,0,0,0,0,0,0,0,{"$f":"SUM(G395:O395)","v":0},{"$f":"IF(Q393-Q390=-2,4)+IF(Q393-Q390=-1,3)+IF(Q393-Q390=0,2)+IF(Q393-Q390=1,1)+IF(Q393-Q390>2,0)","v":0},0,0,0,0,0,0,0,0,{"$f":"SUM(Q395:Y395)","v":0},{"$f":"P395+Z395","v":0}]
[null,null,null,null,null,null,{"$f":"G393-G390","v":6},{"$f":"H393-H390","v":6},5,6,7,5,7,5,7,null,{"$f":"Q393-Q390","v":6},6,7,5,7,6,6,5,6]
[]
[]
[null,null,null,null,null,"Statistiques scores",null,"Eagle & moins",null,null,null,{"$f":"COUNTIF(G396:Y396,\"<=-2\")","v":0},"Par",null,{"$f":"COUNTIF(G396:Y396,\"=0\")","v":0},"Double bogey",null,null,null,null,{"$f":"COUNTIF(G396:Y396,\"=2\")","v":0}]
[null,null,null,null,null,null,null,"Birdie",null,null,null,{"$f":"COUNTIF(G396:Y396,\"=-1\")","v":0},"Bogey",null,{"$f":"COUNTIF(G396:Y396,\"=1\")","v":0},"Triple bogey & plus",null,null,null,null,{"$f":"COUNTIF(G396:Y396,\">=3\")","v":18}]
[null,null,null,null,null,null,null,{"$f":"M399","v":"Par"},null,null,null,{"$f":"O399","v":0}]
[null,null,null,null,null,null,null,{"$f":"M400","v":"Bogey"},null,null,null,{"$f":"O400","v":0}]
[null,null,null,null,null,null,null,{"$f":"P399","v":"Double bogey"},null,null,null,{"$f":"U399","v":0}]
[null,null,null,null,null,null,null,{"$f":"P400","v":"Triple bogey & plus"},null,null,null,{"$f":"U400","v":18}]
[]
[]
[]
[]
[null,null,null,null,null,"Nom",{"$f":"C23","v":0},null,null,null,null,"Slope",null,null,"SSS",null,"Coups reçus",null,null,null,null,null,null,null,null,"Date",{"$f":"$D$3","v":"00:00:00"}]
[null,null,null,null,null,"Index",{"$f":"E23","v":20},null,null,null,null,{"$f":"$F$3","v":133},null,null,{"$f":"$G$3","v":68.599999999999994},null,{"$f":"ROUND((G410*(L410/113)+(O410-AA413)),0)","v":20}]
[]
[null,null,null,null,null,"Trou",1,2,3,4,5,6,7,8,9,"Aller",10,11,12,13,14,15,16,17,18,"Retour","Total"]
[null,null,null,null,null,"PAR",{"$f":"G$7","v":4},{"$f":"H$7","v":4},5,4,3,5,3,5,3,{"$f":"SUM(G413:O413)","v":36},{"$f":"Q$7","v":4},4,3,5,3,4,4,5,4,{"$f":"SUM(Q413:Y413)","v":36},{"$f":"SUM(P413+Z413)","v":72}]
[null,null,null,null,null,"HCP trous",{"$f":"G$8","v":4},{"$f":"H$8","v":8},12,14,2,10,18,16,6,null,{"$f":"Q$8","v":1},9,11,5,17,15,3,13,7]
[null,null,null,null,null,"Coups reçus",{"$f":"IF($Q410<=18,IF(G414<=$Q410,1,0),IF($Q410<=36,IF(G414<=($Q410-18),2,1),IF($Q410>36,IF(G414<=($Q410-36),3,2))))","v":1},{"$f":"IF($Q410<=18,IF(H414<=$Q410,1,0),IF($Q410<=36,IF(H414<=($Q410-18),2,1),IF($Q410>36,IF(H414<=($Q410-36),3,2))))","v":1},1,1,2,1,1,1,1,{"$f":"SUM(G415:O415)","v":10},{"$f":"IF($Q410<=18,IF(Q414<=$Q410,1,0),IF($Q410<=36,IF(Q414<=($Q410-18),2,1),IF($Q410>36,IF(Q414<=($Q410-36),3,2))))","v":2},1,1,1,1,1,1,1,1,{"$f":"SUM(Q415:Y415)","v":10},{"$f":"P415+Z415","v":20}]
[null,null,null,null,null,"Stroke play",{"$f":"G23","v":10},10,10,10,10,10,10,10,10,{"$f":"SUM(G416:O416)","v":90},{"$f":"Q23","v":10},10,10,10,10,10,10,10,10,{"$f":"SUM(Q416:Y416)","v":90},{"$f":"P416+Z416","v":180}]
[null,null,null,null,null,"Net Stableford",{"$f":"IF(G416-G413=-1,3+G415)+IF(G416-G413=0,2+G415)+IF(G416-G413=1,1+G415)+IF(G416-G413=2,G415)+IF(G416-G413=3,IF(G415-1>0,G415-1,0))+IF(G416-G413=4,IF(G415-2>0,G415-2,0))","v":0},{"$f":"IF(H416-H413=-1,3+H415)+IF(H416-H413=0,2+H415)+IF(H416-H413=1,1+H415)+IF(H416-H413=2,H415)+IF(H416-H413=3,IF(H415-1>0,H415-1,0))+IF(H416-H413=4,IF(H415-2>0,H415-2,0))","v":0},0,0,0,0,0,0,0,{"$f":"SUM(G417:O417)","v":0},{"$f":"IF(Q416-Q413=-1,3+Q415)+IF(Q416-Q413=0,2+Q415)+IF(Q416-Q413=1,1+Q415)+IF(Q416-Q413=2,Q415)+IF(Q416-Q413=3,IF(Q415-1>0,Q415-1,0))+IF(Q416-Q413=4,IF(Q415-2>0,Q415-2,0))","v":0},0,0,0,0,0,0,0,0,{"$f":"SUM(Q417:Y417)","v":0},{"$f":"P417+Z417","v":0}]
[null,null,null,null,null,"Score Brut",{"$f":"IF(G416-G413=-2,4)+IF(G416-G413=-1,3)+IF(G416-G413=0,2)+IF(G416-G413=1,1)+IF(G416-G413>2,0)","v":0},0,0,0,0,0,0,0,0,{"$f":"SUM(G418:O418)","v":0},{"$f":"IF(Q416-Q413=-2,4)+IF(Q416-Q413=-1,3)+IF(Q416-Q413=0,2)+IF(Q416-Q413=1,1)+IF(Q416-Q413>2,0)","v":0},0,0,0,0,0,0,0,0,{"$f":"SUM(Q418:Y418)","v":0},{"$f":"P418+Z418","v":0}]
[null,null,null,null,null,null,{"$f":"G416-G413","v":6},{"$f":"H416-H413","v":6},5,6,7,5,7,5,7,null,{"$f":"Q416-Q413","v":6},6,7,5,7,6,6,5,6]
[]
[]
[null,null,null,null,null,"Statistiques scores",null,"Eagle & moins",null,null,null,{"$f":"COUNTIF(G419:Y419,\"<=-2\")","v":0},"Par",null,{"$f":"COUNTIF(G419:Y419,\"=0\")","v":0},"Double bogey",null,null,null,null,{"$f":"COUNTIF(G419:Y419,\"=2\")","v":0}]
[null,null,null,null,null,null,null,"Birdie",null,null,null,{"$f":"COUNTIF(G419:Y419,\"=-1\")","v":0},"Bogey",null,{"$f":"COUNTIF(G419:Y419,\"=1\")","v":0},"Triple bogey & plus",null,null,null,null,{"$f":"COUNTIF(G419:Y419,\">=3\")","v":18}]
[null,null,null,null,null,null,null,{"$f":"M422","v":"Par"},null,null,null,{"$f":"O422","v":0}]
[null,null,null,null,null,null,null,{"$f":"M423","v":"Bogey"},null,null,null,{"$f":"O423","v":0}]
[null,null,null,null,null,null,null,{"$f":"P422","v":"Double bogey"},null,null,null,{"$f":"U422","v":0}]
[null,null,null,null,null,null,null,{"$f":"P423","v":"Triple bogey & plus"},null,null,null,{"$f":"U423","v":18}]
[]
[]
[]
[]
[null,null,null,null,null,"Nom",{"$f":"C24","v":0},null,null,null,null,"Slope",null,null,"SSS",null,"Coups reçus",null,null,null,null,null,null,null,null,"Date",{"$f":"$D$3","v":"00:00:00"}]
[null,null,null,null,null,"Index",{"$f":"E24","v":20},null,null,null,null,{"$f":"$F$3","v":133},null,null,{"$f":"$G$3","v":68.599999999999994},null,{"$f":"ROUND((G433*(L433/113)+(O433-AA436)),0)","v":20}]
[]
[null,null,null,null,null,"Trou",1,2,3,4,5,6,7,8,9,"Aller",10,11,12,13,14,15,16,17,18,"Retour","Total"]
[null,null,null,null,null,"PAR",{"$f":"G$7","v":4},{"$f":"H$7","v":4},5,4,3,5,3,5,3,{"$f":"SUM(G436:O436)","v":36},{"$f":"Q$7","v":4},4,3,5,3,4,4,5,4,{"$f":"SUM(Q436:Y436)","v":36},{"$f":"SUM(P436+Z436)","v":72}]
[null,null,null,null,null,"HCP trous",{"$f":"G$8","v":4},{"$f":"H$8","v":8},12,14,2,10,18,16,6,null,{"$f":"Q$8","v":1},9,11,5,17,15,3,13,7]
[null,null,null,null,null,"Coups reçus",{"$f":"IF($Q433<=18,IF(G437<=$Q433,1,0),IF($Q433<=36,IF(G437<=($Q433-18),2,1),IF($Q433>36,IF(G437<=($Q433-36),3,2))))","v":1},{"$f":"IF($Q433<=18,IF(H437<=$Q433,1,0),IF($Q433<=36,IF(H437<=($Q433-18),2,1),IF($Q433>36,IF(H437<=($Q433-36),3,2))))","v":1},1,1,2,1,1,1,1,{"$f":"SUM(G438:O438)","v":10},{"$f":"IF($Q433<=18,IF(Q437<=$Q433,1,0),IF($Q433<=36,IF(Q437<=($Q433-18),2,1),IF($Q433>36,IF(Q437<=($Q433-36),3,2))))","v":2},1,1,1,1,1,1,1,1,{"$f":"SUM(Q438:Y438)","v":10},{"$f":"P438+Z438","v":20}]
[null,null,null,null,null,"Stroke play",{"$f":"G24","v":10},10,10,10,10,10,10,10,10,{"$f":"SUM(G439:O439)","v":90},{"$f":"Q24","v":10},10,10,10,10,10,10,10,10,{"$f":"SUM(Q439:Y439)","v":90},{"$f":"P439+Z439","v":180}]
[null,null,null,null,null,"Net Stableford",{"$f":"IF(G439-G436=-1,3+G438)+IF(G439-G436=0,2+G438)+IF(G439-G436=1,1+G438)+IF(G439-G436=2,G438)+IF(G439-G436=3,IF(G438-1>0,G438-1,0))+IF(G439-G436=4,IF(G438-2>0,G438-2,0))","v":0},{"$f":"IF(H439-H436=-1,3+H438)+IF(H439-H436=0,2+H438)+IF(H439-H436=1,1+H438)+IF(H439-H436=2,H438)+IF(H439-H436=3,IF(H438-1>0,H438-1,0))+IF(H439-H436=4,IF(H438-2>0,H438-2,0))","v":0},0,0,0,0,0,0,0,{"$f":"SUM(G440:O440)","v":0},{"$f":"IF(Q439-Q436=-1,3+Q438)+IF(Q439-Q436=0,2+Q438)+IF(Q439-Q436=1,1+Q438)+IF(Q439-Q436=2,Q438)+IF(Q439-Q436=3,IF(Q438-1>0,Q438-1,0))+IF(Q439-Q436=4,IF(Q438-2>0,Q438-2,0))","v":0},0,0,0,0,0,0,0,0,{"$f":"SUM(Q440:Y440)","v":0},{"$f":"P440+Z440","v":0}]
[null,null,null,null,null,"Score Brut",{"$f":"IF(G439-G436=-2,4)+IF(G439-G436=-1,3)+IF(G439-G436=0,2)+IF(G439-G436=1,1)+IF(G439-G436>2,0)","v":0},0,0,0,0,0,0,0,0,{"$f":"SUM(G441:O441)","v":0},{"$f":"IF(Q439-Q436=-2,4)+IF(Q439-Q436=-1,3)+IF(Q439-Q436=0,2)+IF(Q439-Q436=1,1)+IF(Q439-Q436>2,0)","v":0},0,0,0,0,0,0,0,0,{"$f":"SUM(Q441:Y441)","v":0},{"$f":"P441+Z441","v":0}]
[null,null,null,null,null,null,{"$f":"G439-G436","v":6},{"$f":"H439-H436","v":6},5,6,7,5,7,5,7,null,{"$f":"Q439-Q436","v":6},6,7,5,7,6,6,5,6]
[]
[]
[null,null,null,null,null,"Statistiques scores",null,"Eagle & moins",null,null,null,{"$f":"COUNTIF(G442:Y442,\"<=-2\")","v":0},"Par",null,{"$f":"COUNTIF(G442:Y442,\"=0\")","v":0},"Double bogey",null,null,null,null,{"$f":"COUNTIF(G442:Y442,\"=2\")","v":0}]
[null,null,null,null,null,null,null,"Birdie",null,null,null,{"$f":"COUNTIF(G442:Y442,\"=-1\")","v":0},"Bogey",null,{"$f":"COUNTIF(G442:Y442,\"=1\")","v":0},"Triple bogey & plus",null,null,null,null,{"$f":"COUNTIF(G442:Y442,\">=3\")","v":18}]
[null,null,null,null,null,null,null,{"$f":"M445","v":"Par"},null,null,null,{"$f":"O445","v":0}]
[null,null,null,null,null,null,null,{"$f":"M446","v":"Bogey"},null,null,null,{"$f":"O446","v":0}]
[null,null,null,null,null,null,null,{"$f":"P445","v":"Double bogey"},null,null,null,{"$f":"U445","v":0}]
[null,null,null,null,null,null,null,{"$f":"P446","v":"Triple bogey & plus"},null,null,null,{"$f":"U446","v":18}]
[]
[]
[]
[]
[null,null,null,null,null,"Nom",{"$f":"C25","v":0},null,null,null,null,"Slope",null,null,"SSS",null,"Coups reçus",null,null,null,null,null,null,null,null,"Date",{"$f":"$D$3","v":"00:00:00"}]
[null,null,null,null,null,"Index",{"$f":"E25","v":20},null,null,null,null,{"$f":"$F$3","v":133},null,null,{"$f":"$G$3","v":68.599999999999994},null,{"$f":"ROUND((G456*(L456/113)+(O456-AA459)),0)","v":20}]
[]
[null,null,null,null,null,"Trou",1,2,3,4,5,6,7,8,9,"Aller",10,11,12,13,14,15,16,17,18,"Retour","Total"]
[null,null,null,null,null,"PAR",{"$f":"G$7","v":4},{"$f":"H$7","v":4},5,4,3,5,3,5,3,{"$f":"SUM(G459:O459)","v":36},{"$f":"Q$7","v":4},4,3,5,3,4,4,5,4,{"$f":"SUM(Q459:Y459)","v":36},{"$f":"SUM(P459+Z459)","v":72}]
[null,null,null,null,null,"HCP trous",{"$f":"G$8","v":4},{"$f":"H$8","v":8},12,14,2,10,18,16,6,null,{"$f":"Q$8","v":1},9,11,5,17,15,3,13,7]
[null,null,null,null,null,"Coups reçus",{"$f":"IF($Q456<=18,IF(G460<=$Q456,1,0),IF($Q456<=36,IF(G460<=($Q456-18),2,1),IF($Q456>36,IF(G460<=($Q456-36),3,2))))","v":1},{"$f":"IF($Q456<=18,IF(H460<=$Q456,1,0),IF($Q456<=36,IF(H460<=($Q456-18),2,1),IF($Q456>36,IF(H460<=($Q456-36),3,2))))","v":1},1,1,2,1,1,1,1,{"$f":"SUM(G461:O461)","v":10},{"$f":"IF($Q456<=18,IF(Q460<=$Q456,1,0),IF($Q456<=36,IF(Q460<=($Q456-18),2,1),IF($Q456>36,IF(Q460<=($Q456-36),3,2))))","v":2},1,1,1,1,1,1,1,1,{"$f":"SUM(Q461:Y461)","v":10},{"$f":"P461+Z461","v":20}]
[null,null,null,null,null,"Stroke play",{"$f":"G25","v":10},10,10,10,10,10,10,10,10,{"$f":"SUM(G462:O462)","v":90},{"$f":"Q25","v":10},10,10,10,10,10,10,10,10,{"$f":"SUM(Q462:Y462)","v":90},{"$f":"P462+Z462","v":180}]
[null,null,null,null,null,"Net Stableford",{"$f":"IF(G462-G459=-1,3+G461)+IF(G462-G459=0,2+G461)+IF(G462-G459=1,1+G461)+IF(G462-G459=2,G461)+IF(G462-G459=3,IF(G461-1>0,G461-1,0))+IF(G462-G459=4,IF(G461-2>0,G461-2,0))","v":0},{"$f":"IF(H462-H459=-1,3+H461)+IF(H462-H459=0,2+H461)+IF(H462-H459=1,1+H461)+IF(H462-H459=2,H461)+IF(H462-H459=3,IF(H461-1>0,H461-1,0))+IF(H462-H459=4,IF(H461-2>0,H461-2,0))","v":0},0,0,0,0,0,0,0,{"$f":"SUM(G463:O463)","v":0},{"$f":"IF(Q462-Q459=-1,3+Q461)+IF(Q462-Q459=0,2+Q461)+IF(Q462-Q459=1,1+Q461)+IF(Q462-Q459=2,Q461)+IF(Q462-Q459=3,IF(Q461-1>0,Q461-1,0))+IF(Q462-Q459=4,IF(Q461-2>0,Q461-2,0))","v":0},0,0,0,0,0,0,0,0,{"$f":"SUM(Q463:Y463)","v":0},{"$f":"P463+Z463","v":0}]
[null,null,null,null,null,"Score Brut",{"$f":"IF(G462-G459=-2,4)+IF(G462-G459=-1,3)+IF(G462-G459=0,2)+IF(G462-G459=1,1)+IF(G462-G459>2,0)","v":0},0,0,0,0,0,0,0,0,{"$f":"SUM(G464:O464)","v":0},{"$f":"IF(Q462-Q459=-2,4)+IF(Q462-Q459=-1,3)+IF(Q462-Q459=0,2)+IF(Q462-Q459=1,1)+IF(Q462-Q459>2,0)","v":0},0,0,0,0,0,0,0,0,{"$f":"SUM(Q464:Y464)","v":0},{"$f":"P464+Z464","v":0}]
[null,null,null,null,null,null,{"$f":"G462-G459","v":6},{"$f":"H462-H459","v":6},5,6,7,5,7,5,7,null,{"$f":"Q462-Q459","v":6},6,7,5,7,6,6,5,6]
[]
[]
[null,null,null,null,null,"Statistiques scores",null,"Eagle & moins",null,null,null,{"$f":"COUNTIF(G465:Y465,\"<=-2\")","v":0},"Par",null,{"$f":"COUNTIF(G465:Y465,\"=0\")","v":0},"Double bogey",null,null,null,null,{"$f":"COUNTIF(G465:Y465,\"=2\")","v":0}]
[null,null,null,null,null,null,null,"Birdie",null,null,null,{"$f":"COUNTIF(G465:Y465,\"=-1\")","v":0},"Bogey",null,{"$f":"COUNTIF(G465:Y465,\"=1\")","v":0},"Triple bogey & plus",null,null,null,null,{"$f":"COUNTIF(G465:Y465,\">=3\")","v":18}]
[null,null,null,null,null,null,null,{"$f":"M468","v":"Par"},null,null,null,{"$f":"O468","v":0}]
[null,null,null,null,null,null,null,{"$f":"M469","v":"Bogey"},null,null,null,{"$f":"O469","v":0}]
[null,null,null,null,null,null,null,{"$f":"P468","v":"Double bogey"},null,null,null,{"$f":"U468","v":0}]
[null,null,null,null,null,null,null,{"$f":"P469","v":"Triple bogey & plus"},null,null,null,{"$f":"U469","v":18}]
[]
[]
[]
[]
[null,null,null,null,null,"Nom",{"$f":"C26","v":0},null,null,null,null,"Slope",null,null,"SSS",null,"Coups reçus",null,null,null,null,null,null,null,null,"Date",{"$f":"$D$3","v":"00:00:00"}]
[null,null,null,null,null,"Index",{"$f":"E26","v":20},null,null,null,null,{"$f":"$F$3","v":133},null,null,{"$f":"$G$3","v":68.599999999999994},null,{"$f":"ROUND((G479*(L479/113)+(O479-AA482)),0)","v":20}]
[]
[null,null,null,null,null,"Trou",1,2,3,4,5,6,7,8,9,"Aller",10,11,12,13,14,15,16,17,18,"Retour","Total"]
[null,null,null,null,null,"PAR",{"$f":"G$7","v":4},{"$f":"H$7","v":4},5,4,3,5,3,5,3,{"$f":"SUM(G482:O482)","v":36},{"$f":"Q$7","v":4},4,3,5,3,4,4,5,4,{"$f":"SUM(Q482:Y482)","v":36},{"$f":"SUM(P482+Z482)","v":72}]
[null,null,null,null,null,"HCP trous",{"$f":"G$8","v":4},{"$f":"H$8","v":8},12,14,2,10,18,16,6,null,{"$f":"Q$8","v":1},9,11,5,17,15,3,13,7]
[null,null,null,null,null,"Coups reçus",{"$f":"IF($Q479<=18,IF(G483<=$Q479,1,0),IF($Q479<=36,IF(G483<=($Q479-18),2,1),IF($Q479>36,IF(G483<=($Q479-36),3,2))))","v":1},{"$f":"IF($Q479<=18,IF(H483<=$Q479,1,0),IF($Q479<=36,IF(H483<=($Q479-18),2,1),IF($Q479>36,IF(H483<=($Q479-36),3,2))))","v":1},1,1,2,1,1,1,1,{"$f":"SUM(G484:O484)","v":10},{"$f":"IF($Q479<=18,IF(Q483<=$Q479,1,0),IF($Q479<=36,IF(Q483<=($Q479-18),2,1),IF($Q479>36,IF(Q483<=($Q479-36),3,2))))","v":2},1,1,1,1,1,1,1,1,{"$f":"SUM(Q484:Y484)","v":10},{"$f":"P484+Z484","v":20}]
[null,null,null,null,null,"Stroke play",{"$f":"G26","v":10},10,10,10,10,10,10,10,10,{"$f":"SUM(G485:O485)","v":90},{"$f":"Q26","v":10},10,10,10,10,10,10,10,10,{"$f":"SUM(Q485:Y485)","v":90},{"$f":"P485+Z485","v":180}]
[null,null,null,null,null,"Net Stableford",{"$f":"IF(G485-G482=-1,3+G484)+IF(G485-G482=0,2+G484)+IF(G485-G482=1,1+G484)+IF(G485-G482=2,G484)+IF(G485-G482=3,IF(G484-1>0,G484-1,0))+IF(G485-G482=4,IF(G484-2>0,G484-2,0))","v":0},{"$f":"IF(H485-H482=-1,3+H484)+IF(H485-H482=0,2+H484)+IF(H485-H482=1,1+H484)+IF(H485-H482=2,H484)+IF(H485-H482=3,IF(H484-1>0,H484-1,0))+IF(H485-H482=4,IF(H484-2>0,H484-2,0))","v":0},0,0,0,0,0,0,0,{"$f":"SUM(G486:O486)","v":0},{"$f":"IF(Q485-Q482=-1,3+Q484)+IF(Q485-Q482=0,2+Q484)+IF(Q485-Q482=1,1+Q484)+IF(Q485-Q482=2,Q484)+IF(Q485-Q482=3,IF(Q484-1>0,Q484-1,0))+IF(Q485-Q482=4,IF(Q484-2>0,Q484-2,0))","v":0},0,0,0,0,0,0,0,0,{"$f":"SUM(Q486:Y486)","v":0},{"$f":"P486+Z486","v":0}]
[null,null,null,null,null,"Score Brut",{"$f":"IF(G485-G482=-2,4)+IF(G485-G482=-1,3)+IF(G485-G482=0,2)+IF(G485-G482=1,1)+IF(G485-G482>2,0)","v":0},0,0,0,0,0,0,0,0,{"$f":"SUM(G487:O487)","v":0},{"$f":"IF(Q485-Q482=-2,4)+IF(Q485-Q482=-1,3)+IF(Q485-Q482=0,2)+IF(Q485-Q482=1,1)+IF(Q485-Q482>2,0)","v":0},0,0,0,0,0,0,0,0,{"$f":"SUM(Q487:Y487)","v":0},{"$f":"P487+Z487","v":0}]
[null,null,null,null,null,null,{"$f":"G485-G482","v":6},{"$f":"H485-H482","v":6},5,6,7,5,7,5,7,null,{"$f":"Q485-Q482","v":6},6,7,5,7,6,6,5,6]
[]
[]
[null,null,null,null,null,"Statistiques scores",null,"Eagle & moins",null,null,null,{"$f":"COUNTIF(G488:Y488,\"<=-2\")","v":0},"Par",null,{"$f":"COUNTIF(G488:Y488,\"=0\")","v":0},"Double bogey",null,null,null,null,{"$f":"COUNTIF(G488:Y488,\"=2\")","v":0}]
[null,null,null,null,null,null,null,"Birdie",null,null,null,{"$f":"COUNTIF(G488:Y488,\"=-1\")","v":0},"Bogey",null,{"$f":"COUNTIF(G488:Y488,\"=1\")","v":0},"Triple bogey & plus",null,null,null,null,{"$f":"COUNTIF(G488:Y488,\">=3\")","v":18}]
[null,null,null,null,null,null,null,{"$f":"M491","v":"Par"},null,null,null,{"$f":"O491","v":0}]
[null,null,null,null,null,null,null,{"$f":"M492","v":"Bogey"},null,null,null,{"$f":"O492","v":0}]
[null,null,null,null,null,null,null,{"$f":"P491","v":"Double bogey"},null,null,null,{"$f":"U491","v":0}]
[null,null,null,null,null,null,null,{"$f":"P492","v":"Triple bogey & plus"},null,null,null,{"$f":"U492","v":18}]
[]
[]
[]
[]
[null,null,null,null,null,"Nom",{"$f":"C27","v":0},null,null,null,null,"Slope",null,null,"SSS",null,"Coups reçus",null,null,null,null,null,null,null,null,"Date",{"$f":"$D$3","v":"00:00:00"}]
[null,null,null,null,null,"Index",{"$f":"E27","v":20},null,null,null,null,{"$f":"$F$3","v":133},null,null,{"$f":"$G$3","v":68.599999999999994},null,{"$f":"ROUND((G502*(L502/113)+(O502-AA505)),0)","v":20}]
[]
[null,null,null,null,null,"Trou",1,2,3,4,5,6,7,8,9,"Aller",10,11,12,13,14,15,16,17,18,"Retour","Total"]
[null,null,null,null,null,"PAR",{"$f":"G$7","v":4},{"$f":"H$7","v":4},5,4,3,5,3,5,3,{"$f":"SUM(G505:O505)","v":36},{"$f":"Q$7","v":4},4,3,5,3,4,4,5,4,{"$f":"SUM(Q505:Y505)","v":36},{"$f":"SUM(P505+Z505)","v":72}]
[null,null,null,null,null,"HCP trous",{"$f":"G$8","v":4},{"$f":"H$8","v":8},12,14,2,10,18,16,6,null,{"$f":"Q$8","v":1},9,11,5,17,15,3,13,7]
[null,null,null,null,null,"Coups reçus",{"$f":"IF($Q502<=18,IF(G506<=$Q502,1,0),IF($Q502<=36,IF(G506<=($Q502-18),2,1),IF($Q502>36,IF(G506<=($Q502-36),3,2))))","v":1},{"$f":"IF($Q502<=18,IF(H506<=$Q502,1,0),IF($Q502<=36,IF(H506<=($Q502-18),2,1),IF($Q502>36,IF(H506<=($Q502-36),3,2))))","v":1},1,1,2,1,1,1,1,{"$f":"SUM(G507:O507)","v":10},{"$f":"IF($Q502<=18,IF(Q506<=$Q502,1,0),IF($Q502<=36,IF(Q506<=($Q502-18),2,1),IF($Q502>36,IF(Q506<=($Q502-36),3,2))))","v":2},1,1,1,1,1,1,1,1,{"$f":"SUM(Q507:Y507)","v":10},{"$f":"P507+Z507","v":20}]
[null,null,null,null,null,"Stroke play",{"$f":"G27","v":10},10,10,10,10,10,10,10,10,{"$f":"SUM(G508:O508)","v":90},{"$f":"Q27","v":10},10,10,10,10,10,10,10,10,{"$f":"SUM(Q508:Y508)","v":90},{"$f":"P508+Z508","v":180}]
[null,null,null,null,null,"Net Stableford",{"$f":"IF(G508-G505=-1,3+G507)+IF(G508-G505=0,2+G507)+IF(G508-G505=1,1+G507)+IF(G508-G505=2,G507)+IF(G508-G505=3,IF(G507-1>0,G507-1,0))+IF(G508-G505=4,IF(G507-2>0,G507-2,0))","v":0},{"$f":"IF(H508-H505=-1,3+H507)+IF(H508-H505=0,2+H507)+IF(H508-H505=1,1+H507)+IF(H508-H505=2,H507)+IF(H508-H505=3,IF(H507-1>0,H507-1,0))+IF(H508-H505=4,IF(H507-2>0,H507-2,0))","v":0},0,0,0,0,0,0,0,{"$f":"SUM(G509:O509)","v":0},{"$f":"IF(Q508-Q505=-1,3+Q507)+IF(Q508-Q505=0,2+Q507)+IF(Q508-Q505=1,1+Q507)+IF(Q508-Q505=2,Q507)+IF(Q508-Q505=3,IF(Q507-1>0,Q507-1,0))+IF(Q508-Q505=4,IF(Q507-2>0,Q507-2,0))","v":0},0,0,0,0,0,0,0,0,{"$f":"SUM(Q509:Y509)","v":0},{"$f":"P509+Z509","v":0}]
[null,null,null,null,null,"Score Brut",{"$f":"IF(G508-G505=-2,4)+IF(G508-G505=-1,3)+IF(G508-G505=0,2)+IF(G508-G505=1,1)+IF(G508-G505>2,0)","v":0},0,0,0,0,0,0,0,0,{"$f":"SUM(G510:O510)","v":0},{"$f":"IF(Q508-Q505=-2,4)+IF(Q508-Q505=-1,3)+IF(Q508-Q505=0,2)+IF(Q508-Q505=1,1)+IF(Q508-Q505>2,0)","v":0},0,0,0,0,0,0,0,0,{"$f":"SUM(Q510:Y510)","v":0},{"$f":"P510+Z510","v":0}]
[null,null,null,null,null,null,{"$f":"G508-G505","v":6},{"$f":"H508-H505","v":6},5,6,7,5,7,5,7,null,{"$f":"Q508-Q505","v":6},6,7,5,7,6,6,5,6]
[]
[]
[null,null,null,null,null,"Statistiques scores",null,"Eagle & moins",null,null,null,{"$f":"COUNTIF(G511:Y511,\"<=-2\")","v":0},"Par",null,{"$f":"COUNTIF(G511:Y511,\"=0\")","v":0},"Double bogey",null,null,null,null,{"$f":"COUNTIF(G511:Y511,\"=2\")","v":0}]
[null,null,null,null,null,null,null,"Birdie",null,null,null,{"$f":"COUNTIF(G511:Y511,\"=-1\")","v":0},"Bogey",null,{"$f":"COUNTIF(G511:Y511,\"=1\")","v":0},"Triple bogey & plus",null,null,null,null,{"$f":"COUNTIF(G511:Y511,\">=3\")","v":18}]
[null,null,null,null,null,null,null,{"$f":"M514","v":"Par"},null,null,null,{"$f":"O514","v":0}]
[null,null,null,null,null,null,null,{"$f":"M515","v":"Bogey"},null,null,null,{"$f":"O515","v":0}]
[null,null,null,null,null,null,null,{"$f":"P514","v":"Double bogey"},null,null,null,{"$f":"U514","v":0}]
[null,null,null,null,null,null,null,{"$f":"P515","v":"Triple bogey & plus"},null,null,null,{"$f":"U515","v":18}]
[]
[]
[]
[]
[null,null,null,null,null,"Nom",{"$f":"C28","v":0},null,null,null,null,"Slope",null,null,"SSS",null,"Coups reçus",null,null,null,null,null,null,null,null,"Date",{"$f":"$D$3","v":"00:00:00"}]
[null,null,null,null,null,"Index",{"$f":"E28","v":20},null,null,null,null,{"$f":"$F$3","v":133},null,null,{"$f":"$G$3","v":68.599999999999994},null,{"$f":"ROUND((G525*(L525/113)+(O525-AA528)),0)","v":20}]
[]
[null,null,null,null,null,"Trou",1,2,3,4,5,6,7,8,9,"Aller",10,11,12,13,14,15,16,17,18,"Retour","Total"]
[null,null,null,null,null,"PAR",{"$f":"G$7","v":4},{"$f":"H$7","v":4},5,4,3,5,3,5,3,{"$f":"SUM(G528:O528)","v":36},{"$f":"Q$7","v":4},4,3,5,3,4,4,5,4,{"$f":"SUM(Q528:Y528)","v":36},{"$f":"SUM(P528+Z528)","v":72}]
[null,null,null,null,null,"HCP trous",{"$f":"G$8","v":4},{"$f":"H$8","v":8},12,14,2,10,18,16,6,null,{"$f":"Q$8","v":1},9,11,5,17,15,3,13,7]
[null,null,null,null,null,"Coups reçus",{"$f":"IF($Q525<=18,IF(G529<=$Q525,1,0),IF($Q525<=36,IF(G529<=($Q525-18),2,1),IF($Q525>36,IF(G529<=($Q525-36),3,2))))","v":1},{"$f":"IF($Q525<=18,IF(H529<=$Q525,1,0),IF($Q525<=36,IF(H529<=($Q525-18),2,1),IF($Q525>36,IF(H529<=($Q525-36),3,2))))","v":1},1,1,2,1,1,1,1,{"$f":"SUM(G530:O530)","v":10},{"$f":"IF($Q525<=18,IF(Q529<=$Q525,1,0),IF($Q525<=36,IF(Q529<=($Q525-18),2,1),IF($Q525>36,IF(Q529<=($Q525-36),3,2))))","v":2},1,1,1,1,1,1,1,1,{"$f":"SUM(Q530:Y530)","v":10},{"$f":"P530+Z530","v":20}]
[null,null,null,null,null,"Stroke play",{"$f":"G28","v":10},10,10,10,10,10,10,10,10,{"$f":"SUM(G531:O531)","v":90},{"$f":"Q28","v":10},10,10,10,10,10,10,10,10,{"$f":"SUM(Q531:Y531)","v":90},{"$f":"P531+Z531","v":180}]
[null,null,null,null,null,"Net Stableford",{"$f":"IF(G531-G528=-1,3+G530)+IF(G531-G528=0,2+G530)+IF(G531-G528=1,1+G530)+IF(G531-G528=2,G530)+IF(G531-G528=3,IF(G530-1>0,G530-1,0))+IF(G531-G528=4,IF(G530-2>0,G530-2,0))","v":0},{"$f":"IF(H531-H528=-1,3+H530)+IF(H531-H528=0,2+H530)+IF(H531-H528=1,1+H530)+IF(H531-H528=2,H530)+IF(H531-H528=3,IF(H530-1>0,H530-1,0))+IF(H531-H528=4,IF(H530-2>0,H530-2,0))","v":0},0,0,0,0,0,0,0,{"$f":"SUM(G532:O532)","v":0},{"$f":"IF(Q531-Q528=-1,3+Q530)+IF(Q531-Q528=0,2+Q530)+IF(Q531-Q528=1,1+Q530)+IF(Q531-Q528=2,Q530)+IF(Q531-Q528=3,IF(Q530-1>0,Q530-1,0))+IF(Q531-Q528=4,IF(Q530-2>0,Q530-2,0))","v":0},0,0,0,0,0,0,0,0,{"$f":"SUM(Q532:Y532)","v":0},{"$f":"P532+Z532","v":0}]
[null,null,null,null,null,"Score Brut",{"$f":"IF(G531-G528=-2,4)+IF(G531-G528=-1,3)+IF(G531-G528=0,2)+IF(G531-G528=1,1)+IF(G531-G528>2,0)","v":0},0,0,0,0,0,0,0,0,{"$f":"SUM(G533:O533)","v":0},{"$f":"IF(Q531-Q528=-2,4)+IF(Q531-Q528=-1,3)+IF(Q531-Q528=0,2)+IF(Q531-Q528=1,1)+IF(Q531-Q528>2,0)","v":0},0,0,0,0,0,0,0,0,{"$f":"SUM(Q533:Y533)","v":0},{"$f":"P533+Z533","v":0}]
[null,null,null,null,null,null,{"$f":"G531-G528","v":6},{"$f":"H531-H528","v":6},5,6,7,5,7,5,7,null,{"$f":"Q531-Q528","v":6},6,7,5,7,6,6,5,6]
[]
[]
[null,null,null,null,null,"Statistiques scores",null,"Eagle & moins",null,null,null,{"$f":"COUNTIF(G534:Y534,\"<=-2\")","v":0},"Par",null,{"$f":"COUNTIF(G534:Y534,\"=0\")","v":0},"Double bogey",null,null,null,null,{"$f":"COUNTIF(G534:Y534,\"=2\")","v":0}]
[null,null,null,null,null,null,null,"Birdie",null,null,null,{"$f":"COUNTIF(G534:Y534,\"=-1\")","v":0},"Bogey",null,{"$f":"COUNTIF(G534:Y534,\"=1\")","v":0},"Triple bogey & plus",null,null,null,null,{"$f":"COUNTIF(G534:Y534,\">=3\")","v":18}]
[null,null,null,null,null,null,null,{"$f":"M537","v":"Par"},null,null,null,{"$f":"O537","v":0}]
[null,null,null,null,null,null,null,{"$f":"M538","v":"Bogey"},null,null,null,{"$f":"O538","v":0}]
[null,null,null,null,null,null,null,{"$f":"P537","v":"Double bogey"},null,null,null,{"$f":"U537","v":0}]
[null,null,null,null,null,null,null,{"$f":"P538","v":"Triple bogey & plus"},null,null,null,{"$f":"U538","v":18}]
[]
[]
[]
[]
[null,null,null,null,null,"Nom",{"$f":"C29","v":0},null,null,null,null,"Slope",null,null,"SSS",null,"Coups reçus",null,null,null,null,null,null,null,null,"Date",{"$f":"$D$3","v":"00:00:00"}]
[null,null,null,null,null,"Index",{"$f":"E29","v":20},null,null,null,null,{"$f":"$F$3","v":133},null,null,{"$f":"$G$3","v":68.599999999999994},null,{"$f":"ROUND((G548*(L548/113)+(O548-AA551)),0)","v":20}]
[]
[null,null,null,null,null,"Trou",1,2,3,4,5,6,7,8,9,"Aller",10,11,12,13,14,15,16,17,18,"Retour","Total"]
[null,null,null,null,null,"PAR",{"$f":"G$7","v":4},{"$f":"H$7","v":4},5,4,3,5,3,5,3,{"$f":"SUM(G551:O551)","v":36},{"$f":"Q$7","v":4},4,3,5,3,4,4,5,4,{"$f":"SUM(Q551:Y551)","v":36},{"$f":"SUM(P551+Z551)","v":72}]
[null,null,null,null,null,"HCP trous",{"$f":"G$8","v":4},{"$f":"H$8","v":8},12,14,2,10,18,16,6,null,{"$f":"Q$8","v":1},9,11,5,17,15,3,13,7]
[null,null,null,null,null,"Coups reçus",{"$f":"IF($Q548<=18,IF(G552<=$Q548,1,0),IF($Q548<=36,IF(G552<=($Q548-18),2,1),IF($Q548>36,IF(G552<=($Q548-36),3,2))))","v":1},{"$f":"IF($Q548<=18,IF(H552<=$Q548,1,0),IF($Q548<=36,IF(H552<=($Q548-18),2,1),IF($Q548>36,IF(H552<=($Q548-36),3,2))))","v":1},1,1,2,1,1,1,1,{"$f":"SUM(G553:O553)","v":10},{"$f":"IF($Q548<=18,IF(Q552<=$Q548,1,0),IF($Q548<=36,IF(Q552<=($Q548-18),2,1),IF($Q548>36,IF(Q552<=($Q548-36),3,2))))","v":2},1,1,1,1,1,1,1,1,{"$f":"SUM(Q553:Y553)","v":10},{"$f":"P553+Z553","v":20}]
[null,null,null,null,null,"Stroke play",{"$f":"G29","v":10},10,10,10,10,10,10,10,10,{"$f":"SUM(G554:O554)","v":90},{"$f":"Q29","v":10},10,10,10,10,10,10,10,10,{"$f":"SUM(Q554:Y554)","v":90},{"$f":"P554+Z554","v":180}]
[null,null,null,null,null,"Net Stableford",{"$f":"IF(G554-G551=-1,3+G553)+IF(G554-G551=0,2+G553)+IF(G554-G551=1,1+G553)+IF(G554-G551=2,G553)+IF(G554-G551=3,IF(G553-1>0,G553-1,0))+IF(G554-G551=4,IF(G553-2>0,G553-2,0))","v":0},{"$f":"IF(H554-H551=-1,3+H553)+IF(H554-H551=0,2+H553)+IF(H554-H551=1,1+H553)+IF(H554-H551=2,H553)+IF(H554-H551=3,IF(H553-1>0,H553-1,0))+IF(H554-H551=4,IF(H553-2>0,H553-2,0))","v":0},0,0,0,0,0,0,0,{"$f":"SUM(G555:O555)","v":0},{"$f":"IF(Q554-Q551=-1,3+Q553)+IF(Q554-Q551=0,2+Q553)+IF(Q554-Q551=1,1+Q553)+IF(Q554-Q551=2,Q553)+IF(Q554-Q551=3,IF(Q553-1>0,Q553-1,0))+IF(Q554-Q551=4,IF(Q553-2>0,Q553-2,0))","v":0},0,0,0,0,0,0,0,0,{"$f":"SUM(Q555:Y555)","v":0},{"$f":"P555+Z555","v":0}]
[null,null,null,null,null,"Score Brut",{"$f":"IF(G554-G551=-2,4)+IF(G554-G551=-1,3)+IF(G554-G551=0,2)+IF(G554-G551=1,1)+IF(G554-G551>2,0)","v":0},0,0,0,0,0,0,0,0,{"$f":"SUM(G556:O556)","v":0},{"$f":"IF(Q554-Q551=-2,4)+IF(Q554-Q551=-1,3)+IF(Q554-Q551=0,2)+IF(Q554-Q551=1,1)+IF(Q554-Q551>2,0)","v":0},0,0,0,0,0,0,0,0,{"$f":"SUM(Q556:Y556)","v":0},{"$f":"P556+Z556","v":0}]
[null,null,null,null,null,null,{"$f":"G554-G551","v":6},{"$f":"H554-H551","v":6},5,6,7,5,7,5,7,null,{"$f":"Q554-Q551","v":6},6,7,5,7,6,6,5,6]
[]
[]
[null,null,null,null,null,"Statistiques scores",null,"Eagle & moins",null,null,null,{"$f":"COUNTIF(G557:Y557,\"<=-2\")","v":0},"Par",null,{"$f":"COUNTIF(G557:Y557,\"=0\")","v":0},"Double bogey",null,null,null,null,{"$f":"COUNTIF(G557:Y557,\"=2\")","v":0}]
[null,null,null,null,null,null,null,"Birdie",null,null,null,{"$f":"COUNTIF(G557:Y557,\"=-1\")","v":0},"Bogey",null,{"$f":"COUNTIF(G557:Y557,\"=1\")","v":0},"Triple bogey & plus",null,null,null,null,{"$f":"COUNTIF(G557:Y557,\">=3\")","v":18}]
[null,null,null,null,null,null,null,{"$f":"M560","v":"Par"},null,null,null,{"$f":"O560","v":0}]
[null,null,null,null,null,null,null,{"$f":"M561","v":"Bogey"},null,null,null,{"$f":"O561","v":0}]
[null,null,null,null,null,null,null,{"$f":"P560","v":"Double bogey"},null,null,null,{"$f":"U560","v":0}]
[null,null,null,null,null,null,null,{"$f":"P561","v":"Triple bogey & plus"},null,null,null,{"$f":"U561","v":18}]
[]
[]
[]
[]
[null,null,null,null,null,"Nom",{"$f":"C30","v":0},null,null,null,null,"Slope",null,null,"SSS",null,"Coups reçus",null,null,null,null,null,null,null,null,"Date",{"$f":"$D$3","v":"00:00:00"}]
[null,null,null,null,null,"Index",{"$f":"E30","v":20},null,null,null,null,{"$f":"$F$3","v":133},null,null,{"$f":"$G$3","v":68.599999999999994},null,{"$f":"ROUND((G571*(L571/113)+(O571-AA574)),0)","v":20}]
[]
[null,null,null,null,null,"Trou",1,2,3,4,5,6,7,8,9,"Aller",10,11,12,13,14,15,16,17,18,"Retour","Total"]
[null,null,null,null,null,"PAR",{"$f":"G$7","v":4},{"$f":"H$7","v":4},5,4,3,5,3,5,3,{"$f":"SUM(G574:O574)","v":36},{"$f":"Q$7","v":4},4,3,5,3,4,4,5,4,{"$f":"SUM(Q574:Y574)","v":36},{"$f":"SUM(P574+Z574)","v":72}]
[null,null,null,null,null,"HCP trous",{"$f":"G$8","v":4},{"$f":"H$8","v":8},12,14,2,10,18,16,6,null,{"$f":"Q$8","v":1},9,11,5,17,15,3,13,7]
[null,null,null,null,null,"Coups reçus",{"$f":"IF($Q571<=18,IF(G575<=$Q571,1,0),IF($Q571<=36,IF(G575<=($Q571-18),2,1),IF($Q571>36,IF(G575<=($Q571-36),3,2))))","v":1},{"$f":"IF($Q571<=18,IF(H575<=$Q571,1,0),IF($Q571<=36,IF(H575<=($Q571-18),2,1),IF($Q571>36,IF(H575<=($Q571-36),3,2))))","v":1},1,1,2,1,1,1,1,{"$f":"SUM(G576:O576)","v":10},{"$f":"IF($Q571<=18,IF(Q575<=$Q571,1,0),IF($Q571<=36,IF(Q575<=($Q571-18),2,1),IF($Q571>36,IF(Q575<=($Q571-36),3,2))))","v":2},1,1,1,1,1,1,1,1,{"$f":"SUM(Q576:Y576)","v":10},{"$f":"P576+Z576","v":20}]
[null,null,null,null,null,"Stroke play",{"$f":"G30","v":10},10,10,10,10,10,10,10,10,{"$f":"SUM(G577:O577)","v":90},{"$f":"Q30","v":10},10,10,10,10,10,10,10,10,{"$f":"SUM(Q577:Y577)","v":90},{"$f":"P577+Z577","v":180}]
[null,null,null,null,null,"Net Stableford",{"$f":"IF(G577-G574=-1,3+G576)+IF(G577-G574=0,2+G576)+IF(G577-G574=1,1+G576)+IF(G577-G574=2,G576)+IF(G577-G574=3,IF(G576-1>0,G576-1,0))+IF(G577-G574=4,IF(G576-2>0,G576-2,0))","v":0},{"$f":"IF(H577-H574=-1,3+H576)+IF(H577-H574=0,2+H576)+IF(H577-H574=1,1+H576)+IF(H577-H574=2,H576)+IF(H577-H574=3,IF(H576-1>0,H576-1,0))+IF(H577-H574=4,IF(H576-2>0,H576-2,0))","v":0},0,0,0,0,0,0,0,{"$f":"SUM(G578:O578)","v":0},{"$f":"IF(Q577-Q574=-1,3+Q576)+IF(Q577-Q574=0,2+Q576)+IF(Q577-Q574=1,1+Q576)+IF(Q577-Q574=2,Q576)+IF(Q577-Q574=3,IF(Q576-1>0,Q576-1,0))+IF(Q577-Q574=4,IF(Q576-2>0,Q576-2,0))","v":0},0,0,0,0,0,0,0,0,{"$f":"SUM(Q578:Y578)","v":0},{"$f":"P578+Z578","v":0}]
[null,null,null,null,null,"Score Brut",{"$f":"IF(G577-G574=-2,4)+IF(G577-G574=-1,3)+IF(G577-G574=0,2)+IF(G577-G574=1,1)+IF(G577-G574>2,0)","v":0},0,0,0,0,0,0,0,0,{"$f":"SUM(G579:O579)","v":0},{"$f":"IF(Q577-Q574=-2,4)+IF(Q577-Q574=-1,3)+IF(Q577-Q574=0,2)+IF(Q577-Q574=1,1)+IF(Q577-Q574>2,0)","v":0},0,0,0,0,0,0,0,0,{"$f":"SUM(Q579:Y579)","v":0},{"$f":"P579+Z579","v":0}]
[null,null,null,null,null,null,{"$f":"G577-G574","v":6},{"$f":"H577-H574","v":6},5,6,7,5,7,5,7,null,{"$f":"Q577-Q574","v":6},6,7,5,7,6,6,5,6]
[]
[]
[null,null,null,null,null,"Statistiques scores",null,"Eagle & moins",null,null,null,{"$f":"COUNTIF(G580:Y580,\"<=-2\")","v":0},"Par",null,{"$f":"COUNTIF(G580:Y580,\"=0\")","v":0},"Double bogey",null,null,null,null,{"$f":"COUNTIF(G580:Y580,\"=2\")","v":0}]
[null,null,null,null,null,null,null,"Birdie",null,null,null,{"$f":"COUNTIF(G580:Y580,\"=-1\")","v":0},"Bogey",null,{"$f":"COUNTIF(G580:Y580,\"=1\")","v":0},"Triple bogey & plus",null,null,null,null,{"$f":"COUNTIF(G580:Y580,\">=3\")","v":18}]
[null,null,null,null,null,null,null,{"$f":"M583","v":"Par"},null,null,null,{"$f":"O583","v":0}]
[null,null,null,null,null,null,null,{"$f":"M584","v":"Bogey"},null,null,null,{"$f":"O584","v":0}]
[null,null,null,null,null,null,null,{"$f":"P583","v":"Double bogey"},null,null,null,{"$f":"U583","v":0}]
[null,null,null,null,null,null,null,{"$f":"P584","v":"Triple bogey & plus"},null,null,null,{"$f":"U584","v":18}]
[]
[]
[]
[]
[null,null,null,null,null,"Nom",{"$f":"C31","v":0},null,null,null,null,"Slope",null,null,"SSS",null,"Coups reçus",null,null,null,null,null,null,null,null,"Date",{"$f":"$D$3","v":"00:00:00"}]
[null,null,null,null,null,"Index",{"$f":"E31","v":20},null,null,null,null,{"$f":"$F$3","v":133},null,null,{"$f":"$G$3","v":68.599999999999994},null,{"$f":"ROUND((G594*(L594/113)+(O594-AA597)),0)","v":20}]
[]
[null,null,null,null,null,"Trou",1,2,3,4,5,6,7,8,9,"Aller",10,11,12,13,14,15,16,17,18,"Retour","Total"]
[null,null,null,null,null,"PAR",{"$f":"G$7","v":4},{"$f":"H$7","v":4},5,4,3,5,3,5,3,{"$f":"SUM(G597:O597)","v":36},{"$f":"Q$7","v":4},4,3,5,3,4,4,5,4,{"$f":"SUM(Q597:Y597)","v":36},{"$f":"SUM(P597+Z597)","v":72}]
[null,null,null,null,null,"HCP trous",{"$f":"G$8","v":4},{"$f":"H$8","v":8},12,14,2,10,18,16,6,null,{"$f":"Q$8","v":1},9,11,5,17,15,3,13,7]
[null,null,null,null,null,"Coups reçus",{"$f":"IF($Q594<=18,IF(G598<=$Q594,1,0),IF($Q594<=36,IF(G598<=($Q594-18),2,1),IF($Q594>36,IF(G598<=($Q594-36),3,2))))","v":1},{"$f":"IF($Q594<=18,IF(H598<=$Q594,1,0),IF($Q594<=36,IF(H598<=($Q594-18),2,1),IF($Q594>36,IF(H598<=($Q594-36),3,2))))","v":1},1,1,2,1,1,1,1,{"$f":"SUM(G599:O599)","v":10},{"$f":"IF($Q594<=18,IF(Q598<=$Q594,1,0),IF($Q594<=36,IF(Q598<=($Q594-18),2,1),IF($Q594>36,IF(Q598<=($Q594-36),3,2))))","v":2},1,1,1,1,1,1,1,1,{"$f":"SUM(Q599:Y599)","v":10},{"$f":"P599+Z599","v":20}]
[null,null,null,null,null,"Stroke play",{"$f":"G31","v":10},10,10,10,10,10,10,10,10,{"$f":"SUM(G600:O600)","v":90},{"$f":"Q31","v":10},10,10,10,10,10,10,10,10,{"$f":"SUM(Q600:Y600)","v":90},{"$f":"P600+Z600","v":180}]
[null,null,null,null,null,"Net Stableford",{"$f":"IF(G600-G597=-1,3+G599)+IF(G600-G597=0,2+G599)+IF(G600-G597=1,1+G599)+IF(G600-G597=2,G599)+IF(G600-G597=3,IF(G599-1>0,G599-1,0))+IF(G600-G597=4,IF(G599-2>0,G599-2,0))","v":0},{"$f":"IF(H600-H597=-1,3+H599)+IF(H600-H597=0,2+H599)+IF(H600-H597=1,1+H599)+IF(H600-H597=2,H599)+IF(H600-H597=3,IF(H599-1>0,H599-1,0))+IF(H600-H597=4,IF(H599-2>0,H599-2,0))","v":0},0,0,0,0,0,0,0,{"$f":"SUM(G601:O601)","v":0},{"$f":"IF(Q600-Q597=-1,3+Q599)+IF(Q600-Q597=0,2+Q599)+IF(Q600-Q597=1,1+Q599)+IF(Q600-Q597=2,Q599)+IF(Q600-Q597=3,IF(Q599-1>0,Q599-1,0))+IF(Q600-Q597=4,IF(Q599-2>0,Q599-2,0))","v":0},0,0,0,0,0,0,0,0,{"$f":"SUM(Q601:Y601)","v":0},{"$f":"P601+Z601","v":0}]
[null,null,null,null,null,"Score Brut",{"$f":"IF(G600-G597=-2,4)+IF(G600-G597=-1,3)+IF(G600-G597=0,2)+IF(G600-G597=1,1)+IF(G600-G597>2,0)","v":0},0,0,0,0,0,0,0,0,{"$f":"SUM(G602:O602)","v":0},{"$f":"IF(Q600-Q597=-2,4)+IF(Q600-Q597=-1,3)+IF(Q600-Q597=0,2)+IF(Q600-Q597=1,1)+IF(Q600-Q597>2,0)","v":0},0,0,0,0,0,0,0,0,{"$f":"SUM(Q602:Y602)","v":0},{"$f":"P602+Z602","v":0}]
[null,null,null,null,null,null,{"$f":"G600-G597","v":6},{"$f":"H600-H597","v":6},5,6,7,5,7,5,7,null,{"$f":"Q600-Q597","v":6},6,7,5,7,6,6,5,6]
[]
[]
[null,null,null,null,null,"Statistiques scores",null,"Eagle & moins",null,null,null,{"$f":"COUNTIF(G603:Y603,\"<=-2\")","v":0},"Par",null,{"$f":"COUNTIF(G603:Y603,\"=0\")","v":0},"Double bogey",null,null,null,null,{"$f":"COUNTIF(G603:Y603,\"=2\")","v":0}]
[null,null,null,null,null,null,null,"Birdie",null,null,null,{"$f":"COUNTIF(G603:Y603,\"=-1\")","v":0},"Bogey",null,{"$f":"COUNTIF(G603:Y603,\"=1\")","v":0},"Triple bogey & plus",null,null,null,null,{"$f":"COUNTIF(G603:Y603,\">=3\")","v":18}]
[null,null,null,null,null,null,null,{"$f":"M606","v":"Par"},null,null,null,{"$f":"O606","v":0}]
[null,null,null,null,null,null,null,{"$f":"M607","v":"Bogey"},null,null,null,{"$f":"O607","v":0}]
[null,null,null,null,null,null,null,{"$f":"P606","v":"Double bogey"},null,null,null,{"$f":"U606","v":0}]
[null,null,null,null,null,null,null,{"$f":"P607","v":"Triple bogey & plus"},null,null,null,{"$f":"U607","v":18}]
[]
[]
[]
[]
[null,null,null,null,null,"Nom",{"$f":"C32","v":0},null,null,null,null,"Slope",null,null,"SSS",null,"Coups reçus",null,null,null,null,null,null,null,null,"Date",{"$f":"$D$3","v":"00:00:00"}]
[null,null,null,null,null,"Index",{"$f":"E32","v":20},null,null,null,null,{"$f":"$F$3","v":133},null,null,{"$f":"$G$3","v":68.599999999999994},null,{"$f":"ROUND((G617*(L617/113)+(O617-AA620)),0)","v":20}]
[]
[null,null,null,null,null,"Trou",1,2,3,4,5,6,7,8,9,"Aller",10,11,12,13,14,15,16,17,18,"Retour","Total"]
[null,null,null,null,null,"PAR",{"$f":"G$7","v":4},{"$f":"H$7","v":4},5,4,3,5,3,5,3,{"$f":"SUM(G620:O620)","v":36},{"$f":"Q$7","v":4},4,3,5,3,4,4,5,4,{"$f":"SUM(Q620:Y620)","v":36},{"$f":"SUM(P620+Z620)","v":72}]
[null,null,null,null,null,"HCP trous",{"$f":"G$8","v":4},{"$f":"H$8","v":8},12,14,2,10,18,16,6,null,{"$f":"Q$8","v":1},9,11,5,17,15,3,13,7]
[null,null,null,null,null,"Coups reçus",{"$f":"IF($Q617<=18,IF(G621<=$Q617,1,0),IF($Q617<=36,IF(G621<=($Q617-18),2,1),IF($Q617>36,IF(G621<=($Q617-36),3,2))))","v":1},{"$f":"IF($Q617<=18,IF(H621<=$Q617,1,0),IF($Q617<=36,IF(H621<=($Q617-18),2,1),IF($Q617>36,IF(H621<=($Q617-36),3,2))))","v":1},1,1,2,1,1,1,1,{"$f":"SUM(G622:O622)","v":10},{"$f":"IF($Q617<=18,IF(Q621<=$Q617,1,0),IF($Q617<=36,IF(Q621<=($Q617-18),2,1),IF($Q617>36,IF(Q621<=($Q617-36),3,2))))","v":2},1,1,1,1,1,1,1,1,{"$f":"SUM(Q622:Y622)","v":10},{"$f":"P622+Z622","v":20}]
[null,null,null,null,null,"Stroke play",{"$f":"G32","v":10},10,10,10,10,10,10,10,10,{"$f":"SUM(G623:O623)","v":90},{"$f":"Q32","v":10},10,10,10,10,10,10,10,10,{"$f":"SUM(Q623:Y623)","v":90},{"$f":"P623+Z623","v":180}]
[null,null,null,null,null,"Net Stableford",{"$f":"IF(G623-G620=-1,3+G622)+IF(G623-G620=0,2+G622)+IF(G623-G620=1,1+G622)+IF(G623-G620=2,G622)+IF(G623-G620=3,IF(G622-1>0,G622-1,0))+IF(G623-G620=4,IF(G622-2>0,G622-2,0))","v":0},{"$f":"IF(H623-H620=-1,3+H622)+IF(H623-H620=0,2+H622)+IF(H623-H620=1,1+H622)+IF(H623-H620=2,H622)+IF(H623-H620=3,IF(H622-1>0,H622-1,0))+IF(H623-H620=4,IF(H622-2>0,H622-2,0))","v":0},0,0,0,0,0,0,0,{"$f":"SUM(G624:O624)","v":0},{"$f":"IF(Q623-Q620=-1,3+Q622)+IF(Q623-Q620=0,2+Q622)+IF(Q623-Q620=1,1+Q622)+IF(Q623-Q620=2,Q622)+IF(Q623-Q620=3,IF(Q622-1>0,Q622-1,0))+IF(Q623-Q620=4,IF(Q622-2>0,Q622-2,0))","v":0},0,0,0,0,0,0,0,0,{"$f":"SUM(Q624:Y624)","v":0},{"$f":"P624+Z624","v":0}]
[null,null,null,null,null,"Score Brut",{"$f":"IF(G623-G620=-2,4)+IF(G623-G620=-1,3)+IF(G623-G620=0,2)+IF(G623-G620=1,1)+IF(G623-G620>2,0)","v":0},0,0,0,0,0,0,0,0,{"$f":"SUM(G625:O625)","v":0},{"$f":"IF(Q623-Q620=-2,4)+IF(Q623-Q620=-1,3)+IF(Q623-Q620=0,2)+IF(Q623-Q620=1,1)+IF(Q623-Q620>2,0)","v":0},0,0,0,0,0,0,0,0,{"$f":"SUM(Q625:Y625)","v":0},{"$f":"P625+Z625","v":0}]
[null,null,null,null,null,null,{"$f":"G623-G620","v":6},{"$f":"H623-H620","v":6},5,6,7,5,7,5,7,null,{"$f":"Q623-Q620","v":6},6,7,5,7,6,6,5,6]
[]
[]
[null,null,null,null,null,"Statistiques scores",null,"Eagle & moins",null,null,null,{"$f":"COUNTIF(G626:Y626,\"<=-2\")","v":0},"Par",null,{"$f":"COUNTIF(G626:Y626,\"=0\")","v":0},"Double bogey",null,null,null,null,{"$f":"COUNTIF(G626:Y626,\"=2\")","v":0}]
[null,null,null,null,null,null,null,"Birdie",null,null,null,{"$f":"COUNTIF(G626:Y626,\"=-1\")","v":0},"Bogey",null,{"$f":"COUNTIF(G626:Y626,\"=1\")","v":0},"Triple bogey & plus",null,null,null,null,{"$f":"COUNTIF(G626:Y626,\">=3\")","v":18}]
[null,null,null,null,null,null,null,{"$f":"M629","v":"Par"},null,null,null,{"$f":"O629","v":0}]
[null,null,null,null,null,null,null,{"$f":"M630","v":"Bogey"},null,null,null,{"$f":"O630","v":0}]
[null,null,null,null,null,null,null,{"$f":"P629","v":"Double bogey"},null,null,null,{"$f":"U629","v":0}]
[null,null,null,null,null,null,null,{"$f":"P630","v":"Triple bogey & plus"},null,null,null,{"$f":"U630","v":18}]
[]
[]
[]
[]
[null,null,null,null,null,"Nom",{"$f":"C33","v":0},null,null,null,null,"Slope",null,null,"SSS",null,"Coups reçus",null,null,null,null,null,null,null,null,"Date",{"$f":"$D$3","v":"00:00:00"}]
[null,null,null,null,null,"Index",{"$f":"E33","v":20},null,null,null,null,{"$f":"$F$3","v":133},null,null,{"$f":"$G$3","v":68.599999999999994},null,{"$f":"ROUND((G640*(L640/113)+(O640-AA643)),0)","v":20}]
[]
[null,null,null,null,null,"Trou",1,2,3,4,5,6,7,8,9,"Aller",10,11,12,13,14,15,16,17,18,"Retour","Total"]
[null,null,null,null,null,"PAR",{"$f":"G$7","v":4},{"$f":"H$7","v":4},5,4,3,5,3,5,3,{"$f":"SUM(G643:O643)","v":36},{"$f":"Q$7","v":4},4,3,5,3,4,4,5,4,{"$f":"SUM(Q643:Y643)","v":36},{"$f":"SUM(P643+Z643)","v":72}]
[null,null,null,null,null,"HCP trous",{"$f":"G$8","v":4},{"$f":"H$8","v":8},12,14,2,10,18,16,6,null,{"$f":"Q$8","v":1},9,11,5,17,15,3,13,7]
[null,null,null,null,null,"Coups reçus",{"$f":"IF($Q640<=18,IF(G644<=$Q640,1,0),IF($Q640<=36,IF(G644<=($Q640-18),2,1),IF($Q640>36,IF(G644<=($Q640-36),3,2))))","v":1},{"$f":"IF($Q640<=18,IF(H644<=$Q640,1,0),IF($Q640<=36,IF(H644<=($Q640-18),2,1),IF($Q640>36,IF(H644<=($Q640-36),3,2))))","v":1},1,1,2,1,1,1,1,{"$f":"SUM(G645:O645)","v":10},{"$f":"IF($Q640<=18,IF(Q644<=$Q640,1,0),IF($Q640<=36,IF(Q644<=($Q640-18),2,1),IF($Q640>36,IF(Q644<=($Q640-36),3,2))))","v":2},1,1,1,1,1,1,1,1,{"$f":"SUM(Q645:Y645)","v":10},{"$f":"P645+Z645","v":20}]
[null,null,null,null,null,"Stroke play",{"$f":"G33","v":10},10,10,10,10,10,10,10,10,{"$f":"SUM(G646:O646)","v":90},{"$f":"Q33","v":10},10,10,10,10,10,10,10,10,{"$f":"SUM(Q646:Y646)","v":90},{"$f":"P646+Z646","v":180}]
[null,null,null,null,null,"Net Stableford",{"$f":"IF(G646-G643=-1,3+G645)+IF(G646-G643=0,2+G645)+IF(G646-G643=1,1+G645)+IF(G646-G643=2,G645)+IF(G646-G643=3,IF(G645-1>0,G645-1,0))+IF(G646-G643=4,IF(G645-2>0,G645-2,0))","v":0},{"$f":"IF(H646-H643=-1,3+H645)+IF(H646-H643=0,2+H645)+IF(H646-H643=1,1+H645)+IF(H646-H643=2,H645)+IF(H646-H643=3,IF(H645-1>0,H645-1,0))+IF(H646-H643=4,IF(H645-2>0,H645-2,0))","v":0},0,0,0,0,0,0,0,{"$f":"SUM(G647:O647)","v":0},{"$f":"IF(Q646-Q643=-1,3+Q645)+IF(Q646-Q643=0,2+Q645)+IF(Q646-Q643=1,1+Q645)+IF(Q646-Q643=2,Q645)+IF(Q646-Q643=3,IF(Q645-1>0,Q645-1,0))+IF(Q646-Q643=4,IF(Q645-2>0,Q645-2,0))","v":0},0,0,0,0,0,0,0,0,{"$f":"SUM(Q647:Y647)","v":0},{"$f":"P647+Z647","v":0}]
[null,null,null,null,null,"Score Brut",{"$f":"IF(G646-G643=-2,4)+IF(G646-G643=-1,3)+IF(G646-G643=0,2)+IF(G646-G643=1,1)+IF(G646-G643>2,0)","v":0},0,0,0,0,0,0,0,0,{"$f":"SUM(G648:O648)","v":0},{"$f":"IF(Q646-Q643=-2,4)+IF(Q646-Q643=-1,3)+IF(Q646-Q643=0,2)+IF(Q646-Q643=1,1)+IF(Q646-Q643>2,0)","v":0},0,0,0,0,0,0,0,0,{"$f":"SUM(Q648:Y648)","v":0},{"$f":"P648+Z648","v":0}]
[null,null,null,null,null,null,{"$f":"G646-G643","v":6},{"$f":"H646-H643","v":6},5,6,7,5,7,5,7,null,{"$f":"Q646-Q643","v":6},6,7,5,7,6,6,5,6]
[]
[]
[null,null,null,null,null,"Statistiques scores",null,"Eagle & moins",null,null,null,{"$f":"COUNTIF(G649:Y649,\"<=-2\")","v":0},"Par",null,{"$f":"COUNTIF(G649:Y649,\"=0\")","v":0},"Double bogey",null,null,null,null,{"$f":"COUNTIF(G649:Y649,\"=2\")","v":0}]
[null,null,null,null,null,null,null,"Birdie",null,null,null,{"$f":"COUNTIF(G649:Y649,\"=-1\")","v":0},"Bogey",null,{"$f":"COUNTIF(G649:Y649,\"=1\")","v":0},"Triple bogey & plus",null,null,null,null,{"$f":"COUNTIF(G649:Y649,\">=3\")","v":18}]
[null,null,null,null,null,null,null,{"$f":"M652","v":"Par"},null,null,null,{"$f":"O652","v":0}]
[null,null,null,null,null,null,null,{"$f":"M653","v":"Bogey"},null,null,null,{"$f":"O653","v":0}]
[null,null,null,null,null,null,null,{"$f":"P652","v":"Double bogey"},null,null,null,{"$f":"U652","v":0}]
[null,null,null,null,null,null,null,{"$f":"P653","v":"Triple bogey & plus"},null,null,null,{"$f":"U653","v":18}]
[]
[]
[]
[]
[null,null,null,null,null,"Nom",{"$f":"C34","v":0},null,null,null,null,"Slope",null,null,"SSS",null,"Coups reçus",null,null,null,null,null,null,null,null,"Date",{"$f":"$D$3","v":"00:00:00"}]
[null,null,null,null,null,"Index",{"$f":"E34","v":20},null,null,null,null,{"$f":"$F$3","v":133},null,null,{"$f":"$G$3","v":68.599999999999994},null,{"$f":"ROUND((G663*(L663/113)+(O663-AA666)),0)","v":20}]
[]
[null,null,null,null,null,"Trou",1,2,3,4,5,6,7,8,9,"Aller",10,11,12,13,14,15,16,17,18,"Retour","Total"]
[null,null,null,null,null,"PAR",{"$f":"G$7","v":4},{"$f":"H$7","v":4},5,4,3,5,3,5,3,{"$f":"SUM(G666:O666)","v":36},{"$f":"Q$7","v":4},4,3,5,3,4,4,5,4,{"$f":"SUM(Q666:Y666)","v":36},{"$f":"SUM(P666+Z666)","v":72}]
[null,null,null,null,null,"HCP trous",{"$f":"G$8","v":4},{"$f":"H$8","v":8},12,14,2,10,18,16,6,null,{"$f":"Q$8","v":1},9,11,5,17,15,3,13,7]
[null,null,null,null,null,"Coups reçus",{"$f":"IF($Q663<=18,IF(G667<=$Q663,1,0),IF($Q663<=36,IF(G667<=($Q663-18),2,1),IF($Q663>36,IF(G667<=($Q663-36),3,2))))","v":1},{"$f":"IF($Q663<=18,IF(H667<=$Q663,1,0),IF($Q663<=36,IF(H667<=($Q663-18),2,1),IF($Q663>36,IF(H667<=($Q663-36),3,2))))","v":1},1,1,2,1,1,1,1,{"$f":"SUM(G668:O668)","v":10},{"$f":"IF($Q663<=18,IF(Q667<=$Q663,1,0),IF($Q663<=36,IF(Q667<=($Q663-18),2,1),IF($Q663>36,IF(Q667<=($Q663-36),3,2))))","v":2},1,1,1,1,1,1,1,1,{"$f":"SUM(Q668:Y668)","v":10},{"$f":"P668+Z668","v":20}]
[null,null,null,null,null,"Stroke play",{"$f":"G34","v":10},10,10,10,10,10,10,10,10,{"$f":"SUM(G669:O669)","v":90},{"$f":"Q34","v":10},10,10,10,10,10,10,10,10,{"$f":"SUM(Q669:Y669)","v":90},{"$f":"P669+Z669","v":180}]
[null,null,null,null,null,"Net Stableford",{"$f":"IF(G669-G666=-1,3+G668)+IF(G669-G666=0,2+G668)+IF(G669-G666=1,1+G668)+IF(G669-G666=2,G668)+IF(G669-G666=3,IF(G668-1>0,G668-1,0))+IF(G669-G666=4,IF(G668-2>0,G668-2,0))","v":0},{"$f":"IF(H669-H666=-1,3+H668)+IF(H669-H666=0,2+H668)+IF(H669-H666=1,1+H668)+IF(H669-H666=2,H668)+IF(H669-H666=3,IF(H668-1>0,H668-1,0))+IF(H669-H666=4,IF(H668-2>0,H668-2,0))","v":0},0,0,0,0,0,0,0,{"$f":"SUM(G670:O670)","v":0},{"$f":"IF(Q669-Q666=-1,3+Q668)+IF(Q669-Q666=0,2+Q668)+IF(Q669-Q666=1,1+Q668)+IF(Q669-Q666=2,Q668)+IF(Q669-Q666=3,IF(Q668-1>0,Q668-1,0))+IF(Q669-Q666=4,IF(Q668-2>0,Q668-2,0))","v":0},0,0,0,0,0,0,0,0,{"$f":"SUM(Q670:Y670)","v":0},{"$f":"P670+Z670","v":0}]
[null,null,null,null,null,"Score Brut",{"$f":"IF(G669-G666=-2,4)+IF(G669-G666=-1,3)+IF(G669-G666=0,2)+IF(G669-G666=1,1)+IF(G669-G666>2,0)","v":0},0,0,0,0,0,0,0,0,{"$f":"SUM(G671:O671)","v":0},{"$f":"IF(Q669-Q666=-2,4)+IF(Q669-Q666=-1,3)+IF(Q669-Q666=0,2)+IF(Q669-Q666=1,1)+IF(Q669-Q666>2,0)","v":0},0,0,0,0,0,0,0,0,{"$f":"SUM(Q671:Y671)","v":0},{"$f":"P671+Z671","v":0}]
[null,null,null,null,null,null,{"$f":"G669-G666","v":6},{"$f":"H669-H666","v":6},5,6,7,5,7,5,7,null,{"$f":"Q669-Q666","v":6},6,7,5,7,6,6,5,6]
[]
[]
[null,null,null,null,null,"Statistiques scores",null,"Eagle & moins",null,null,null,{"$f":"COUNTIF(G672:Y672,\"<=-2\")","v":0},"Par",null,{"$f":"COUNTIF(G672:Y672,\"=0\")","v":0},"Double bogey",null,null,null,null,{"$f":"COUNTIF(G672:Y672,\"=2\")","v":0}]
[null,null,null,null,null,null,null,"Birdie",null,null,null,{"$f":"COUNTIF(G672:Y672,\"=-1\")","v":0},"Bogey",null,{"$f":"COUNTIF(G672:Y672,\"=1\")","v":0},"Triple bogey & plus",null,null,null,null,{"$f":"COUNTIF(G672:Y672,\">=3\")","v":18}]
[null,null,null,null,null,null,null,{"$f":"M675","v":"Par"},null,null,null,{"$f":"O675","v":0}]
[null,null,null,null,null,null,null,{"$f":"M676","v":"Bogey"},null,null,null,{"$f":"O676","v":0}]
[null,null,null,null,null,null,null,{"$f":"P675","v":"Double bogey"},null,null,null,{"$f":"U675","v":0}]
[null,null,null,null,null,null,null,{"$f":"P676","v":"Triple bogey & plus"},null,null,null,{"$f":"U676","v":18}]
[]
[]
[]
[]
[null,null,null,null,null,"Nom",{"$f":"C35","v":0},null,null,null,null,"Slope",null,null,"SSS",null,"Coups reçus",null,null,null,null,null,null,null,null,"Date",{"$f":"$D$3","v":"00:00:00"}]
[null,null,null,null,null,"Index",{"$f":"E35","v":20},null,null,null,null,{"$f":"$F$3","v":133},null,null,{"$f":"$G$3","v":68.599999999999994},null,{"$f":"ROUND((G686*(L686/113)+(O686-AA689)),0)","v":20}]
[]
[null,null,null,null,null,"Trou",1,2,3,4,5,6,7,8,9,"Aller",10,11,12,13,14,15,16,17,18,"Retour","Total"]
[null,null,null,null,null,"PAR",{"$f":"G$7","v":4},{"$f":"H$7","v":4},5,4,3,5,3,5,3,{"$f":"SUM(G689:O689)","v":36},{"$f":"Q$7","v":4},4,3,5,3,4,4,5,4,{"$f":"SUM(Q689:Y689)","v":36},{"$f":"SUM(P689+Z689)","v":72}]
[null,null,null,null,null,"HCP trous",{"$f":"G$8","v":4},{"$f":"H$8","v":8},12,14,2,10,18,16,6,null,{"$f":"Q$8","v":1},9,11,5,17,15,3,13,7]
[null,null,null,null,null,"Coups reçus",{"$f":"IF($Q686<=18,IF(G690<=$Q686,1,0),IF($Q686<=36,IF(G690<=($Q686-18),2,1),IF($Q686>36,IF(G690<=($Q686-36),3,2))))","v":1},{"$f":"IF($Q686<=18,IF(H690<=$Q686,1,0),IF($Q686<=36,IF(H690<=($Q686-18),2,1),IF($Q686>36,IF(H690<=($Q686-36),3,2))))","v":1},1,1,2,1,1,1,1,{"$f":"SUM(G691:O691)","v":10},{"$f":"IF($Q686<=18,IF(Q690<=$Q686,1,0),IF($Q686<=36,IF(Q690<=($Q686-18),2,1),IF($Q686>36,IF(Q690<=($Q686-36),3,2))))","v":2},1,1,1,1,1,1,1,1,{"$f":"SUM(Q691:Y691)","v":10},{"$f":"P691+Z691","v":20}]
[null,null,null,null,null,"Stroke play",{"$f":"G35","v":10},10,10,10,10,10,10,10,10,{"$f":"SUM(G692:O692)","v":90},{"$f":"Q35","v":10},10,10,10,10,10,10,10,10,{"$f":"SUM(Q692:Y692)","v":90},{"$f":"P692+Z692","v":180}]
[null,null,null,null,null,"Net Stableford",{"$f":"IF(G692-G689=-1,3+G691)+IF(G692-G689=0,2+G691)+IF(G692-G689=1,1+G691)+IF(G692-G689=2,G691)+IF(G692-G689=3,IF(G691-1>0,G691-1,0))+IF(G692-G689=4,IF(G691-2>0,G691-2,0))","v":0},{"$f":"IF(H692-H689=-1,3+H691)+IF(H692-H689=0,2+H691)+IF(H692-H689=1,1+H691)+IF(H692-H689=2,H691)+IF(H692-H689=3,IF(H691-1>0,H691-1,0))+IF(H692-H689=4,IF(H691-2>0,H691-2,0))","v":0},0,0,0,0,0,0,0,{"$f":"SUM(G693:O693)","v":0},{"$f":"IF(Q692-Q689=-1,3+Q691)+IF(Q692-Q689=0,2+Q691)+IF(Q692-Q689=1,1+Q691)+IF(Q692-Q689=2,Q691)+IF(Q692-Q689=3,IF(Q691-1>0,Q691-1,0))+IF(Q692-Q689=4,IF(Q691-2>0,Q691-2,0))","v":0},0,0,0,0,0,0,0,0,{"$f":"SUM(Q693:Y693)","v":0},{"$f":"P693+Z693","v":0}]
[null,null,null,null,null,"Score Brut",{"$f":"IF(G692-G689=-2,4)+IF(G692-G689=-1,3)+IF(G692-G689=0,2)+IF(G692-G689=1,1)+IF(G692-G689>2,0)","v":0},0,0,0,0,0,0,0,0,{"$f":"SUM(G694:O694)","v":0},{"$f":"IF(Q692-Q689=-2,4)+IF(Q692-Q689=-1,3)+IF(Q692-Q689=0,2)+IF(Q692-Q689=1,1)+IF(Q692-Q689>2,0)","v":0},0,0,0,0,0,0,0,0,{"$f":"SUM(Q694:Y694)","v":0},{"$f":"P694+Z694","v":0}]
[null,null,null,null,null,null,{"$f":"G692-G689","v":6},{"$f":"H692-H689","v":6},5,6,7,5,7,5,7,null,{"$f":"Q692-Q689","v":6},6,7,5,7,6,6,5,6]
[]
[]
[null,null,null,null,null,"Statistiques scores",null,"Eagle & moins",null,null,null,{"$f":"COUNTIF(G695:Y695,\"<=-2\")","v":0},"Par",null,{"$f":"COUNTIF(G695:Y695,\"=0\")","v":0},"Double bogey",null,null,null,null,{"$f":"COUNTIF(G695:Y695,\"=2\")","v":0}]
[null,null,null,null,null,null,null,"Birdie",null,null,null,{"$f":"COUNTIF(G695:Y695,\"=-1\")","v":0},"Bogey",null,{"$f":"COUNTIF(G695:Y695,\"=1\")","v":0},"Triple bogey & plus",null,null,null,null,{"$f":"COUNTIF(G695:Y695,\">=3\")","v":18}]
[null,null,null,null,null,null,null,{"$f":"M698","v":"Par"},null,null,null,{"$f":"O698","v":0}]
[null,null,null,null,null,null,null,{"$f":"M699","v":"Bogey"},null,null,null,{"$f":"O699","v":0}]
[null,null,null,null,null,null,null,{"$f":"P698","v":"Double bogey"},null,null,null,{"$f":"U698","v":0}]
[null,null,null,null,null,null,null,{"$f":"P699","v":"Triple bogey & plus"},null,null,null,{"$f":"U699","v":18}]
[]
[]
[]
[]
[null,null,null,null,null,"Nom",{"$f":"C36","v":0},null,null,null,null,"Slope",null,null,"SSS",null,"Coups reçus",null,null,null,null,null,null,null,null,"Date",{"$f":"$D$3","v":"00:00:00"}]
[null,null,null,null,null,"Index",{"$f":"E36","v":20},null,null,null,null,{"$f":"$F$3","v":133},null,null,{"$f":"$G$3","v":68.599999999999994},null,{"$f":"ROUND((G709*(L709/113)+(O709-AA712)),0)","v":20}]
[]
[null,null,null,null,null,"Trou",1,2,3,4,5,6,7,8,9,"Aller",10,11,12,13,14,15,16,17,18,"Retour","Total"]
[null,null,null,null,null,"PAR",{"$f":"G$7","v":4},{"$f":"H$7","v":4},5,4,3,5,3,5,3,{"$f":"SUM(G712:O712)","v":36},{"$f":"Q$7","v":4},4,3,5,3,4,4,5,4,{"$f":"SUM(Q712:Y712)","v":36},{"$f":"SUM(P712+Z712)","v":72}]
[null,null,null,null,null,"HCP trous",{"$f":"G$8","v":4},{"$f":"H$8","v":8},12,14,2,10,18,16,6,null,{"$f":"Q$8","v":1},9,11,5,17,15,3,13,7]
[null,null,null,null,null,"Coups reçus",{"$f":"IF($Q709<=18,IF(G713<=$Q709,1,0),IF($Q709<=36,IF(G713<=($Q709-18),2,1),IF($Q709>36,IF(G713<=($Q709-36),3,2))))","v":1},{"$f":"IF($Q709<=18,IF(H713<=$Q709,1,0),IF($Q709<=36,IF(H713<=($Q709-18),2,1),IF($Q709>36,IF(H713<=($Q709-36),3,2))))","v":1},1,1,2,1,1,1,1,{"$f":"SUM(G714:O714)","v":10},{"$f":"IF($Q709<=18,IF(Q713<=$Q709,1,0),IF($Q709<=36,IF(Q713<=($Q709-18),2,1),IF($Q709>36,IF(Q713<=($Q709-36),3,2))))","v":2},1,1,1,1,1,1,1,1,{"$f":"SUM(Q714:Y714)","v":10},{"$f":"P714+Z714","v":20}]
[null,null,null,null,null,"Stroke play",{"$f":"G36","v":10},10,10,10,10,10,10,10,10,{"$f":"SUM(G715:O715)","v":90},{"$f":"Q36","v":10},10,10,10,10,10,10,10,10,{"$f":"SUM(Q715:Y715)","v":90},{"$f":"P715+Z715","v":180}]
[null,null,null,null,null,"Net Stableford",{"$f":"IF(G715-G712=-1,3+G714)+IF(G715-G712=0,2+G714)+IF(G715-G712=1,1+G714)+IF(G715-G712=2,G714)+IF(G715-G712=3,IF(G714-1>0,G714-1,0))+IF(G715-G712=4,IF(G714-2>0,G714-2,0))","v":0},{"$f":"IF(H715-H712=-1,3+H714)+IF(H715-H712=0,2+H714)+IF(H715-H712=1,1+H714)+IF(H715-H712=2,H714)+IF(H715-H712=3,IF(H714-1>0,H714-1,0))+IF(H715-H712=4,IF(H714-2>0,H714-2,0))","v":0},0,0,0,0,0,0,0,{"$f":"SUM(G716:O716)","v":0},{"$f":"IF(Q715-Q712=-1,3+Q714)+IF(Q715-Q712=0,2+Q714)+IF(Q715-Q712=1,1+Q714)+IF(Q715-Q712=2,Q714)+IF(Q715-Q712=3,IF(Q714-1>0,Q714-1,0))+IF(Q715-Q712=4,IF(Q714-2>0,Q714-2,0))","v":0},0,0,0,0,0,0,0,0,{"$f":"SUM(Q716:Y716)","v":0},{"$f":"P716+Z716","v":0}]
[null,null,null,null,null,"Score Brut",{"$f":"IF(G715-G712=-2,4)+IF(G715-G712=-1,3)+IF(G715-G712=0,2)+IF(G715-G712=1,1)+IF(G715-G712>2,0)","v":0},0,0,0,0,0,0,0,0,{"$f":"SUM(G717:O717)","v":0},{"$f":"IF(Q715-Q712=-2,4)+IF(Q715-Q712=-1,3)+IF(Q715-Q712=0,2)+IF(Q715-Q712=1,1)+IF(Q715-Q712>2,0)","v":0},0,0,0,0,0,0,0,0,{"$f":"SUM(Q717:Y717)","v":0},{"$f":"P717+Z717","v":0}]
[null,null,null,null,null,null,{"$f":"G715-G712","v":6},{"$f":"H715-H712","v":6},5,6,7,5,7,5,7,null,{"$f":"Q715-Q712","v":6},6,7,5,7,6,6,5,6]
[]
[]
[null,null,null,null,null,"Statistiques scores",null,"Eagle & moins",null,null,null,{"$f":"COUNTIF(G718:Y718,\"<=-2\")","v":0},"Par",null,{"$f":"COUNTIF(G718:Y718,\"=0\")","v":0},"Double bogey",null,null,null,null,{"$f":"COUNTIF(G718:Y718,\"=2\")","v":0}]
[null,null,null,null,null,null,null,"Birdie",null,null,null,{"$f":"COUNTIF(G718:Y718,\"=-1\")","v":0},"Bogey",null,{"$f":"COUNTIF(G718:Y718,\"=1\")","v":0},"Triple bogey & plus",null,null,null,null,{"$f":"COUNTIF(G718:Y718,\">=3\")","v":18}]
[null,null,null,null,null,null,null,{"$f":"M721","v":"Par"},null,null,null,{"$f":"O721","v":0}]
[null,null,null,null,null,null,null,{"$f":"M722","v":"Bogey"},null,null,null,{"$f":"O722","v":0}]
[null,null,null,null,null,null,null,{"$f":"P721","v":"Double bogey"},null,null,null,{"$f":"U721","v":0}]
[null,null,null,null,null,null,null,{"$f":"P722","v":"Triple bogey & plus"},null,null,null,{"$f":"U722","v":18}]
[]
[]
[]
[]
[null,null,null,null,null,"Nom",{"$f":"C37","v":0},null,null,null,null,"Slope",null,null,"SSS",null,"Coups reçus",null,null,null,null,null,null,null,null,"Date",{"$f":"$D$3","v":"00:00:00"}]
[null,null,null,null,null,"Index",{"$f":"E37","v":20},null,null,null,null,{"$f":"$F$3","v":133},null,null,{"$f":"$G$3","v":68.599999999999994},null,{"$f":"ROUND((G732*(L732/113)+(O732-AA735)),0)","v":20}]
[]
[null,null,null,null,null,"Trou",1,2,3,4,5,6,7,8,9,"Aller",10,11,12,13,14,15,16,17,18,"Retour","Total"]
[null,null,null,null,null,"PAR",{"$f":"G$7","v":4},{"$f":"H$7","v":4},5,4,3,5,3,5,3,{"$f":"SUM(G735:O735)","v":36},{"$f":"Q$7","v":4},4,3,5,3,4,4,5,4,{"$f":"SUM(Q735:Y735)","v":36},{"$f":"SUM(P735+Z735)","v":72}]
[null,null,null,null,null,"HCP trous",{"$f":"G$8","v":4},{"$f":"H$8","v":8},12,14,2,10,18,16,6,null,{"$f":"Q$8","v":1},9,11,5,17,15,3,13,7]
[null,null,null,null,null,"Coups reçus",{"$f":"IF($Q732<=18,IF(G736<=$Q732,1,0),IF($Q732<=36,IF(G736<=($Q732-18),2,1),IF($Q732>36,IF(G736<=($Q732-36),3,2))))","v":1},{"$f":"IF($Q732<=18,IF(H736<=$Q732,1,0),IF($Q732<=36,IF(H736<=($Q732-18),2,1),IF($Q732>36,IF(H736<=($Q732-36),3,2))))","v":1},1,1,2,1,1,1,1,{"$f":"SUM(G737:O737)","v":10},{"$f":"IF($Q732<=18,IF(Q736<=$Q732,1,0),IF($Q732<=36,IF(Q736<=($Q732-18),2,1),IF($Q732>36,IF(Q736<=($Q732-36),3,2))))","v":2},1,1,1,1,1,1,1,1,{"$f":"SUM(Q737:Y737)","v":10},{"$f":"P737+Z737","v":20}]
[null,null,null,null,null,"Stroke play",{"$f":"G37","v":10},10,10,10,10,10,10,10,10,{"$f":"SUM(G738:O738)","v":90},{"$f":"Q37","v":10},10,10,10,10,10,10,10,10,{"$f":"SUM(Q738:Y738)","v":90},{"$f":"P738+Z738","v":180}]
[null,null,null,null,null,"Net Stableford",{"$f":"IF(G738-G735=-1,3+G737)+IF(G738-G735=0,2+G737)+IF(G738-G735=1,1+G737)+IF(G738-G735=2,G737)+IF(G738-G735=3,IF(G737-1>0,G737-1,0))+IF(G738-G735=4,IF(G737-2>0,G737-2,0))","v":0},{"$f":"IF(H738-H735=-1,3+H737)+IF(H738-H735=0,2+H737)+IF(H738-H735=1,1+H737)+IF(H738-H735=2,H737)+IF(H738-H735=3,IF(H737-1>0,H737-1,0))+IF(H738-H735=4,IF(H737-2>0,H737-2,0))","v":0},0,0,0,0,0,0,0,{"$f":"SUM(G739:O739)","v":0},{"$f":"IF(Q738-Q735=-1,3+Q737)+IF(Q738-Q735=0,2+Q737)+IF(Q738-Q735=1,1+Q737)+IF(Q738-Q735=2,Q737)+IF(Q738-Q735=3,IF(Q737-1>0,Q737-1,0))+IF(Q738-Q735=4,IF(Q737-2>0,Q737-2,0))","v":0},0,0,0,0,0,0,0,0,{"$f":"SUM(Q739:Y739)","v":0},{"$f":"P739+Z739","v":0}]
[null,null,null,null,null,"Score Brut",{"$f":"IF(G738-G735=-2,4)+IF(G738-G735=-1,3)+IF(G738-G735=0,2)+IF(G738-G735=1,1)+IF(G738-G735>2,0)","v":0},0,0,0,0,0,0,0,0,{"$f":"SUM(G740:O740)","v":0},{"$f":"IF(Q738-Q735=-2,4)+IF(Q738-Q735=-1,3)+IF(Q738-Q735=0,2)+IF(Q738-Q735=1,1)+IF(Q738-Q735>2,0)","v":0},0,0,0,0,0,0,0,0,{"$f":"SUM(Q740:Y740)","v":0},{"$f":"P740+Z740","v":0}]
[null,null,null,null,null,null,{"$f":"G738-G735","v":6},{"$f":"H738-H735","v":6},5,6,7,5,7,5,7,null,{"$f":"Q738-Q735","v":6},6,7,5,7,6,6,5,6]
[]
[]
[null,null,null,null,null,"Statistiques scores",null,"Eagle & moins",null,null,null,{"$f":"COUNTIF(G741:Y741,\"<=-2\")","v":0},"Par",null,{"$f":"COUNTIF(G741:Y741,\"=0\")","v":0},"Double bogey",null,null,null,null,{"$f":"COUNTIF(G741:Y741,\"=2\")","v":0}]
[null,null,null,null,null,null,null,"Birdie",null,null,null,{"$f":"COUNTIF(G741:Y741,\"=-1\")","v":0},"Bogey",null,{"$f":"COUNTIF(G741:Y741,\"=1\")","v":0},"Triple bogey & plus",null,null,null,null,{"$f":"COUNTIF(G741:Y741,\">=3\")","v":18}]
[null,null,null,null,null,null,null,{"$f":"M744","v":"Par"},null,null,null,{"$f":"O744","v":0}]
[null,null,null,null,null,null,null,{"$f":"M745","v":"Bogey"},null,null,null,{"$f":"O745","v":0}]
[null,null,null,null,null,null,null,{"$f":"P744","v":"Double bogey"},null,null,null,{"$f":"U744","v":0}]
[null,null,null,null,null,null,null,{"$f":"P745","v":"Triple bogey & plus"},null,null,null,{"$f":"U745","v":18}]
[]
[]
[]
[]
[null,null,null,null,null,"Nom",{"$f":"C38","v":0},null,null,null,null,"Slope",null,null,"SSS",null,"Coups reçus",null,null,null,null,null,null,null,null,"Date",{"$f":"$D$3","v":"00:00:00"}]
[null,null,null,null,null,"Index",{"$f":"E38","v":20},null,null,null,null,{"$f":"$F$3","v":133},null,null,{"$f":"$G$3","v":68.599999999999994},null,{"$f":"ROUND((G755*(L755/113)+(O755-AA758)),0)","v":20}]
[]
[null,null,null,null,null,"Trou",1,2,3,4,5,6,7,8,9,"Aller",10,11,12,13,14,15,16,17,18,"Retour","Total"]
[null,null,null,null,null,"PAR",{"$f":"G$7","v":4},{"$f":"H$7","v":4},5,4,3,5,3,5,3,{"$f":"SUM(G758:O758)","v":36},{"$f":"Q$7","v":4},4,3,5,3,4,4,5,4,{"$f":"SUM(Q758:Y758)","v":36},{"$f":"SUM(P758+Z758)","v":72}]
[null,null,null,null,null,"HCP trous",{"$f":"G$8","v":4},{"$f":"H$8","v":8},12,14,2,10,18,16,6,null,{"$f":"Q$8","v":1},9,11,5,17,15,3,13,7]
[null,null,null,null,null,"Coups reçus",{"$f":"IF($Q755<=18,IF(G759<=$Q755,1,0),IF($Q755<=36,IF(G759<=($Q755-18),2,1),IF($Q755>36,IF(G759<=($Q755-36),3,2))))","v":1},{"$f":"IF($Q755<=18,IF(H759<=$Q755,1,0),IF($Q755<=36,IF(H759<=($Q755-18),2,1),IF($Q755>36,IF(H759<=($Q755-36),3,2))))","v":1},1,1,2,1,1,1,1,{"$f":"SUM(G760:O760)","v":10},{"$f":"IF($Q755<=18,IF(Q759<=$Q755,1,0),IF($Q755<=36,IF(Q759<=($Q755-18),2,1),IF($Q755>36,IF(Q759<=($Q755-36),3,2))))","v":2},1,1,1,1,1,1,1,1,{"$f":"SUM(Q760:Y760)","v":10},{"$f":"P760+Z760","v":20}]
[null,null,null,null,null,"Stroke play",{"$f":"G38","v":10},10,10,10,10,10,10,10,10,{"$f":"SUM(G761:O761)","v":90},{"$f":"Q38","v":10},10,10,10,10,10,10,10,10,{"$f":"SUM(Q761:Y761)","v":90},{"$f":"P761+Z761","v":180}]
[null,null,null,null,null,"Net Stableford",{"$f":"IF(G761-G758=-1,3+G760)+IF(G761-G758=0,2+G760)+IF(G761-G758=1,1+G760)+IF(G761-G758=2,G760)+IF(G761-G758=3,IF(G760-1>0,G760-1,0))+IF(G761-G758=4,IF(G760-2>0,G760-2,0))","v":0},{"$f":"IF(H761-H758=-1,3+H760)+IF(H761-H758=0,2+H760)+IF(H761-H758=1,1+H760)+IF(H761-H758=2,H760)+IF(H761-H758=3,IF(H760-1>0,H760-1,0))+IF(H761-H758=4,IF(H760-2>0,H760-2,0))","v":0},0,0,0,0,0,0,0,{"$f":"SUM(G762:O762)","v":0},{"$f":"IF(Q761-Q758=-1,3+Q760)+IF(Q761-Q758=0,2+Q760)+IF(Q761-Q758=1,1+Q760)+IF(Q761-Q758=2,Q760)+IF(Q761-Q758=3,IF(Q760-1>0,Q760-1,0))+IF(Q761-Q758=4,IF(Q760-2>0,Q760-2,0))","v":0},0,0,0,0,0,0,0,0,{"$f":"SUM(Q762:Y762)","v":0},{"$f":"P762+Z762","v":0}]
[null,null,null,null,null,"Score Brut",{"$f":"IF(G761-G758=-2,4)+IF(G761-G758=-1,3)+IF(G761-G758=0,2)+IF(G761-G758=1,1)+IF(G761-G758>2,0)","v":0},0,0,0,0,0,0,0,0,{"$f":"SUM(G763:O763)","v":0},{"$f":"IF(Q761-Q758=-2,4)+IF(Q761-Q758=-1,3)+IF(Q761-Q758=0,2)+IF(Q761-Q758=1,1)+IF(Q761-Q758>2,0)","v":0},0,0,0,0,0,0,0,0,{"$f":"SUM(Q763:Y763)","v":0},{"$f":"P763+Z763","v":0}]
[null,null,null,null,null,null,{"$f":"G761-G758","v":6},{"$f":"H761-H758","v":6},5,6,7,5,7,5,7,null,{"$f":"Q761-Q758","v":6},6,7,5,7,6,6,5,6]
[]
[]
[null,null,null,null,null,"Statistiques scores",null,"Eagle & moins",null,null,null,{"$f":"COUNTIF(G764:Y764,\"<=-2\")","v":0},"Par",null,{"$f":"COUNTIF(G764:Y764,\"=0\")","v":0},"Double bogey",null,null,null,null,{"$f":"COUNTIF(G764:Y764,\"=2\")","v":0}]
[null,null,null,null,null,null,null,"Birdie",null,null,null,{"$f":"COUNTIF(G764:Y764,\"=-1\")","v":0},"Bogey",null,{"$f":"COUNTIF(G764:Y764,\"=1\")","v":0},"Triple bogey & plus",null,null,null,null,{"$f":"COUNTIF(G764:Y764,\">=3\")","v":18}]
[null,null,null,null,null,null,null,{"$f":"M767","v":"Par"},null,null,null,{"$f":"O767","v":0}]
[null,null,null,null,null,null,null,{"$f":"M768","v":"Bogey"},null,null,null,{"$f":"O768","v":0}]
[null,null,null,null,null,null,null,{"$f":"P767","v":"Double bogey"},null,null,null,{"$f":"U767","v":0}]
[null,null,null,null,null,null,null,{"$f":"P768","v":"Triple bogey & plus"},null,null,null,{"$f":"U768","v":18}]

{"sheet":"sortie (5)","index":6,"n_rows":772,"n_cols":42,"rows_kept":772,"cut":false,"hidden":false,"merged":[[767,15,767,19],[768,7,768,8],[769,7,769,8],[754,6,754,9],[754,11,754,13],[754,14,754,15],[754,16,754,19],[766,5,767,6],[766,7,766,10],[766,12,766,13],[766,15,766,19],[767,7,767,10],[767,12,767,13],[744,15,744,19],[745,7,745,8],[746,7,746,8],[753,6,753,9],[753,11,753,13],[753,14,753,15],[753,16,753,19],[731,6,731,9],[731,11,731,13],[731,14,731,15],[731,16,731,19],[743,5,744,6],[743,7,743,10],[743,12,743,13],[743,15,743,19],[744,7,744,10],[744,12,744,13],[721,15,721,19],[722,7,722,8],[723,7,723,8],[730,6,730,9],[730,11,730,13],[730,14,730,15],[730,16,730,19],[708,6,708,9],[708,11,708,13],[708,14,708,15],[708,16,708,19],[720,5,721,6],[720,7,720,10],[720,12,720,13],[720,15,720,19],[721,7,721,10],[721,12,721,13],[698,15,698,19],[699,7,699,8],[700,7,700,8],[707,6,707,9],[707,11,707,13],[707,14,707,15],[707,16,707,19],[685,6,685,9],[685,11,685,13],[685,14,685,15],[685,16,685,19],[697,5,698,6],[697,7,697,10],[697,12,697,13],[697,15,697,19],[698,7,698,10],[698,12,698,13],[675,15,675,19],[676,7,676,8],[677,7,677,8],[684,6,684,9],[684,11,684,13],[684,14,684,15],[684,16,684,19],[662,6,662,9],[662,11,662,13],[662,14,662,15],[662,16,662,19],[674,5,675,6],[674,7,674,10],[674,12,674,13],[674,15,674,19],[675,7,675,10],[675,12,675,13],[652,15,652,19],[653,7,653,8],[654,7,654,8],[661,6,661,9],[661,11,661,13],[661,14,661,15],[661,16,661,19],[639,6,639,9],[639,11,639,13],[639,14,639,15],[639,16,639,19],[651,5,652,6],[651,7,651,10],[651,12,651,13],[651,15,651,19],[652,7,652,10],[652,12,652,13],[629,15,629,19],[630,7,630,8],[631,7,631,8],[638,6,638,9],[638,11,638,13],[638,14,638,15],[638,16,638,19],[616,6,616,9],[616,11,616,13],[616,14,616,15],[616,16,616,19],[628,5,629,6],[628,7,628,10],[628,12,628,13],[628,15,628,19],[629,7,629,10],[629,12,629,13],[606,15,606,19],[607,7,607,8],[608,7,608,8],[615,6,615,9],[615,11,615,13],[615,14,615,15],[615,16,615,19],[593,6,593,9],[593,11,593,13],[593,14,593,15],[593,16,593,19],[605,5,606,6],[605,7,605,10],[605,12,605,13],[605,15,605,19],[606,7,606,10],[606,12,606,13],[583,15,583,19],[584,7,584,8],[585,7,585,8],[592,6,592,9],[592,11,592,13],[592,14,592,15],[592,16,592,19],[570,6,570,9],[570,11,570,13],[570,14,570,15],[570,16,570,19],[582,5,583,6],[582,7,582,10],[582,12,582,13],[582,15,582,19],[583,7,583,10],[583,12,583,13],[560,15,560,19],[561,7,561,8],[562,7,562,8],[569,6,569,9],[569,11,569,13],[569,14,569,15],[569,16,569,19],[547,6,547,9],[547,11,547,13],[547,14,547,15],[547,16,547,19],[559,5,560,6],[559,7,559,10],[559,12,559,13],[559,15,559,19],[560,7,560,10],[560,12,560,13],[537,15,537,19],[538,7,538,8],[539,7,539,8],[546,6,546,9],[546,11,546,13],[546,14,546,15],[546,16,546,19],[524,6,524,9],[524,11,524,13],[524,14,524,15],[524,16,524,19],[536,5,537,6],[536,7,536,10],[536,12,536,13],[536,15,536,19],[537,7,537,10],[537,12,537,13],[514,15,514,19],[515,7,515,8],[516,7,516,8],[523,6,523,9],[523,11,523,13],[523,14,523,15],[523,16,523,19],[501,6,501,9],[501,11,501,13],[501,14,501,15],[501,16,501,19],[513,5,514,6],[513,7,513,10],[513,12,513,13],[513,15,513,19],[514,7,514,10],[514,12,514,13],[491,15,491,19],[492,7,492,8],[493,7,493,8],[500,6,500,9],[500,11,500,13],[500,14,500,15],[500,16,500,19],[478,6,478,9],[478,11,478,13],[478,14,478,15],[478,16,478,19],[490,5,491,6],[490,7,490,10],[490,12,490,13],[490,15,490,19],[491,7,491,10],[491,12,491,13],[468,15,468,19],[469,7,469,8],[470,7,470,8],[477,6,477,9],[477,11,477,13],[477,14,477,15],[477,16,477,19],[455,6,455,9],[455,11,455,13],[455,14,455,15],[455,16,455,19],[467,5,468,6],[467,7,467,10],[467,12,467,13],[467,15,467,19],[468,7,468,10],[468,12,468,13],[445,15,445,19],[446,7,446,8],[447,7,447,8],[454,6,454,9],[454,11,454,13],[454,14,454,15],[454,16,454,19],[432,6,432,9],[432,11,432,13],[432,14,432,15],[432,16,432,19],[444,5,445,6],[444,7,444,10],[444,12,444,13],[444,15,444,19],[445,7,445,10],[445,12,445,13],[422,15,422,19],[423,7,423,8],[424,7,424,8],[431,6,431,9],[431,11,431,13],[431,14,431,15],[431,16,431,19],[409,6,409,9],[409,11,409,13],[409,14,409,15],[409,16,409,19],[421,5,422,6],[421,7,421,10],[421,12,421,13],[421,15,421,19],[422,7,422,10],[422,12,422,13],[399,15,399,19],[400,7,400,8],[401,7,401,8],[408,6,408,9],[408,11,408,13],[408,14,408,15],[408,16,408,19],[386,6,386,9],[386,11,386,13],[386,14,386,15],[386,16,386,19],[398,5,399,6],[398,7,398,10],[398,12,398,13],[398,15,398,19],[399,7,399,10],[399,12,399,13],[376,15,376,19],[377,7,377,8],[378,7,378,8],[385,6,385,9],[385,11,385,13],[385,14,385,15],[385,16,385,19],[363,6,363,9],[363,11,363,13],[363,14,363,15],[363,16,363,19],[375,5,376,6],[375,7,375,10],[375,12,375,13],[375,15,375,19],[376,7,376,10],[376,12,376,13],[353,15,353,19],[354,7,354,8],[355,7,355,8],[362,6,362,9],[362,11,362,13],[362,14,362,15],[362,16,362,19],[340,6,340,9],[340,11,340,13],[340,14,340,15],[340,16,340,19],[352,5,353,6],[352,7,352,10],[352,12,352,13],[352,15,352,19],[353,7,353,10],[353,12,353,13],[330,15,330,19],[331,7,331,8],[332,7,332,8],[339,6,339,9],[339,11,339,13],[339,14,339,15],[339,16,339,19],[317,6,317,9],[317,11,317,13],[317,14,317,15],[317,16,317,19],[329,5,330,6],[329,7,329,10],[329,12,329,13],[329,15,329,19],[330,7,330,10],[330,12,330,13],[307,15,307,19],[308,7,308,8],[309,7,309,8],[316,6,316,9],[316,11,316,13],[316,14,316,15],[316,16,316,19],[294,6,294,9],[294,11,294,13],[294,14,294,15],[294,16,294,19],[306,5,307,6],[306,7,306,10],[306,12,306,13],[306,15,306,19],[307,7,307,10],[307,12,307,13],[284,15,284,19],[285,7,285,8],[286,7,286,8],[293,6,293,9],[293,11,293,13],[293,14,293,15],[293,16,293,19],[271,6,271,9],[271,11,271,13],[271,14,271,15],[271,16,271,19],[283,5,284,6],[283,7,283,10],[283,12,283,13],[283,15,283,19],[284,7,284,10],[284,12,284,13],[261,15,261,19],[262,7,262,8],[263,7,263,8],[270,6,270,9],[270,11,270,13],[270,14,270,15],[270,16,270,19],[248,6,248,9],[248,11,248,13],[248,14,248,15],[248,16,248,19],[260,5,261,6],[260,7,260,10],[260,12,260,13],[260,15,260,19],[261,7,261,10],[261,12,261,13],[238,15,238,19],[239,7,239,8],[240,7,240,8],[247,6,247,9],[247,11,247,13],[247,14,247,15],[247,16,247,19],[225,6,225,9],[225,11,225,13],[225,14,225,15],[225,16,225,19],[237,5,238,6],[237,7,237,10],[237,12,237,13],[237,15,237,19],[238,7,238,10],[238,12,238,13],[215,15,215,19],[216,7,216,8],[217,7,217,8],[224,6,224,9],[224,11,224,13],[224,14,224,15],[224,16,224,19],[202,6,202,9],[202,11,202,13],[202,14,202,15],[202,16,202,19],[214,5,215,6],[214,7,214,10],[214,12,214,13],[214,15,214,19],[215,7,215,10],[215,12,215,13],[192,15,192,19],[193,7,193,8],[194,7,194,8],[201,6,201,9],[201,11,201,13],[201,14,201,15],[201,16,201,19],[179,6,179,9],[179,11,179,13],[179,14,179,15],[179,16,179,19],[191,5,192,6],[191,7,191,10],[191,12,191,13],[191,15,191,19],[192,7,192,10],[192,12,192,13],[169,15,169,19],[170,7,170,8],[171,7,171,8],[178,6,178,9],[178,11,178,13],[178,14,178,15],[178,16,178,19],[156,6,156,9],[156,11,156,13],[156,14,156,15],[156,16,156,19],[168,5,169,6],[168,7,168,10],[168,12,168,13],[168,15,168,19],[169,7,169,10],[169,12,169,13],[146,15,146,19],[147,7,147,8],[148,7,148,8],[155,6,155,9],[155,11,155,13],[155,14,155,15],[155,16,155,19],[133,6,133,9],[133,11,133,13],[133,14,133,15],[133,16,133,19],[145,5,146,6],[145,7,145,10],[145,12,145,13],[145,15,145,19],[146,7,146,10],[146,12,146,13],[123,15,123,19],[124,7,124,8],[125,7,125,8],[132,6,132,9],[132,11,132,13],[132,14,132,15],[132,16,132,19],[110,6,110,9],[110,11,110,13],[110,14,110,15],[110,16,110,19],[122,5,123,6],[122,7,122,10],[122,12,122,13],[122,15,122,19],[123,7,123,10],[123,12,123,13],[100,15,100,19],[101,7,101,8],[102,7,102,8],[109,6,109,9],[109,11,109,13],[109,14,109,15],[109,16,109,19],[87,6,87,9],[87,11,87,13],[87,14,87,15],[87,16,87,19],[99,5,100,6],[99,7,99,10],[99,12,99,13],[99,15,99,19],[100,7,100,10],[100,12,100,13],[76,9,76,12],[76,13,76,15],[76,21,76,24],[76,25,76,26],[80,7,82,20],[86,6,86,9],[86,11,86,13],[86,14,86,15],[86,16,86,19],[74,9,74,12],[74,13,74,15],[74,21,74,24],[74,25,74,26],[75,9,75,12],[75,13,75,15],[75,21,75,24],[75,25,75,26],[72,9,72,12],[72,13,72,15],[72,21,72,24],[72,25,72,26],[73,9,73,12],[73,13,73,15],[73,21,73,24],[73,25,73,26],[70,9,70,12],[70,13,70,15],[70,21,70,24],[70,25,70,26],[71,9,71,12],[71,13,71,15],[71,21,71,24],[71,25,71,26],[68,9,68,12],[68,13,68,15],[68,21,68,24],[68,25,68,26],[69,9,69,12],[69,13,69,15],[69,21,69,24],[69,25,69,26],[66,9,66,12],[66,13,66,15],[66,21,66,24],[66,25,66,26],[67,9,67,12],[67,13,67,15],[67,21,67,24],[67,25,67,26],[64,9,64,12],[64,13,64,15],[64,21,64,24],[64,25,64,26],[65,9,65,12],[65,13,65,15],[65,21,65,24],[65,25,65,26],[62,9,62,12],[62,13,62,15],[62,21,62,24],[62,25,62,26],[63,9,63,12],[63,13,63,15],[63,21,63,24],[63,25,63,26],[60,9,60,12],[60,13,60,15],[60,21,60,24],[60,25,60,26],[61,9,61,12],[61,13,61,15],[61,21,61,24],[61,25,61,26],[58,9,58,12],[58,13,58,15],[58,21,58,24],[58,25,58,26],[59,9,59,12],[59,13,59,15],[59,21,59,24],[59,25,59,26],[56,9,56,12],[56,13,56,15],[56,21,56,24],[56,25,56,26],[57,9,57,12],[57,13,57,15],[57,21,57,24],[57,25,57,26],[54,9,54,12],[54,13,54,15],[54,21,54,24],[54,25,54,26],[55,9,55,12],[55,13,55,15],[55,21,55,24],[55,25,55,26],[52,9,52,12],[52,13,52,15],[52,21,52,24],[52,25,52,26],[53,9,53,12],[53,13,53,15],[53,21,53,24],[53,25,53,26],[1,6,1,9],[1,13,3,24],[2,6,2,9],[40,7,42,20],[50,9,50,12],[50,13,50,15],[50,21,50,24],[50,25,50,26],[51,9,51,12],[51,13,51,15],[51,21,51,24],[51,25,51,26],[48,9,48,12],[48,13,48,15],[48,21,48,24],[48,25,48,26],[49,9,49,12],[49,13,49,15],[49,21,49,24],[49,25,49,26],[44,2,44,4],[44,9,44,16],[44,21,44,27],[46,9,46,12],[46,13,46,15],[46,21,46,24],[46,25,46,26],[47,9,47,12],[47,13,47,15],[47,21,47,24],[47,25,47,26]]}
[]
[null,null,"Golf","D",null,"Slope","SSS",null,null,null,null,null,null,"CARTE DE SCORE"]
[null,null,"Date",null,null,133,68.599999999999994]
[]
[null,null,"Individuel Stableford BRUT/NET"]
[null,null,null,null,"Index","HCP trous",1,2,3,4,5,6,7,8,9,"Aller",10,11,12,13,14,15,16,17,18,"Retour","Total"]
[null,null,null,null,null,"PAR",4,4,5,4,3,5,3,5,3,{"$f":"SUM(G7:O7)","v":36},4,4,3,5,3,4,4,5,4,{"$f":"SUM(Q7:Y7)","v":36},{"$f":"SUM(P7+Z7)","v":72}]
[null,null,"Noms","Prénoms",null,"Trou",4,8,12,14,2,10,18,16,6,null,1,9,11,5,17,15,3,13,7,null,null,null,"NET","Classt","Rang","Points",null,"BRUT","Classt","Rang","Points",null,"STROKE","Classt","Rang","Points"]
[null,1,null,null,20,null,10,10,10,10,10,10,10,10,10,{"$f":"SUM(G9:O9)","v":90},10,10,10,10,10,10,10,10,10,{"$f":"SUM(Q9:Y9)","v":90},{"$f":"SUM(P9+Z9)","v":180},null,{"$f":"$AA$95","v":0},{"$f":"RANK(AC9,AC$9:AC$38,0)+COUNTIF(AC9:$AC$9,AC9)-1","v":1},{"$f":"RANK(AC9,AC$9:AC$38,0)","v":1},{"$f":"IF(ISBLANK($C9),0,1)*INDEX('Allocation Points'!$B$3:$AG$32,AE9,COUNTIF(AE$9:AE$38,AE9)+2)","v":0},null,{"$f":"AA96","v":0},{"$f":"RANK(AH9,AH$9:AH$38,0)+COUNTIF(AH9:$AH$9,AH9)-1","v":1},{"$f":"RANK(AH9,AH$9:AH$38,0)","v":1},{"$f":"IF(ISBLANK($C9),0,1)*INDEX('Allocation Points'!$B$3:$AG$32,AJ9,COUNTIF(AJ$9:AJ$38,AJ9)+2)","v":0},null,{"$f":"AA94","v":180},{"$f":"RANK(AM9,AM$9:AM$38,1)+COUNTIF(AM9:$AM$9,AM9)-1","v":1},{"$f":"RANK(AM9,AM$9:AM$38,1)","v":1},{"$f":"IF(ISBLANK($C9),0,1)*INDEX('Allocation Points'!$B$3:$AG$32,AO9,COUNTIF(AO$9:AO$38,AO9)+2)","v":0}]
[null,2,null,null,20,null,10,10,10,10,10,10,10,10,10,90,10,10,10,10,10,10,10,10,10,90,180,null,{"$f":"$AA$118","v":0},{"$f":"RANK(AC10,AC$9:AC$38,0)+COUNTIF(AC$9:$AC10,AC10)-1","v":2},{"$f":"RANK(AC10,AC$9:AC$38,0)","v":1},{"$f":"IF(ISBLANK($C10),0,1)*INDEX('Allocation Points'!$B$3:$AG$32,AE10,COUNTIF(AE$9:AE$38,AE10)+2)","v":0},null,{"$f":"AA119","v":0},{"$f":"RANK(AH10,AH$9:AH$38,0)+COUNTIF(AH$9:$AH10,AH10)-1","v":2},{"$f":"RANK(AH10,AH$9:AH$38,0)","v":1},{"$f":"IF(ISBLANK($C10),0,1)*INDEX('Allocation Points'!$B$3:$AG$32,AJ10,COUNTIF(AJ$9:AJ$38,AJ10)+2)","v":0},null,{"$f":"AA117","v":180},{"$f":"RANK(AM10,AM$9:AM$38,1)+COUNTIF(AM$9:$AM10,AM10)-1","v":2},{"$f":"RANK(AM10,AM$9:AM$38,1)","v":1},{"$f":"IF(ISBLANK($C10),0,1)*INDEX('Allocation Points'!$B$3:$AG$32,AO10,COUNTIF(AO$9:AO$38,AO10)+2)","v":0}]
[null,3,null,null,20,null,10,10,10,10,10,10,10,10,10,90,10,10,10,10,10,10,10,10,10,90,180,null,{"$f":"$AA$141","v":0},{"$f":"RANK(AC11,AC$9:AC$38,0)+COUNTIF(AC$9:$AC11,AC11)-1","v":3},1,{"$f":"IF(ISBLANK($C11),0,1)*INDEX('Allocation Points'!$B$3:$AG$32,AE11,COUNTIF(AE$9:AE$38,AE11)+2)","v":0},null,{"$f":"AA142","v":0},{"$f":"RANK(AH11,AH$9:AH$38,0)+COUNTIF(AH$9:$AH11,AH11)-1","v":3},1,{"$f":"IF(ISBLANK($C11),0,1)*INDEX('Allocation Points'!$B$3:$AG$32,AJ11,COUNTIF(AJ$9:AJ$38,AJ11)+2)","v":0},null,{"$f":"AA140","v":180},{"$f":"RANK(AM11,AM$9:AM$38,1)+COUNTIF(AM$9:$AM11,AM11)-1","v":3},1,{"$f":"IF(ISBLANK($C11),0,1)*INDEX('Allocation Points'!$B$3:$AG$32,AO11,COUNTIF(AO$9:AO$38,AO11)+2)","v":0}]
[null,4,null,null,20,null,10,10,10,10,10,10,10,10,10,90,10,10,10,10,10,10,10,10,10,90,180,null,{"$f":"$AA$164","v":0},{"$f":"RANK(AC12,AC$9:AC$38,0)+COUNTIF(AC$9:$AC12,AC12)-1","v":4},1,{"$f":"IF(ISBLANK($C12),0,1)*INDEX('Allocation Points'!$B$3:$AG$32,AE12,COUNTIF(AE$9:AE$38,AE12)+2)","v":0},null,{"$f":"AA165","v":0},{"$f":"RANK(AH12,AH$9:AH$38,0)+COUNTIF(AH$9:$AH12,AH12)-1","v":4},1,{"$f":"IF(ISBLANK($C12),0,1)*INDEX('Allocation Points'!$B$3:$AG$32,AJ12,COUNTIF(AJ$9:AJ$38,AJ12)+2)","v":0},null,{"$f":"AA163","v":180},{"$f":"RANK(AM12,AM$9:AM$38,1)+COUNTIF(AM$9:$AM12,AM12)-1","v":4},1,{"$f":"IF(ISBLANK($C12),0,1)*INDEX('Allocation Points'!$B$3:$AG$32,AO12,COUNTIF(AO$9:AO$38,AO12)+2)","v":0}]
[null,5,null,null,20,null,10,10,10,10,10,10,10,10,10,90,10,10,10,10,10,10,10,10,10,90,180,null,{"$f":"$AA$187","v":0},{"$f":"RANK(AC13,AC$9:AC$38,0)+COUNTIF(AC$9:$AC13,AC13)-1","v":5},1,{"$f":"IF(ISBLANK($C13),0,1)*INDEX('Allocation Points'!$B$3:$AG$32,AE13,COUNTIF(AE$9:AE$38,AE13)+2)","v":0},null,{"$f":"AA188","v":0},{"$f":"RANK(AH13,AH$9:AH$38,0)+COUNTIF(AH$9:$AH13,AH13)-1","v":5},1,{"$f":"IF(ISBLANK($C13),0,1)*INDEX('Allocation Points'!$B$3:$AG$32,AJ13,COUNTIF(AJ$9:AJ$38,AJ13)+2)","v":0},null,{"$f":"AA186","v":180},{"$f":"RANK(AM13,AM$9:AM$38,1)+COUNTIF(AM$9:$AM13,AM13)-1","v":5},1,{"$f":"IF(ISBLANK($C13),0,1)*INDEX('Allocation Points'!$B$3:$AG$32,AO13,COUNTIF(AO$9:AO$38,AO13)+2)","v":0}]
[null,6,null,null,20,null,10,10,10,10,10,10,10,10,10,90,10,10,10,10,10,10,10,10,10,90,180,null,{"$f":"$AA$210","v":0},{"$f":"RANK(AC14,AC$9:AC$38,0)+COUNTIF(AC$9:$AC14,AC14)-1","v":6},1,{"$f":"IF(ISBLANK($C14),0,1)*INDEX('Allocation Points'!$B$3:$AG$32,AE14,COUNTIF(AE$9:AE$38,AE14)+2)","v":0},null,{"$f":"AA211","v":0},{"$f":"RANK(AH14,AH$9:AH$38,0)+COUNTIF(AH$9:$AH14,AH14)-1","v":6},1,{"$f":"IF(ISBLANK($C14),0,1)*INDEX('Allocation Points'!$B$3:$AG$32,AJ14,COUNTIF(AJ$9:AJ$38,AJ14)+2)","v":0},null,{"$f":"AA209","v":180},{"$f":"RANK(AM14,AM$9:AM$38,1)+COUNTIF(AM$9:$AM14,AM14)-1","v":6},1,{"$f":"IF(ISBLANK($C14),0,1)*INDEX('Allocation Points'!$B$3:$AG$32,AO14,COUNTIF(AO$9:AO$38,AO14)+2)","v":0}]
[null,7,null,null,20,null,10,10,10,10,10,10,10,10,10,90,10,10,10,10,10,10,10,10,10,90,180,null,{"$f":"$AA$233","v":0},{"$f":"RANK(AC15,AC$9:AC$38,0)+COUNTIF(AC$9:$AC15,AC15)-1","v":7},1,{"$f":"IF(ISBLANK($C15),0,1)*INDEX('Allocation Points'!$B$3:$AG$32,AE15,COUNTIF(AE$9:AE$38,AE15)+2)","v":0},null,{"$f":"AA234","v":0},{"$f":"RANK(AH15,AH$9:AH$38,0)+COUNTIF(AH$9:$AH15,AH15)-1","v":7},1,{"$f":"IF(ISBLANK($C15),0,1)*INDEX('Allocation Points'!$B$3:$AG$32,AJ15,COUNTIF(AJ$9:AJ$38,AJ15)+2)","v":0},null,{"$f":"AA232","v":180},{"$f":"RANK(AM15,AM$9:AM$38,1)+COUNTIF(AM$9:$AM15,AM15)-1","v":7},1,{"$f":"IF(ISBLANK($C15),0,1)*INDEX('Allocation Points'!$B$3:$AG$32,AO15,COUNTIF(AO$9:AO$38,AO15)+2)","v":0}]
[null,8,null,null,20,null,10,10,10,10,10,10,10,10,10,90,10,10,10,10,10,10,10,10,10,90,180,null,{"$f":"$AA$256","v":0},{"$f":"RANK(AC16,AC$9:AC$38,0)+COUNTIF(AC$9:$AC16,AC16)-1","v":8},1,{"$f":"IF(ISBLANK($C16),0,1)*INDEX('Allocation Points'!$B$3:$AG$32,AE16,COUNTIF(AE$9:AE$38,AE16)+2)","v":0},null,{"$f":"AA257","v":0},{"$f":"RANK(AH16,AH$9:AH$38,0)+COUNTIF(AH$9:$AH16,AH16)-1","v":8},1,{"$f":"IF(ISBLANK($C16),0,1)*INDEX('Allocation Points'!$B$3:$AG$32,AJ16,COUNTIF(AJ$9:AJ$38,AJ16)+2)","v":0},null,{"$f":"AA255","v":180},{"$f":"RANK(AM16,AM$9:AM$38,1)+COUNTIF(AM$9:$AM16,AM16)-1","v":8},1,{"$f":"IF(ISBLANK($C16),0,1)*INDEX('Allocation Points'!$B$3:$AG$32,AO16,COUNTIF(AO$9:AO$38,AO16)+2)","v":0}]
[null,9,null,null,20,null,10,10,10,10,10,10,10,10,10,90,10,10,10,10,10,10,10,10,10,90,180,null,{"$f":"$AA$279","v":0},{"$f":"RANK(AC17,AC$9:AC$38,0)+COUNTIF(AC$9:$AC17,AC17)-1","v":9},1,{"$f":"IF(ISBLANK($C17),0,1)*INDEX('Allocation Points'!$B$3:$AG$32,AE17,COUNTIF(AE$9:AE$38,AE17)+2)","v":0},null,{"$f":"AA280","v":0},{"$f":"RANK(AH17,AH$9:AH$38,0)+COUNTIF(AH$9:$AH17,AH17)-1","v":9},1,{"$f":"IF(ISBLANK($C17),0,1)*INDEX('Allocation Points'!$B$3:$AG$32,AJ17,COUNTIF(AJ$9:AJ$38,AJ17)+2)","v":0},null,{"$f":"AA278","v":180},{"$f":"RANK(AM17,AM$9:AM$38,1)+COUNTIF(AM$9:$AM17,AM17)-1","v":9},1,{"$f":"IF(ISBLANK($C17),0,1)*INDEX('Allocation Points'!$B$3:$AG$32,AO17,COUNTIF(AO$9:AO$38,AO17)+2)","v":0}]
[null,10,null,null,20,null,10,10,10,10,10,10,10,10,10,90,10,10,10,10,10,10,10,10,10,90,180,null,{"$f":"$AA$302","v":0},{"$f":"RANK(AC18,AC$9:AC$38,0)+COUNTIF(AC$9:$AC18,AC18)-1","v":10},1,{"$f":"IF(ISBLANK($C18),0,1)*INDEX('Allocation Points'!$B$3:$AG$32,AE18,COUNTIF(AE$9:AE$38,AE18)+2)","v":0},null,{"$f":"AA303","v":0},{"$f":"RANK(AH18,AH$9:AH$38,0)+COUNTIF(AH$9:$AH18,AH18)-1","v":10},1,{"$f":"IF(ISBLANK($C18),0,1)*INDEX('Allocation Points'!$B$3:$AG$32,AJ18,COUNTIF(AJ$9:AJ$38,AJ18)+2)","v":0},null,{"$f":"AA301","v":180},{"$f":"RANK(AM18,AM$9:AM$38,1)+COUNTIF(AM$9:$AM18,AM18)-1","v":10},1,{"$f":"IF(ISBLANK($C18),0,1)*INDEX('Allocation Points'!$B$3:$AG$32,AO18,COUNTIF(AO$9:AO$38,AO18)+2)","v":0}]
[null,11,null,null,20,null,10,10,10,10,10,10,10,10,10,90,10,10,10,10,10,10,10,10,10,90,180,null,{"$f":"$AA$325","v":0},{"$f":"RANK(AC19,AC$9:AC$38,0)+COUNTIF(AC$9:$AC19,AC19)-1","v":11},1,{"$f":"IF(ISBLANK($C19),0,1)*INDEX('Allocation Points'!$B$3:$AG$32,AE19,COUNTIF(AE$9:AE$38,AE19)+2)","v":0},null,{"$f":"AA326","v":0},{"$f":"RANK(AH19,AH$9:AH$38,0)+COUNTIF(AH$9:$AH19,AH19)-1","v":11},1,{"$f":"IF(ISBLANK($C19),0,1)*INDEX('Allocation Points'!$B$3:$AG$32,AJ19,COUNTIF(AJ$9:AJ$38,AJ19)+2)","v":0},null,{"$f":"AA324","v":180},{"$f":"RANK(AM19,AM$9:AM$38,1)+COUNTIF(AM$9:$AM19,AM19)-1","v":11},1,{"$f":"IF(ISBLANK($C19),0,1)*INDEX('Allocation Points'!$B$3:$AG$32,AO19,COUNTIF(AO$9:AO$38,AO19)+2)","v":0}]
[null,12,null,null,20,null,10,10,10,10,10,10,10,10,10,90,10,10,10,10,10,10,10,10,10,90,180,null,{"$f":"$AA$348","v":0},{"$f":"RANK(AC20,AC$9:AC$38,0)+COUNTIF(AC$9:$AC20,AC20)-1","v":12},1,{"$f":"IF(ISBLANK($C20),0,1)*INDEX('Allocation Points'!$B$3:$AG$32,AE20,COUNTIF(AE$9:AE$38,AE20)+2)","v":0},null,{"$f":"AA349","v":0},{"$f":"RANK(AH20,AH$9:AH$38,0)+COUNTIF(AH$9:$AH20,AH20)-1","v":12},1,{"$f":"IF(ISBLANK($C20),0,1)*INDEX('Allocation Points'!$B$3:$AG$32,AJ20,COUNTIF(AJ$9:AJ$38,AJ20)+2)","v":0},null,{"$f":"AA347","v":180},{"$f":"RANK(AM20,AM$9:AM$38,1)+COUNTIF(AM$9:$AM20,AM20)-1","v":12},1,{"$f":"IF(ISBLANK($C20),0,1)*INDEX('Allocation Points'!$B$3:$AG$32,AO20,COUNTIF(AO$9:AO$38,AO20)+2)","v":0}]
[null,13,null,null,20,null,10,10,10,10,10,10,10,10,10,90,10,10,10,10,10,10,10,10,10,90,180,null,{"$f":"$AA$371","v":0},{"$f":"RANK(AC21,AC$9:AC$38,0)+COUNTIF(AC$9:$AC21,AC21)-1","v":13},1,{"$f":"IF(ISBLANK($C21),0,1)*INDEX('Allocation Points'!$B$3:$AG$32,AE21,COUNTIF(AE$9:AE$38,AE21)+2)","v":0},null,{"$f":"AA372","v":0},{"$f":"RANK(AH21,AH$9:AH$38,0)+COUNTIF(AH$9:$AH21,AH21)-1","v":13},1,{"$f":"IF(ISBLANK($C21),0,1)*INDEX('Allocation Points'!$B$3:$AG$32,AJ21,COUNTIF(AJ$9:AJ$38,AJ21)+2)","v":0},null,{"$f":"AA370","v":180},{"$f":"RANK(AM21,AM$9:AM$38,1)+COUNTIF(AM$9:$AM21,AM21)-1","v":13},1,{"$f":"IF(ISBLANK($C21),0,1)*INDEX('Allocation Points'!$B$3:$AG$32,AO21,COUNTIF(AO$9:AO$38,AO21)+2)","v":0}]
[null,14,null,null,20,null,10,10,10,10,10,10,10,10,10,90,10,10,10,10,10,10,10,10,10,90,180,null,{"$f":"$AA$394","v":0},{"$f":"RANK(AC22,AC$9:AC$38,0)+COUNTIF(AC$9:$AC22,AC22)-1","v":14},1,{"$f":"IF(ISBLANK($C22),0,1)*INDEX('Allocation Points'!$B$3:$AG$32,AE22,COUNTIF(AE$9:AE$38,AE22)+2)","v":0},null,{"$f":"AA395","v":0},{"$f":"RANK(AH22,AH$9:AH$38,0)+COUNTIF(AH$9:$AH22,AH22)-1","v":14},1,{"$f":"IF(ISBLANK($C22),0,1)*INDEX('Allocation Points'!$B$3:$AG$32,AJ22,COUNTIF(AJ$9:AJ$38,AJ22)+2)","v":0},null,{"$f":"AA393","v":180},{"$f":"RANK(AM22,AM$9:AM$38,1)+COUNTIF(AM$9:$AM22,AM22)-1","v":14},1,{"$f":"IF(ISBLANK($C22),0,1)*INDEX('Allocation Points'!$B$3:$AG$32,AO22,COUNTIF(AO$9:AO$38,AO22)+2)","v":0}]
[null,15,null,null,20,null,10,10,10,10,10,10,10,10,10,90,10,10,10,10,10,10,10,10,10,90,180,null,{"$f":"$AA$417","v":0},{"$f":"RANK(AC23,AC$9:AC$38,0)+COUNTIF(AC$9:$AC23,AC23)-1","v":15},1,{"$f":"IF(ISBLANK($C23),0,1)*INDEX('Allocation Points'!$B$3:$AG$32,AE23,COUNTIF(AE$9:AE$38,AE23)+2)","v":0},null,{"$f":"AA418","v":0},{"$f":"RANK(AH23,AH$9:AH$38,0)+COUNTIF(AH$9:$AH23,AH23)-1","v":15},1,{"$f":"IF(ISBLANK($C23),0,1)*INDEX('Allocation Points'!$B$3:$AG$32,AJ23,COUNTIF(AJ$9:AJ$38,AJ23)+2)","v":0},null,{"$f":"AA416","v":180},{"$f":"RANK(AM23,AM$9:AM$38,1)+COUNTIF(AM$9:$AM23,AM23)-1","v":15},1,{"$f":"IF(ISBLANK($C23),0,1)*INDEX('Allocation Points'!$B$3:$AG$32,AO23,COUNTIF(AO$9:AO$38,AO23)+2)","v":0}]
[null,16,null,null,20,null,10,10,10,10,10,10,10,10,10,90,10,10,10,10,10,10,10,10,10,90,180,null,{"$f":"$AA$440","v":0},{"$f":"RANK(AC24,AC$9:AC$38,0)+COUNTIF(AC$9:$AC24,AC24)-1","v":16},1,{"$f":"IF(ISBLANK($C24),0,1)*INDEX('Allocation Points'!$B$3:$AG$32,AE24,COUNTIF(AE$9:AE$38,AE24)+2)","v":0},null,{"$f":"AA441","v":0},{"$f":"RANK(AH24,AH$9:AH$38,0)+COUNTIF(AH$9:$AH24,AH24)-1","v":16},1,{"$f":"IF(ISBLANK($C24),0,1)*INDEX('Allocation Points'!$B$3:$AG$32,AJ24,COUNTIF(AJ$9:AJ$38,AJ24)+2)","v":0},null,{"$f":"AA439","v":180},{"$f":"RANK(AM24,AM$9:AM$38,1)+COUNTIF(AM$9:$AM24,AM24)-1","v":16},1,{"$f":"IF(ISBLANK($C24),0,1)*INDEX('Allocation Points'!$B$3:$AG$32,AO24,COUNTIF(AO$9:AO$38,AO24)+2)","v":0}]
[null,17,null,null,20,null,10,10,10,10,10,10,10,10,10,90,10,10,10,10,10,10,10,10,10,90,180,null,{"$f":"$AA$463","v":0},{"$f":"RANK(AC25,AC$9:AC$38,0)+COUNTIF(AC$9:$AC25,AC25)-1","v":17},1,{"$f":"IF(ISBLANK($C25),0,1)*INDEX('Allocation Points'!$B$3:$AG$32,AE25,COUNTIF(AE$9:AE$38,AE25)+2)","v":0},null,{"$f":"AA464","v":0},{"$f":"RANK(AH25,AH$9:AH$38,0)+COUNTIF(AH$9:$AH25,AH25)-1","v":17},1,{"$f":"IF(ISBLANK($C25),0,1)*INDEX('Allocation Points'!$B$3:$AG$32,AJ25,COUNTIF(AJ$9:AJ$38,AJ25)+2)","v":0},null,{"$f":"AA462","v":180},{"$f":"RANK(AM25,AM$9:AM$38,1)+COUNTIF(AM$9:$AM25,AM25)-1","v":17},1,{"$f":"IF(ISBLANK($C25),0,1)*INDEX('Allocation Points'!$B$3:$AG$32,AO25,COUNTIF(AO$9:AO$38,AO25)+2)","v":0}]
[null,18,null,null,20,null,10,10,10,10,10,10,10,10,10,90,10,10,10,10,10,10,10,10,10,90,180,null,{"$f":"$AA$486","v":0},{"$f":"RANK(AC26,AC$9:AC$38,0)+COUNTIF(AC$9:$AC26,AC26)-1","v":18},1,{"$f":"IF(ISBLANK($C26),0,1)*INDEX('Allocation Points'!$B$3:$AG$32,AE26,COUNTIF(AE$9:AE$38,AE26)+2)","v":0},null,{"$f":"AA487","v":0},{"$f":"RANK(AH26,AH$9:AH$38,0)+COUNTIF(AH$9:$AH26,AH26)-1","v":18},1,{"$f":"IF(ISBLANK($C26),0,1)*INDEX('Allocation Points'!$B$3:$AG$32,AJ26,COUNTIF(AJ$9:AJ$38,AJ26)+2)","v":0},null,{"$f":"AA485","v":180},{"$f":"RANK(AM26,AM$9:AM$38,1)+COUNTIF(AM$9:$AM26,AM26)-1","v":18},1,{"$f":"IF(ISBLANK($C26),0,1)*INDEX('Allocation Points'!$B$3:$AG$32,AO26,COUNTIF(AO$9:AO$38,AO26)+2)","v":0}]
[null,19,null,null,20,null,10,10,10,10,10,10,10,10,10,90,10,10,10,10,10,10,10,10,10,90,180,null,{"$f":"$AA$509","v":0},{"$f":"RANK(AC27,AC$9:AC$38,0)+COUNTIF(AC$9:$AC27,AC27)-1","v":19},1,{"$f":"IF(ISBLANK($C27),0,1)*INDEX('Allocation Points'!$B$3:$AG$32,AE27,COUNTIF(AE$9:AE$38,AE27)+2)","v":0},null,{"$f":"AA510","v":0},{"$f":"RANK(AH27,AH$9:AH$38,0)+COUNTIF(AH$9:$AH27,AH27)-1","v":19},1,{"$f":"IF(ISBLANK($C27),0,1)*INDEX('Allocation Points'!$B$3:$AG$32,AJ27,COUNTIF(AJ$9:AJ$38,AJ27)+2)","v":0},null,{"$f":"AA508","v":180},{"$f":"RANK(AM27,AM$9:AM$38,1)+COUNTIF(AM$9:$AM27,AM27)-1","v":19},1,{"$f":"IF(ISBLANK($C27),0,1)*INDEX('Allocation Points'!$B$3:$AG$32,AO27,COUNTIF(AO$9:AO$38,AO27)+2)","v":0}]
[null,20,null,null,20,null,10,10,10,10,10,10,10,10,10,90,10,10,10,10,10,10,10,10,10,90,180,null,{"$f":"$AA$532","v":0},{"$f":"RANK(AC28,AC$9:AC$38,0)+COUNTIF(AC$9:$AC28,AC28)-1","v":20},1,{"$f":"IF(ISBLANK($C28),0,1)*INDEX('Allocation Points'!$B$3:$AG$32,AE28,COUNTIF(AE$9:AE$38,AE28)+2)","v":0},null,{"$f":"AA533","v":0},{"$f":"RANK(AH28,AH$9:AH$38,0)+COUNTIF(AH$9:$AH28,AH28)-1","v":20},1,{"$f":"IF(ISBLANK($C28),0,1)*INDEX('Allocation Points'!$B$3:$AG$32,AJ28,COUNTIF(AJ$9:AJ$38,AJ28)+2)","v":0},null,{"$f":"AA531","v":180},{"$f":"RANK(AM28,AM$9:AM$38,1)+COUNTIF(AM$9:$AM28,AM28)-1","v":20},1,{"$f":"IF(ISBLANK($C28),0,1)*INDEX('Allocation Points'!$B$3:$AG$32,AO28,COUNTIF(AO$9:AO$38,AO28)+2)","v":0}]
[null,21,null,null,20,null,10,10,10,10,10,10,10,10,10,90,10,10,10,10,10,10,10,10,10,90,180,null,{"$f":"$AA$555","v":0},{"$f":"RANK(AC29,AC$9:AC$38,0)+COUNTIF(AC$9:$AC29,AC29)-1","v":21},1,{"$f":"IF(ISBLANK($C29),0,1)*INDEX('Allocation Points'!$B$3:$AG$32,AE29,COUNTIF(AE$9:AE$38,AE29)+2)","v":0},null,{"$f":"AA556","v":0},{"$f":"RANK(AH29,AH$9:AH$38,0)+COUNTIF(AH$9:$AH29,AH29)-1","v":21},1,{"$f":"IF(ISBLANK($C29),0,1)*INDEX('Allocation Points'!$B$3:$AG$32,AJ29,COUNTIF(AJ$9:AJ$38,AJ29)+2)","v":0},null,{"$f":"AA554","v":180},{"$f":"RANK(AM29,AM$9:AM$38,1)+COUNTIF(AM$9:$AM29,AM29)-1","v":21},1,{"$f":"IF(ISBLANK($C29),0,1)*INDEX('Allocation Points'!$B$3:$AG$32,AO29,COUNTIF(AO$9:AO$38,AO29)+2)","v":0}]
[null,22,null,null,20,null,10,10,10,10,10,10,10,10,10,90,10,10,10,10,10,10,10,10,10,90,180,null,{"$f":"$AA$578","v":0},{"$f":"RANK(AC30,AC$9:AC$38,0)+COUNTIF(AC$9:$AC30,AC30)-1","v":22},1,{"$f":"IF(ISBLANK($C30),0,1)*INDEX('Allocation Points'!$B$3:$AG$32,AE30,COUNTIF(AE$9:AE$38,AE30)+2)","v":0},null,{"$f":"AA579","v":0},{"$f":"RANK(AH30,AH$9:AH$38,0)+COUNTIF(AH$9:$AH30,AH30)-1","v":22},1,{"$f":"IF(ISBLANK($C30),0,1)*INDEX('Allocation Points'!$B$3:$AG$32,AJ30,COUNTIF(AJ$9:AJ$38,AJ30)+2)","v":0},null,{"$f":"AA577","v":180},{"$f":"RANK(AM30,AM$9:AM$38,1)+COUNTIF(AM$9:$AM30,AM30)-1","v":22},1,{"$f":"IF(ISBLANK($C30),0,1)*INDEX('Allocation Points'!$B$3:$AG$32,AO30,COUNTIF(AO$9:AO$38,AO30)+2)","v":0}]
[null,23,null,null,20,null,10,10,10,10,10,10,10,10,10,90,10,10,10,10,10,10,10,10,10,90,180,null,{"$f":"$AA$601","v":0},{"$f":"RANK(AC31,AC$9:AC$38,0)+COUNTIF(AC$9:$AC31,AC31)-1","v":23},1,{"$f":"IF(ISBLANK($C31),0,1)*INDEX('Allocation Points'!$B$3:$AG$32,AE31,COUNTIF(AE$9:AE$38,AE31)+2)","v":0},null,{"$f":"AA602","v":0},{"$f":"RANK(AH31,AH$9:AH$38,0)+COUNTIF(AH$9:$AH31,AH31)-1","v":23},1,{"$f":"IF(ISBLANK($C31),0,1)*INDEX('Allocation Points'!$B$3:$AG$32,AJ31,COUNTIF(AJ$9:AJ$38,AJ31)+2)","v":0},null,{"$f":"AA600","v":180},{"$f":"RANK(AM31,AM$9:AM$38,1)+COUNTIF(AM$9:$AM31,AM31)-1","v":23},1,{"$f":"IF(ISBLANK($C31),0,1)*INDEX('Allocation Points'!$B$3:$AG$32,AO31,COUNTIF(AO$9:AO$38,AO31)+2)","v":0}]
[null,24,null,null,20,null,10,10,10,10,10,10,10,10,10,90,10,10,10,10,10,10,10,10,10,90,180,null,{"$f":"$AA$624","v":0},{"$f":"RANK(AC32,AC$9:AC$38,0)+COUNTIF(AC$9:$AC32,AC32)-1","v":24},1,{"$f":"IF(ISBLANK($C32),0,1)*INDEX('Allocation Points'!$B$3:$AG$32,AE32,COUNTIF(AE$9:AE$38,AE32)+2)","v":0},null,{"$f":"AA625","v":0},{"$f":"RANK(AH32,AH$9:AH$38,0)+COUNTIF(AH$9:$AH32,AH32)-1","v":24},1,{"$f":"IF(ISBLANK($C32),0,1)*INDEX('Allocation Points'!$B$3:$AG$32,AJ32,COUNTIF(AJ$9:AJ$38,AJ32)+2)","v":0},null,{"$f":"AA623","v":180},{"$f":"RANK(AM32,AM$9:AM$38,1)+COUNTIF(AM$9:$AM32,AM32)-1","v":24},1,{"$f":"IF(ISBLANK($C32),0,1)*INDEX('Allocation Points'!$B$3:$AG$32,AO32,COUNTIF(AO$9:AO$38,AO32)+2)","v":0}]
[null,25,null,null,20,null,10,10,10,10,10,10,10,10,10,90,10,10,10,10,10,10,10,10,10,90,180,null,{"$f":"$AA$647","v":0},{"$f":"RANK(AC33,AC$9:AC$38,0)+COUNTIF(AC$9:$AC33,AC33)-1","v":25},1,{"$f":"IF(ISBLANK($C33),0,1)*INDEX('Allocation Points'!$B$3:$AG$32,AE33,COUNTIF(AE$9:AE$38,AE33)+2)","v":0},null,{"$f":"AA648","v":0},{"$f":"RANK(AH33,AH$9:AH$38,0)+COUNTIF(AH$9:$AH33,AH33)-1","v":25},1,{"$f":"IF(ISBLANK($C33),0,1)*INDEX('Allocation Points'!$B$3:$AG$32,AJ33,COUNTIF(AJ$9:AJ$38,AJ33)+2)","v":0},null,{"$f":"AA646","v":180},{"$f":"RANK(AM33,AM$9:AM$38,1)+COUNTIF(AM$9:$AM33,AM33)-1","v":25},1,{"$f":"IF(ISBLANK($C33),0,1)*INDEX('Allocation Points'!$B$3:$AG$32,AO33,COUNTIF(AO$9:AO$38,AO33)+2)","v":0}]
[null,26,null,null,20,null,10,10,10,10,10,10,10,10,10,90,10,10,10,10,10,10,10,10,10,90,180,null,{"$f":"$AA$670","v":0},{"$f":"RANK(AC34,AC$9:AC$38,0)+COUNTIF(AC$9:$AC34,AC34)-1","v":26},1,{"$f":"IF(ISBLANK($C34),0,1)*INDEX('Allocation Points'!$B$3:$AG$32,AE34,COUNTIF(AE$9:AE$38,AE34)+2)","v":0},null,{"$f":"AA671","v":0},{"$f":"RANK(AH34,AH$9:AH$38,0)+COUNTIF(AH$9:$AH34,AH34)-1","v":26},1,{"$f":"IF(ISBLANK($C34),0,1)*INDEX('Allocation Points'!$B$3:$AG$32,AJ34,COUNTIF(AJ$9:AJ$38,AJ34)+2)","v":0},null,{"$f":"AA669","v":180},{"$f":"RANK(AM34,AM$9:AM$38,1)+COUNTIF(AM$9:$AM34,AM34)-1","v":26},1,{"$f":"IF(ISBLANK($C34),0,1)*INDEX('Allocation Points'!$B$3:$AG$32,AO34,COUNTIF(AO$9:AO$38,AO34)+2)","v":0}]
[null,27,null,null,20,null,10,10,10,10,10,10,10,10,10,90,10,10,10,10,10,10,10,10,10,90,180,null,{"$f":"$AA$693","v":0},{"$f":"RANK(AC35,AC$9:AC$38,0)+COUNTIF(AC$9:$AC35,AC35)-1","v":27},1,{"$f":"IF(ISBLANK($C35),0,1)*INDEX('Allocation Points'!$B$3:$AG$32,AE35,COUNTIF(AE$9:AE$38,AE35)+2)","v":0},null,{"$f":"AA694","v":0},{"$f":"RANK(AH35,AH$9:AH$38,0)+COUNTIF(AH$9:$AH35,AH35)-1","v":27},1,{"$f":"IF(ISBLANK($C35),0,1)*INDEX('Allocation Points'!$B$3:$AG$32,AJ35,COUNTIF(AJ$9:AJ$38,AJ35)+2)","v":0},null,{"$f":"AA692","v":180},{"$f":"RANK(AM35,AM$9:AM$38,1)+COUNTIF(AM$9:$AM35,AM35)-1","v":27},1,{"$f":"IF(ISBLANK($C35),0,1)*INDEX('Allocation Points'!$B$3:$AG$32,AO35,COUNTIF(AO$9:AO$38,AO35)+2)","v":0}]
[null,28,null,null,20,null,10,10,10,10,10,10,10,10,10,90,10,10,10,10,10,10,10,10,10,90,180,null,{"$f":"$AA$716","v":0},{"$f":"RANK(AC36,AC$9:AC$38,0)+COUNTIF(AC$9:$AC36,AC36)-1","v":28},1,{"$f":"IF(ISBLANK($C36),0,1)*INDEX('Allocation Points'!$B$3:$AG$32,AE36,COUNTIF(AE$9:AE$38,AE36)+2)","v":0},null,{"$f":"AA717","v":0},{"$f":"RANK(AH36,AH$9:AH$38,0)+COUNTIF(AH$9:$AH36,AH36)-1","v":28},1,{"$f":"IF(ISBLANK($C36),0,1)*INDEX('Allocation Points'!$B$3:$AG$32,AJ36,COUNTIF(AJ$9:AJ$38,AJ36)+2)","v":0},null,{"$f":"AA715","v":180},{"$f":"RANK(AM36,AM$9:AM$38,1)+COUNTIF(AM$9:$AM36,AM36)-1","v":28},1,{"$f":"IF(ISBLANK($C36),0,1)*INDEX('Allocation Points'!$B$3:$AG$32,AO36,COUNTIF(AO$9:AO$38,AO36)+2)","v":0}]
[null,29,null,null,20,null,10,10,10,10,10,10,10,10,10,90,10,10,10,10,10,10,10,10,10,90,180,null,{"$f":"$AA$739","v":0},{"$f":"RANK(AC37,AC$9:AC$38,0)+COUNTIF(AC$9:$AC37,AC37)-1","v":29},1,{"$f":"IF(ISBLANK($C37),0,1)*INDEX('Allocation Points'!$B$3:$AG$32,AE37,COUNTIF(AE$9:AE$38,AE37)+2)","v":0},null,{"$f":"AA740","v":0},{"$f":"RANK(AH37,AH$9:AH$38,0)+COUNTIF(AH$9:$AH37,AH37)-1","v":29},1,{"$f":"IF(ISBLANK($C37),0,1)*INDEX('Allocation Points'!$B$3:$AG$32,AJ37,COUNTIF(AJ$9:AJ$38,AJ37)+2)","v":0},null,{"$f":"AA738","v":180},{"$f":"RANK(AM37,AM$9:AM$38,1)+COUNTIF(AM$9:$AM37,AM37)-1","v":29},1,{"$f":"IF(ISBLANK($C37),0,1)*INDEX('Allocation Points'!$B$3:$AG$32,AO37,COUNTIF(AO$9:AO$38,AO37)+2)","v":0}]
[null,30,null,null,20,null,10,10,10,10,10,10,10,10,10,90,10,10,10,10,10,10,10,10,10,90,180,null,{"$f":"$AA$762","v":0},{"$f":"RANK(AC38,AC$9:AC$38,0)+COUNTIF(AC$9:$AC38,AC38)-1","v":30},1,{"$f":"IF(ISBLANK($C38),0,1)*INDEX('Allocation Points'!$B$3:$AG$32,AE38,COUNTIF(AE$9:AE$38,AE38)+2)","v":0},null,{"$f":"AA763","v":0},{"$f":"RANK(AH38,AH$9:AH$38,0)+COUNTIF(AH$9:$AH38,AH38)-1","v":30},1,{"$f":"IF(ISBLANK($C38),0,1)*INDEX('Allocation Points'!$B$3:$AG$32,AJ38,COUNTIF(AJ$9:AJ$38,AJ38)+2)","v":0},null,{"$f":"AA761","v":180},{"$f":"RANK(AM38,AM$9:AM$38,1)+COUNTIF(AM$9:$AM38,AM38)-1","v":30},1,{"$f":"IF(ISBLANK($C38),0,1)*INDEX('Allocation Points'!$B$3:$AG$32,AO38,COUNTIF(AO$9:AO$38,AO38)+2)","v":0}]
[]
[]
[null,null,null,null,null,null,null,"CLASSEMENT"]
[]
[]
[]
[null,null,"NET",null,null,null,null,null,null,"BRUT",null,null,null,null,null,null,null,null,null,null,null,"STROKE"]
[]
[null,null,"Noms","Prénoms","NET",null,null,null,null,"Noms",null,null,null,"Prénoms",null,null,"BRUT",null,null,null,null,"Noms",null,null,null,"Prénoms",null,"STROKE"]
[null,1,{"$f":"INDEX($C$9:$AN$38,MATCH(B48,$AD$9:$AD$38,0),1)","v":0},{"$f":"INDEX($C$9:$AN$38,MATCH(B48,$AD$9:$AD$38,0),2)","v":0},{"$f":"INDEX($C$9:$AN$38,MATCH(B48,$AD$9:$AD$38,0),27)","v":0},null,null,null,1,{"$f":"INDEX($C$9:$AN$38,MATCH(I48,$AI$9:$AI$38,0),1)","v":0},null,null,null,{"$f":"INDEX($C$9:$AN$38,MATCH(I48,$AI$9:$AI$38,0),2)","v":0},null,null,{"$f":"INDEX($C$9:$AN$38,MATCH(I48,$AI$9:$AI$38,0),32)","v":0},null,null,null,1,{"$f":"INDEX($C$9:$AN$38,MATCH(U48,$AN$9:$AN$38,0),1)","v":0},null,null,null,{"$f":"INDEX($C$9:$AN$38,MATCH(U48,$AN$9:$AN$38,0),2)","v":0},null,{"$f":"INDEX($C$9:$AN$38,MATCH(U48,$AN$9:$AN$38,0),37)","v":180}]
[null,2,0,0,0,null,null,null,2,0,null,null,null,0,null,null,{"$f":"INDEX($C$9:$AN$38,MATCH(I49,$AI$9:$AI$38,0),32)","v":0},null,null,null,2,0,null,null,null,0,null,{"$f":"INDEX($C$9:$AN$38,MATCH(U49,$AN$9:$AN$38,0),37)","v":180}]
[null,3,0,0,0,null,null,null,3,0,null,null,null,0,null,null,0,null,null,null,3,0,null,null,null,0,null,180]
[null,4,0,0,0,null,null,null,4,0,null,null,null,0,null,null,0,null,null,null,4,0,null,null,null,0,null,180]
[null,5,0,0,0,null,null,null,5,0,null,null,null,0,null,null,0,null,null,null,5,0,null,null,null,0,null,180]
[null,6,0,0,0,null,null,null,6,0,null,null,null,0,null,null,0,null,null,null,6,0,null,null,null,0,null,180]
[null,7,0,0,0,null,null,null,7,0,null,null,null,0,null,null,0,null,null,null,7,0,null,null,null,0,null,180]
[null,8,0,0,0,null,null,null,8,0,null,null,null,0,null,null,0,null,null,null,8,0,null,null,null,0,null,180]
[null,9,0,0,0,null,null,null,9,0,null,null,null,0,null,null,0,null,null,null,9,0,null,null,null,0,null,180]
[null,10,0,0,0,null,null,null,10,0,null,null,null,0,null,null,0,null,null,null,10,0,null,null,null,0,null,180]
[null,11,0,0,0,null,null,null,11,0,null,null,null,0,null,null,0,null,null,null,11,0,null,null,null,0,null,180]
[null,12,0,0,0,null,null,null,12,0,null,null,null,0,null,null,0,null,null,null,12,0,null,null,null,0,null,180]
[null,13,0,0,0,null,null,null,13,0,null,null,null,0,null,null,0,null,null,null,13,0,null,null,null,0,null,180]
[null,14,0,0,0,null,null,null,14,0,null,null,null,0,null,null,0,null,null,null,14,0,null,null,null,0,null,180]
[null,15,0,0,0,null,null,null,15,0,null,null,null,0,null,null,0,null,null,null,15,0,null,null,null,0,null,180]
[null,16,0,0,0,null,null,null,16,0,null,null,null,0,null,null,0,null,null,null,16,0,null,null,null,0,null,180]
[null,17,0,0,0,null,null,null,17,0,null,null,null,0,null,null,0,null,null,null,17,0,null,null,null,0,null,180]
[null,18,0,0,0,null,null,null,18,0,null,null,null,0,null,null,0,null,null,null,18,0,null,null,null,0,null,180]
[null,19,0,0,0,null,null,null,19,0,null,null,null,0,null,null,0,null,null,null,19,0,null,null,null,0,null,180]
[null,20,0,0,0,null,null,null,20,0,null,null,null,0,null,null,0,null,null,null,20,0,null,null,null,0,null,180]
[null,21,0,0,0,null,null,null,21,0,null,null,null,0,null,null,0,null,null,null,21,0,null,null,null,0,null,180]
[null,22,0,0,0,null,null,null,22,0,null,null,null,0,null,null,0,null,null,null,22,0,null,null,null,0,null,180]
[null,23,0,0,0,null,null,null,23,0,null,null,null,0,null,null,0,null,null,null,23,0,null,null,null,0,null,180]
[null,24,0,0,0,null,null,null,24,0,null,null,null,0,null,null,0,null,null,null,24,0,null,null,null,0,null,180]
[null,25,0,0,0,null,null,null,25,0,null,null,null,0,null,null,0,null,null,null,25,0,null,null,null,0,null,180]
[null,26,0,0,0,null,null,null,26,0,null,null,null,0,null,null,0,null,null,null,26,0,null,null,null,0,null,180]
[null,27,0,0,0,null,null,null,27,0,null,null,null,0,null,null,0,null,null,null,27,0,null,null,null,0,null,180]
[null,28,0,0,0,null,null,null,28,0,null,null,null,0,null,null,0,null,null,null,28,0,null,null,null,0,null,180]
[null,29,0,0,0,null,null,null,29,0,null,null,null,0,null,null,0,null,null,null,29,0,null,null,null,0,null,180]
[null,30,0,0,0,null,null,null,30,0,null,null,null,0,null,null,0,null,null,null,30,0,null,null,null,0,null,180]
[]
[]
[]
[null,null,null,null,null,null,null,"STATISTIQUES INDIVIDUELLES"]
[]
[]
[]
[]
[]
[null,null,null,null,null,"Nom",{"$f":"C9","v":0},null,null,null,null,"Slope",null,null,"SSS",null,"Coups reçus",null,null,null,null,null,null,null,null,"Date",{"$f":"$D$3","v":"00:00:00"}]
[null,null,null,null,null,"Index",{"$f":"E9","v":20},null,null,null,null,{"$f":"$F$3","v":133},null,null,{"$f":"$G$3","v":68.599999999999994},null,{"$f":"ROUND((G88*(L88/113)+(O88-AA91)),0)","v":20}]
[]
[null,null,null,null,null,"Trou",1,2,3,4,5,6,7,8,9,"Aller",10,11,12,13,14,15,16,17,18,"Retour","Total"]
[null,null,null,null,null,"PAR",{"$f":"G$7","v":4},{"$f":"H$7","v":4},5,4,3,5,3,5,3,{"$f":"SUM(G91:O91)","v":36},{"$f":"Q$7","v":4},4,3,5,3,4,4,5,4,{"$f":"SUM(Q91:Y91)","v":36},{"$f":"SUM(P91+Z91)","v":72}]
[null,null,null,null,null,"HCP trous",{"$f":"G$8","v":4},{"$f":"H$8","v":8},12,14,2,10,18,16,6,null,{"$f":"Q$8","v":1},9,11,5,17,15,3,13,7]
[null,null,null,null,null,"Coups reçus",{"$f":"IF($Q88<=18,IF(G92<=$Q88,1,0),IF($Q88<=36,IF(G92<=($Q88-18),2,1),IF($Q88>36,IF(G92<=($Q88-36),3,2))))","v":1},{"$f":"IF($Q88<=18,IF(H92<=$Q88,1,0),IF($Q88<=36,IF(H92<=($Q88-18),2,1),IF($Q88>36,IF(H92<=($Q88-36),3,2))))","v":1},1,1,2,1,1,1,1,{"$f":"SUM(G93:O93)","v":10},{"$f":"IF($Q88<=18,IF(Q92<=$Q88,1,0),IF($Q88<=36,IF(Q92<=($Q88-18),2,1),IF($Q88>36,IF(Q92<=($Q88-36),3,2))))","v":2},1,1,1,1,1,1,1,1,{"$f":"SUM(Q93:Y93)","v":10},{"$f":"P93+Z93","v":20}]
[null,null,null,null,null,"Stroke play",{"$f":"G9","v":10},10,10,10,10,10,10,10,10,{"$f":"SUM(G94:O94)","v":90},{"$f":"Q9","v":10},10,10,10,10,10,10,10,10,{"$f":"SUM(Q94:Y94)","v":90},{"$f":"P94+Z94","v":180}]
[null,null,null,null,null,"Net Stableford",{"$f":"IF(G94-G91=-1,3+G93)+IF(G94-G91=0,2+G93)+IF(G94-G91=1,1+G93)+IF(G94-G91=2,G93)+IF(G94-G91=3,IF(G93-1>0,G93-1,0))+IF(G94-G91=4,IF(G93-2>0,G93-2,0))","v":0},{"$f":"IF(H94-H91=-1,3+H93)+IF(H94-H91=0,2+H93)+IF(H94-H91=1,1+H93)+IF(H94-H91=2,H93)+IF(H94-H91=3,IF(H93-1>0,H93-1,0))+IF(H94-H91=4,IF(H93-2>0,H93-2,0))","v":0},0,0,0,0,0,0,0,{"$f":"SUM(G95:O95)","v":0},{"$f":"IF(Q94-Q91=-1,3+Q93)+IF(Q94-Q91=0,2+Q93)+IF(Q94-Q91=1,1+Q93)+IF(Q94-Q91=2,Q93)+IF(Q94-Q91=3,IF(Q93-1>0,Q93-1,0))+IF(Q94-Q91=4,IF(Q93-2>0,Q93-2,0))","v":0},0,0,0,0,0,0,0,0,{"$f":"SUM(Q95:Y95)","v":0},{"$f":"P95+Z95","v":0}]
[null,null,null,null,null,"Score Brut",{"$f":"IF(G94-G91=-2,4)+IF(G94-G91=-1,3)+IF(G94-G91=0,2)+IF(G94-G91=1,1)+IF(G94-G91>2,0)","v":0},0,0,0,0,0,0,0,0,{"$f":"SUM(G96:O96)","v":0},{"$f":"IF(Q94-Q91=-2,4)+IF(Q94-Q91=-1,3)+IF(Q94-Q91=0,2)+IF(Q94-Q91=1,1)+IF(Q94-Q91>2,0)","v":0},0,0,0,0,0,0,0,0,{"$f":"SUM(Q96:Y96)","v":0},{"$f":"P96+Z96","v":0}]
[null,null,null,null,null,null,{"$f":"G94-G91","v":6},{"$f":"H94-H91","v":6},5,6,7,5,7,5,7,null,{"$f":"Q94-Q91","v":6},6,7,5,7,6,6,5,6]
[]
[]
[null,null,null,null,null,"Statistiques scores",null,"Eagle & moins",null,null,null,{"$f":"COUNTIF(G97:Y97,\"<=-2\")","v":0},"Par",null,{"$f":"COUNTIF(G97:Y97,\"=0\")","v":0},"Double bogey",null,null,null,null,{"$f":"COUNTIF(G97:Y97,\"=2\")","v":0}]
[null,null,null,null,null,null,null,"Birdie",null,null,null,{"$f":"COUNTIF(G97:Y97,\"=-1\")","v":0},"Bogey",null,{"$f":"COUNTIF(G97:Y97,\"=1\")","v":0},"Triple bogey & plus",null,null,null,null,{"$f":"COUNTIF(G97:Y97,\">=3\")","v":18}]
[null,null,null,null,null,null,null,{"$f":"M100","v":"Par"},null,null,null,{"$f":"O100","v":0}]
[null,null,null,null,null,null,null,{"$f":"M101","v":"Bogey"},null,null,null,{"$f":"O101","v":0}]
[null,null,null,null,null,null,null,{"$f":"P100","v":"Double bogey"},null,null,null,{"$f":"U100","v":0}]
[null,null,null,null,null,null,null,{"$f":"P101","v":"Triple bogey & plus"},null,null,null,{"$f":"U101","v":18}]
[]
[]
[]
[]
[null,null,null,null,null,"Nom",{"$f":"C10","v":0},null,null,null,null,"Slope",null,null,"SSS",null,"Coups reçus",null,null,null,null,null,null,null,null,"Date",{"$f":"$D$3","v":"00:00:00"}]
[null,null,null,null,null,"Index",{"$f":"E10","v":20},null,null,null,null,{"$f":"$F$3","v":133},null,null,{"$f":"$G$3","v":68.599999999999994},null,{"$f":"ROUND((G111*(L111/113)+(O111-AA114)),0)","v":20}]
[]
[null,null,null,null,null,"Trou",1,2,3,4,5,6,7,8,9,"Aller",10,11,12,13,14,15,16,17,18,"Retour","Total"]
[null,null,null,null,null,"PAR",{"$f":"G$7","v":4},{"$f":"H$7","v":4},5,4,3,5,3,5,3,{"$f":"SUM(G114:O114)","v":36},{"$f":"Q$7","v":4},4,3,5,3,4,4,5,4,{"$f":"SUM(Q114:Y114)","v":36},{"$f":"SUM(P114+Z114)","v":72}]
[null,null,null,null,null,"HCP trous",{"$f":"G$8","v":4},{"$f":"H$8","v":8},12,14,2,10,18,16,6,null,{"$f":"Q$8","v":1},9,11,5,17,15,3,13,7]
[null,null,null,null,null,"Coups reçus",{"$f":"IF($Q111<=18,IF(G115<=$Q111,1,0),IF($Q111<=36,IF(G115<=($Q111-18),2,1),IF($Q111>36,IF(G115<=($Q111-36),3,2))))","v":1},{"$f":"IF($Q111<=18,IF(H115<=$Q111,1,0),IF($Q111<=36,IF(H115<=($Q111-18),2,1),IF($Q111>36,IF(H115<=($Q111-36),3,2))))","v":1},1,1,2,1,1,1,1,{"$f":"SUM(G116:O116)","v":10},{"$f":"IF($Q111<=18,IF(Q115<=$Q111,1,0),IF($Q111<=36,IF(Q115<=($Q111-18),2,1),IF($Q111>36,IF(Q115<=($Q111-36),3,2))))","v":2},1,1,1,1,1,1,1,1,{"$f":"SUM(Q116:Y116)","v":10},{"$f":"P116+Z116","v":20}]
[null,null,null,null,null,"Stroke play",{"$f":"G10","v":10},10,10,10,10,10,10,10,10,{"$f":"SUM(G117:O117)","v":90},{"$f":"Q10","v":10},10,10,10,10,10,10,10,10,{"$f":"SUM(Q117:Y117)","v":90},{"$f":"P117+Z117","v":180}]
[null,null,null,null,null,"Net Stableford",{"$f":"IF(G117-G114=-1,3+G116)+IF(G117-G114=0,2+G116)+IF(G117-G114=1,1+G116)+IF(G117-G114=2,G116)+IF(G117-G114=3,IF(G116-1>0,G116-1,0))+IF(G117-G114=4,IF(G116-2>0,G116-2,0))","v":0},{"$f":"IF(H117-H114=-1,3+H116)+IF(H117-H114=0,2+H116)+IF(H117-H114=1,1+H116)+IF(H117-H114=2,H116)+IF(H117-H114=3,IF(H116-1>0,H116-1,0))+IF(H117-H114=4,IF(H116-2>0,H116-2,0))","v":0},0,0,0,0,0,0,0,{"$f":"SUM(G118:O118)","v":0},{"$f":"IF(Q117-Q114=-1,3+Q116)+IF(Q117-Q114=0,2+Q116)+IF(Q117-Q114=1,1+Q116)+IF(Q117-Q114=2,Q116)+IF(Q117-Q114=3,IF(Q116-1>0,Q116-1,0))+IF(Q117-Q114=4,IF(Q116-2>0,Q116-2,0))","v":0},0,0,0,0,0,0,0,0,{"$f":"SUM(Q118:Y118)","v":0},{"$f":"P118+Z118","v":0}]
[null,null,null,null,null,"Score Brut",{"$f":"IF(G117-G114=-2,4)+IF(G117-G114=-1,3)+IF(G117-G114=0,2)+IF(G117-G114=1,1)+IF(G117-G114>2,0)","v":0},0,0,0,0,0,0,0,0,{"$f":"SUM(G119:O119)","v":0},{"$f":"IF(Q117-Q114=-2,4)+IF(Q117-Q114=-1,3)+IF(Q117-Q114=0,2)+IF(Q117-Q114=1,1)+IF(Q117-Q114>2,0)","v":0},0,0,0,0,0,0,0,0,{"$f":"SUM(Q119:Y119)","v":0},{"$f":"P119+Z119","v":0}]
[null,null,null,null,null,null,{"$f":"G117-G114","v":6},{"$f":"H117-H114","v":6},5,6,7,5,7,5,7,null,{"$f":"Q117-Q114","v":6},6,7,5,7,6,6,5,6]
[]
[]
[null,null,null,null,null,"Statistiques scores",null,"Eagle & moins",null,null,null,{"$f":"COUNTIF(G120:Y120,\"<=-2\")","v":0},"Par",null,{"$f":"COUNTIF(G120:Y120,\"=0\")","v":0},"Double bogey",null,null,null,null,{"$f":"COUNTIF(G120:Y120,\"=2\")","v":0}]
[null,null,null,null,null,null,null,"Birdie",null,null,null,{"$f":"COUNTIF(G120:Y120,\"=-1\")","v":0},"Bogey",null,{"$f":"COUNTIF(G120:Y120,\"=1\")","v":0},"Triple bogey & plus",null,null,null,null,{"$f":"COUNTIF(G120:Y120,\">=3\")","v":18}]
[null,null,null,null,null,null,null,{"$f":"M123","v":"Par"},null,null,null,{"$f":"O123","v":0}]
[null,null,null,null,null,null,null,{"$f":"M124","v":"Bogey"},null,null,null,{"$f":"O124","v":0}]
[null,null,null,null,null,null,null,{"$f":"P123","v":"Double bogey"},null,null,null,{"$f":"U123","v":0}]
[null,null,null,null,null,null,null,{"$f":"P124","v":"Triple bogey & plus"},null,null,null,{"$f":"U124","v":18}]
[]
[]
[]
[]
[null,null,null,null,null,"Nom",{"$f":"C11","v":0},null,null,null,null,"Slope",null,null,"SSS",null,"Coups reçus",null,null,null,null,null,null,null,null,"Date",{"$f":"$D$3","v":"00:00:00"}]
[null,null,null,null,null,"Index",{"$f":"E11","v":20},null,null,null,null,{"$f":"$F$3","v":133},null,null,{"$f":"$G$3","v":68.599999999999994},null,{"$f":"ROUND((G134*(L134/113)+(O134-AA137)),0)","v":20}]
[]
[null,null,null,null,null,"Trou",1,2,3,4,5,6,7,8,9,"Aller",10,11,12,13,14,15,16,17,18,"Retour","Total"]
[null,null,null,null,null,"PAR",{"$f":"G$7","v":4},{"$f":"H$7","v":4},5,4,3,5,3,5,3,{"$f":"SUM(G137:O137)","v":36},{"$f":"Q$7","v":4},4,3,5,3,4,4,5,4,{"$f":"SUM(Q137:Y137)","v":36},{"$f":"SUM(P137+Z137)","v":72}]
[null,null,null,null,null,"HCP trous",{"$f":"G$8","v":4},{"$f":"H$8","v":8},12,14,2,10,18,16,6,null,{"$f":"Q$8","v":1},9,11,5,17,15,3,13,7]
[null,null,null,null,null,"Coups reçus",{"$f":"IF($Q134<=18,IF(G138<=$Q134,1,0),IF($Q134<=36,IF(G138<=($Q134-18),2,1),IF($Q134>36,IF(G138<=($Q134-36),3,2))))","v":1},{"$f":"IF($Q134<=18,IF(H138<=$Q134,1,0),IF($Q134<=36,IF(H138<=($Q134-18),2,1),IF($Q134>36,IF(H138<=($Q134-36),3,2))))","v":1},1,1,2,1,1,1,1,{"$f":"SUM(G139:O139)","v":10},{"$f":"IF($Q134<=18,IF(Q138<=$Q134,1,0),IF($Q134<=36,IF(Q138<=($Q134-18),2,1),IF($Q134>36,IF(Q138<=($Q134-36),3,2))))","v":2},1,1,1,1,1,1,1,1,{"$f":"SUM(Q139:Y139)","v":10},{"$f":"P139+Z139","v":20}]
[null,null,null,null,null,"Stroke play",{"$f":"G11","v":10},10,10,10,10,10,10,10,10,{"$f":"SUM(G140:O140)","v":90},{"$f":"Q11","v":10},10,10,10,10,10,10,10,10,{"$f":"SUM(Q140:Y140)","v":90},{"$f":"P140+Z140","v":180}]
[null,null,null,null,null,"Net Stableford",{"$f":"IF(G140-G137=-1,3+G139)+IF(G140-G137=0,2+G139)+IF(G140-G137=1,1+G139)+IF(G140-G137=2,G139)+IF(G140-G137=3,IF(G139-1>0,G139-1,0))+IF(G140-G137=4,IF(G139-2>0,G139-2,0))","v":0},{"$f":"IF(H140-H137=-1,3+H139)+IF(H140-H137=0,2+H139)+IF(H140-H137=1,1+H139)+IF(H140-H137=2,H139)+IF(H140-H137=3,IF(H139-1>0,H139-1,0))+IF(H140-H137=4,IF(H139-2>0,H139-2,0))","v":0},0,0,0,0,0,0,0,{"$f":"SUM(G141:O141)","v":0},{"$f":"IF(Q140-Q137=-1,3+Q139)+IF(Q140-Q137=0,2+Q139)+IF(Q140-Q137=1,1+Q139)+IF(Q140-Q137=2,Q139)+IF(Q140-Q137=3,IF(Q139-1>0,Q139-1,0))+IF(Q140-Q137=4,IF(Q139-2>0,Q139-2,0))","v":0},0,0,0,0,0,0,0,0,{"$f":"SUM(Q141:Y141)","v":0},{"$f":"P141+Z141","v":0}]
[null,null,null,null,null,"Score Brut",{"$f":"IF(G140-G137=-2,4)+IF(G140-G137=-1,3)+IF(G140-G137=0,2)+IF(G140-G137=1,1)+IF(G140-G137>2,0)","v":0},0,0,0,0,0,0,0,0,{"$f":"SUM(G142:O142)","v":0},{"$f":"IF(Q140-Q137=-2,4)+IF(Q140-Q137=-1,3)+IF(Q140-Q137=0,2)+IF(Q140-Q137=1,1)+IF(Q140-Q137>2,0)","v":0},0,0,0,0,0,0,0,0,{"$f":"SUM(Q142:Y142)","v":0},{"$f":"P142+Z142","v":0}]
[null,null,null,null,null,null,{"$f":"G140-G137","v":6},{"$f":"H140-H137","v":6},5,6,7,5,7,5,7,null,{"$f":"Q140-Q137","v":6},6,7,5,7,6,6,5,6]
[]
[]
[null,null,null,null,null,"Statistiques scores",null,"Eagle & moins",null,null,null,{"$f":"COUNTIF(G143:Y143,\"<=-2\")","v":0},"Par",null,{"$f":"COUNTIF(G143:Y143,\"=0\")","v":0},"Double bogey",null,null,null,null,{"$f":"COUNTIF(G143:Y143,\"=2\")","v":0}]
[null,null,null,null,null,null,null,"Birdie",null,null,null,{"$f":"COUNTIF(G143:Y143,\"=-1\")","v":0},"Bogey",null,{"$f":"COUNTIF(G143:Y143,\"=1\")","v":0},"Triple bogey & plus",null,null,null,null,{"$f":"COUNTIF(G143:Y143,\">=3\")","v":18}]
[null,null,null,null,null,null,null,{"$f":"M146","v":"Par"},null,null,null,{"$f":"O146","v":0}]
[null,null,null,null,null,null,null,{"$f":"M147","v":"Bogey"},null,null,null,{"$f":"O147","v":0}]
[null,null,null,null,null,null,null,{"$f":"P146","v":"Double bogey"},null,null,null,{"$f":"U146","v":0}]
[null,null,null,null,null,null,null,{"$f":"P147","v":"Triple bogey & plus"},null,null,null,{"$f":"U147","v":18}]
[]
[]
[]
[]
[null,null,null,null,null,"Nom",{"$f":"C12","v":0},null,null,null,null,"Slope",null,null,"SSS",null,"Coups reçus",null,null,null,null,null,null,null,null,"Date",{"$f":"$D$3","v":"00:00:00"}]
[null,null,null,null,null,"Index",{"$f":"E12","v":20},null,null,null,null,{"$f":"$F$3","v":133},null,null,{"$f":"$G$3","v":68.599999999999994},null,{"$f":"ROUND((G157*(L157/113)+(O157-AA160)),0)","v":20}]
[]
[null,null,null,null,null,"Trou",1,2,3,4,5,6,7,8,9,"Aller",10,11,12,13,14,15,16,17,18,"Retour","Total"]
[null,null,null,null,null,"PAR",{"$f":"G$7","v":4},{"$f":"H$7","v":4},5,4,3,5,3,5,3,{"$f":"SUM(G160:O160)","v":36},{"$f":"Q$7","v":4},4,3,5,3,4,4,5,4,{"$f":"SUM(Q160:Y160)","v":36},{"$f":"SUM(P160+Z160)","v":72}]
[null,null,null,null,null,"HCP trous",{"$f":"G$8","v":4},{"$f":"H$8","v":8},12,14,2,10,18,16,6,null,{"$f":"Q$8","v":1},9,11,5,17,15,3,13,7]
[null,null,null,null,null,"Coups reçus",{"$f":"IF($Q157<=18,IF(G161<=$Q157,1,0),IF($Q157<=36,IF(G161<=($Q157-18),2,1),IF($Q157>36,IF(G161<=($Q157-36),3,2))))","v":1},{"$f":"IF($Q157<=18,IF(H161<=$Q157,1,0),IF($Q157<=36,IF(H161<=($Q157-18),2,1),IF($Q157>36,IF(H161<=($Q157-36),3,2))))","v":1},1,1,2,1,1,1,1,{"$f":"SUM(G162:O162)","v":10},{"$f":"IF($Q157<=18,IF(Q161<=$Q157,1,0),IF($Q157<=36,IF(Q161<=($Q157-18),2,1),IF($Q157>36,IF(Q161<=($Q157-36),3,2))))","v":2},1,1,1,1,1,1,1,1,{"$f":"SUM(Q162:Y162)","v":10},{"$f":"P162+Z162","v":20}]
[null,null,null,null,null,"Stroke play",{"$f":"G12","v":10},10,10,10,10,10,10,10,10,{"$f":"SUM(G163:O163)","v":90},{"$f":"Q12","v":10},10,10,10,10,10,10,10,10,{"$f":"SUM(Q163:Y163)","v":90},{"$f":"P163+Z163","v":180}]
[null,null,null,null,null,"Net Stableford",{"$f":"IF(G163-G160=-1,3+G162)+IF(G163-G160=0,2+G162)+IF(G163-G160=1,1+G162)+IF(G163-G160=2,G162)+IF(G163-G160=3,IF(G162-1>0,G162-1,0))+IF(G163-G160=4,IF(G162-2>0,G162-2,0))","v":0},{"$f":"IF(H163-H160=-1,3+H162)+IF(H163-H160=0,2+H162)+IF(H163-H160=1,1+H162)+IF(H163-H160=2,H162)+IF(H163-H160=3,IF(H162-1>0,H162-1,0))+IF(H163-H160=4,IF(H162-2>0,H162-2,0))","v":0},0,0,0,0,0,0,0,{"$f":"SUM(G164:O164)","v":0},{"$f":"IF(Q163-Q160=-1,3+Q162)+IF(Q163-Q160=0,2+Q162)+IF(Q163-Q160=1,1+Q162)+IF(Q163-Q160=2,Q162)+IF(Q163-Q160=3,IF(Q162-1>0,Q162-1,0))+IF(Q163-Q160=4,IF(Q162-2>0,Q162-2,0))","v":0},0,0,0,0,0,0,0,0,{"$f":"SUM(Q164:Y164)","v":0},{"$f":"P164+Z164","v":0}]
[null,null,null,null,null,"Score Brut",{"$f":"IF(G163-G160=-2,4)+IF(G163-G160=-1,3)+IF(G163-G160=0,2)+IF(G163-G160=1,1)+IF(G163-G160>2,0)","v":0},0,0,0,0,0,0,0,0,{"$f":"SUM(G165:O165)","v":0},{"$f":"IF(Q163-Q160=-2,4)+IF(Q163-Q160=-1,3)+IF(Q163-Q160=0,2)+IF(Q163-Q160=1,1)+IF(Q163-Q160>2,0)","v":0},0,0,0,0,0,0,0,0,{"$f":"SUM(Q165:Y165)","v":0},{"$f":"P165+Z165","v":0}]
[null,null,null,null,null,null,{"$f":"G163-G160","v":6},{"$f":"H163-H160","v":6},5,6,7,5,7,5,7,null,{"$f":"Q163-Q160","v":6},6,7,5,7,6,6,5,6]
[]
[]
[null,null,null,null,null,"Statistiques scores",null,"Eagle & moins",null,null,null,{"$f":"COUNTIF(G166:Y166,\"<=-2\")","v":0},"Par",null,{"$f":"COUNTIF(G166:Y166,\"=0\")","v":0},"Double bogey",null,null,null,null,{"$f":"COUNTIF(G166:Y166,\"=2\")","v":0}]
[null,null,null,null,null,null,null,"Birdie",null,null,null,{"$f":"COUNTIF(G166:Y166,\"=-1\")","v":0},"Bogey",null,{"$f":"COUNTIF(G166:Y166,\"=1\")","v":0},"Triple bogey & plus",null,null,null,null,{"$f":"COUNTIF(G166:Y166,\">=3\")","v":18}]
[null,null,null,null,null,null,null,{"$f":"M169","v":"Par"},null,null,null,{"$f":"O169","v":0}]
[null,null,null,null,null,null,null,{"$f":"M170","v":"Bogey"},null,null,null,{"$f":"O170","v":0}]
[null,null,null,null,null,null,null,{"$f":"P169","v":"Double bogey"},null,null,null,{"$f":"U169","v":0}]
[null,null,null,null,null,null,null,{"$f":"P170","v":"Triple bogey & plus"},null,null,null,{"$f":"U170","v":18}]
[]
[]
[]
[]
[null,null,null,null,null,"Nom",{"$f":"C13","v":0},null,null,null,null,"Slope",null,null,"SSS",null,"Coups reçus",null,null,null,null,null,null,null,null,"Date",{"$f":"$D$3","v":"00:00:00"}]
[null,null,null,null,null,"Index",{"$f":"E13","v":20},null,null,null,null,{"$f":"$F$3","v":133},null,null,{"$f":"$G$3","v":68.599999999999994},null,{"$f":"ROUND((G180*(L180/113)+(O180-AA183)),0)","v":20}]
[]
[null,null,null,null,null,"Trou",1,2,3,4,5,6,7,8,9,"Aller",10,11,12,13,14,15,16,17,18,"Retour","Total"]
[null,null,null,null,null,"PAR",{"$f":"G$7","v":4},{"$f":"H$7","v":4},5,4,3,5,3,5,3,{"$f":"SUM(G183:O183)","v":36},{"$f":"Q$7","v":4},4,3,5,3,4,4,5,4,{"$f":"SUM(Q183:Y183)","v":36},{"$f":"SUM(P183+Z183)","v":72}]
[null,null,null,null,null,"HCP trous",{"$f":"G$8","v":4},{"$f":"H$8","v":8},12,14,2,10,18,16,6,null,{"$f":"Q$8","v":1},9,11,5,17,15,3,13,7]
[null,null,null,null,null,"Coups reçus",{"$f":"IF($Q180<=18,IF(G184<=$Q180,1,0),IF($Q180<=36,IF(G184<=($Q180-18),2,1),IF($Q180>36,IF(G184<=($Q180-36),3,2))))","v":1},{"$f":"IF($Q180<=18,IF(H184<=$Q180,1,0),IF($Q180<=36,IF(H184<=($Q180-18),2,1),IF($Q180>36,IF(H184<=($Q180-36),3,2))))","v":1},1,1,2,1,1,1,1,{"$f":"SUM(G185:O185)","v":10},{"$f":"IF($Q180<=18,IF(Q184<=$Q180,1,0),IF($Q180<=36,IF(Q184<=($Q180-18),2,1),IF($Q180>36,IF(Q184<=($Q180-36),3,2))))","v":2},1,1,1,1,1,1,1,1,{"$f":"SUM(Q185:Y185)","v":10},{"$f":"P185+Z185","v":20}]
[null,null,null,null,null,"Stroke play",{"$f":"G13","v":10},10,10,10,10,10,10,10,10,{"$f":"SUM(G186:O186)","v":90},{"$f":"Q13","v":10},10,10,10,10,10,10,10,10,{"$f":"SUM(Q186:Y186)","v":90},{"$f":"P186+Z186","v":180}]
[null,null,null,null,null,"Net Stableford",{"$f":"IF(G186-G183=-1,3+G185)+IF(G186-G183=0,2+G185)+IF(G186-G183=1,1+G185)+IF(G186-G183=2,G185)+IF(G186-G183=3,IF(G185-1>0,G185-1,0))+IF(G186-G183=4,IF(G185-2>0,G185-2,0))","v":0},{"$f":"IF(H186-H183=-1,3+H185)+IF(H186-H183=0,2+H185)+IF(H186-H183=1,1+H185)+IF(H186-H183=2,H185)+IF(H186-H183=3,IF(H185-1>0,H185-1,0))+IF(H186-H183=4,IF(H185-2>0,H185-2,0))","v":0},0,0,0,0,0,0,0,{"$f":"SUM(G187:O187)","v":0},{"$f":"IF(Q186-Q183=-1,3+Q185)+IF(Q186-Q183=0,2+Q185)+IF(Q186-Q183=1,1+Q185)+IF(Q186-Q183=2,Q185)+IF(Q186-Q183=3,IF(Q185-1>0,Q185-1,0))+IF(Q186-Q183=4,IF(Q185-2>0,Q185-2,0))","v":0},0,0,0,0,0,0,0,0,{"$f":"SUM(Q187:Y187)","v":0},{"$f":"P187+Z187","v":0}]
[null,null,null,null,null,"Score Brut",{"$f":"IF(G186-G183=-2,4)+IF(G186-G183=-1,3)+IF(G186-G183=0,2)+IF(G186-G183=1,1)+IF(G186-G183>2,0)","v":0},0,0,0,0,0,0,0,0,{"$f":"SUM(G188:O188)","v":0},{"$f":"IF(Q186-Q183=-2,4)+IF(Q186-Q183=-1,3)+IF(Q186-Q183=0,2)+IF(Q186-Q183=1,1)+IF(Q186-Q183>2,0)","v":0},0,0,0,0,0,0,0,0,{"$f":"SUM(Q188:Y188)","v":0},{"$f":"P188+Z188","v":0}]
[null,null,null,null,null,null,{"$f":"G186-G183","v":6},{"$f":"H186-H183","v":6},5,6,7,5,7,5,7,null,{"$f":"Q186-Q183","v":6},6,7,5,7,6,6,5,6]
[]
[]
[null,null,null,null,null,"Statistiques scores",null,"Eagle & moins",null,null,null,{"$f":"COUNTIF(G189:Y189,\"<=-2\")","v":0},"Par",null,{"$f":"COUNTIF(G189:Y189,\"=0\")","v":0},"Double bogey",null,null,null,null,{"$f":"COUNTIF(G189:Y189,\"=2\")","v":0}]
[null,null,null,null,null,null,null,"Birdie",null,null,null,{"$f":"COUNTIF(G189:Y189,\"=-1\")","v":0},"Bogey",null,{"$f":"COUNTIF(G189:Y189,\"=1\")","v":0},"Triple bogey & plus",null,null,null,null,{"$f":"COUNTIF(G189:Y189,\">=3\")","v":18}]
[null,null,null,null,null,null,null,{"$f":"M192","v":"Par"},null,null,null,{"$f":"O192","v":0}]
[null,null,null,null,null,null,null,{"$f":"M193","v":"Bogey"},null,null,null,{"$f":"O193","v":0}]
[null,null,null,null,null,null,null,{"$f":"P192","v":"Double bogey"},null,null,null,{"$f":"U192","v":0}]
[null,null,null,null,null,null,null,{"$f":"P193","v":"Triple bogey & plus"},null,null,null,{"$f":"U193","v":18}]
[]
[]
[]
[]
[null,null,null,null,null,"Nom",{"$f":"C14","v":0},null,null,null,null,"Slope",null,null,"SSS",null,"Coups reçus",null,null,null,null,null,null,null,null,"Date",{"$f":"$D$3","v":"00:00:00"}]
[null,null,null,null,null,"Index",{"$f":"E14","v":20},null,null,null,null,{"$f":"$F$3","v":133},null,null,{"$f":"$G$3","v":68.599999999999994},null,{"$f":"ROUND((G203*(L203/113)+(O203-AA206)),0)","v":20}]
[]
[null,null,null,null,null,"Trou",1,2,3,4,5,6,7,8,9,"Aller",10,11,12,13,14,15,16,17,18,"Retour","Total"]
[null,null,null,null,null,"PAR",{"$f":"G$7","v":4},{"$f":"H$7","v":4},5,4,3,5,3,5,3,{"$f":"SUM(G206:O206)","v":36},{"$f":"Q$7","v":4},4,3,5,3,4,4,5,4,{"$f":"SUM(Q206:Y206)","v":36},{"$f":"SUM(P206+Z206)","v":72}]
[null,null,null,null,null,"HCP trous",{"$f":"G$8","v":4},{"$f":"H$8","v":8},12,14,2,10,18,16,6,null,{"$f":"Q$8","v":1},9,11,5,17,15,3,13,7]
[null,null,null,null,null,"Coups reçus",{"$f":"IF($Q203<=18,IF(G207<=$Q203,1,0),IF($Q203<=36,IF(G207<=($Q203-18),2,1),IF($Q203>36,IF(G207<=($Q203-36),3,2))))","v":1},{"$f":"IF($Q203<=18,IF(H207<=$Q203,1,0),IF($Q203<=36,IF(H207<=($Q203-18),2,1),IF($Q203>36,IF(H207<=($Q203-36),3,2))))","v":1},1,1,2,1,1,1,1,{"$f":"SUM(G208:O208)","v":10},{"$f":"IF($Q203<=18,IF(Q207<=$Q203,1,0),IF($Q203<=36,IF(Q207<=($Q203-18),2,1),IF($Q203>36,IF(Q207<=($Q203-36),3,2))))","v":2},1,1,1,1,1,1,1,1,{"$f":"SUM(Q208:Y208)","v":10},{"$f":"P208+Z208","v":20}]
[null,null,null,null,null,"Stroke play",{"$f":"G14","v":10},10,10,10,10,10,10,10,10,{"$f":"SUM(G209:O209)","v":90},{"$f":"Q14","v":10},10,10,10,10,10,10,10,10,{"$f":"SUM(Q209:Y209)","v":90},{"$f":"P209+Z209","v":180}]
[null,null,null,null,null,"Net Stableford",{"$f":"IF(G209-G206=-1,3+G208)+IF(G209-G206=0,2+G208)+IF(G209-G206=1,1+G208)+IF(G209-G206=2,G208)+IF(G209-G206=3,IF(G208-1>0,G208-1,0))+IF(G209-G206=4,IF(G208-2>0,G208-2,0))","v":0},{"$f":"IF(H209-H206=-1,3+H208)+IF(H209-H206=0,2+H208)+IF(H209-H206=1,1+H208)+IF(H209-H206=2,H208)+IF(H209-H206=3,IF(H208-1>0,H208-1,0))+IF(H209-H206=4,IF(H208-2>0,H208-2,0))","v":0},0,0,0,0,0,0,0,{"$f":"SUM(G210:O210)","v":0},{"$f":"IF(Q209-Q206=-1,3+Q208)+IF(Q209-Q206=0,2+Q208)+IF(Q209-Q206=1,1+Q208)+IF(Q209-Q206=2,Q208)+IF(Q209-Q206=3,IF(Q208-1>0,Q208-1,0))+IF(Q209-Q206=4,IF(Q208-2>0,Q208-2,0))","v":0},0,0,0,0,0,0,0,0,{"$f":"SUM(Q210:Y210)","v":0},{"$f":"P210+Z210","v":0}]
[null,null,null,null,null,"Score Brut",{"$f":"IF(G209-G206=-2,4)+IF(G209-G206=-1,3)+IF(G209-G206=0,2)+IF(G209-G206=1,1)+IF(G209-G206>2,0)","v":0},0,0,0,0,0,0,0,0,{"$f":"SUM(G211:O211)","v":0},{"$f":"IF(Q209-Q206=-2,4)+IF(Q209-Q206=-1,3)+IF(Q209-Q206=0,2)+IF(Q209-Q206=1,1)+IF(Q209-Q206>2,0)","v":0},0,0,0,0,0,0,0,0,{"$f":"SUM(Q211:Y211)","v":0},{"$f":"P211+Z211","v":0}]
[null,null,null,null,null,null,{"$f":"G209-G206","v":6},{"$f":"H209-H206","v":6},5,6,7,5,7,5,7,null,{"$f":"Q209-Q206","v":6},6,7,5,7,6,6,5,6]
[]
[]
[null,null,null,null,null,"Statistiques scores",null,"Eagle & moins",null,null,null,{"$f":"COUNTIF(G212:Y212,\"<=-2\")","v":0},"Par",null,{"$f":"COUNTIF(G212:Y212,\"=0\")","v":0},"Double bogey",null,null,null,null,{"$f":"COUNTIF(G212:Y212,\"=2\")","v":0}]
[null,null,null,null,null,null,null,"Birdie",null,null,null,{"$f":"COUNTIF(G212:Y212,\"=-1\")","v":0},"Bogey",null,{"$f":"COUNTIF(G212:Y212,\"=1\")","v":0},"Triple bogey & plus",null,null,null,null,{"$f":"COUNTIF(G212:Y212,\">=3\")","v":18}]
[null,null,null,null,null,null,null,{"$f":"M215","v":"Par"},null,null,null,{"$f":"O215","v":0}]
[null,null,null,null,null,null,null,{"$f":"M216","v":"Bogey"},null,null,null,{"$f":"O216","v":0}]
[null,null,null,null,null,null,null,{"$f":"P215","v":"Double bogey"},null,null,null,{"$f":"U215","v":0}]
[null,null,null,null,null,null,null,{"$f":"P216","v":"Triple bogey & plus"},null,null,null,{"$f":"U216","v":18}]
[]
[]
[]
[]
[null,null,null,null,null,"Nom",{"$f":"C15","v":0},null,null,null,null,"Slope",null,null,"SSS",null,"Coups reçus",null,null,null,null,null,null,null,null,"Date",{"$f":"$D$3","v":"00:00:00"}]
[null,null,null,null,null,"Index",{"$f":"E15","v":20},null,null,null,null,{"$f":"$F$3","v":133},null,null,{"$f":"$G$3","v":68.599999999999994},null,{"$f":"ROUND((G226*(L226/113)+(O226-AA229)),0)","v":20}]
[]
[null,null,null,null,null,"Trou",1,2,3,4,5,6,7,8,9,"Aller",10,11,12,13,14,15,16,17,18,"Retour","Total"]
[null,null,null,null,null,"PAR",{"$f":"G$7","v":4},{"$f":"H$7","v":4},5,4,3,5,3,5,3,{"$f":"SUM(G229:O229)","v":36},{"$f":"Q$7","v":4},4,3,5,3,4,4,5,4,{"$f":"SUM(Q229:Y229)","v":36},{"$f":"SUM(P229+Z229)","v":72}]
[null,null,null,null,null,"HCP trous",{"$f":"G$8","v":4},{"$f":"H$8","v":8},12,14,2,10,18,16,6,null,{"$f":"Q$8","v":1},9,11,5,17,15,3,13,7]
[null,null,null,null,null,"Coups reçus",{"$f":"IF($Q226<=18,IF(G230<=$Q226,1,0),IF($Q226<=36,IF(G230<=($Q226-18),2,1),IF($Q226>36,IF(G230<=($Q226-36),3,2))))","v":1},{"$f":"IF($Q226<=18,IF(H230<=$Q226,1,0),IF($Q226<=36,IF(H230<=($Q226-18),2,1),IF($Q226>36,IF(H230<=($Q226-36),3,2))))","v":1},1,1,2,1,1,1,1,{"$f":"SUM(G231:O231)","v":10},{"$f":"IF($Q226<=18,IF(Q230<=$Q226,1,0),IF($Q226<=36,IF(Q230<=($Q226-18),2,1),IF($Q226>36,IF(Q230<=($Q226-36),3,2))))","v":2},1,1,1,1,1,1,1,1,{"$f":"SUM(Q231:Y231)","v":10},{"$f":"P231+Z231","v":20}]
[null,null,null,null,null,"Stroke play",{"$f":"G15","v":10},10,10,10,10,10,10,10,10,{"$f":"SUM(G232:O232)","v":90},{"$f":"Q15","v":10},10,10,10,10,10,10,10,10,{"$f":"SUM(Q232:Y232)","v":90},{"$f":"P232+Z232","v":180}]
[null,null,null,null,null,"Net Stableford",{"$f":"IF(G232-G229=-1,3+G231)+IF(G232-G229=0,2+G231)+IF(G232-G229=1,1+G231)+IF(G232-G229=2,G231)+IF(G232-G229=3,IF(G231-1>0,G231-1,0))+IF(G232-G229=4,IF(G231-2>0,G231-2,0))","v":0},{"$f":"IF(H232-H229=-1,3+H231)+IF(H232-H229=0,2+H231)+IF(H232-H229=1,1+H231)+IF(H232-H229=2,H231)+IF(H232-H229=3,IF(H231-1>0,H231-1,0))+IF(H232-H229=4,IF(H231-2>0,H231-2,0))","v":0},0,0,0,0,0,0,0,{"$f":"SUM(G233:O233)","v":0},{"$f":"IF(Q232-Q229=-1,3+Q231)+IF(Q232-Q229=0,2+Q231)+IF(Q232-Q229=1,1+Q231)+IF(Q232-Q229=2,Q231)+IF(Q232-Q229=3,IF(Q231-1>0,Q231-1,0))+IF(Q232-Q229=4,IF(Q231-2>0,Q231-2,0))","v":0},0,0,0,0,0,0,0,0,{"$f":"SUM(Q233:Y233)","v":0},{"$f":"P233+Z233","v":0}]
[null,null,null,null,null,"Score Brut",{"$f":"IF(G232-G229=-2,4)+IF(G232-G229=-1,3)+IF(G232-G229=0,2)+IF(G232-G229=1,1)+IF(G232-G229>2,0)","v":0},0,0,0,0,0,0,0,0,{"$f":"SUM(G234:O234)","v":0},{"$f":"IF(Q232-Q229=-2,4)+IF(Q232-Q229=-1,3)+IF(Q232-Q229=0,2)+IF(Q232-Q229=1,1)+IF(Q232-Q229>2,0)","v":0},0,0,0,0,0,0,0,0,{"$f":"SUM(Q234:Y234)","v":0},{"$f":"P234+Z234","v":0}]
[null,null,null,null,null,null,{"$f":"G232-G229","v":6},{"$f":"H232-H229","v":6},5,6,7,5,7,5,7,null,{"$f":"Q232-Q229","v":6},6,7,5,7,6,6,5,6]
[]
[]
[null,null,null,null,null,"Statistiques scores",null,"Eagle & moins",null,null,null,{"$f":"COUNTIF(G235:Y235,\"<=-2\")","v":0},"Par",null,{"$f":"COUNTIF(G235:Y235,\"=0\")","v":0},"Double bogey",null,null,null,null,{"$f":"COUNTIF(G235:Y235,\"=2\")","v":0}]
[null,null,null,null,null,null,null,"Birdie",null,null,null,{"$f":"COUNTIF(G235:Y235,\"=-1\")","v":0},"Bogey",null,{"$f":"COUNTIF(G235:Y235,\"=1\")","v":0},"Triple bogey & plus",null,null,null,null,{"$f":"COUNTIF(G235:Y235,\">=3\")","v":18}]
[null,null,null,null,null,null,null,{"$f":"M238","v":"Par"},null,null,null,{"$f":"O238","v":0}]
[null,null,null,null,null,null,null,{"$f":"M239","v":"Bogey"},null,null,null,{"$f":"O239","v":0}]
[null,null,null,null,null,null,null,{"$f":"P238","v":"Double bogey"},null,null,null,{"$f":"U238","v":0}]
[null,null,null,null,null,null,null,{"$f":"P239","v":"Triple bogey & plus"},null,null,null,{"$f":"U239","v":18}]
[]
[]
[]
[]
[null,null,null,null,null,"Nom",{"$f":"C16","v":0},null,null,null,null,"Slope",null,null,"SSS",null,"Coups reçus",null,null,null,null,null,null,null,null,"Date",{"$f":"$D$3","v":"00:00:00"}]
[null,null,null,null,null,"Index",{"$f":"E16","v":20},null,null,null,null,{"$f":"$F$3","v":133},null,null,{"$f":"$G$3","v":68.599999999999994},null,{"$f":"ROUND((G249*(L249/113)+(O249-AA252)),0)","v":20}]
[]
[null,null,null,null,null,"Trou",1,2,3,4,5,6,7,8,9,"Aller",10,11,12,13,14,15,16,17,18,"Retour","Total"]
[null,null,null,null,null,"PAR",{"$f":"G$7","v":4},{"$f":"H$7","v":4},5,4,3,5,3,5,3,{"$f":"SUM(G252:O252)","v":36},{"$f":"Q$7","v":4},4,3,5,3,4,4,5,4,{"$f":"SUM(Q252:Y252)","v":36},{"$f":"SUM(P252+Z252)","v":72}]
[null,null,null,null,null,"HCP trous",{"$f":"G$8","v":4},{"$f":"H$8","v":8},12,14,2,10,18,16,6,null,{"$f":"Q$8","v":1},9,11,5,17,15,3,13,7]
[null,null,null,null,null,"Coups reçus",{"$f":"IF($Q249<=18,IF(G253<=$Q249,1,0),IF($Q249<=36,IF(G253<=($Q249-18),2,1),IF($Q249>36,IF(G253<=($Q249-36),3,2))))","v":1},{"$f":"IF($Q249<=18,IF(H253<=$Q249,1,0),IF($Q249<=36,IF(H253<=($Q249-18),2,1),IF($Q249>36,IF(H253<=($Q249-36),3,2))))","v":1},1,1,2,1,1,1,1,{"$f":"SUM(G254:O254)","v":10},{"$f":"IF($Q249<=18,IF(Q253<=$Q249,1,0),IF($Q249<=36,IF(Q253<=($Q249-18),2,1),IF($Q249>36,IF(Q253<=($Q249-36),3,2))))","v":2},1,1,1,1,1,1,1,1,{"$f":"SUM(Q254:Y254)","v":10},{"$f":"P254+Z254","v":20}]
[null,null,null,null,null,"Stroke play",{"$f":"G16","v":10},10,10,10,10,10,10,10,10,{"$f":"SUM(G255:O255)","v":90},{"$f":"Q16","v":10},10,10,10,10,10,10,10,10,{"$f":"SUM(Q255:Y255)","v":90},{"$f":"P255+Z255","v":180}]
[null,null,null,null,null,"Net Stableford",{"$f":"IF(G255-G252=-1,3+G254)+IF(G255-G252=0,2+G254)+IF(G255-G252=1,1+G254)+IF(G255-G252=2,G254)+IF(G255-G252=3,IF(G254-1>0,G254-1,0))+IF(G255-G252=4,IF(G254-2>0,G254-2,0))","v":0},{"$f":"IF(H255-H252=-1,3+H254)+IF(H255-H252=0,2+H254)+IF(H255-H252=1,1+H254)+IF(H255-H252=2,H254)+IF(H255-H252=3,IF(H254-1>0,H254-1,0))+IF(H255-H252=4,IF(H254-2>0,H254-2,0))","v":0},0,0,0,0,0,0,0,{"$f":"SUM(G256:O256)","v":0},{"$f":"IF(Q255-Q252=-1,3+Q254)+IF(Q255-Q252=0,2+Q254)+IF(Q255-Q252=1,1+Q254)+IF(Q255-Q252=2,Q254)+IF(Q255-Q252=3,IF(Q254-1>0,Q254-1,0))+IF(Q255-Q252=4,IF(Q254-2>0,Q254-2,0))","v":0},0,0,0,0,0,0,0,0,{"$f":"SUM(Q256:Y256)","v":0},{"$f":"P256+Z256","v":0}]
[null,null,null,null,null,"Score Brut",{"$f":"IF(G255-G252=-2,4)+IF(G255-G252=-1,3)+IF(G255-G252=0,2)+IF(G255-G252=1,1)+IF(G255-G252>2,0)","v":0},0,0,0,0,0,0,0,0,{"$f":"SUM(G257:O257)","v":0},{"$f":"IF(Q255-Q252=-2,4)+IF(Q255-Q252=-1,3)+IF(Q255-Q252=0,2)+IF(Q255-Q252=1,1)+IF(Q255-Q252>2,0)","v":0},0,0,0,0,0,0,0,0,{"$f":"SUM(Q257:Y257)","v":0},{"$f":"P257+Z257","v":0}]
[null,null,null,null,null,null,{"$f":"G255-G252","v":6},{"$f":"H255-H252","v":6},5,6,7,5,7,5,7,null,{"$f":"Q255-Q252","v":6},6,7,5,7,6,6,5,6]
[]
[]
[null,null,null,null,null,"Statistiques scores",null,"Eagle & moins",null,null,null,{"$f":"COUNTIF(G258:Y258,\"<=-2\")","v":0},"Par",null,{"$f":"COUNTIF(G258:Y258,\"=0\")","v":0},"Double bogey",null,null,null,null,{"$f":"COUNTIF(G258:Y258,\"=2\")","v":0}]
[null,null,null,null,null,null,null,"Birdie",null,null,null,{"$f":"COUNTIF(G258:Y258,\"=-1\")","v":0},"Bogey",null,{"$f":"COUNTIF(G258:Y258,\"=1\")","v":0},"Triple bogey & plus",null,null,null,null,{"$f":"COUNTIF(G258:Y258,\">=3\")","v":18}]
[null,null,null,null,null,null,null,{"$f":"M261","v":"Par"},null,null,null,{"$f":"O261","v":0}]
[null,null,null,null,null,null,null,{"$f":"M262","v":"Bogey"},null,null,null,{"$f":"O262","v":0}]
[null,null,null,null,null,null,null,{"$f":"P261","v":"Double bogey"},null,null,null,{"$f":"U261","v":0}]
[null,null,null,null,null,null,null,{"$f":"P262","v":"Triple bogey & plus"},null,null,null,{"$f":"U262","v":18}]
[]
[]
[]
[]
[null,null,null,null,null,"Nom",{"$f":"C17","v":0},null,null,null,null,"Slope",null,null,"SSS",null,"Coups reçus",null,null,null,null,null,null,null,null,"Date",{"$f":"$D$3","v":"00:00:00"}]
[null,null,null,null,null,"Index",{"$f":"E17","v":20},null,null,null,null,{"$f":"$F$3","v":133},null,null,{"$f":"$G$3","v":68.599999999999994},null,{"$f":"ROUND((G272*(L272/113)+(O272-AA275)),0)","v":20}]
[]
[null,null,null,null,null,"Trou",1,2,3,4,5,6,7,8,9,"Aller",10,11,12,13,14,15,16,17,18,"Retour","Total"]
[null,null,null,null,null,"PAR",{"$f":"G$7","v":4},{"$f":"H$7","v":4},5,4,3,5,3,5,3,{"$f":"SUM(G275:O275)","v":36},{"$f":"Q$7","v":4},4,3,5,3,4,4,5,4,{"$f":"SUM(Q275:Y275)","v":36},{"$f":"SUM(P275+Z275)","v":72}]
[null,null,null,null,null,"HCP trous",{"$f":"G$8","v":4},{"$f":"H$8","v":8},12,14,2,10,18,16,6,null,{"$f":"Q$8","v":1},9,11,5,17,15,3,13,7]
[null,null,null,null,null,"Coups reçus",{"$f":"IF($Q272<=18,IF(G276<=$Q272,1,0),IF($Q272<=36,IF(G276<=($Q272-18),2,1),IF($Q272>36,IF(G276<=($Q272-36),3,2))))","v":1},{"$f":"IF($Q272<=18,IF(H276<=$Q272,1,0),IF($Q272<=36,IF(H276<=($Q272-18),2,1),IF($Q272>36,IF(H276<=($Q272-36),3,2))))","v":1},1,1,2,1,1,1,1,{"$f":"SUM(G277:O277)","v":10},{"$f":"IF($Q272<=18,IF(Q276<=$Q272,1,0),IF($Q272<=36,IF(Q276<=($Q272-18),2,1),IF($Q272>36,IF(Q276<=($Q272-36),3,2))))","v":2},1,1,1,1,1,1,1,1,{"$f":"SUM(Q277:Y277)","v":10},{"$f":"P277+Z277","v":20}]
[null,null,null,null,null,"Stroke play",{"$f":"G17","v":10},10,10,10,10,10,10,10,10,{"$f":"SUM(G278:O278)","v":90},{"$f":"Q17","v":10},10,10,10,10,10,10,10,10,{"$f":"SUM(Q278:Y278)","v":90},{"$f":"P278+Z278","v":180}]
[null,null,null,null,null,"Net Stableford",{"$f":"IF(G278-G275=-1,3+G277)+IF(G278-G275=0,2+G277)+IF(G278-G275=1,1+G277)+IF(G278-G275=2,G277)+IF(G278-G275=3,IF(G277-1>0,G277-1,0))+IF(G278-G275=4,IF(G277-2>0,G277-2,0))","v":0},{"$f":"IF(H278-H275=-1,3+H277)+IF(H278-H275=0,2+H277)+IF(H278-H275=1,1+H277)+IF(H278-H275=2,H277)+IF(H278-H275=3,IF(H277-1>0,H277-1,0))+IF(H278-H275=4,IF(H277-2>0,H277-2,0))","v":0},0,0,0,0,0,0,0,{"$f":"SUM(G279:O279)","v":0},{"$f":"IF(Q278-Q275=-1,3+Q277)+IF(Q278-Q275=0,2+Q277)+IF(Q278-Q275=1,1+Q277)+IF(Q278-Q275=2,Q277)+IF(Q278-Q275=3,IF(Q277-1>0,Q277-1,0))+IF(Q278-Q275=4,IF(Q277-2>0,Q277-2,0))","v":0},0,0,0,0,0,0,0,0,{"$f":"SUM(Q279:Y279)","v":0},{"$f":"P279+Z279","v":0}]
[null,null,null,null,null,"Score Brut",{"$f":"IF(G278-G275=-2,4)+IF(G278-G275=-1,3)+IF(G278-G275=0,2)+IF(G278-G275=1,1)+IF(G278-G275>2,0)","v":0},0,0,0,0,0,0,0,0,{"$f":"SUM(G280:O280)","v":0},{"$f":"IF(Q278-Q275=-2,4)+IF(Q278-Q275=-1,3)+IF(Q278-Q275=0,2)+IF(Q278-Q275=1,1)+IF(Q278-Q275>2,0)","v":0},0,0,0,0,0,0,0,0,{"$f":"SUM(Q280:Y280)","v":0},{"$f":"P280+Z280","v":0}]
[null,null,null,null,null,null,{"$f":"G278-G275","v":6},{"$f":"H278-H275","v":6},5,6,7,5,7,5,7,null,{"$f":"Q278-Q275","v":6},6,7,5,7,6,6,5,6]
[]
[]
[null,null,null,null,null,"Statistiques scores",null,"Eagle & moins",null,null,null,{"$f":"COUNTIF(G281:Y281,\"<=-2\")","v":0},"Par",null,{"$f":"COUNTIF(G281:Y281,\"=0\")","v":0},"Double bogey",null,null,null,null,{"$f":"COUNTIF(G281:Y281,\"=2\")","v":0}]
[null,null,null,null,null,null,null,"Birdie",null,null,null,{"$f":"COUNTIF(G281:Y281,\"=-1\")","v":0},"Bogey",null,{"$f":"COUNTIF(G281:Y281,\"=1\")","v":0},"Triple bogey & plus",null,null,null,null,{"$f":"COUNTIF(G281:Y281,\">=3\")","v":18}]
[null,null,null,null,null,null,null,{"$f":"M284","v":"Par"},null,null,null,{"$f":"O284","v":0}]
[null,null,null,null,null,null,null,{"$f":"M285","v":"Bogey"},null,null,null,{"$f":"O285","v":0}]
[null,null,null,null,null,null,null,{"$f":"P284","v":"Double bogey"},null,null,null,{"$f":"U284","v":0}]
[null,null,null,null,null,null,null,{"$f":"P285","v":"Triple bogey & plus"},null,null,null,{"$f":"U285","v":18}]
[]
[]
[]
[]
[null,null,null,null,null,"Nom",{"$f":"C18","v":0},null,null,null,null,"Slope",null,null,"SSS",null,"Coups reçus",null,null,null,null,null,null,null,null,"Date",{"$f":"$D$3","v":"00:00:00"}]
[null,null,null,null,null,"Index",{"$f":"E18","v":20},null,null,null,null,{"$f":"$F$3","v":133},null,null,{"$f":"$G$3","v":68.599999999999994},null,{"$f":"ROUND((G295*(L295/113)+(O295-AA298)),0)","v":20}]
[]
[null,null,null,null,null,"Trou",1,2,3,4,5,6,7,8,9,"Aller",10,11,12,13,14,15,16,17,18,"Retour","Total"]
[null,null,null,null,null,"PAR",{"$f":"G$7","v":4},{"$f":"H$7","v":4},5,4,3,5,3,5,3,{"$f":"SUM(G298:O298)","v":36},{"$f":"Q$7","v":4},4,3,5,3,4,4,5,4,{"$f":"SUM(Q298:Y298)","v":36},{"$f":"SUM(P298+Z298)","v":72}]
[null,null,null,null,null,"HCP trous",{"$f":"G$8","v":4},{"$f":"H$8","v":8},12,14,2,10,18,16,6,null,{"$f":"Q$8","v":1},9,11,5,17,15,3,13,7]
[null,null,null,null,null,"Coups reçus",{"$f":"IF($Q295<=18,IF(G299<=$Q295,1,0),IF($Q295<=36,IF(G299<=($Q295-18),2,1),IF($Q295>36,IF(G299<=($Q295-36),3,2))))","v":1},{"$f":"IF($Q295<=18,IF(H299<=$Q295,1,0),IF($Q295<=36,IF(H299<=($Q295-18),2,1),IF($Q295>36,IF(H299<=($Q295-36),3,2))))","v":1},1,1,2,1,1,1,1,{"$f":"SUM(G300:O300)","v":10},{"$f":"IF($Q295<=18,IF(Q299<=$Q295,1,0),IF($Q295<=36,IF(Q299<=($Q295-18),2,1),IF($Q295>36,IF(Q299<=($Q295-36),3,2))))","v":2},1,1,1,1,1,1,1,1,{"$f":"SUM(Q300:Y300)","v":10},{"$f":"P300+Z300","v":20}]
[null,null,null,null,null,"Stroke play",{"$f":"G18","v":10},10,10,10,10,10,10,10,10,{"$f":"SUM(G301:O301)","v":90},{"$f":"Q18","v":10},10,10,10,10,10,10,10,10,{"$f":"SUM(Q301:Y301)","v":90},{"$f":"P301+Z301","v":180}]
[null,null,null,null,null,"Net Stableford",{"$f":"IF(G301-G298=-1,3+G300)+IF(G301-G298=0,2+G300)+IF(G301-G298=1,1+G300)+IF(G301-G298=2,G300)+IF(G301-G298=3,IF(G300-1>0,G300-1,0))+IF(G301-G298=4,IF(G300-2>0,G300-2,0))","v":0},{"$f":"IF(H301-H298=-1,3+H300)+IF(H301-H298=0,2+H300)+IF(H301-H298=1,1+H300)+IF(H301-H298=2,H300)+IF(H301-H298=3,IF(H300-1>0,H300-1,0))+IF(H301-H298=4,IF(H300-2>0,H300-2,0))","v":0},0,0,0,0,0,0,0,{"$f":"SUM(G302:O302)","v":0},{"$f":"IF(Q301-Q298=-1,3+Q300)+IF(Q301-Q298=0,2+Q300)+IF(Q301-Q298=1,1+Q300)+IF(Q301-Q298=2,Q300)+IF(Q301-Q298=3,IF(Q300-1>0,Q300-1,0))+IF(Q301-Q298=4,IF(Q300-2>0,Q300-2,0))","v":0},0,0,0,0,0,0,0,0,{"$f":"SUM(Q302:Y302)","v":0},{"$f":"P302+Z302","v":0}]
[null,null,null,null,null,"Score Brut",{"$f":"IF(G301-G298=-2,4)+IF(G301-G298=-1,3)+IF(G301-G298=0,2)+IF(G301-G298=1,1)+IF(G301-G298>2,0)","v":0},0,0,0,0,0,0,0,0,{"$f":"SUM(G303:O303)","v":0},{"$f":"IF(Q301-Q298=-2,4)+IF(Q301-Q298=-1,3)+IF(Q301-Q298=0,2)+IF(Q301-Q298=1,1)+IF(Q301-Q298>2,0)","v":0},0,0,0,0,0,0,0,0,{"$f":"SUM(Q303:Y303)","v":0},{"$f":"P303+Z303","v":0}]
[null,null,null,null,null,null,{"$f":"G301-G298","v":6},{"$f":"H301-H298","v":6},5,6,7,5,7,5,7,null,{"$f":"Q301-Q298","v":6},6,7,5,7,6,6,5,6]
[]
[]
[null,null,null,null,null,"Statistiques scores",null,"Eagle & moins",null,null,null,{"$f":"COUNTIF(G304:Y304,\"<=-2\")","v":0},"Par",null,{"$f":"COUNTIF(G304:Y304,\"=0\")","v":0},"Double bogey",null,null,null,null,{"$f":"COUNTIF(G304:Y304,\"=2\")","v":0}]
[null,null,null,null,null,null,null,"Birdie",null,null,null,{"$f":"COUNTIF(G304:Y304,\"=-1\")","v":0},"Bogey",null,{"$f":"COUNTIF(G304:Y304,\"=1\")","v":0},"Triple bogey & plus",null,null,null,null,{"$f":"COUNTIF(G304:Y304,\">=3\")","v":18}]
[null,null,null,null,null,null,null,{"$f":"M307","v":"Par"},null,null,null,{"$f":"O307","v":0}]
[null,null,null,null,null,null,null,{"$f":"M308","v":"Bogey"},null,null,null,{"$f":"O308","v":0}]
[null,null,null,null,null,null,null,{"$f":"P307","v":"Double bogey"},null,null,null,{"$f":"U307","v":0}]
[null,null,null,null,null,null,null,{"$f":"P308","v":"Triple bogey & plus"},null,null,null,{"$f":"U308","v":18}]
[]
[]
[]
[]
[null,null,null,null,null,"Nom",{"$f":"C19","v":0},null,null,null,null,"Slope",null,null,"SSS",null,"Coups reçus",null,null,null,null,null,null,null,null,"Date",{"$f":"$D$3","v":"00:00:00"}]
[null,null,null,null,null,"Index",{"$f":"E19","v":20},null,null,null,null,{"$f":"$F$3","v":133},null,null,{"$f":"$G$3","v":68.599999999999994},null,{"$f":"ROUND((G318*(L318/113)+(O318-AA321)),0)","v":20}]
[]
[null,null,null,null,null,"Trou",1,2,3,4,5,6,7,8,9,"Aller",10,11,12,13,14,15,16,17,18,"Retour","Total"]
[null,null,null,null,null,"PAR",{"$f":"G$7","v":4},{"$f":"H$7","v":4},5,4,3,5,3,5,3,{"$f":"SUM(G321:O321)","v":36},{"$f":"Q$7","v":4},4,3,5,3,4,4,5,4,{"$f":"SUM(Q321:Y321)","v":36},{"$f":"SUM(P321+Z321)","v":72}]
[null,null,null,null,null,"HCP trous",{"$f":"G$8","v":4},{"$f":"H$8","v":8},12,14,2,10,18,16,6,null,{"$f":"Q$8","v":1},9,11,5,17,15,3,13,7]
[null,null,null,null,null,"Coups reçus",{"$f":"IF($Q318<=18,IF(G322<=$Q318,1,0),IF($Q318<=36,IF(G322<=($Q318-18),2,1),IF($Q318>36,IF(G322<=($Q318-36),3,2))))","v":1},{"$f":"IF($Q318<=18,IF(H322<=$Q318,1,0),IF($Q318<=36,IF(H322<=($Q318-18),2,1),IF($Q318>36,IF(H322<=($Q318-36),3,2))))","v":1},1,1,2,1,1,1,1,{"$f":"SUM(G323:O323)","v":10},{"$f":"IF($Q318<=18,IF(Q322<=$Q318,1,0),IF($Q318<=36,IF(Q322<=($Q318-18),2,1),IF($Q318>36,IF(Q322<=($Q318-36),3,2))))","v":2},1,1,1,1,1,1,1,1,{"$f":"SUM(Q323:Y323)","v":10},{"$f":"P323+Z323","v":20}]
[null,null,null,null,null,"Stroke play",{"$f":"G19","v":10},10,10,10,10,10,10,10,10,{"$f":"SUM(G324:O324)","v":90},{"$f":"Q19","v":10},10,10,10,10,10,10,10,10,{"$f":"SUM(Q324:Y324)","v":90},{"$f":"P324+Z324","v":180}]
[null,null,null,null,null,"Net Stableford",{"$f":"IF(G324-G321=-1,3+G323)+IF(G324-G321=0,2+G323)+IF(G324-G321=1,1+G323)+IF(G324-G321=2,G323)+IF(G324-G321=3,IF(G323-1>0,G323-1,0))+IF(G324-G321=4,IF(G323-2>0,G323-2,0))","v":0},{"$f":"IF(H324-H321=-1,3+H323)+IF(H324-H321=0,2+H323)+IF(H324-H321=1,1+H323)+IF(H324-H321=2,H323)+IF(H324-H321=3,IF(H323-1>0,H323-1,0))+IF(H324-H321=4,IF(H323-2>0,H323-2,0))","v":0},0,0,0,0,0,0,0,{"$f":"SUM(G325:O325)","v":0},{"$f":"IF(Q324-Q321=-1,3+Q323)+IF(Q324-Q321=0,2+Q323)+IF(Q324-Q321=1,1+Q323)+IF(Q324-Q321=2,Q323)+IF(Q324-Q321=3,IF(Q323-1>0,Q323-1,0))+IF(Q324-Q321=4,IF(Q323-2>0,Q323-2,0))","v":0},0,0,0,0,0,0,0,0,{"$f":"SUM(Q325:Y325)","v":0},{"$f":"P325+Z325","v":0}]
[null,null,null,null,null,"Score Brut",{"$f":"IF(G324-G321=-2,4)+IF(G324-G321=-1,3)+IF(G324-G321=0,2)+IF(G324-G321=1,1)+IF(G324-G321>2,0)","v":0},0,0,0,0,0,0,0,0,{"$f":"SUM(G326:O326)","v":0},{"$f":"IF(Q324-Q321=-2,4)+IF(Q324-Q321=-1,3)+IF(Q324-Q321=0,2)+IF(Q324-Q321=1,1)+IF(Q324-Q321>2,0)","v":0},0,0,0,0,0,0,0,0,{"$f":"SUM(Q326:Y326)","v":0},{"$f":"P326+Z326","v":0}]
[null,null,null,null,null,null,{"$f":"G324-G321","v":6},{"$f":"H324-H321","v":6},5,6,7,5,7,5,7,null,{"$f":"Q324-Q321","v":6},6,7,5,7,6,6,5,6]
[]
[]
[null,null,null,null,null,"Statistiques scores",null,"Eagle & moins",null,null,null,{"$f":"COUNTIF(G327:Y327,\"<=-2\")","v":0},"Par",null,{"$f":"COUNTIF(G327:Y327,\"=0\")","v":0},"Double bogey",null,null,null,null,{"$f":"COUNTIF(G327:Y327,\"=2\")","v":0}]
[null,null,null,null,null,null,null,"Birdie",null,null,null,{"$f":"COUNTIF(G327:Y327,\"=-1\")","v":0},"Bogey",null,{"$f":"COUNTIF(G327:Y327,\"=1\")","v":0},"Triple bogey & plus",null,null,null,null,{"$f":"COUNTIF(G327:Y327,\">=3\")","v":18}]
[null,null,null,null,null,null,null,{"$f":"M330","v":"Par"},null,null,null,{"$f":"O330","v":0}]
[null,null,null,null,null,null,null,{"$f":"M331","v":"Bogey"},null,null,null,{"$f":"O331","v":0}]
[null,null,null,null,null,null,null,{"$f":"P330","v":"Double bogey"},null,null,null,{"$f":"U330","v":0}]
[null,null,null,null,null,null,null,{"$f":"P331","v":"Triple bogey & plus"},null,null,null,{"$f":"U331","v":18}]
[]
[]
[]
[]
[null,null,null,null,null,"Nom",{"$f":"C20","v":0},null,null,null,null,"Slope",null,null,"SSS",null,"Coups reçus",null,null,null,null,null,null,null,null,"Date",{"$f":"$D$3","v":"00:00:00"}]
[null,null,null,null,null,"Index",{"$f":"E20","v":20},null,null,null,null,{"$f":"$F$3","v":133},null,null,{"$f":"$G$3","v":68.599999999999994},null,{"$f":"ROUND((G341*(L341/113)+(O341-AA344)),0)","v":20}]
[]
[null,null,null,null,null,"Trou",1,2,3,4,5,6,7,8,9,"Aller",10,11,12,13,14,15,16,17,18,"Retour","Total"]
[null,null,null,null,null,"PAR",{"$f":"G$7","v":4},{"$f":"H$7","v":4},5,4,3,5,3,5,3,{"$f":"SUM(G344:O344)","v":36},{"$f":"Q$7","v":4},4,3,5,3,4,4,5,4,{"$f":"SUM(Q344:Y344)","v":36},{"$f":"SUM(P344+Z344)","v":72}]
[null,null,null,null,null,"HCP trous",{"$f":"G$8","v":4},{"$f":"H$8","v":8},12,14,2,10,18,16,6,null,{"$f":"Q$8","v":1},9,11,5,17,15,3,13,7]
[null,null,null,null,null,"Coups reçus",{"$f":"IF($Q341<=18,IF(G345<=$Q341,1,0),IF($Q341<=36,IF(G345<=($Q341-18),2,1),IF($Q341>36,IF(G345<=($Q341-36),3,2))))","v":1},{"$f":"IF($Q341<=18,IF(H345<=$Q341,1,0),IF($Q341<=36,IF(H345<=($Q341-18),2,1),IF($Q341>36,IF(H345<=($Q341-36),3,2))))","v":1},1,1,2,1,1,1,1,{"$f":"SUM(G346:O346)","v":10},{"$f":"IF($Q341<=18,IF(Q345<=$Q341,1,0),IF($Q341<=36,IF(Q345<=($Q341-18),2,1),IF($Q341>36,IF(Q345<=($Q341-36),3,2))))","v":2},1,1,1,1,1,1,1,1,{"$f":"SUM(Q346:Y346)","v":10},{"$f":"P346+Z346","v":20}]
[null,null,null,null,null,"Stroke play",{"$f":"G20","v":10},10,10,10,10,10,10,10,10,{"$f":"SUM(G347:O347)","v":90},{"$f":"Q20","v":10},10,10,10,10,10,10,10,10,{"$f":"SUM(Q347:Y347)","v":90},{"$f":"P347+Z347","v":180}]
[null,null,null,null,null,"Net Stableford",{"$f":"IF(G347-G344=-1,3+G346)+IF(G347-G344=0,2+G346)+IF(G347-G344=1,1+G346)+IF(G347-G344=2,G346)+IF(G347-G344=3,IF(G346-1>0,G346-1,0))+IF(G347-G344=4,IF(G346-2>0,G346-2,0))","v":0},{"$f":"IF(H347-H344=-1,3+H346)+IF(H347-H344=0,2+H346)+IF(H347-H344=1,1+H346)+IF(H347-H344=2,H346)+IF(H347-H344=3,IF(H346-1>0,H346-1,0))+IF(H347-H344=4,IF(H346-2>0,H346-2,0))","v":0},0,0,0,0,0,0,0,{"$f":"SUM(G348:O348)","v":0},{"$f":"IF(Q347-Q344=-1,3+Q346)+IF(Q347-Q344=0,2+Q346)+IF(Q347-Q344=1,1+Q346)+IF(Q347-Q344=2,Q346)+IF(Q347-Q344=3,IF(Q346-1>0,Q346-1,0))+IF(Q347-Q344=4,IF(Q346-2>0,Q346-2,0))","v":0},0,0,0,0,0,0,0,0,{"$f":"SUM(Q348:Y348)","v":0},{"$f":"P348+Z348","v":0}]
[null,null,null,null,null,"Score Brut",{"$f":"IF(G347-G344=-2,4)+IF(G347-G344=-1,3)+IF(G347-G344=0,2)+IF(G347-G344=1,1)+IF(G347-G344>2,0)","v":0},0,0,0,0,0,0,0,0,{"$f":"SUM(G349:O349)","v":0},{"$f":"IF(Q347-Q344=-2,4)+IF(Q347-Q344=-1,3)+IF(Q347-Q344=0,2)+IF(Q347-Q344=1,1)+IF(Q347-Q344>2,0)","v":0},0,0,0,0,0,0,0,0,{"$f":"SUM(Q349:Y349)","v":0},{"$f":"P349+Z349","v":0}]
[null,null,null,null,null,null,{"$f":"G347-G344","v":6},{"$f":"H347-H344","v":6},5,6,7,5,7,5,7,null,{"$f":"Q347-Q344","v":6},6,7,5,7,6,6,5,6]
[]
[]
[null,null,null,null,null,"Statistiques scores",null,"Eagle & moins",null,null,null,{"$f":"COUNTIF(G350:Y350,\"<=-2\")","v":0},"Par",null,{"$f":"COUNTIF(G350:Y350,\"=0\")","v":0},"Double bogey",null,null,null,null,{"$f":"COUNTIF(G350:Y350,\"=2\")","v":0}]
[null,null,null,null,null,null,null,"Birdie",null,null,null,{"$f":"COUNTIF(G350:Y350,\"=-1\")","v":0},"Bogey",null,{"$f":"COUNTIF(G350:Y350,\"=1\")","v":0},"Triple bogey & plus",null,null,null,null,{"$f":"COUNTIF(G350:Y350,\">=3\")","v":18}]
[null,null,null,null,null,null,null,{"$f":"M353","v":"Par"},null,null,null,{"$f":"O353","v":0}]
[null,null,null,null,null,null,null,{"$f":"M354","v":"Bogey"},null,null,null,{"$f":"O354","v":0}]
[null,null,null,null,null,null,null,{"$f":"P353","v":"Double bogey"},null,null,null,{"$f":"U353","v":0}]
[null,null,null,null,null,null,null,{"$f":"P354","v":"Triple bogey & plus"},null,null,null,{"$f":"U354","v":18}]
[]
[]
[]
[]
[null,null,null,null,null,"Nom",{"$f":"C21","v":0},null,null,null,null,"Slope",null,null,"SSS",null,"Coups reçus",null,null,null,null,null,null,null,null,"Date",{"$f":"$D$3","v":"00:00:00"}]
[null,null,null,null,null,"Index",{"$f":"E21","v":20},null,null,null,null,{"$f":"$F$3","v":133},null,null,{"$f":"$G$3","v":68.599999999999994},null,{"$f":"ROUND((G364*(L364/113)+(O364-AA367)),0)","v":20}]
[]
[null,null,null,null,null,"Trou",1,2,3,4,5,6,7,8,9,"Aller",10,11,12,13,14,15,16,17,18,"Retour","Total"]
[null,null,null,null,null,"PAR",{"$f":"G$7","v":4},{"$f":"H$7","v":4},5,4,3,5,3,5,3,{"$f":"SUM(G367:O367)","v":36},{"$f":"Q$7","v":4},4,3,5,3,4,4,5,4,{"$f":"SUM(Q367:Y367)","v":36},{"$f":"SUM(P367+Z367)","v":72}]
[null,null,null,null,null,"HCP trous",{"$f":"G$8","v":4},{"$f":"H$8","v":8},12,14,2,10,18,16,6,null,{"$f":"Q$8","v":1},9,11,5,17,15,3,13,7]
[null,null,null,null,null,"Coups reçus",{"$f":"IF($Q364<=18,IF(G368<=$Q364,1,0),IF($Q364<=36,IF(G368<=($Q364-18),2,1),IF($Q364>36,IF(G368<=($Q364-36),3,2))))","v":1},{"$f":"IF($Q364<=18,IF(H368<=$Q364,1,0),IF($Q364<=36,IF(H368<=($Q364-18),2,1),IF($Q364>36,IF(H368<=($Q364-36),3,2))))","v":1},1,1,2,1,1,1,1,{"$f":"SUM(G369:O369)","v":10},{"$f":"IF($Q364<=18,IF(Q368<=$Q364,1,0),IF($Q364<=36,IF(Q368<=($Q364-18),2,1),IF($Q364>36,IF(Q368<=($Q364-36),3,2))))","v":2},1,1,1,1,1,1,1,1,{"$f":"SUM(Q369:Y369)","v":10},{"$f":"P369+Z369","v":20}]
[null,null,null,null,null,"Stroke play",{"$f":"G21","v":10},10,10,10,10,10,10,10,10,{"$f":"SUM(G370:O370)","v":90},{"$f":"Q21","v":10},10,10,10,10,10,10,10,10,{"$f":"SUM(Q370:Y370)","v":90},{"$f":"P370+Z370","v":180}]
[null,null,null,null,null,"Net Stableford",{"$f":"IF(G370-G367=-1,3+G369)+IF(G370-G367=0,2+G369)+IF(G370-G367=1,1+G369)+IF(G370-G367=2,G369)+IF(G370-G367=3,IF(G369-1>0,G369-1,0))+IF(G370-G367=4,IF(G369-2>0,G369-2,0))","v":0},{"$f":"IF(H370-H367=-1,3+H369)+IF(H370-H367=0,2+H369)+IF(H370-H367=1,1+H369)+IF(H370-H367=2,H369)+IF(H370-H367=3,IF(H369-1>0,H369-1,0))+IF(H370-H367=4,IF(H369-2>0,H369-2,0))","v":0},0,0,0,0,0,0,0,{"$f":"SUM(G371:O371)","v":0},{"$f":"IF(Q370-Q367=-1,3+Q369)+IF(Q370-Q367=0,2+Q369)+IF(Q370-Q367=1,1+Q369)+IF(Q370-Q367=2,Q369)+IF(Q370-Q367=3,IF(Q369-1>0,Q369-1,0))+IF(Q370-Q367=4,IF(Q369-2>0,Q369-2,0))","v":0},0,0,0,0,0,0,0,0,{"$f":"SUM(Q371:Y371)","v":0},{"$f":"P371+Z371","v":0}]
[null,null,null,null,null,"Score Brut",{"$f":"IF(G370-G367=-2,4)+IF(G370-G367=-1,3)+IF(G370-G367=0,2)+IF(G370-G367=1,1)+IF(G370-G367>2,0)","v":0},0,0,0,0,0,0,0,0,{"$f":"SUM(G372:O372)","v":0},{"$f":"IF(Q370-Q367=-2,4)+IF(Q370-Q367=-1,3)+IF(Q370-Q367=0,2)+IF(Q370-Q367=1,1)+IF(Q370-Q367>2,0)","v":0},0,0,0,0,0,0,0,0,{"$f":"SUM(Q372:Y372)","v":0},{"$f":"P372+Z372","v":0}]
[null,null,null,null,null,null,{"$f":"G370-G367","v":6},{"$f":"H370-H367","v":6},5,6,7,5,7,5,7,null,{"$f":"Q370-Q367","v":6},6,7,5,7,6,6,5,6]
[]
[]
[null,null,null,null,null,"Statistiques scores",null,"Eagle & moins",null,null,null,{"$f":"COUNTIF(G373:Y373,\"<=-2\")","v":0},"Par",null,{"$f":"COUNTIF(G373:Y373,\"=0\")","v":0},"Double bogey",null,null,null,null,{"$f":"COUNTIF(G373:Y373,\"=2\")","v":0}]
[null,null,null,null,null,null,null,"Birdie",null,null,null,{"$f":"COUNTIF(G373:Y373,\"=-1\")","v":0},"Bogey",null,{"$f":"COUNTIF(G373:Y373,\"=1\")","v":0},"Triple bogey & plus",null,null,null,null,{"$f":"COUNTIF(G373:Y373,\">=3\")","v":18}]
[null,null,null,null,null,null,null,{"$f":"M376","v":"Par"},null,null,null,{"$f":"O376","v":0}]
[null,null,null,null,null,null,null,{"$f":"M377","v":"Bogey"},null,null,null,{"$f":"O377","v":0}]
[null,null,null,null,null,null,null,{"$f":"P376","v":"Double bogey"},null,null,null,{"$f":"U376","v":0}]
[null,null,null,null,null,null,null,{"$f":"P377","v":"Triple bogey & plus"},null,null,null,{"$f":"U377","v":18}]
[]
[]
[]
[]
[null,null,null,null,null,"Nom",{"$f":"C22","v":0},null,null,null,null,"Slope",null,null,"SSS",null,"Coups reçus",null,null,null,null,null,null,null,null,"Date",{"$f":"$D$3","v":"00:00:00"}]
[null,null,null,null,null,"Index",{"$f":"E22","v":20},null,null,null,null,{"$f":"$F$3","v":133},null,null,{"$f":"$G$3","v":68.599999999999994},null,{"$f":"ROUND((G387*(L387/113)+(O387-AA390)),0)","v":20}]
[]
[null,null,null,null,null,"Trou",1,2,3,4,5,6,7,8,9,"Aller",10,11,12,13,14,15,16,17,18,"Retour","Total"]
[null,null,null,null,null,"PAR",{"$f":"G$7","v":4},{"$f":"H$7","v":4},5,4,3,5,3,5,3,{"$f":"SUM(G390:O390)","v":36},{"$f":"Q$7","v":4},4,3,5,3,4,4,5,4,{"$f":"SUM(Q390:Y390)","v":36},{"$f":"SUM(P390+Z390)","v":72}]
[null,null,null,null,null,"HCP trous",{"$f":"G$8","v":4},{"$f":"H$8","v":8},12,14,2,10,18,16,6,null,{"$f":"Q$8","v":1},9,11,5,17,15,3,13,7]
[null,null,null,null,null,"Coups reçus",{"$f":"IF($Q387<=18,IF(G391<=$Q387,1,0),IF($Q387<=36,IF(G391<=($Q387-18),2,1),IF($Q387>36,IF(G391<=($Q387-36),3,2))))","v":1},{"$f":"IF($Q387<=18,IF(H391<=$Q387,1,0),IF($Q387<=36,IF(H391<=($Q387-18),2,1),IF($Q387>36,IF(H391<=($Q387-36),3,2))))","v":1},1,1,2,1,1,1,1,{"$f":"SUM(G392:O392)","v":10},{"$f":"IF($Q387<=18,IF(Q391<=$Q387,1,0),IF($Q387<=36,IF(Q391<=($Q387-18),2,1),IF($Q387>36,IF(Q391<=($Q387-36),3,2))))","v":2},1,1,1,1,1,1,1,1,{"$f":"SUM(Q392:Y392)","v":10},{"$f":"P392+Z392","v":20}]
[null,null,null,null,null,"Stroke play",{"$f":"G22","v":10},10,10,10,10,10,10,10,10,{"$f":"SUM(G393:O393)","v":90},{"$f":"Q22","v":10},10,10,10,10,10,10,10,10,{"$f":"SUM(Q393:Y393)","v":90},{"$f":"P393+Z393","v":180}]
[null,null,null,null,null,"Net Stableford",{"$f":"IF(G393-G390=-1,3+G392)+IF(G393-G390=0,2+G392)+IF(G393-G390=1,1+G392)+IF(G393-G390=2,G392)+IF(G393-G390=3,IF(G392-1>0,G392-1,0))+IF(G393-G390=4,IF(G392-2>0,G392-2,0))","v":0},{"$f":"IF(H393-H390=-1,3+H392)+IF(H393-H390=0,2+H392)+IF(H393-H390=1,1+H392)+IF(H393-H390=2,H392)+IF(H393-H390=3,IF(H392-1>0,H392-1,0))+IF(H393-H390=4,IF(H392-2>0,H392-2,0))","v":0},0,0,0,0,0,0,0,{"$f":"SUM(G394:O394)","v":0},{"$f":"IF(Q393-Q390=-1,3+Q392)+IF(Q393-Q390=0,2+Q392)+IF(Q393-Q390=1,1+Q392)+IF(Q393-Q390=2,Q392)+IF(Q393-Q390=3,IF(Q392-1>0,Q392-1,0))+IF(Q393-Q390=4,IF(Q392-2>0,Q392-2,0))","v":0},0,0,0,0,0,0,0,0,{"$f":"SUM(Q394:Y394)","v":0},{"$f":"P394+Z394","v":0}]
[null,null,null,null,null,"Score Brut",{"$f":"IF(G393-G390=-2,4)+IF(G393-G390=-1,3)+IF(G393-G390=0,2)+IF(G393-G390=1,1)+IF(G393-G390>2,0)","v":0},0,0,0,0,0,0,0,0,{"$f":"SUM(G395:O395)","v":0},{"$f":"IF(Q393-Q390=-2,4)+IF(Q393-Q390=-1,3)+IF(Q393-Q390=0,2)+IF(Q393-Q390=1,1)+IF(Q393-Q390>2,0)","v":0},0,0,0,0,0,0,0,0,{"$f":"SUM(Q395:Y395)","v":0},{"$f":"P395+Z395","v":0}]
[null,null,null,null,null,null,{"$f":"G393-G390","v":6},{"$f":"H393-H390","v":6},5,6,7,5,7,5,7,null,{"$f":"Q393-Q390","v":6},6,7,5,7,6,6,5,6]
[]
[]
[null,null,null,null,null,"Statistiques scores",null,"Eagle & moins",null,null,null,{"$f":"COUNTIF(G396:Y396,\"<=-2\")","v":0},"Par",null,{"$f":"COUNTIF(G396:Y396,\"=0\")","v":0},"Double bogey",null,null,null,null,{"$f":"COUNTIF(G396:Y396,\"=2\")","v":0}]
[null,null,null,null,null,null,null,"Birdie",null,null,null,{"$f":"COUNTIF(G396:Y396,\"=-1\")","v":0},"Bogey",null,{"$f":"COUNTIF(G396:Y396,\"=1\")","v":0},"Triple bogey & plus",null,null,null,null,{"$f":"COUNTIF(G396:Y396,\">=3\")","v":18}]
[null,null,null,null,null,null,null,{"$f":"M399","v":"Par"},null,null,null,{"$f":"O399","v":0}]
[null,null,null,null,null,null,null,{"$f":"M400","v":"Bogey"},null,null,null,{"$f":"O400","v":0}]
[null,null,null,null,null,null,null,{"$f":"P399","v":"Double bogey"},null,null,null,{"$f":"U399","v":0}]
[null,null,null,null,null,null,null,{"$f":"P400","v":"Triple bogey & plus"},null,null,null,{"$f":"U400","v":18}]
[]
[]
[]
[]
[null,null,null,null,null,"Nom",{"$f":"C23","v":0},null,null,null,null,"Slope",null,null,"SSS",null,"Coups reçus",null,null,null,null,null,null,null,null,"Date",{"$f":"$D$3","v":"00:00:00"}]
[null,null,null,null,null,"Index",{"$f":"E23","v":20},null,null,null,null,{"$f":"$F$3","v":133},null,null,{"$f":"$G$3","v":68.599999999999994},null,{"$f":"ROUND((G410*(L410/113)+(O410-AA413)),0)","v":20}]
[]
[null,null,null,null,null,"Trou",1,2,3,4,5,6,7,8,9,"Aller",10,11,12,13,14,15,16,17,18,"Retour","Total"]
[null,null,null,null,null,"PAR",{"$f":"G$7","v":4},{"$f":"H$7","v":4},5,4,3,5,3,5,3,{"$f":"SUM(G413:O413)","v":36},{"$f":"Q$7","v":4},4,3,5,3,4,4,5,4,{"$f":"SUM(Q413:Y413)","v":36},{"$f":"SUM(P413+Z413)","v":72}]
[null,null,null,null,null,"HCP trous",{"$f":"G$8","v":4},{"$f":"H$8","v":8},12,14,2,10,18,16,6,null,{"$f":"Q$8","v":1},9,11,5,17,15,3,13,7]
[null,null,null,null,null,"Coups reçus",{"$f":"IF($Q410<=18,IF(G414<=$Q410,1,0),IF($Q410<=36,IF(G414<=($Q410-18),2,1),IF($Q410>36,IF(G414<=($Q410-36),3,2))))","v":1},{"$f":"IF($Q410<=18,IF(H414<=$Q410,1,0),IF($Q410<=36,IF(H414<=($Q410-18),2,1),IF($Q410>36,IF(H414<=($Q410-36),3,2))))","v":1},1,1,2,1,1,1,1,{"$f":"SUM(G415:O415)","v":10},{"$f":"IF($Q410<=18,IF(Q414<=$Q410,1,0),IF($Q410<=36,IF(Q414<=($Q410-18),2,1),IF($Q410>36,IF(Q414<=($Q410-36),3,2))))","v":2},1,1,1,1,1,1,1,1,{"$f":"SUM(Q415:Y415)","v":10},{"$f":"P415+Z415","v":20}]
[null,null,null,null,null,"Stroke play",{"$f":"G23","v":10},10,10,10,10,10,10,10,10,{"$f":"SUM(G416:O416)","v":90},{"$f":"Q23","v":10},10,10,10,10,10,10,10,10,{"$f":"SUM(Q416:Y416)","v":90},{"$f":"P416+Z416","v":180}]
[null,null,null,null,null,"Net Stableford",{"$f":"IF(G416-G413=-1,3+G415)+IF(G416-G413=0,2+G415)+IF(G416-G413=1,1+G415)+IF(G416-G413=2,G415)+IF(G416-G413=3,IF(G415-1>0,G415-1,0))+IF(G416-G413=4,IF(G415-2>0,G415-2,0))","v":0},{"$f":"IF(H416-H413=-1,3+H415)+IF(H416-H413=0,2+H415)+IF(H416-H413=1,1+H415)+IF(H416-H413=2,H415)+IF(H416-H413=3,IF(H415-1>0,H415-1,0))+IF(H416-H413=4,IF(H415-2>0,H415-2,0))","v":0},0,0,0,0,0,0,0,{"$f":"SUM(G417:O417)","v":0},{"$f":"IF(Q416-Q413=-1,3+Q415)+IF(Q416-Q413=0,2+Q415)+IF(Q416-Q413=1,1+Q415)+IF(Q416-Q413=2,Q415)+IF(Q416-Q413=3,IF(Q415-1>0,Q415-1,0))+IF(Q416-Q413=4,IF(Q415-2>0,Q415-2,0))","v":0},0,0,0,0,0,0,0,0,{"$f":"SUM(Q417:Y417)","v":0},{"$f":"P417+Z417","v":0}]
[null,null,null,null,null,"Score Brut",{"$f":"IF(G416-G413=-2,4)+IF(G416-G413=-1,3)+IF(G416-G413=0,2)+IF(G416-G413=1,1)+IF(G416-G413>2,0)","v":0},0,0,0,0,0,0,0,0,{"$f":"SUM(G418:O418)","v":0},{"$f":"IF(Q416-Q413=-2,4)+IF(Q416-Q413=-1,3)+IF(Q416-Q413=0,2)+IF(Q416-Q413=1,1)+IF(Q416-Q413>2,0)","v":0},0,0,0,0,0,0,0,0,{"$f":"SUM(Q418:Y418)","v":0},{"$f":"P418+Z418","v":0}]
[null,null,null,null,null,null,{"$f":"G416-G413","v":6},{"$f":"H416-H413","v":6},5,6,7,5,7,5,7,null,{"$f":"Q416-Q413","v":6},6,7,5,7,6,6,5,6]
[]
[]
[null,null,null,null,null,"Statistiques scores",null,"Eagle & moins",null,null,null,{"$f":"COUNTIF(G419:Y419,\"<=-2\")","v":0},"Par",null,{"$f":"COUNTIF(G419:Y419,\"=0\")","v":0},"Double bogey",null,null,null,null,{"$f":"COUNTIF(G419:Y419,\"=2\")","v":0}]
[null,null,null,null,null,null,null,"Birdie",null,null,null,{"$f":"COUNTIF(G419:Y419,\"=-1\")","v":0},"Bogey",null,{"$f":"COUNTIF(G419:Y419,\"=1\")","v":0},"Triple bogey & plus",null,null,null,null,{"$f":"COUNTIF(G419:Y419,\">=3\")","v":18}]
[null,null,null,null,null,null,null,{"$f":"M422","v":"Par"},null,null,null,{"$f":"O422","v":0}]
[null,null,null,null,null,null,null,{"$f":"M423","v":"Bogey"},null,null,null,{"$f":"O423","v":0}]
[null,null,null,null,null,null,null,{"$f":"P422","v":"Double bogey"},null,null,null,{"$f":"U422","v":0}]
[null,null,null,null,null,null,null,{"$f":"P423","v":"Triple bogey & plus"},null,null,null,{"$f":"U423","v":18}]
[]
[]
[]
[]
[null,null,null,null,null,"Nom",{"$f":"C24","v":0},null,null,null,null,"Slope",null,null,"SSS",null,"Coups reçus",null,null,null,null,null,null,null,null,"Date",{"$f":"$D$3","v":"00:00:00"}]
[null,null,null,null,null,"Index",{"$f":"E24","v":20},null,null,null,null,{"$f":"$F$3","v":133},null,null,{"$f":"$G$3","v":68.599999999999994},null,{"$f":"ROUND((G433*(L433/113)+(O433-AA436)),0)","v":20}]
[]
[null,null,null,null,null,"Trou",1,2,3,4,5,6,7,8,9,"Aller",10,11,12,13,14,15,16,17,18,"Retour","Total"]
[null,null,null,null,null,"PAR",{"$f":"G$7","v":4},{"$f":"H$7","v":4},5,4,3,5,3,5,3,{"$f":"SUM(G436:O436)","v":36},{"$f":"Q$7","v":4},4,3,5,3,4,4,5,4,{"$f":"SUM(Q436:Y436)","v":36},{"$f":"SUM(P436+Z436)","v":72}]
[null,null,null,null,null,"HCP trous",{"$f":"G$8","v":4},{"$f":"H$8","v":8},12,14,2,10,18,16,6,null,{"$f":"Q$8","v":1},9,11,5,17,15,3,13,7]
[null,null,null,null,null,"Coups reçus",{"$f":"IF($Q433<=18,IF(G437<=$Q433,1,0),IF($Q433<=36,IF(G437<=($Q433-18),2,1),IF($Q433>36,IF(G437<=($Q433-36),3,2))))","v":1},{"$f":"IF($Q433<=18,IF(H437<=$Q433,1,0),IF($Q433<=36,IF(H437<=($Q433-18),2,1),IF($Q433>36,IF(H437<=($Q433-36),3,2))))","v":1},1,1,2,1,1,1,1,{"$f":"SUM(G438:O438)","v":10},{"$f":"IF($Q433<=18,IF(Q437<=$Q433,1,0),IF($Q433<=36,IF(Q437<=($Q433-18),2,1),IF($Q433>36,IF(Q437<=($Q433-36),3,2))))","v":2},1,1,1,1,1,1,1,1,{"$f":"SUM(Q438:Y438)","v":10},{"$f":"P438+Z438","v":20}]
[null,null,null,null,null,"Stroke play",{"$f":"G24","v":10},10,10,10,10,10,10,10,10,{"$f":"SUM(G439:O439)","v":90},{"$f":"Q24","v":10},10,10,10,10,10,10,10,10,{"$f":"SUM(Q439:Y439)","v":90},{"$f":"P439+Z439","v":180}]
[null,null,null,null,null,"Net Stableford",{"$f":"IF(G439-G436=-1,3+G438)+IF(G439-G436=0,2+G438)+IF(G439-G436=1,1+G438)+IF(G439-G436=2,G438)+IF(G439-G436=3,IF(G438-1>0,G438-1,0))+IF(G439-G436=4,IF(G438-2>0,G438-2,0))","v":0},{"$f":"IF(H439-H436=-1,3+H438)+IF(H439-H436=0,2+H438)+IF(H439-H436=1,1+H438)+IF(H439-H436=2,H438)+IF(H439-H436=3,IF(H438-1>0,H438-1,0))+IF(H439-H436=4,IF(H438-2>0,H438-2,0))","v":0},0,0,0,0,0,0,0,{"$f":"SUM(G440:O440)","v":0},{"$f":"IF(Q439-Q436=-1,3+Q438)+IF(Q439-Q436=0,2+Q438)+IF(Q439-Q436=1,1+Q438)+IF(Q439-Q436=2,Q438)+IF(Q439-Q436=3,IF(Q438-1>0,Q438-1,0))+IF(Q439-Q436=4,IF(Q438-2>0,Q438-2,0))","v":0},0,0,0,0,0,0,0,0,{"$f":"SUM(Q440:Y440)","v":0},{"$f":"P440+Z440","v":0}]
[null,null,null,null,null,"Score Brut",{"$f":"IF(G439-G436=-2,4)+IF(G439-G436=-1,3)+IF(G439-G436=0,2)+IF(G439-G436=1,1)+IF(G439-G436>2,0)","v":0},0,0,0,0,0,0,0,0,{"$f":"SUM(G441:O441)","v":0},{"$f":"IF(Q439-Q436=-2,4)+IF(Q439-Q436=-1,3)+IF(Q439-Q436=0,2)+IF(Q439-Q436=1,1)+IF(Q439-Q436>2,0)","v":0},0,0,0,0,0,0,0,0,{"$f":"SUM(Q441:Y441)","v":0},{"$f":"P441+Z441","v":0}]
[null,null,null,null,null,null,{"$f":"G439-G436","v":6},{"$f":"H439-H436","v":6},5,6,7,5,7,5,7,null,{"$f":"Q439-Q436","v":6},6,7,5,7,6,6,5,6]
[]
[]
[null,null,null,null,null,"Statistiques scores",null,"Eagle & moins",null,null,null,{"$f":"COUNTIF(G442:Y442,\"<=-2\")","v":0},"Par",null,{"$f":"COUNTIF(G442:Y442,\"=0\")","v":0},"Double bogey",null,null,null,null,{"$f":"COUNTIF(G442:Y442,\"=2\")","v":0}]
[null,null,null,null,null,null,null,"Birdie",null,null,null,{"$f":"COUNTIF(G442:Y442,\"=-1\")","v":0},"Bogey",null,{"$f":"COUNTIF(G442:Y442,\"=1\")","v":0},"Triple bogey & plus",null,null,null,null,{"$f":"COUNTIF(G442:Y442,\">=3\")","v":18}]
[null,null,null,null,null,null,null,{"$f":"M445","v":"Par"},null,null,null,{"$f":"O445","v":0}]
[null,null,null,null,null,null,null,{"$f":"M446","v":"Bogey"},null,null,null,{"$f":"O446","v":0}]
[null,null,null,null,null,null,null,{"$f":"P445","v":"Double bogey"},null,null,null,{"$f":"U445","v":0}]
[null,null,null,null,null,null,null,{"$f":"P446","v":"Triple bogey & plus"},null,null,null,{"$f":"U446","v":18}]
[]
[]
[]
[]
[null,null,null,null,null,"Nom",{"$f":"C25","v":0},null,null,null,null,"Slope",null,null,"SSS",null,"Coups reçus",null,null,null,null,null,null,null,null,"Date",{"$f":"$D$3","v":"00:00:00"}]
[null,null,null,null,null,"Index",{"$f":"E25","v":20},null,null,null,null,{"$f":"$F$3","v":133},null,null,{"$f":"$G$3","v":68.599999999999994},null,{"$f":"ROUND((G456*(L456/113)+(O456-AA459)),0)","v":20}]
[]
[null,null,null,null,null,"Trou",1,2,3,4,5,6,7,8,9,"Aller",10,11,12,13,14,15,16,17,18,"Retour","Total"]
[null,null,null,null,null,"PAR",{"$f":"G$7","v":4},{"$f":"H$7","v":4},5,4,3,5,3,5,3,{"$f":"SUM(G459:O459)","v":36},{"$f":"Q$7","v":4},4,3,5,3,4,4,5,4,{"$f":"SUM(Q459:Y459)","v":36},{"$f":"SUM(P459+Z459)","v":72}]
[null,null,null,null,null,"HCP trous",{"$f":"G$8","v":4},{"$f":"H$8","v":8},12,14,2,10,18,16,6,null,{"$f":"Q$8","v":1},9,11,5,17,15,3,13,7]
[null,null,null,null,null,"Coups reçus",{"$f":"IF($Q456<=18,IF(G460<=$Q456,1,0),IF($Q456<=36,IF(G460<=($Q456-18),2,1),IF($Q456>36,IF(G460<=($Q456-36),3,2))))","v":1},{"$f":"IF($Q456<=18,IF(H460<=$Q456,1,0),IF($Q456<=36,IF(H460<=($Q456-18),2,1),IF($Q456>36,IF(H460<=($Q456-36),3,2))))","v":1},1,1,2,1,1,1,1,{"$f":"SUM(G461:O461)","v":10},{"$f":"IF($Q456<=18,IF(Q460<=$Q456,1,0),IF($Q456<=36,IF(Q460<=($Q456-18),2,1),IF($Q456>36,IF(Q460<=($Q456-36),3,2))))","v":2},1,1,1,1,1,1,1,1,{"$f":"SUM(Q461:Y461)","v":10},{"$f":"P461+Z461","v":20}]
[null,null,null,null,null,"Stroke play",{"$f":"G25","v":10},10,10,10,10,10,10,10,10,{"$f":"SUM(G462:O462)","v":90},{"$f":"Q25","v":10},10,10,10,10,10,10,10,10,{"$f":"SUM(Q462:Y462)","v":90},{"$f":"P462+Z462","v":180}]
[null,null,null,null,null,"Net Stableford",{"$f":"IF(G462-G459=-1,3+G461)+IF(G462-G459=0,2+G461)+IF(G462-G459=1,1+G461)+IF(G462-G459=2,G461)+IF(G462-G459=3,IF(G461-1>0,G461-1,0))+IF(G462-G459=4,IF(G461-2>0,G461-2,0))","v":0},{"$f":"IF(H462-H459=-1,3+H461)+IF(H462-H459=0,2+H461)+IF(H462-H459=1,1+H461)+IF(H462-H459=2,H461)+IF(H462-H459=3,IF(H461-1>0,H461-1,0))+IF(H462-H459=4,IF(H461-2>0,H461-2,0))","v":0},0,0,0,0,0,0,0,{"$f":"SUM(G463:O463)","v":0},{"$f":"IF(Q462-Q459=-1,3+Q461)+IF(Q462-Q459=0,2+Q461)+IF(Q462-Q459=1,1+Q461)+IF(Q462-Q459=2,Q461)+IF(Q462-Q459=3,IF(Q461-1>0,Q461-1,0))+IF(Q462-Q459=4,IF(Q461-2>0,Q461-2,0))","v":0},0,0,0,0,0,0,0,0,{"$f":"SUM(Q463:Y463)","v":0},{"$f":"P463+Z463","v":0}]
[null,null,null,null,null,"Score Brut",{"$f":"IF(G462-G459=-2,4)+IF(G462-G459=-1,3)+IF(G462-G459=0,2)+IF(G462-G459=1,1)+IF(G462-G459>2,0)","v":0},0,0,0,0,0,0,0,0,{"$f":"SUM(G464:O464)","v":0},{"$f":"IF(Q462-Q459=-2,4)+IF(Q462-Q459=-1,3)+IF(Q462-Q459=0,2)+IF(Q462-Q459=1,1)+IF(Q462-Q459>2,0)","v":0},0,0,0,0,0,0,0,0,{"$f":"SUM(Q464:Y464)","v":0},{"$f":"P464+Z464","v":0}]
[null,null,null,null,null,null,{"$f":"G462-G459","v":6},{"$f":"H462-H459","v":6},5,6,7,5,7,5,7,null,{"$f":"Q462-Q459","v":6},6,7,5,7,6,6,5,6]
[]
[]
[null,null,null,null,null,"Statistiques scores",null,"Eagle & moins",null,null,null,{"$f":"COUNTIF(G465:Y465,\"<=-2\")","v":0},"Par",null,{"$f":"COUNTIF(G465:Y465,\"=0\")","v":0},"Double bogey",null,null,null,null,{"$f":"COUNTIF(G465:Y465,\"=2\")","v":0}]
[null,null,null,null,null,null,null,"Birdie",null,null,null,{"$f":"COUNTIF(G465:Y465,\"=-1\")","v":0},"Bogey",null,{"$f":"COUNTIF(G465:Y465,\"=1\")","v":0},"Triple bogey & plus",null,null,null,null,{"$f":"COUNTIF(G465:Y465,\">=3\")","v":18}]
[null,null,null,null,null,null,null,{"$f":"M468","v":"Par"},null,null,null,{"$f":"O468","v":0}]
[null,null,null,null,null,null,null,{"$f":"M469","v":"Bogey"},null,null,null,{"$f":"O469","v":0}]
[null,null,null,null,null,null,null,{"$f":"P468","v":"Double bogey"},null,null,null,{"$f":"U468","v":0}]
[null,null,null,null,null,null,null,{"$f":"P469","v":"Triple bogey & plus"},null,null,null,{"$f":"U469","v":18}]
[]
[]
[]
[]
[null,null,null,null,null,"Nom",{"$f":"C26","v":0},null,null,null,null,"Slope",null,null,"SSS",null,"Coups reçus",null,null,null,null,null,null,null,null,"Date",{"$f":"$D$3","v":"00:00:00"}]
[null,null,null,null,null,"Index",{"$f":"E26","v":20},null,null,null,null,{"$f":"$F$3","v":133},null,null,{"$f":"$G$3","v":68.599999999999994},null,{"$f":"ROUND((G479*(L479/113)+(O479-AA482)),0)","v":20}]
[]
[null,null,null,null,null,"Trou",1,2,3,4,5,6,7,8,9,"Aller",10,11,12,13,14,15,16,17,18,"Retour","Total"]
[null,null,null,null,null,"PAR",{"$f":"G$7","v":4},{"$f":"H$7","v":4},5,4,3,5,3,5,3,{"$f":"SUM(G482:O482)","v":36},{"$f":"Q$7","v":4},4,3,5,3,4,4,5,4,{"$f":"SUM(Q482:Y482)","v":36},{"$f":"SUM(P482+Z482)","v":72}]
[null,null,null,null,null,"HCP trous",{"$f":"G$8","v":4},{"$f":"H$8","v":8},12,14,2,10,18,16,6,null,{"$f":"Q$8","v":1},9,11,5,17,15,3,13,7]
[null,null,null,null,null,"Coups reçus",{"$f":"IF($Q479<=18,IF(G483<=$Q479,1,0),IF($Q479<=36,IF(G483<=($Q479-18),2,1),IF($Q479>36,IF(G483<=($Q479-36),3,2))))","v":1},{"$f":"IF($Q479<=18,IF(H483<=$Q479,1,0),IF($Q479<=36,IF(H483<=($Q479-18),2,1),IF($Q479>36,IF(H483<=($Q479-36),3,2))))","v":1},1,1,2,1,1,1,1,{"$f":"SUM(G484:O484)","v":10},{"$f":"IF($Q479<=18,IF(Q483<=$Q479,1,0),IF($Q479<=36,IF(Q483<=($Q479-18),2,1),IF($Q479>36,IF(Q483<=($Q479-36),3,2))))","v":2},1,1,1,1,1,1,1,1,{"$f":"SUM(Q484:Y484)","v":10},{"$f":"P484+Z484","v":20}]
[null,null,null,null,null,"Stroke play",{"$f":"G26","v":10},10,10,10,10,10,10,10,10,{"$f":"SUM(G485:O485)","v":90},{"$f":"Q26","v":10},10,10,10,10,10,10,10,10,{"$f":"SUM(Q485:Y485)","v":90},{"$f":"P485+Z485","v":180}]
[null,null,null,null,null,"Net Stableford",{"$f":"IF(G485-G482=-1,3+G484)+IF(G485-G482=0,2+G484)+IF(G485-G482=1,1+G484)+IF(G485-G482=2,G484)+IF(G485-G482=3,IF(G484-1>0,G484-1,0))+IF(G485-G482=4,IF(G484-2>0,G484-2,0))","v":0},{"$f":"IF(H485-H482=-1,3+H484)+IF(H485-H482=0,2+H484)+IF(H485-H482=1,1+H484)+IF(H485-H482=2,H484)+IF(H485-H482=3,IF(H484-1>0,H484-1,0))+IF(H485-H482=4,IF(H484-2>0,H484-2,0))","v":0},0,0,0,0,0,0,0,{"$f":"SUM(G486:O486)","v":0},{"$f":"IF(Q485-Q482=-1,3+Q484)+IF(Q485-Q482=0,2+Q484)+IF(Q485-Q482=1,1+Q484)+IF(Q485-Q482=2,Q484)+IF(Q485-Q482=3,IF(Q484-1>0,Q484-1,0))+IF(Q485-Q482=4,IF(Q484-2>0,Q484-2,0))","v":0},0,0,0,0,0,0,0,0,{"$f":"SUM(Q486:Y486)","v":0},{"$f":"P486+Z486","v":0}]
[null,null,null,null,null,"Score Brut",{"$f":"IF(G485-G482=-2,4)+IF(G485-G482=-1,3)+IF(G485-G482=0,2)+IF(G485-G482=1,1)+IF(G485-G482>2,0)","v":0},0,0,0,0,0,0,0,0,{"$f":"SUM(G487:O487)","v":0},{"$f":"IF(Q485-Q482=-2,4)+IF(Q485-Q482=-1,3)+IF(Q485-Q482=0,2)+IF(Q485-Q482=1,1)+IF(Q485-Q482>2,0)","v":0},0,0,0,0,0,0,0,0,{"$f":"SUM(Q487:Y487)","v":0},{"$f":"P487+Z487","v":0}]
[null,null,null,null,null,null,{"$f":"G485-G482","v":6},{"$f":"H485-H482","v":6},5,6,7,5,7,5,7,null,{"$f":"Q485-Q482","v":6},6,7,5,7,6,6,5,6]
[]
[]
[null,null,null,null,null,"Statistiques scores",null,"Eagle & moins",null,null,null,{"$f":"COUNTIF(G488:Y488,\"<=-2\")","v":0},"Par",null,{"$f":"COUNTIF(G488:Y488,\"=0\")","v":0},"Double bogey",null,null,null,null,{"$f":"COUNTIF(G488:Y488,\"=2\")","v":0}]
[null,null,null,null,null,null,null,"Birdie",null,null,null,{"$f":"COUNTIF(G488:Y488,\"=-1\")","v":0},"Bogey",null,{"$f":"COUNTIF(G488:Y488,\"=1\")","v":0},"Triple bogey & plus",null,null,null,null,{"$f":"COUNTIF(G488:Y488,\">=3\")","v":18}]
[null,null,null,null,null,null,null,{"$f":"M491","v":"Par"},null,null,null,{"$f":"O491","v":0}]
[null,null,null,null,null,null,null,{"$f":"M492","v":"Bogey"},null,null,null,{"$f":"O492","v":0}]
[null,null,null,null,null,null,null,{"$f":"P491","v":"Double bogey"},null,null,null,{"$f":"U491","v":0}]
[null,null,null,null,null,null,null,{"$f":"P492","v":"Triple bogey & plus"},null,null,null,{"$f":"U492","v":18}]
[]
[]
[]
[]
[null,null,null,null,null,"Nom",{"$f":"C27","v":0},null,null,null,null,"Slope",null,null,"SSS",null,"Coups reçus",null,null,null,null,null,null,null,null,"Date",{"$f":"$D$3","v":"00:00:00"}]
[null,null,null,null,null,"Index",{"$f":"E27","v":20},null,null,null,null,{"$f":"$F$3","v":133},null,null,{"$f":"$G$3","v":68.599999999999994},null,{"$f":"ROUND((G502*(L502/113)+(O502-AA505)),0)","v":20}]
[]
[null,null,null,null,null,"Trou",1,2,3,4,5,6,7,8,9,"Aller",10,11,12,13,14,15,16,17,18,"Retour","Total"]
[null,null,null,null,null,"PAR",{"$f":"G$7","v":4},{"$f":"H$7","v":4},5,4,3,5,3,5,3,{"$f":"SUM(G505:O505)","v":36},{"$f":"Q$7","v":4},4,3,5,3,4,4,5,4,{"$f":"SUM(Q505:Y505)","v":36},{"$f":"SUM(P505+Z505)","v":72}]
[null,null,null,null,null,"HCP trous",{"$f":"G$8","v":4},{"$f":"H$8","v":8},12,14,2,10,18,16,6,null,{"$f":"Q$8","v":1},9,11,5,17,15,3,13,7]
[null,null,null,null,null,"Coups reçus",{"$f":"IF($Q502<=18,IF(G506<=$Q502,1,0),IF($Q502<=36,IF(G506<=($Q502-18),2,1),IF($Q502>36,IF(G506<=($Q502-36),3,2))))","v":1},{"$f":"IF($Q502<=18,IF(H506<=$Q502,1,0),IF($Q502<=36,IF(H506<=($Q502-18),2,1),IF($Q502>36,IF(H506<=($Q502-36),3,2))))","v":1},1,1,2,1,1,1,1,{"$f":"SUM(G507:O507)","v":10},{"$f":"IF($Q502<=18,IF(Q506<=$Q502,1,0),IF($Q502<=36,IF(Q506<=($Q502-18),2,1),IF($Q502>36,IF(Q506<=($Q502-36),3,2))))","v":2},1,1,1,1,1,1,1,1,{"$f":"SUM(Q507:Y507)","v":10},{"$f":"P507+Z507","v":20}]
[null,null,null,null,null,"Stroke play",{"$f":"G27","v":10},10,10,10,10,10,10,10,10,{"$f":"SUM(G508:O508)","v":90},{"$f":"Q27","v":10},10,10,10,10,10,10,10,10,{"$f":"SUM(Q508:Y508)","v":90},{"$f":"P508+Z508","v":180}]
[null,null,null,null,null,"Net Stableford",{"$f":"IF(G508-G505=-1,3+G507)+IF(G508-G505=0,2+G507)+IF(G508-G505=1,1+G507)+IF(G508-G505=2,G507)+IF(G508-G505=3,IF(G507-1>0,G507-1,0))+IF(G508-G505=4,IF(G507-2>0,G507-2,0))","v":0},{"$f":"IF(H508-H505=-1,3+H507)+IF(H508-H505=0,2+H507)+IF(H508-H505=1,1+H507)+IF(H508-H505=2,H507)+IF(H508-H505=3,IF(H507-1>0,H507-1,0))+IF(H508-H505=4,IF(H507-2>0,H507-2,0))","v":0},0,0,0,0,0,0,0,{"$f":"SUM(G509:O509)","v":0},{"$f":"IF(Q508-Q505=-1,3+Q507)+IF(Q508-Q505=0,2+Q507)+IF(Q508-Q505=1,1+Q507)+IF(Q508-Q505=2,Q507)+IF(Q508-Q505=3,IF(Q507-1>0,Q507-1,0))+IF(Q508-Q505=4,IF(Q507-2>0,Q507-2,0))","v":0},0,0,0,0,0,0,0,0,{"$f":"SUM(Q509:Y509)","v":0},{"$f":"P509+Z509","v":0}]
[null,null,null,null,null,"Score Brut",{"$f":"IF(G508-G505=-2,4)+IF(G508-G505=-1,3)+IF(G508-G505=0,2)+IF(G508-G505=1,1)+IF(G508-G505>2,0)","v":0},0,0,0,0,0,0,0,0,{"$f":"SUM(G510:O510)","v":0},{"$f":"IF(Q508-Q505=-2,4)+IF(Q508-Q505=-1,3)+IF(Q508-Q505=0,2)+IF(Q508-Q505=1,1)+IF(Q508-Q505>2,0)","v":0},0,0,0,0,0,0,0,0,{"$f":"SUM(Q510:Y510)","v":0},{"$f":"P510+Z510","v":0}]
[null,null,null,null,null,null,{"$f":"G508-G505","v":6},{"$f":"H508-H505","v":6},5,6,7,5,7,5,7,null,{"$f":"Q508-Q505","v":6},6,7,5,7,6,6,5,6]
[]
[]
[null,null,null,null,null,"Statistiques scores",null,"Eagle & moins",null,null,null,{"$f":"COUNTIF(G511:Y511,\"<=-2\")","v":0},"Par",null,{"$f":"COUNTIF(G511:Y511,\"=0\")","v":0},"Double bogey",null,null,null,null,{"$f":"COUNTIF(G511:Y511,\"=2\")","v":0}]
[null,null,null,null,null,null,null,"Birdie",null,null,null,{"$f":"COUNTIF(G511:Y511,\"=-1\")","v":0},"Bogey",null,{"$f":"COUNTIF(G511:Y511,\"=1\")","v":0},"Triple bogey & plus",null,null,null,null,{"$f":"COUNTIF(G511:Y511,\">=3\")","v":18}]
[null,null,null,null,null,null,null,{"$f":"M514","v":"Par"},null,null,null,{"$f":"O514","v":0}]
[null,null,null,null,null,null,null,{"$f":"M515","v":"Bogey"},null,null,null,{"$f":"O515","v":0}]
[null,null,null,null,null,null,null,{"$f":"P514","v":"Double bogey"},null,null,null,{"$f":"U514","v":0}]
[null,null,null,null,null,null,null,{"$f":"P515","v":"Triple bogey & plus"},null,null,null,{"$f":"U515","v":18}]
[]
[]
[]
[]
[null,null,null,null,null,"Nom",{"$f":"C28","v":0},null,null,null,null,"Slope",null,null,"SSS",null,"Coups reçus",null,null,null,null,null,null,null,null,"Date",{"$f":"$D$3","v":"00:00:00"}]
[null,null,null,null,null,"Index",{"$f":"E28","v":20},null,null,null,null,{"$f":"$F$3","v":133},null,null,{"$f":"$G$3","v":68.599999999999994},null,{"$f":"ROUND((G525*(L525/113)+(O525-AA528)),0)","v":20}]
[]
[null,null,null,null,null,"Trou",1,2,3,4,5,6,7,8,9,"Aller",10,11,12,13,14,15,16,17,18,"Retour","Total"]
[null,null,null,null,null,"PAR",{"$f":"G$7","v":4},{"$f":"H$7","v":4},5,4,3,5,3,5,3,{"$f":"SUM(G528:O528)","v":36},{"$f":"Q$7","v":4},4,3,5,3,4,4,5,4,{"$f":"SUM(Q528:Y528)","v":36},{"$f":"SUM(P528+Z528)","v":72}]
[null,null,null,null,null,"HCP trous",{"$f":"G$8","v":4},{"$f":"H$8","v":8},12,14,2,10,18,16,6,null,{"$f":"Q$8","v":1},9,11,5,17,15,3,13,7]
[null,null,null,null,null,"Coups reçus",{"$f":"IF($Q525<=18,IF(G529<=$Q525,1,0),IF($Q525<=36,IF(G529<=($Q525-18),2,1),IF($Q525>36,IF(G529<=($Q525-36),3,2))))","v":1},{"$f":"IF($Q525<=18,IF(H529<=$Q525,1,0),IF($Q525<=36,IF(H529<=($Q525-18),2,1),IF($Q525>36,IF(H529<=($Q525-36),3,2))))","v":1},1,1,2,1,1,1,1,{"$f":"SUM(G530:O530)","v":10},{"$f":"IF($Q525<=18,IF(Q529<=$Q525,1,0),IF($Q525<=36,IF(Q529<=($Q525-18),2,1),IF($Q525>36,IF(Q529<=($Q525-36),3,2))))","v":2},1,1,1,1,1,1,1,1,{"$f":"SUM(Q530:Y530)","v":10},{"$f":"P530+Z530","v":20}]
[null,null,null,null,null,"Stroke play",{"$f":"G28","v":10},10,10,10,10,10,10,10,10,{"$f":"SUM(G531:O531)","v":90},{"$f":"Q28","v":10},10,10,10,10,10,10,10,10,{"$f":"SUM(Q531:Y531)","v":90},{"$f":"P531+Z531","v":180}]
[null,null,null,null,null,"Net Stableford",{"$f":"IF(G531-G528=-1,3+G530)+IF(G531-G528=0,2+G530)+IF(G531-G528=1,1+G530)+IF(G531-G528=2,G530)+IF(G531-G528=3,IF(G530-1>0,G530-1,0))+IF(G531-G528=4,IF(G530-2>0,G530-2,0))","v":0},{"$f":"IF(H531-H528=-1,3+H530)+IF(H531-H528=0,2+H530)+IF(H531-H528=1,1+H530)+IF(H531-H528=2,H530)+IF(H531-H528=3,IF(H530-1>0,H530-1,0))+IF(H531-H528=4,IF(H530-2>0,H530-2,0))","v":0},0,0,0,0,0,0,0,{"$f":"SUM(G532:O532)","v":0},{"$f":"IF(Q531-Q528=-1,3+Q530)+IF(Q531-Q528=0,2+Q530)+IF(Q531-Q528=1,1+Q530)+IF(Q531-Q528=2,Q530)+IF(Q531-Q528=3,IF(Q530-1>0,Q530-1,0))+IF(Q531-Q528=4,IF(Q530-2>0,Q530-2,0))","v":0},0,0,0,0,0,0,0,0,{"$f":"SUM(Q532:Y532)","v":0},{"$f":"P532+Z532","v":0}]
[null,null,null,null,null,"Score Brut",{"$f":"IF(G531-G528=-2,4)+IF(G531-G528=-1,3)+IF(G531-G528=0,2)+IF(G531-G528=1,1)+IF(G531-G528>2,0)","v":0},0,0,0,0,0,0,0,0,{"$f":"SUM(G533:O533)","v":0},{"$f":"IF(Q531-Q528=-2,4)+IF(Q531-Q528=-1,3)+IF(Q531-Q528=0,2)+IF(Q531-Q528=1,1)+IF(Q531-Q528>2,0)","v":0},0,0,0,0,0,0,0,0,{"$f":"SUM(Q533:Y533)","v":0},{"$f":"P533+Z533","v":0}]
[null,null,null,null,null,null,{"$f":"G531-G528","v":6},{"$f":"H531-H528","v":6},5,6,7,5,7,5,7,null,{"$f":"Q531-Q528","v":6},6,7,5,7,6,6,5,6]
[]
[]
[null,null,null,null,null,"Statistiques scores",null,"Eagle & moins",null,null,null,{"$f":"COUNTIF(G534:Y534,\"<=-2\")","v":0},"Par",null,{"$f":"COUNTIF(G534:Y534,\"=0\")","v":0},"Double bogey",null,null,null,null,{"$f":"COUNTIF(G534:Y534,\"=2\")","v":0}]
[null,null,null,null,null,null,null,"Birdie",null,null,null,{"$f":"COUNTIF(G534:Y534,\"=-1\")","v":0},"Bogey",null,{"$f":"COUNTIF(G534:Y534,\"=1\")","v":0},"Triple bogey & plus",null,null,null,null,{"$f":"COUNTIF(G534:Y534,\">=3\")","v":18}]
[null,null,null,null,null,null,null,{"$f":"M537","v":"Par"},null,null,null,{"$f":"O537","v":0}]
[null,null,null,null,null,null,null,{"$f":"M538","v":"Bogey"},null,null,null,{"$f":"O538","v":0}]
[null,null,null,null,null,null,null,{"$f":"P537","v":"Double bogey"},null,null,null,{"$f":"U537","v":0}]
[null,null,null,null,null,null,null,{"$f":"P538","v":"Triple bogey & plus"},null,null,null,{"$f":"U538","v":18}]
[]
[]
[]
[]
[null,null,null,null,null,"Nom",{"$f":"C29","v":0},null,null,null,null,"Slope",null,null,"SSS",null,"Coups reçus",null,null,null,null,null,null,null,null,"Date",{"$f":"$D$3","v":"00:00:00"}]
[null,null,null,null,null,"Index",{"$f":"E29","v":20},null,null,null,null,{"$f":"$F$3","v":133},null,null,{"$f":"$G$3","v":68.599999999999994},null,{"$f":"ROUND((G548*(L548/113)+(O548-AA551)),0)","v":20}]
[]
[null,null,null,null,null,"Trou",1,2,3,4,5,6,7,8,9,"Aller",10,11,12,13,14,15,16,17,18,"Retour","Total"]
[null,null,null,null,null,"PAR",{"$f":"G$7","v":4},{"$f":"H$7","v":4},5,4,3,5,3,5,3,{"$f":"SUM(G551:O551)","v":36},{"$f":"Q$7","v":4},4,3,5,3,4,4,5,4,{"$f":"SUM(Q551:Y551)","v":36},{"$f":"SUM(P551+Z551)","v":72}]
[null,null,null,null,null,"HCP trous",{"$f":"G$8","v":4},{"$f":"H$8","v":8},12,14,2,10,18,16,6,null,{"$f":"Q$8","v":1},9,11,5,17,15,3,13,7]
[null,null,null,null,null,"Coups reçus",{"$f":"IF($Q548<=18,IF(G552<=$Q548,1,0),IF($Q548<=36,IF(G552<=($Q548-18),2,1),IF($Q548>36,IF(G552<=($Q548-36),3,2))))","v":1},{"$f":"IF($Q548<=18,IF(H552<=$Q548,1,0),IF($Q548<=36,IF(H552<=($Q548-18),2,1),IF($Q548>36,IF(H552<=($Q548-36),3,2))))","v":1},1,1,2,1,1,1,1,{"$f":"SUM(G553:O553)","v":10},{"$f":"IF($Q548<=18,IF(Q552<=$Q548,1,0),IF($Q548<=36,IF(Q552<=($Q548-18),2,1),IF($Q548>36,IF(Q552<=($Q548-36),3,2))))","v":2},1,1,1,1,1,1,1,1,{"$f":"SUM(Q553:Y553)","v":10},{"$f":"P553+Z553","v":20}]
[null,null,null,null,null,"Stroke play",{"$f":"G29","v":10},10,10,10,10,10,10,10,10,{"$f":"SUM(G554:O554)","v":90},{"$f":"Q29","v":10},10,10,10,10,10,10,10,10,{"$f":"SUM(Q554:Y554)","v":90},{"$f":"P554+Z554","v":180}]
[null,null,null,null,null,"Net Stableford",{"$f":"IF(G554-G551=-1,3+G553)+IF(G554-G551=0,2+G553)+IF(G554-G551=1,1+G553)+IF(G554-G551=2,G553)+IF(G554-G551=3,IF(G553-1>0,G553-1,0))+IF(G554-G551=4,IF(G553-2>0,G553-2,0))","v":0},{"$f":"IF(H554-H551=-1,3+H553)+IF(H554-H551=0,2+H553)+IF(H554-H551=1,1+H553)+IF(H554-H551=2,H553)+IF(H554-H551=3,IF(H553-1>0,H553-1,0))+IF(H554-H551=4,IF(H553-2>0,H553-2,0))","v":0},0,0,0,0,0,0,0,{"$f":"SUM(G555:O555)","v":0},{"$f":"IF(Q554-Q551=-1,3+Q553)+IF(Q554-Q551=0,2+Q553)+IF(Q554-Q551=1,1+Q553)+IF(Q554-Q551=2,Q553)+IF(Q554-Q551=3,IF(Q553-1>0,Q553-1,0))+IF(Q554-Q551=4,IF(Q553-2>0,Q553-2,0))","v":0},0,0,0,0,0,0,0,0,{"$f":"SUM(Q555:Y555)","v":0},{"$f":"P555+Z555","v":0}]
[null,null,null,null,null,"Score Brut",{"$f":"IF(G554-G551=-2,4)+IF(G554-G551=-1,3)+IF(G554-G551=0,2)+IF(G554-G551=1,1)+IF(G554-G551>2,0)","v":0},0,0,0,0,0,0,0,0,{"$f":"SUM(G556:O556)","v":0},{"$f":"IF(Q554-Q551=-2,4)+IF(Q554-Q551=-1,3)+IF(Q554-Q551=0,2)+IF(Q554-Q551=1,1)+IF(Q554-Q551>2,0)","v":0},0,0,0,0,0,0,0,0,{"$f":"SUM(Q556:Y556)","v":0},{"$f":"P556+Z556","v":0}]
[null,null,null,null,null,null,{"$f":"G554-G551","v":6},{"$f":"H554-H551","v":6},5,6,7,5,7,5,7,null,{"$f":"Q554-Q551","v":6},6,7,5,7,6,6,5,6]
[]
[]
[null,null,null,null,null,"Statistiques scores",null,"Eagle & moins",null,null,null,{"$f":"COUNTIF(G557:Y557,\"<=-2\")","v":0},"Par",null,{"$f":"COUNTIF(G557:Y557,\"=0\")","v":0},"Double bogey",null,null,null,null,{"$f":"COUNTIF(G557:Y557,\"=2\")","v":0}]
[null,null,null,null,null,null,null,"Birdie",null,null,null,{"$f":"COUNTIF(G557:Y557,\"=-1\")","v":0},"Bogey",null,{"$f":"COUNTIF(G557:Y557,\"=1\")","v":0},"Triple bogey & plus",null,null,null,null,{"$f":"COUNTIF(G557:Y557,\">=3\")","v":18}]
[null,null,null,null,null,null,null,{"$f":"M560","v":"Par"},null,null,null,{"$f":"O560","v":0}]
[null,null,null,null,null,null,null,{"$f":"M561","v":"Bogey"},null,null,null,{"$f":"O561","v":0}]
[null,null,null,null,null,null,null,{"$f":"P560","v":"Double bogey"},null,null,null,{"$f":"U560","v":0}]
[null,null,null,null,null,null,null,{"$f":"P561","v":"Triple bogey & plus"},null,null,null,{"$f":"U561","v":18}]
[]
[]
[]
[]
[null,null,null,null,null,"Nom",{"$f":"C30","v":0},null,null,null,null,"Slope",null,null,"SSS",null,"Coups reçus",null,null,null,null,null,null,null,null,"Date",{"$f":"$D$3","v":"00:00:00"}]
[null,null,null,null,null,"Index",{"$f":"E30","v":20},null,null,null,null,{"$f":"$F$3","v":133},null,null,{"$f":"$G$3","v":68.599999999999994},null,{"$f":"ROUND((G571*(L571/113)+(O571-AA574)),0)","v":20}]
[]
[null,null,null,null,null,"Trou",1,2,3,4,5,6,7,8,9,"Aller",10,11,12,13,14,15,16,17,18,"Retour","Total"]
[null,null,null,null,null,"PAR",{"$f":"G$7","v":4},{"$f":"H$7","v":4},5,4,3,5,3,5,3,{"$f":"SUM(G574:O574)","v":36},{"$f":"Q$7","v":4},4,3,5,3,4,4,5,4,{"$f":"SUM(Q574:Y574)","v":36},{"$f":"SUM(P574+Z574)","v":72}]
[null,null,null,null,null,"HCP trous",{"$f":"G$8","v":4},{"$f":"H$8","v":8},12,14,2,10,18,16,6,null,{"$f":"Q$8","v":1},9,11,5,17,15,3,13,7]
[null,null,null,null,null,"Coups reçus",{"$f":"IF($Q571<=18,IF(G575<=$Q571,1,0),IF($Q571<=36,IF(G575<=($Q571-18),2,1),IF($Q571>36,IF(G575<=($Q571-36),3,2))))","v":1},{"$f":"IF($Q571<=18,IF(H575<=$Q571,1,0),IF($Q571<=36,IF(H575<=($Q571-18),2,1),IF($Q571>36,IF(H575<=($Q571-36),3,2))))","v":1},1,1,2,1,1,1,1,{"$f":"SUM(G576:O576)","v":10},{"$f":"IF($Q571<=18,IF(Q575<=$Q571,1,0),IF($Q571<=36,IF(Q575<=($Q571-18),2,1),IF($Q571>36,IF(Q575<=($Q571-36),3,2))))","v":2},1,1,1,1,1,1,1,1,{"$f":"SUM(Q576:Y576)","v":10},{"$f":"P576+Z576","v":20}]
[null,null,null,null,null,"Stroke play",{"$f":"G30","v":10},10,10,10,10,10,10,10,10,{"$f":"SUM(G577:O577)","v":90},{"$f":"Q30","v":10},10,10,10,10,10,10,10,10,{"$f":"SUM(Q577:Y577)","v":90},{"$f":"P577+Z577","v":180}]
[null,null,null,null,null,"Net Stableford",{"$f":"IF(G577-G574=-1,3+G576)+IF(G577-G574=0,2+G576)+IF(G577-G574=1,1+G576)+IF(G577-G574=2,G576)+IF(G577-G574=3,IF(G576-1>0,G576-1,0))+IF(G577-G574=4,IF(G576-2>0,G576-2,0))","v":0},{"$f":"IF(H577-H574=-1,3+H576)+IF(H577-H574=0,2+H576)+IF(H577-H574=1,1+H576)+IF(H577-H574=2,H576)+IF(H577-H574=3,IF(H576-1>0,H576-1,0))+IF(H577-H574=4,IF(H576-2>0,H576-2,0))","v":0},0,0,0,0,0,0,0,{"$f":"SUM(G578:O578)","v":0},{"$f":"IF(Q577-Q574=-1,3+Q576)+IF(Q577-Q574=0,2+Q576)+IF(Q577-Q574=1,1+Q576)+IF(Q577-Q574=2,Q576)+IF(Q577-Q574=3,IF(Q576-1>0,Q576-1,0))+IF(Q577-Q574=4,IF(Q576-2>0,Q576-2,0))","v":0},0,0,0,0,0,0,0,0,{"$f":"SUM(Q578:Y578)","v":0},{"$f":"P578+Z578","v":0}]
[null,null,null,null,null,"Score Brut",{"$f":"IF(G577-G574=-2,4)+IF(G577-G574=-1,3)+IF(G577-G574=0,2)+IF(G577-G574=1,1)+IF(G577-G574>2,0)","v":0},0,0,0,0,0,0,0,0,{"$f":"SUM(G579:O579)","v":0},{"$f":"IF(Q577-Q574=-2,4)+IF(Q577-Q574=-1,3)+IF(Q577-Q574=0,2)+IF(Q577-Q574=1,1)+IF(Q577-Q574>2,0)","v":0},0,0,0,0,0,0,0,0,{"$f":"SUM(Q579:Y579)","v":0},{"$f":"P579+Z579","v":0}]
[null,null,null,null,null,null,{"$f":"G577-G574","v":6},{"$f":"H577-H574","v":6},5,6,7,5,7,5,7,null,{"$f":"Q577-Q574","v":6},6,7,5,7,6,6,5,6]
[]
[]
[null,null,null,null,null,"Statistiques scores",null,"Eagle & moins",null,null,null,{"$f":"COUNTIF(G580:Y580,\"<=-2\")","v":0},"Par",null,{"$f":"COUNTIF(G580:Y580,\"=0\")","v":0},"Double bogey",null,null,null,null,{"$f":"COUNTIF(G580:Y580,\"=2\")","v":0}]
[null,null,null,null,null,null,null,"Birdie",null,null,null,{"$f":"COUNTIF(G580:Y580,\"=-1\")","v":0},"Bogey",null,{"$f":"COUNTIF(G580:Y580,\"=1\")","v":0},"Triple bogey & plus",null,null,null,null,{"$f":"COUNTIF(G580:Y580,\">=3\")","v":18}]
[null,null,null,null,null,null,null,{"$f":"M583","v":"Par"},null,null,null,{"$f":"O583","v":0}]
[null,null,null,null,null,null,null,{"$f":"M584","v":"Bogey"},null,null,null,{"$f":"O584","v":0}]
[null,null,null,null,null,null,null,{"$f":"P583","v":"Double bogey"},null,null,null,{"$f":"U583","v":0}]
[null,null,null,null,null,null,null,{"$f":"P584","v":"Triple bogey & plus"},null,null,null,{"$f":"U584","v":18}]
[]
[]
[]
[]
[null,null,null,null,null,"Nom",{"$f":"C31","v":0},null,null,null,null,"Slope",null,null,"SSS",null,"Coups reçus",null,null,null,null,null,null,null,null,"Date",{"$f":"$D$3","v":"00:00:00"}]
[null,null,null,null,null,"Index",{"$f":"E31","v":20},null,null,null,null,{"$f":"$F$3","v":133},null,null,{"$f":"$G$3","v":68.599999999999994},null,{"$f":"ROUND((G594*(L594/113)+(O594-AA597)),0)","v":20}]
[]
[null,null,null,null,null,"Trou",1,2,3,4,5,6,7,8,9,"Aller",10,11,12,13,14,15,16,17,18,"Retour","Total"]
[null,null,null,null,null,"PAR",{"$f":"G$7","v":4},{"$f":"H$7","v":4},5,4,3,5,3,5,3,{"$f":"SUM(G597:O597)","v":36},{"$f":"Q$7","v":4},4,3,5,3,4,4,5,4,{"$f":"SUM(Q597:Y597)","v":36},{"$f":"SUM(P597+Z597)","v":72}]
[null,null,null,null,null,"HCP trous",{"$f":"G$8","v":4},{"$f":"H$8","v":8},12,14,2,10,18,16,6,null,{"$f":"Q$8","v":1},9,11,5,17,15,3,13,7]
[null,null,null,null,null,"Coups reçus",{"$f":"IF($Q594<=18,IF(G598<=$Q594,1,0),IF($Q594<=36,IF(G598<=($Q594-18),2,1),IF($Q594>36,IF(G598<=($Q594-36),3,2))))","v":1},{"$f":"IF($Q594<=18,IF(H598<=$Q594,1,0),IF($Q594<=36,IF(H598<=($Q594-18),2,1),IF($Q594>36,IF(H598<=($Q594-36),3,2))))","v":1},1,1,2,1,1,1,1,{"$f":"SUM(G599:O599)","v":10},{"$f":"IF($Q594<=18,IF(Q598<=$Q594,1,0),IF($Q594<=36,IF(Q598<=($Q594-18),2,1),IF($Q594>36,IF(Q598<=($Q594-36),3,2))))","v":2},1,1,1,1,1,1,1,1,{"$f":"SUM(Q599:Y599)","v":10},{"$f":"P599+Z599","v":20}]
[null,null,null,null,null,"Stroke play",{"$f":"G31","v":10},10,10,10,10,10,10,10,10,{"$f":"SUM(G600:O600)","v":90},{"$f":"Q31","v":10},10,10,10,10,10,10,10,10,{"$f":"SUM(Q600:Y600)","v":90},{"$f":"P600+Z600","v":180}]
[null,null,null,null,null,"Net Stableford",{"$f":"IF(G600-G597=-1,3+G599)+IF(G600-G597=0,2+G599)+IF(G600-G597=1,1+G599)+IF(G600-G597=2,G599)+IF(G600-G597=3,IF(G599-1>0,G599-1,0))+IF(G600-G597=4,IF(G599-2>0,G599-2,0))","v":0},{"$f":"IF(H600-H597=-1,3+H599)+IF(H600-H597=0,2+H599)+IF(H600-H597=1,1+H599)+IF(H600-H597=2,H599)+IF(H600-H597=3,IF(H599-1>0,H599-1,0))+IF(H600-H597=4,IF(H599-2>0,H599-2,0))","v":0},0,0,0,0,0,0,0,{"$f":"SUM(G601:O601)","v":0},{"$f":"IF(Q600-Q597=-1,3+Q599)+IF(Q600-Q597=0,2+Q599)+IF(Q600-Q597=1,1+Q599)+IF(Q600-Q597=2,Q599)+IF(Q600-Q597=3,IF(Q599-1>0,Q599-1,0))+IF(Q600-Q597=4,IF(Q599-2>0,Q599-2,0))","v":0},0,0,0,0,0,0,0,0,{"$f":"SUM(Q601:Y601)","v":0},{"$f":"P601+Z601","v":0}]
[null,null,null,null,null,"Score Brut",{"$f":"IF(G600-G597=-2,4)+IF(G600-G597=-1,3)+IF(G600-G597=0,2)+IF(G600-G597=1,1)+IF(G600-G597>2,0)","v":0},0,0,0,0,0,0,0,0,{"$f":"SUM(G602:O602)","v":0},{"$f":"IF(Q600-Q597=-2,4)+IF(Q600-Q597=-1,3)+IF(Q600-Q597=0,2)+IF(Q600-Q597=1,1)+IF(Q600-Q597>2,0)","v":0},0,0,0,0,0,0,0,0,{"$f":"SUM(Q602:Y602)","v":0},{"$f":"P602+Z602","v":0}]
[null,null,null,null,null,null,{"$f":"G600-G597","v":6},{"$f":"H600-H597","v":6},5,6,7,5,7,5,7,null,{"$f":"Q600-Q597","v":6},6,7,5,7,6,6,5,6]
[]
[]
[null,null,null,null,null,"Statistiques scores",null,"Eagle & moins",null,null,null,{"$f":"COUNTIF(G603:Y603,\"<=-2\")","v":0},"Par",null,{"$f":"COUNTIF(G603:Y603,\"=0\")","v":0},"Double bogey",null,null,null,null,{"$f":"COUNTIF(G603:Y603,\"=2\")","v":0}]
[null,null,null,null,null,null,null,"Birdie",null,null,null,{"$f":"COUNTIF(G603:Y603,\"=-1\")","v":0},"Bogey",null,{"$f":"COUNTIF(G603:Y603,\"=1\")","v":0},"Triple bogey & plus",null,null,null,null,{"$f":"COUNTIF(G603:Y603,\">=3\")","v":18}]
[null,null,null,null,null,null,null,{"$f":"M606","v":"Par"},null,null,null,{"$f":"O606","v":0}]
[null,null,null,null,null,null,null,{"$f":"M607","v":"Bogey"},null,null,null,{"$f":"O607","v":0}]
[null,null,null,null,null,null,null,{"$f":"P606","v":"Double bogey"},null,null,null,{"$f":"U606","v":0}]
[null,null,null,null,null,null,null,{"$f":"P607","v":"Triple bogey & plus"},null,null,null,{"$f":"U607","v":18}]
[]
[]
[]
[]
[null,null,null,null,null,"Nom",{"$f":"C32","v":0},null,null,null,null,"Slope",null,null,"SSS",null,"Coups reçus",null,null,null,null,null,null,null,null,"Date",{"$f":"$D$3","v":"00:00:00"}]
[null,null,null,null,null,"Index",{"$f":"E32","v":20},null,null,null,null,{"$f":"$F$3","v":133},null,null,{"$f":"$G$3","v":68.599999999999994},null,{"$f":"ROUND((G617*(L617/113)+(O617-AA620)),0)","v":20}]
[]
[null,null,null,null,null,"Trou",1,2,3,4,5,6,7,8,9,"Aller",10,11,12,13,14,15,16,17,18,"Retour","Total"]
[null,null,null,null,null,"PAR",{"$f":"G$7","v":4},{"$f":"H$7","v":4},5,4,3,5,3,5,3,{"$f":"SUM(G620:O620)","v":36},{"$f":"Q$7","v":4},4,3,5,3,4,4,5,4,{"$f":"SUM(Q620:Y620)","v":36},{"$f":"SUM(P620+Z620)","v":72}]
[null,null,null,null,null,"HCP trous",{"$f":"G$8","v":4},{"$f":"H$8","v":8},12,14,2,10,18,16,6,null,{"$f":"Q$8","v":1},9,11,5,17,15,3,13,7]
[null,null,null,null,null,"Coups reçus",{"$f":"IF($Q617<=18,IF(G621<=$Q617,1,0),IF($Q617<=36,IF(G621<=($Q617-18),2,1),IF($Q617>36,IF(G621<=($Q617-36),3,2))))","v":1},{"$f":"IF($Q617<=18,IF(H621<=$Q617,1,0),IF($Q617<=36,IF(H621<=($Q617-18),2,1),IF($Q617>36,IF(H621<=($Q617-36),3,2))))","v":1},1,1,2,1,1,1,1,{"$f":"SUM(G622:O622)","v":10},{"$f":"IF($Q617<=18,IF(Q621<=$Q617,1,0),IF($Q617<=36,IF(Q621<=($Q617-18),2,1),IF($Q617>36,IF(Q621<=($Q617-36),3,2))))","v":2},1,1,1,1,1,1,1,1,{"$f":"SUM(Q622:Y622)","v":10},{"$f":"P622+Z622","v":20}]
[null,null,null,null,null,"Stroke play",{"$f":"G32","v":10},10,10,10,10,10,10,10,10,{"$f":"SUM(G623:O623)","v":90},{"$f":"Q32","v":10},10,10,10,10,10,10,10,10,{"$f":"SUM(Q623:Y623)","v":90},{"$f":"P623+Z623","v":180}]
[null,null,null,null,null,"Net Stableford",{"$f":"IF(G623-G620=-1,3+G622)+IF(G623-G620=0,2+G622)+IF(G623-G620=1,1+G622)+IF(G623-G620=2,G622)+IF(G623-G620=3,IF(G622-1>0,G622-1,0))+IF(G623-G620=4,IF(G622-2>0,G622-2,0))","v":0},{"$f":"IF(H623-H620=-1,3+H622)+IF(H623-H620=0,2+H622)+IF(H623-H620=1,1+H622)+IF(H623-H620=2,H622)+IF(H623-H620=3,IF(H622-1>0,H622-1,0))+IF(H623-H620=4,IF(H622-2>0,H622-2,0))","v":0},0,0,0,0,0,0,0,{"$f":"SUM(G624:O624)","v":0},{"$f":"IF(Q623-Q620=-1,3+Q622)+IF(Q623-Q620=0,2+Q622)+IF(Q623-Q620=1,1+Q622)+IF(Q623-Q620=2,Q622)+IF(Q623-Q620=3,IF(Q622-1>0,Q622-1,0))+IF(Q623-Q620=4,IF(Q622-2>0,Q622-2,0))","v":0},0,0,0,0,0,0,0,0,{"$f":"SUM(Q624:Y624)","v":0},{"$f":"P624+Z624","v":0}]
[null,null,null,null,null,"Score Brut",{"$f":"IF(G623-G620=-2,4)+IF(G623-G620=-1,3)+IF(G623-G620=0,2)+IF(G623-G620=1,1)+IF(G623-G620>2,0)","v":0},0,0,0,0,0,0,0,0,{"$f":"SUM(G625:O625)","v":0},{"$f":"IF(Q623-Q620=-2,4)+IF(Q623-Q620=-1,3)+IF(Q623-Q620=0,2)+IF(Q623-Q620=1,1)+IF(Q623-Q620>2,0)","v":0},0,0,0,0,0,0,0,0,{"$f":"SUM(Q625:Y625)","v":0},{"$f":"P625+Z625","v":0}]
[null,null,null,null,null,null,{"$f":"G623-G620","v":6},{"$f":"H623-H620","v":6},5,6,7,5,7,5,7,null,{"$f":"Q623-Q620","v":6},6,7,5,7,6,6,5,6]
[]
[]
[null,null,null,null,null,"Statistiques scores",null,"Eagle & moins",null,null,null,{"$f":"COUNTIF(G626:Y626,\"<=-2\")","v":0},"Par",null,{"$f":"COUNTIF(G626:Y626,\"=0\")","v":0},"Double bogey",null,null,null,null,{"$f":"COUNTIF(G626:Y626,\"=2\")","v":0}]
[null,null,null,null,null,null,null,"Birdie",null,null,null,{"$f":"COUNTIF(G626:Y626,\"=-1\")","v":0},"Bogey",null,{"$f":"COUNTIF(G626:Y626,\"=1\")","v":0},"Triple bogey & plus",null,null,null,null,{"$f":"COUNTIF(G626:Y626,\">=3\")","v":18}]
[null,null,null,null,null,null,null,{"$f":"M629","v":"Par"},null,null,null,{"$f":"O629","v":0}]
[null,null,null,null,null,null,null,{"$f":"M630","v":"Bogey"},null,null,null,{"$f":"O630","v":0}]
[null,null,null,null,null,null,null,{"$f":"P629","v":"Double bogey"},null,null,null,{"$f":"U629","v":0}]
[null,null,null,null,null,null,null,{"$f":"P630","v":"Triple bogey & plus"},null,null,null,{"$f":"U630","v":18}]
[]
[]
[]
[]
[null,null,null,null,null,"Nom",{"$f":"C33","v":0},null,null,null,null,"Slope",null,null,"SSS",null,"Coups reçus",null,null,null,null,null,null,null,null,"Date",{"$f":"$D$3","v":"00:00:00"}]
[null,null,null,null,null,"Index",{"$f":"E33","v":20},null,null,null,null,{"$f":"$F$3","v":133},null,null,{"$f":"$G$3","v":68.599999999999994},null,{"$f":"ROUND((G640*(L640/113)+(O640-AA643)),0)","v":20}]
[]
[null,null,null,null,null,"Trou",1,2,3,4,5,6,7,8,9,"Aller",10,11,12,13,14,15,16,17,18,"Retour","Total"]
[null,null,null,null,null,"PAR",{"$f":"G$7","v":4},{"$f":"H$7","v":4},5,4,3,5,3,5,3,{"$f":"SUM(G643:O643)","v":36},{"$f":"Q$7","v":4},4,3,5,3,4,4,5,4,{"$f":"SUM(Q643:Y643)","v":36},{"$f":"SUM(P643+Z643)","v":72}]
[null,null,null,null,null,"HCP trous",{"$f":"G$8","v":4},{"$f":"H$8","v":8},12,14,2,10,18,16,6,null,{"$f":"Q$8","v":1},9,11,5,17,15,3,13,7]
[null,null,null,null,null,"Coups reçus",{"$f":"IF($Q640<=18,IF(G644<=$Q640,1,0),IF($Q640<=36,IF(G644<=($Q640-18),2,1),IF($Q640>36,IF(G644<=($Q640-36),3,2))))","v":1},{"$f":"IF($Q640<=18,IF(H644<=$Q640,1,0),IF($Q640<=36,IF(H644<=($Q640-18),2,1),IF($Q640>36,IF(H644<=($Q640-36),3,2))))","v":1},1,1,2,1,1,1,1,{"$f":"SUM(G645:O645)","v":10},{"$f":"IF($Q640<=18,IF(Q644<=$Q640,1,0),IF($Q640<=36,IF(Q644<=($Q640-18),2,1),IF($Q640>36,IF(Q644<=($Q640-36),3,2))))","v":2},1,1,1,1,1,1,1,1,{"$f":"SUM(Q645:Y645)","v":10},{"$f":"P645+Z645","v":20}]
[null,null,null,null,null,"Stroke play",{"$f":"G33","v":10},10,10,10,10,10,10,10,10,{"$f":"SUM(G646:O646)","v":90},{"$f":"Q33","v":10},10,10,10,10,10,10,10,10,{"$f":"SUM(Q646:Y646)","v":90},{"$f":"P646+Z646","v":180}]
[null,null,null,null,null,"Net Stableford",{"$f":"IF(G646-G643=-1,3+G645)+IF(G646-G643=0,2+G645)+IF(G646-G643=1,1+G645)+IF(G646-G643=2,G645)+IF(G646-G643=3,IF(G645-1>0,G645-1,0))+IF(G646-G643=4,IF(G645-2>0,G645-2,0))","v":0},{"$f":"IF(H646-H643=-1,3+H645)+IF(H646-H643=0,2+H645)+IF(H646-H643=1,1+H645)+IF(H646-H643=2,H645)+IF(H646-H643=3,IF(H645-1>0,H645-1,0))+IF(H646-H643=4,IF(H645-2>0,H645-2,0))","v":0},0,0,0,0,0,0,0,{"$f":"SUM(G647:O647)","v":0},{"$f":"IF(Q646-Q643=-1,3+Q645)+IF(Q646-Q643=0,2+Q645)+IF(Q646-Q643=1,1+Q645)+IF(Q646-Q643=2,Q645)+IF(Q646-Q643=3,IF(Q645-1>0,Q645-1,0))+IF(Q646-Q643=4,IF(Q645-2>0,Q645-2,0))","v":0},0,0,0,0,0,0,0,0,{"$f":"SUM(Q647:Y647)","v":0},{"$f":"P647+Z647","v":0}]
[null,null,null,null,null,"Score Brut",{"$f":"IF(G646-G643=-2,4)+IF(G646-G643=-1,3)+IF(G646-G643=0,2)+IF(G646-G643=1,1)+IF(G646-G643>2,0)","v":0},0,0,0,0,0,0,0,0,{"$f":"SUM(G648:O648)","v":0},{"$f":"IF(Q646-Q643=-2,4)+IF(Q646-Q643=-1,3)+IF(Q646-Q643=0,2)+IF(Q646-Q643=1,1)+IF(Q646-Q643>2,0)","v":0},0,0,0,0,0,0,0,0,{"$f":"SUM(Q648:Y648)","v":0},{"$f":"P648+Z648","v":0}]
[null,null,null,null,null,null,{"$f":"G646-G643","v":6},{"$f":"H646-H643","v":6},5,6,7,5,7,5,7,null,{"$f":"Q646-Q643","v":6},6,7,5,7,6,6,5,6]
[]
[]
[null,null,null,null,null,"Statistiques scores",null,"Eagle & moins",null,null,null,{"$f":"COUNTIF(G649:Y649,\"<=-2\")","v":0},"Par",null,{"$f":"COUNTIF(G649:Y649,\"=0\")","v":0},"Double bogey",null,null,null,null,{"$f":"COUNTIF(G649:Y649,\"=2\")","v":0}]
[null,null,null,null,null,null,null,"Birdie",null,null,null,{"$f":"COUNTIF(G649:Y649,\"=-1\")","v":0},"Bogey",null,{"$f":"COUNTIF(G649:Y649,\"=1\")","v":0},"Triple bogey & plus",null,null,null,null,{"$f":"COUNTIF(G649:Y649,\">=3\")","v":18}]
[null,null,null,null,null,null,null,{"$f":"M652","v":"Par"},null,null,null,{"$f":"O652","v":0}]
[null,null,null,null,null,null,null,{"$f":"M653","v":"Bogey"},null,null,null,{"$f":"O653","v":0}]
[null,null,null,null,null,null,null,{"$f":"P652","v":"Double bogey"},null,null,null,{"$f":"U652","v":0}]
[null,null,null,null,null,null,null,{"$f":"P653","v":"Triple bogey & plus"},null,null,null,{"$f":"U653","v":18}]
[]
[]
[]
[]
[null,null,null,null,null,"Nom",{"$f":"C34","v":0},null,null,null,null,"Slope",null,null,"SSS",null,"Coups reçus",null,null,null,null,null,null,null,null,"Date",{"$f":"$D$3","v":"00:00:00"}]
[null,null,null,null,null,"Index",{"$f":"E34","v":20},null,null,null,null,{"$f":"$F$3","v":133},null,null,{"$f":"$G$3","v":68.599999999999994},null,{"$f":"ROUND((G663*(L663/113)+(O663-AA666)),0)","v":20}]
[]
[null,null,null,null,null,"Trou",1,2,3,4,5,6,7,8,9,"Aller",10,11,12,13,14,15,16,17,18,"Retour","Total"]
[null,null,null,null,null,"PAR",{"$f":"G$7","v":4},{"$f":"H$7","v":4},5,4,3,5,3,5,3,{"$f":"SUM(G666:O666)","v":36},{"$f":"Q$7","v":4},4,3,5,3,4,4,5,4,{"$f":"SUM(Q666:Y666)","v":36},{"$f":"SUM(P666+Z666)","v":72}]
[null,null,null,null,null,"HCP trous",{"$f":"G$8","v":4},{"$f":"H$8","v":8},12,14,2,10,18,16,6,null,{"$f":"Q$8","v":1},9,11,5,17,15,3,13,7]
[null,null,null,null,null,"Coups reçus",{"$f":"IF($Q663<=18,IF(G667<=$Q663,1,0),IF($Q663<=36,IF(G667<=($Q663-18),2,1),IF($Q663>36,IF(G667<=($Q663-36),3,2))))","v":1},{"$f":"IF($Q663<=18,IF(H667<=$Q663,1,0),IF($Q663<=36,IF(H667<=($Q663-18),2,1),IF($Q663>36,IF(H667<=($Q663-36),3,2))))","v":1},1,1,2,1,1,1,1,{"$f":"SUM(G668:O668)","v":10},{"$f":"IF($Q663<=18,IF(Q667<=$Q663,1,0),IF($Q663<=36,IF(Q667<=($Q663-18),2,1),IF($Q663>36,IF(Q667<=($Q663-36),3,2))))","v":2},1,1,1,1,1,1,1,1,{"$f":"SUM(Q668:Y668)","v":10},{"$f":"P668+Z668","v":20}]
[null,null,null,null,null,"Stroke play",{"$f":"G34","v":10},10,10,10,10,10,10,10,10,{"$f":"SUM(G669:O669)","v":90},{"$f":"Q34","v":10},10,10,10,10,10,10,10,10,{"$f":"SUM(Q669:Y669)","v":90},{"$f":"P669+Z669","v":180}]
[null,null,null,null,null,"Net Stableford",{"$f":"IF(G669-G666=-1,3+G668)+IF(G669-G666=0,2+G668)+IF(G669-G666=1,1+G668)+IF(G669-G666=2,G668)+IF(G669-G666=3,IF(G668-1>0,G668-1,0))+IF(G669-G666=4,IF(G668-2>0,G668-2,0))","v":0},{"$f":"IF(H669-H666=-1,3+H668)+IF(H669-H666=0,2+H668)+IF(H669-H666=1,1+H668)+IF(H669-H666=2,H668)+IF(H669-H666=3,IF(H668-1>0,H668-1,0))+IF(H669-H666=4,IF(H668-2>0,H668-2,0))","v":0},0,0,0,0,0,0,0,{"$f":"SUM(G670:O670)","v":0},{"$f":"IF(Q669-Q666=-1,3+Q668)+IF(Q669-Q666=0,2+Q668)+IF(Q669-Q666=1,1+Q668)+IF(Q669-Q666=2,Q668)+IF(Q669-Q666=3,IF(Q668-1>0,Q668-1,0))+IF(Q669-Q666=4,IF(Q668-2>0,Q668-2,0))","v":0},0,0,0,0,0,0,0,0,{"$f":"SUM(Q670:Y670)","v":0},{"$f":"P670+Z670","v":0}]
[null,null,null,null,null,"Score Brut",{"$f":"IF(G669-G666=-2,4)+IF(G669-G666=-1,3)+IF(G669-G666=0,2)+IF(G669-G666=1,1)+IF(G669-G666>2,0)","v":0},0,0,0,0,0,0,0,0,{"$f":"SUM(G671:O671)","v":0},{"$f":"IF(Q669-Q666=-2,4)+IF(Q669-Q666=-1,3)+IF(Q669-Q666=0,2)+IF(Q669-Q666=1,1)+IF(Q669-Q666>2,0)","v":0},0,0,0,0,0,0,0,0,{"$f":"SUM(Q671:Y671)","v":0},{"$f":"P671+Z671","v":0}]
[null,null,null,null,null,null,{"$f":"G669-G666","v":6},{"$f":"H669-H666","v":6},5,6,7,5,7,5,7,null,{"$f":"Q669-Q666","v":6},6,7,5,7,6,6,5,6]
[]
[]
[null,null,null,null,null,"Statistiques scores",null,"Eagle & moins",null,null,null,{"$f":"COUNTIF(G672:Y672,\"<=-2\")","v":0},"Par",null,{"$f":"COUNTIF(G672:Y672,\"=0\")","v":0},"Double bogey",null,null,null,null,{"$f":"COUNTIF(G672:Y672,\"=2\")","v":0}]
[null,null,null,null,null,null,null,"Birdie",null,null,null,{"$f":"COUNTIF(G672:Y672,\"=-1\")","v":0},"Bogey",null,{"$f":"COUNTIF(G672:Y672,\"=1\")","v":0},"Triple bogey & plus",null,null,null,null,{"$f":"COUNTIF(G672:Y672,\">=3\")","v":18}]
[null,null,null,null,null,null,null,{"$f":"M675","v":"Par"},null,null,null,{"$f":"O675","v":0}]
[null,null,null,null,null,null,null,{"$f":"M676","v":"Bogey"},null,null,null,{"$f":"O676","v":0}]
[null,null,null,null,null,null,null,{"$f":"P675","v":"Double bogey"},null,null,null,{"$f":"U675","v":0}]
[null,null,null,null,null,null,null,{"$f":"P676","v":"Triple bogey & plus"},null,null,null,{"$f":"U676","v":18}]
[]
[]
[]
[]
[null,null,null,null,null,"Nom",{"$f":"C35","v":0},null,null,null,null,"Slope",null,null,"SSS",null,"Coups reçus",null,null,null,null,null,null,null,null,"Date",{"$f":"$D$3","v":"00:00:00"}]
[null,null,null,null,null,"Index",{"$f":"E35","v":20},null,null,null,null,{"$f":"$F$3","v":133},null,null,{"$f":"$G$3","v":68.599999999999994},null,{"$f":"ROUND((G686*(L686/113)+(O686-AA689)),0)","v":20}]
[]
[null,null,null,null,null,"Trou",1,2,3,4,5,6,7,8,9,"Aller",10,11,12,13,14,15,16,17,18,"Retour","Total"]
[null,null,null,null,null,"PAR",{"$f":"G$7","v":4},{"$f":"H$7","v":4},5,4,3,5,3,5,3,{"$f":"SUM(G689:O689)","v":36},{"$f":"Q$7","v":4},4,3,5,3,4,4,5,4,{"$f":"SUM(Q689:Y689)","v":36},{"$f":"SUM(P689+Z689)","v":72}]
[null,null,null,null,null,"HCP trous",{"$f":"G$8","v":4},{"$f":"H$8","v":8},12,14,2,10,18,16,6,null,{"$f":"Q$8","v":1},9,11,5,17,15,3,13,7]
[null,null,null,null,null,"Coups reçus",{"$f":"IF($Q686<=18,IF(G690<=$Q686,1,0),IF($Q686<=36,IF(G690<=($Q686-18),2,1),IF($Q686>36,IF(G690<=($Q686-36),3,2))))","v":1},{"$f":"IF($Q686<=18,IF(H690<=$Q686,1,0),IF($Q686<=36,IF(H690<=($Q686-18),2,1),IF($Q686>36,IF(H690<=($Q686-36),3,2))))","v":1},1,1,2,1,1,1,1,{"$f":"SUM(G691:O691)","v":10},{"$f":"IF($Q686<=18,IF(Q690<=$Q686,1,0),IF($Q686<=36,IF(Q690<=($Q686-18),2,1),IF($Q686>36,IF(Q690<=($Q686-36),3,2))))","v":2},1,1,1,1,1,1,1,1,{"$f":"SUM(Q691:Y691)","v":10},{"$f":"P691+Z691","v":20}]
[null,null,null,null,null,"Stroke play",{"$f":"G35","v":10},10,10,10,10,10,10,10,10,{"$f":"SUM(G692:O692)","v":90},{"$f":"Q35","v":10},10,10,10,10,10,10,10,10,{"$f":"SUM(Q692:Y692)","v":90},{"$f":"P692+Z692","v":180}]
[null,null,null,null,null,"Net Stableford",{"$f":"IF(G692-G689=-1,3+G691)+IF(G692-G689=0,2+G691)+IF(G692-G689=1,1+G691)+IF(G692-G689=2,G691)+IF(G692-G689=3,IF(G691-1>0,G691-1,0))+IF(G692-G689=4,IF(G691-2>0,G691-2,0))","v":0},{"$f":"IF(H692-H689=-1,3+H691)+IF(H692-H689=0,2+H691)+IF(H692-H689=1,1+H691)+IF(H692-H689=2,H691)+IF(H692-H689=3,IF(H691-1>0,H691-1,0))+IF(H692-H689=4,IF(H691-2>0,H691-2,0))","v":0},0,0,0,0,0,0,0,{"$f":"SUM(G693:O693)","v":0},{"$f":"IF(Q692-Q689=-1,3+Q691)+IF(Q692-Q689=0,2+Q691)+IF(Q692-Q689=1,1+Q691)+IF(Q692-Q689=2,Q691)+IF(Q692-Q689=3,IF(Q691-1>0,Q691-1,0))+IF(Q692-Q689=4,IF(Q691-2>0,Q691-2,0))","v":0},0,0,0,0,0,0,0,0,{"$f":"SUM(Q693:Y693)","v":0},{"$f":"P693+Z693","v":0}]
[null,null,null,null,null,"Score Brut",{"$f":"IF(G692-G689=-2,4)+IF(G692-G689=-1,3)+IF(G692-G689=0,2)+IF(G692-G689=1,1)+IF(G692-G689>2,0)","v":0},0,0,0,0,0,0,0,0,{"$f":"SUM(G694:O694)","v":0},{"$f":"IF(Q692-Q689=-2,4)+IF(Q692-Q689=-1,3)+IF(Q692-Q689=0,2)+IF(Q692-Q689=1,1)+IF(Q692-Q689>2,0)","v":0},0,0,0,0,0,0,0,0,{"$f":"SUM(Q694:Y694)","v":0},{"$f":"P694+Z694","v":0}]
[null,null,null,null,null,null,{"$f":"G692-G689","v":6},{"$f":"H692-H689","v":6},5,6,7,5,7,5,7,null,{"$f":"Q692-Q689","v":6},6,7,5,7,6,6,5,6]
[]
[]
[null,null,null,null,null,"Statistiques scores",null,"Eagle & moins",null,null,null,{"$f":"COUNTIF(G695:Y695,\"<=-2\")","v":0},"Par",null,{"$f":"COUNTIF(G695:Y695,\"=0\")","v":0},"Double bogey",null,null,null,null,{"$f":"COUNTIF(G695:Y695,\"=2\")","v":0}]
[null,null,null,null,null,null,null,"Birdie",null,null,null,{"$f":"COUNTIF(G695:Y695,\"=-1\")","v":0},"Bogey",null,{"$f":"COUNTIF(G695:Y695,\"=1\")","v":0},"Triple bogey & plus",null,null,null,null,{"$f":"COUNTIF(G695:Y695,\">=3\")","v":18}]
[null,null,null,null,null,null,null,{"$f":"M698","v":"Par"},null,null,null,{"$f":"O698","v":0}]
[null,null,null,null,null,null,null,{"$f":"M699","v":"Bogey"},null,null,null,{"$f":"O699","v":0}]
[null,null,null,null,null,null,null,{"$f":"P698","v":"Double bogey"},null,null,null,{"$f":"U698","v":0}]
[null,null,null,null,null,null,null,{"$f":"P699","v":"Triple bogey & plus"},null,null,null,{"$f":"U699","v":18}]
[]
[]
[]
[]
[null,null,null,null,null,"Nom",{"$f":"C36","v":0},null,null,null,null,"Slope",null,null,"SSS",null,"Coups reçus",null,null,null,null,null,null,null,null,"Date",{"$f":"$D$3","v":"00:00:00"}]
[null,null,null,null,null,"Index",{"$f":"E36","v":20},null,null,null,null,{"$f":"$F$3","v":133},null,null,{"$f":"$G$3","v":68.599999999999994},null,{"$f":"ROUND((G709*(L709/113)+(O709-AA712)),0)","v":20}]
[]
[null,null,null,null,null,"Trou",1,2,3,4,5,6,7,8,9,"Aller",10,11,12,13,14,15,16,17,18,"Retour","Total"]
[null,null,null,null,null,"PAR",{"$f":"G$7","v":4},{"$f":"H$7","v":4},5,4,3,5,3,5,3,{"$f":"SUM(G712:O712)","v":36},{"$f":"Q$7","v":4},4,3,5,3,4,4,5,4,{"$f":"SUM(Q712:Y712)","v":36},{"$f":"SUM(P712+Z712)","v":72}]
[null,null,null,null,null,"HCP trous",{"$f":"G$8","v":4},{"$f":"H$8","v":8},12,14,2,10,18,16,6,null,{"$f":"Q$8","v":1},9,11,5,17,15,3,13,7]
[null,null,null,null,null,"Coups reçus",{"$f":"IF($Q709<=18,IF(G713<=$Q709,1,0),IF($Q709<=36,IF(G713<=($Q709-18),2,1),IF($Q709>36,IF(G713<=($Q709-36),3,2))))","v":1},{"$f":"IF($Q709<=18,IF(H713<=$Q709,1,0),IF($Q709<=36,IF(H713<=($Q709-18),2,1),IF($Q709>36,IF(H713<=($Q709-36),3,2))))","v":1},1,1,2,1,1,1,1,{"$f":"SUM(G714:O714)","v":10},{"$f":"IF($Q709<=18,IF(Q713<=$Q709,1,0),IF($Q709<=36,IF(Q713<=($Q709-18),2,1),IF($Q709>36,IF(Q713<=($Q709-36),3,2))))","v":2},1,1,1,1,1,1,1,1,{"$f":"SUM(Q714:Y714)","v":10},{"$f":"P714+Z714","v":20}]
[null,null,null,null,null,"Stroke play",{"$f":"G36","v":10},10,10,10,10,10,10,10,10,{"$f":"SUM(G715:O715)","v":90},{"$f":"Q36","v":10},10,10,10,10,10,10,10,10,{"$f":"SUM(Q715:Y715)","v":90},{"$f":"P715+Z715","v":180}]
[null,null,null,null,null,"Net Stableford",{"$f":"IF(G715-G712=-1,3+G714)+IF(G715-G712=0,2+G714)+IF(G715-G712=1,1+G714)+IF(G715-G712=2,G714)+IF(G715-G712=3,IF(G714-1>0,G714-1,0))+IF(G715-G712=4,IF(G714-2>0,G714-2,0))","v":0},{"$f":"IF(H715-H712=-1,3+H714)+IF(H715-H712=0,2+H714)+IF(H715-H712=1,1+H714)+IF(H715-H712=2,H714)+IF(H715-H712=3,IF(H714-1>0,H714-1,0))+IF(H715-H712=4,IF(H714-2>0,H714-2,0))","v":0},0,0,0,0,0,0,0,{"$f":"SUM(G716:O716)","v":0},{"$f":"IF(Q715-Q712=-1,3+Q714)+IF(Q715-Q712=0,2+Q714)+IF(Q715-Q712=1,1+Q714)+IF(Q715-Q712=2,Q714)+IF(Q715-Q712=3,IF(Q714-1>0,Q714-1,0))+IF(Q715-Q712=4,IF(Q714-2>0,Q714-2,0))","v":0},0,0,0,0,0,0,0,0,{"$f":"SUM(Q716:Y716)","v":0},{"$f":"P716+Z716","v":0}]
[null,null,null,null,null,"Score Brut",{"$f":"IF(G715-G712=-2,4)+IF(G715-G712=-1,3)+IF(G715-G712=0,2)+IF(G715-G712=1,1)+IF(G715-G712>2,0)","v":0},0,0,0,0,0,0,0,0,{"$f":"SUM(G717:O717)","v":0},{"$f":"IF(Q715-Q712=-2,4)+IF(Q715-Q712=-1,3)+IF(Q715-Q712=0,2)+IF(Q715-Q712=1,1)+IF(Q715-Q712>2,0)","v":0},0,0,0,0,0,0,0,0,{"$f":"SUM(Q717:Y717)","v":0},{"$f":"P717+Z717","v":0}]
[null,null,null,null,null,null,{"$f":"G715-G712","v":6},{"$f":"H715-H712","v":6},5,6,7,5,7,5,7,null,{"$f":"Q715-Q712","v":6},6,7,5,7,6,6,5,6]
[]
[]
[null,null,null,null,null,"Statistiques scores",null,"Eagle & moins",null,null,null,{"$f":"COUNTIF(G718:Y718,\"<=-2\")","v":0},"Par",null,{"$f":"COUNTIF(G718:Y718,\"=0\")","v":0},"Double bogey",null,null,null,null,{"$f":"COUNTIF(G718:Y718,\"=2\")","v":0}]
[null,null,null,null,null,null,null,"Birdie",null,null,null,{"$f":"COUNTIF(G718:Y718,\"=-1\")","v":0},"Bogey",null,{"$f":"COUNTIF(G718:Y718,\"=1\")","v":0},"Triple bogey & plus",null,null,null,null,{"$f":"COUNTIF(G718:Y718,\">=3\")","v":18}]
[null,null,null,null,null,null,null,{"$f":"M721","v":"Par"},null,null,null,{"$f":"O721","v":0}]
[null,null,null,null,null,null,null,{"$f":"M722","v":"Bogey"},null,null,null,{"$f":"O722","v":0}]
[null,null,null,null,null,null,null,{"$f":"P721","v":"Double bogey"},null,null,null,{"$f":"U721","v":0}]
[null,null,null,null,null,null,null,{"$f":"P722","v":"Triple bogey & plus"},null,null,null,{"$f":"U722","v":18}]
[]
[]
[]
[]
[null,null,null,null,null,"Nom",{"$f":"C37","v":0},null,null,null,null,"Slope",null,null,"SSS",null,"Coups reçus",null,null,null,null,null,null,null,null,"Date",{"$f":"$D$3","v":"00:00:00"}]
[null,null,null,null,null,"Index",{"$f":"E37","v":20},null,null,null,null,{"$f":"$F$3","v":133},null,null,{"$f":"$G$3","v":68.599999999999994},null,{"$f":"ROUND((G732*(L732/113)+(O732-AA735)),0)","v":20}]
[]
[null,null,null,null,null,"Trou",1,2,3,4,5,6,7,8,9,"Aller",10,11,12,13,14,15,16,17,18,"Retour","Total"]
[null,null,null,null,null,"PAR",{"$f":"G$7","v":4},{"$f":"H$7","v":4},5,4,3,5,3,5,3,{"$f":"SUM(G735:O735)","v":36},{"$f":"Q$7","v":4},4,3,5,3,4,4,5,4,{"$f":"SUM(Q735:Y735)","v":36},{"$f":"SUM(P735+Z735)","v":72}]
[null,null,null,null,null,"HCP trous",{"$f":"G$8","v":4},{"$f":"H$8","v":8},12,14,2,10,18,16,6,null,{"$f":"Q$8","v":1},9,11,5,17,15,3,13,7]
[null,null,null,null,null,"Coups reçus",{"$f":"IF($Q732<=18,IF(G736<=$Q732,1,0),IF($Q732<=36,IF(G736<=($Q732-18),2,1),IF($Q732>36,IF(G736<=($Q732-36),3,2))))","v":1},{"$f":"IF($Q732<=18,IF(H736<=$Q732,1,0),IF($Q732<=36,IF(H736<=($Q732-18),2,1),IF($Q732>36,IF(H736<=($Q732-36),3,2))))","v":1},1,1,2,1,1,1,1,{"$f":"SUM(G737:O737)","v":10},{"$f":"IF($Q732<=18,IF(Q736<=$Q732,1,0),IF($Q732<=36,IF(Q736<=($Q732-18),2,1),IF($Q732>36,IF(Q736<=($Q732-36),3,2))))","v":2},1,1,1,1,1,1,1,1,{"$f":"SUM(Q737:Y737)","v":10},{"$f":"P737+Z737","v":20}]
[null,null,null,null,null,"Stroke play",{"$f":"G37","v":10},10,10,10,10,10,10,10,10,{"$f":"SUM(G738:O738)","v":90},{"$f":"Q37","v":10},10,10,10,10,10,10,10,10,{"$f":"SUM(Q738:Y738)","v":90},{"$f":"P738+Z738","v":180}]
[null,null,null,null,null,"Net Stableford",{"$f":"IF(G738-G735=-1,3+G737)+IF(G738-G735=0,2+G737)+IF(G738-G735=1,1+G737)+IF(G738-G735=2,G737)+IF(G738-G735=3,IF(G737-1>0,G737-1,0))+IF(G738-G735=4,IF(G737-2>0,G737-2,0))","v":0},{"$f":"IF(H738-H735=-1,3+H737)+IF(H738-H735=0,2+H737)+IF(H738-H735=1,1+H737)+IF(H738-H735=2,H737)+IF(H738-H735=3,IF(H737-1>0,H737-1,0))+IF(H738-H735=4,IF(H737-2>0,H737-2,0))","v":0},0,0,0,0,0,0,0,{"$f":"SUM(G739:O739)","v":0},{"$f":"IF(Q738-Q735=-1,3+Q737)+IF(Q738-Q735=0,2+Q737)+IF(Q738-Q735=1,1+Q737)+IF(Q738-Q735=2,Q737)+IF(Q738-Q735=3,IF(Q737-1>0,Q737-1,0))+IF(Q738-Q735=4,IF(Q737-2>0,Q737-2,0))","v":0},0,0,0,0,0,0,0,0,{"$f":"SUM(Q739:Y739)","v":0},{"$f":"P739+Z739","v":0}]
[null,null,null,null,null,"Score Brut",{"$f":"IF(G738-G735=-2,4)+IF(G738-G735=-1,3)+IF(G738-G735=0,2)+IF(G738-G735=1,1)+IF(G738-G735>2,0)","v":0},0,0,0,0,0,0,0,0,{"$f":"SUM(G740:O740)","v":0},{"$f":"IF(Q738-Q735=-2,4)+IF(Q738-Q735=-1,3)+IF(Q738-Q735=0,2)+IF(Q738-Q735=1,1)+IF(Q738-Q735>2,0)","v":0},0,0,0,0,0,0,0,0,{"$f":"SUM(Q740:Y740)","v":0},{"$f":"P740+Z740","v":0}]
[null,null,null,null,null,null,{"$f":"G738-G735","v":6},{"$f":"H738-H735","v":6},5,6,7,5,7,5,7,null,{"$f":"Q738-Q735","v":6},6,7,5,7,6,6,5,6]
[]
[]
[null,null,null,null,null,"Statistiques scores",null,"Eagle & moins",null,null,null,{"$f":"COUNTIF(G741:Y741,\"<=-2\")","v":0},"Par",null,{"$f":"COUNTIF(G741:Y741,\"=0\")","v":0},"Double bogey",null,null,null,null,{"$f":"COUNTIF(G741:Y741,\"=2\")","v":0}]
[null,null,null,null,null,null,null,"Birdie",null,null,null,{"$f":"COUNTIF(G741:Y741,\"=-1\")","v":0},"Bogey",null,{"$f":"COUNTIF(G741:Y741,\"=1\")","v":0},"Triple bogey & plus",null,null,null,null,{"$f":"COUNTIF(G741:Y741,\">=3\")","v":18}]
[null,null,null,null,null,null,null,{"$f":"M744","v":"Par"},null,null,null,{"$f":"O744","v":0}]
[null,null,null,null,null,null,null,{"$f":"M745","v":"Bogey"},null,null,null,{"$f":"O745","v":0}]
[null,null,null,null,null,null,null,{"$f":"P744","v":"Double bogey"},null,null,null,{"$f":"U744","v":0}]
[null,null,null,null,null,null,null,{"$f":"P745","v":"Triple bogey & plus"},null,null,null,{"$f":"U745","v":18}]
[]
[]
[]
[]
[null,null,null,null,null,"Nom",{"$f":"C38","v":0},null,null,null,null,"Slope",null,null,"SSS",null,"Coups reçus",null,null,null,null,null,null,null,null,"Date",{"$f":"$D$3","v":"00:00:00"}]
[null,null,null,null,null,"Index",{"$f":"E38","v":20},null,null,null,null,{"$f":"$F$3","v":133},null,null,{"$f":"$G$3","v":68.599999999999994},null,{"$f":"ROUND((G755*(L755/113)+(O755-AA758)),0)","v":20}]
[]
[null,null,null,null,null,"Trou",1,2,3,4,5,6,7,8,9,"Aller",10,11,12,13,14,15,16,17,18,"Retour","Total"]
[null,null,null,null,null,"PAR",{"$f":"G$7","v":4},{"$f":"H$7","v":4},5,4,3,5,3,5,3,{"$f":"SUM(G758:O758)","v":36},{"$f":"Q$7","v":4},4,3,5,3,4,4,5,4,{"$f":"SUM(Q758:Y758)","v":36},{"$f":"SUM(P758+Z758)","v":72}]
[null,null,null,null,null,"HCP trous",{"$f":"G$8","v":4},{"$f":"H$8","v":8},12,14,2,10,18,16,6,null,{"$f":"Q$8","v":1},9,11,5,17,15,3,13,7]
[null,null,null,null,null,"Coups reçus",{"$f":"IF($Q755<=18,IF(G759<=$Q755,1,0),IF($Q755<=36,IF(G759<=($Q755-18),2,1),IF($Q755>36,IF(G759<=($Q755-36),3,2))))","v":1},{"$f":"IF($Q755<=18,IF(H759<=$Q755,1,0),IF($Q755<=36,IF(H759<=($Q755-18),2,1),IF($Q755>36,IF(H759<=($Q755-36),3,2))))","v":1},1,1,2,1,1,1,1,{"$f":"SUM(G760:O760)","v":10},{"$f":"IF($Q755<=18,IF(Q759<=$Q755,1,0),IF($Q755<=36,IF(Q759<=($Q755-18),2,1),IF($Q755>36,IF(Q759<=($Q755-36),3,2))))","v":2},1,1,1,1,1,1,1,1,{"$f":"SUM(Q760:Y760)","v":10},{"$f":"P760+Z760","v":20}]
[null,null,null,null,null,"Stroke play",{"$f":"G38","v":10},10,10,10,10,10,10,10,10,{"$f":"SUM(G761:O761)","v":90},{"$f":"Q38","v":10},10,10,10,10,10,10,10,10,{"$f":"SUM(Q761:Y761)","v":90},{"$f":"P761+Z761","v":180}]
[null,null,null,null,null,"Net Stableford",{"$f":"IF(G761-G758=-1,3+G760)+IF(G761-G758=0,2+G760)+IF(G761-G758=1,1+G760)+IF(G761-G758=2,G760)+IF(G761-G758=3,IF(G760-1>0,G760-1,0))+IF(G761-G758=4,IF(G760-2>0,G760-2,0))","v":0},{"$f":"IF(H761-H758=-1,3+H760)+IF(H761-H758=0,2+H760)+IF(H761-H758=1,1+H760)+IF(H761-H758=2,H760)+IF(H761-H758=3,IF(H760-1>0,H760-1,0))+IF(H761-H758=4,IF(H760-2>0,H760-2,0))","v":0},0,0,0,0,0,0,0,{"$f":"SUM(G762:O762)","v":0},{"$f":"IF(Q761-Q758=-1,3+Q760)+IF(Q761-Q758=0,2+Q760)+IF(Q761-Q758=1,1+Q760)+IF(Q761-Q758=2,Q760)+IF(Q761-Q758=3,IF(Q760-1>0,Q760-1,0))+IF(Q761-Q758=4,IF(Q760-2>0,Q760-2,0))","v":0},0,0,0,0,0,0,0,0,{"$f":"SUM(Q762:Y762)","v":0},{"$f":"P762+Z762","v":0}]
[null,null,null,null,null,"Score Brut",{"$f":"IF(G761-G758=-2,4)+IF(G761-G758=-1,3)+IF(G761-G758=0,2)+IF(G761-G758=1,1)+IF(G761-G758>2,0)","v":0},0,0,0,0,0,0,0,0,{"$f":"SUM(G763:O763)","v":0},{"$f":"IF(Q761-Q758=-2,4)+IF(Q761-Q758=-1,3)+IF(Q761-Q758=0,2)+IF(Q761-Q758=1,1)+IF(Q761-Q758>2,0)","v":0},0,0,0,0,0,0,0,0,{"$f":"SUM(Q763:Y763)","v":0},{"$f":"P763+Z763","v":0}]
[null,null,null,null,null,null,{"$f":"G761-G758","v":6},{"$f":"H761-H758","v":6},5,6,7,5,7,5,7,null,{"$f":"Q761-Q758","v":6},6,7,5,7,6,6,5,6]
[]
[]
[null,null,null,null,null,"Statistiques scores",null,"Eagle & moins",null,null,null,{"$f":"COUNTIF(G764:Y764,\"<=-2\")","v":0},"Par",null,{"$f":"COUNTIF(G764:Y764,\"=0\")","v":0},"Double bogey",null,null,null,null,{"$f":"COUNTIF(G764:Y764,\"=2\")","v":0}]
[null,null,null,null,null,null,null,"Birdie",null,null,null,{"$f":"COUNTIF(G764:Y764,\"=-1\")","v":0},"Bogey",null,{"$f":"COUNTIF(G764:Y764,\"=1\")","v":0},"Triple bogey & plus",null,null,null,null,{"$f":"COUNTIF(G764:Y764,\">=3\")","v":18}]
[null,null,null,null,null,null,null,{"$f":"M767","v":"Par"},null,null,null,{"$f":"O767","v":0}]
[null,null,null,null,null,null,null,{"$f":"M768","v":"Bogey"},null,null,null,{"$f":"O768","v":0}]
[null,null,null,null,null,null,null,{"$f":"P767","v":"Double bogey"},null,null,null,{"$f":"U767","v":0}]
[null,null,null,null,null,null,null,{"$f":"P768","v":"Triple bogey & plus"},null,null,null,{"$f":"U768","v":18}]

{"sheet":"sortie (6)","index":7,"n_rows":772,"n_cols":42,"rows_kept":772,"cut":false,"hidden":false,"merged":[[767,15,767,19],[768,7,768,8],[769,7,769,8],[754,6,754,9],[754,11,754,13],[754,14,754,15],[754,16,754,19],[766,5,767,6],[766,7,766,10],[766,12,766,13],[766,15,766,19],[767,7,767,10],[767,12,767,13],[744,15,744,19],[745,7,745,8],[746,7,746,8],[753,6,753,9],[753,11,753,13],[753,14,753,15],[753,16,753,19],[731,6,731,9],[731,11,731,13],[731,14,731,15],[731,16,731,19],[743,5,744,6],[743,7,743,10],[743,12,743,13],[743,15,743,19],[744,7,744,10],[744,12,744,13],[721,15,721,19],[722,7,722,8],[723,7,723,8],[730,6,730,9],[730,11,730,13],[730,14,730,15],[730,16,730,19],[708,6,708,9],[708,11,708,13],[708,14,708,15],[708,16,708,19],[720,5,721,6],[720,7,720,10],[720,12,720,13],[720,15,720,19],[721,7,721,10],[721,12,721,13],[698,15,698,19],[699,7,699,8],[700,7,700,8],[707,6,707,9],[707,11,707,13],[707,14,707,15],[707,16,707,19],[685,6,685,9],[685,11,685,13],[685,14,685,15],[685,16,685,19],[697,5,698,6],[697,7,697,10],[697,12,697,13],[697,15,697,19],[698,7,698,10],[698,12,698,13],[675,15,675,19],[676,7,676,8],[677,7,677,8],[684,6,684,9],[684,11,684,13],[684,14,684,15],[684,16,684,19],[662,6,662,9],[662,11,662,13],[662,14,662,15],[662,16,662,19],[674,5,675,6],[674,7,674,10],[674,12,674,13],[674,15,674,19],[675,7,675,10],[675,12,675,13],[652,15,652,19],[653,7,653,8],[654,7,654,8],[661,6,661,9],[661,11,661,13],[661,14,661,15],[661,16,661,19],[639,6,639,9],[639,11,639,13],[639,14,639,15],[639,16,639,19],[651,5,652,6],[651,7,651,10],[651,12,651,13],[651,15,651,19],[652,7,652,10],[652,12,652,13],[629,15,629,19],[630,7,630,8],[631,7,631,8],[638,6,638,9],[638,11,638,13],[638,14,638,15],[638,16,638,19],[616,6,616,9],[616,11,616,13],[616,14,616,15],[616,16,616,19],[628,5,629,6],[628,7,628,10],[628,12,628,13],[628,15,628,19],[629,7,629,10],[629,12,629,13],[606,15,606,19],[607,7,607,8],[608,7,608,8],[615,6,615,9],[615,11,615,13],[615,14,615,15],[615,16,615,19],[593,6,593,9],[593,11,593,13],[593,14,593,15],[593,16,593,19],[605,5,606,6],[605,7,605,10],[605,12,605,13],[605,15,605,19],[606,7,606,10],[606,12,606,13],[583,15,583,19],[584,7,584,8],[585,7,585,8],[592,6,592,9],[592,11,592,13],[592,14,592,15],[592,16,592,19],[570,6,570,9],[570,11,570,13],[570,14,570,15],[570,16,570,19],[582,5,583,6],[582,7,582,10],[582,12,582,13],[582,15,582,19],[583,7,583,10],[583,12,583,13],[560,15,560,19],[561,7,561,8],[562,7,562,8],[569,6,569,9],[569,11,569,13],[569,14,569,15],[569,16,569,19],[547,6,547,9],[547,11,547,13],[547,14,547,15],[547,16,547,19],[559,5,560,6],[559,7,559,10],[559,12,559,13],[559,15,559,19],[560,7,560,10],[560,12,560,13],[537,15,537,19],[538,7,538,8],[539,7,539,8],[546,6,546,9],[546,11,546,13],[546,14,546,15],[546,16,546,19],[524,6,524,9],[524,11,524,13],[524,14,524,15],[524,16,524,19],[536,5,537,6],[536,7,536,10],[536,12,536,13],[536,15,536,19],[537,7,537,10],[537,12,537,13],[514,15,514,19],[515,7,515,8],[516,7,516,8],[523,6,523,9],[523,11,523,13],[523,14,523,15],[523,16,523,19],[501,6,501,9],[501,11,501,13],[501,14,501,15],[501,16,501,19],[513,5,514,6],[513,7,513,10],[513,12,513,13],[513,15,513,19],[514,7,514,10],[514,12,514,13],[491,15,491,19],[492,7,492,8],[493,7,493,8],[500,6,500,9],[500,11,500,13],[500,14,500,15],[500,16,500,19],[478,6,478,9],[478,11,478,13],[478,14,478,15],[478,16,478,19],[490,5,491,6],[490,7,490,10],[490,12,490,13],[490,15,490,19],[491,7,491,10],[491,12,491,13],[468,15,468,19],[469,7,469,8],[470,7,470,8],[477,6,477,9],[477,11,477,13],[477,14,477,15],[477,16,477,19],[455,6,455,9],[455,11,455,13],[455,14,455,15],[455,16,455,19],[467,5,468,6],[467,7,467,10],[467,12,467,13],[467,15,467,19],[468,7,468,10],[468,12,468,13],[445,15,445,19],[446,7,446,8],[447,7,447,8],[454,6,454,9],[454,11,454,13],[454,14,454,15],[454,16,454,19],[432,6,432,9],[432,11,432,13],[432,14,432,15],[432,16,432,19],[444,5,445,6],[444,7,444,10],[444,12,444,13],[444,15,444,19],[445,7,445,10],[445,12,445,13],[422,15,422,19],[423,7,423,8],[424,7,424,8],[431,6,431,9],[431,11,431,13],[431,14,431,15],[431,16,431,19],[409,6,409,9],[409,11,409,13],[409,14,409,15],[409,16,409,19],[421,5,422,6],[421,7,421,10],[421,12,421,13],[421,15,421,19],[422,7,422,10],[422,12,422,13],[399,15,399,19],[400,7,400,8],[401,7,401,8],[408,6,408,9],[408,11,408,13],[408,14,408,15],[408,16,408,19],[386,6,386,9],[386,11,386,13],[386,14,386,15],[386,16,386,19],[398,5,399,6],[398,7,398,10],[398,12,398,13],[398,15,398,19],[399,7,399,10],[399,12,399,13],[376,15,376,19],[377,7,377,8],[378,7,378,8],[385,6,385,9],[385,11,385,13],[385,14,385,15],[385,16,385,19],[363,6,363,9],[363,11,363,13],[363,14,363,15],[363,16,363,19],[375,5,376,6],[375,7,375,10],[375,12,375,13],[375,15,375,19],[376,7,376,10],[376,12,376,13],[353,15,353,19],[354,7,354,8],[355,7,355,8],[362,6,362,9],[362,11,362,13],[362,14,362,15],[362,16,362,19],[340,6,340,9],[340,11,340,13],[340,14,340,15],[340,16,340,19],[352,5,353,6],[352,7,352,10],[352,12,352,13],[352,15,352,19],[353,7,353,10],[353,12,353,13],[330,15,330,19],[331,7,331,8],[332,7,332,8],[339,6,339,9],[339,11,339,13],[339,14,339,15],[339,16,339,19],[317,6,317,9],[317,11,317,13],[317,14,317,15],[317,16,317,19],[329,5,330,6],[329,7,329,10],[329,12,329,13],[329,15,329,19],[330,7,330,10],[330,12,330,13],[307,15,307,19],[308,7,308,8],[309,7,309,8],[316,6,316,9],[316,11,316,13],[316,14,316,15],[316,16,316,19],[294,6,294,9],[294,11,294,13],[294,14,294,15],[294,16,294,19],[306,5,307,6],[306,7,306,10],[306,12,306,13],[306,15,306,19],[307,7,307,10],[307,12,307,13],[284,15,284,19],[285,7,285,8],[286,7,286,8],[293,6,293,9],[293,11,293,13],[293,14,293,15],[293,16,293,19],[271,6,271,9],[271,11,271,13],[271,14,271,15],[271,16,271,19],[283,5,284,6],[283,7,283,10],[283,12,283,13],[283,15,283,19],[284,7,284,10],[284,12,284,13],[261,15,261,19],[262,7,262,8],[263,7,263,8],[270,6,270,9],[270,11,270,13],[270,14,270,15],[270,16,270,19],[248,6,248,9],[248,11,248,13],[248,14,248,15],[248,16,248,19],[260,5,261,6],[260,7,260,10],[260,12,260,13],[260,15,260,19],[261,7,261,10],[261,12,261,13],[238,15,238,19],[239,7,239,8],[240,7,240,8],[247,6,247,9],[247,11,247,13],[247,14,247,15],[247,16,247,19],[225,6,225,9],[225,11,225,13],[225,14,225,15],[225,16,225,19],[237,5,238,6],[237,7,237,10],[237,12,237,13],[237,15,237,19],[238,7,238,10],[238,12,238,13],[215,15,215,19],[216,7,216,8],[217,7,217,8],[224,6,224,9],[224,11,224,13],[224,14,224,15],[224,16,224,19],[202,6,202,9],[202,11,202,13],[202,14,202,15],[202,16,202,19],[214,5,215,6],[214,7,214,10],[214,12,214,13],[214,15,214,19],[215,7,215,10],[215,12,215,13],[192,15,192,19],[193,7,193,8],[194,7,194,8],[201,6,201,9],[201,11,201,13],[201,14,201,15],[201,16,201,19],[179,6,179,9],[179,11,179,13],[179,14,179,15],[179,16,179,19],[191,5,192,6],[191,7,191,10],[191,12,191,13],[191,15,191,19],[192,7,192,10],[192,12,192,13],[169,15,169,19],[170,7,170,8],[171,7,171,8],[178,6,178,9],[178,11,178,13],[178,14,178,15],[178,16,178,19],[156,6,156,9],[156,11,156,13],[156,14,156,15],[156,16,156,19],[168,5,169,6],[168,7,168,10],[168,12,168,13],[168,15,168,19],[169,7,169,10],[169,12,169,13],[146,15,146,19],[147,7,147,8],[148,7,148,8],[155,6,155,9],[155,11,155,13],[155,14,155,15],[155,16,155,19],[133,6,133,9],[133,11,133,13],[133,14,133,15],[133,16,133,19],[145,5,146,6],[145,7,145,10],[145,12,145,13],[145,15,145,19],[146,7,146,10],[146,12,146,13],[123,15,123,19],[124,7,124,8],[125,7,125,8],[132,6,132,9],[132,11,132,13],[132,14,132,15],[132,16,132,19],[110,6,110,9],[110,11,110,13],[110,14,110,15],[110,16,110,19],[122,5,123,6],[122,7,122,10],[122,12,122,13],[122,15,122,19],[123,7,123,10],[123,12,123,13],[100,15,100,19],[101,7,101,8],[102,7,102,8],[109,6,109,9],[109,11,109,13],[109,14,109,15],[109,16,109,19],[87,6,87,9],[87,11,87,13],[87,14,87,15],[87,16,87,19],[99,5,100,6],[99,7,99,10],[99,12,99,13],[99,15,99,19],[100,7,100,10],[100,12,100,13],[76,9,76,12],[76,13,76,15],[76,21,76,24],[76,25,76,26],[80,7,82,20],[86,6,86,9],[86,11,86,13],[86,14,86,15],[86,16,86,19],[74,9,74,12],[74,13,74,15],[74,21,74,24],[74,25,74,26],[75,9,75,12],[75,13,75,15],[75,21,75,24],[75,25,75,26],[72,9,72,12],[72,13,72,15],[72,21,72,24],[72,25,72,26],[73,9,73,12],[73,13,73,15],[73,21,73,24],[73,25,73,26],[70,9,70,12],[70,13,70,15],[70,21,70,24],[70,25,70,26],[71,9,71,12],[71,13,71,15],[71,21,71,24],[71,25,71,26],[68,9,68,12],[68,13,68,15],[68,21,68,24],[68,25,68,26],[69,9,69,12],[69,13,69,15],[69,21,69,24],[69,25,69,26],[66,9,66,12],[66,13,66,15],[66,21,66,24],[66,25,66,26],[67,9,67,12],[67,13,67,15],[67,21,67,24],[67,25,67,26],[64,9,64,12],[64,13,64,15],[64,21,64,24],[64,25,64,26],[65,9,65,12],[65,13,65,15],[65,21,65,24],[65,25,65,26],[62,9,62,12],[62,13,62,15],[62,21,62,24],[62,25,62,26],[63,9,63,12],[63,13,63,15],[63,21,63,24],[63,25,63,26],[60,9,60,12],[60,13,60,15],[60,21,60,24],[60,25,60,26],[61,9,61,12],[61,13,61,15],[61,21,61,24],[61,25,61,26],[58,9,58,12],[58,13,58,15],[58,21,58,24],[58,25,58,26],[59,9,59,12],[59,13,59,15],[59,21,59,24],[59,25,59,26],[56,9,56,12],[56,13,56,15],[56,21,56,24],[56,25,56,26],[57,9,57,12],[57,13,57,15],[57,21,57,24],[57,25,57,26],[54,9,54,12],[54,13,54,15],[54,21,54,24],[54,25,54,26],[55,9,55,12],[55,13,55,15],[55,21,55,24],[55,25,55,26],[52,9,52,12],[52,13,52,15],[52,21,52,24],[52,25,52,26],[53,9,53,12],[53,13,53,15],[53,21,53,24],[53,25,53,26],[1,6,1,9],[1,13,3,24],[2,6,2,9],[40,7,42,20],[50,9,50,12],[50,13,50,15],[50,21,50,24],[50,25,50,26],[51,9,51,12],[51,13,51,15],[51,21,51,24],[51,25,51,26],[48,9,48,12],[48,13,48,15],[48,21,48,24],[48,25,48,26],[49,9,49,12],[49,13,49,15],[49,21,49,24],[49,25,49,26],[44,2,44,4],[44,9,44,16],[44,21,44,27],[46,9,46,12],[46,13,46,15],[46,21,46,24],[46,25,46,26],[47,9,47,12],[47,13,47,15],[47,21,47,24],[47,25,47,26]]}
[]
[null,null,"Golf","E",null,"Slope","SSS",null,null,null,null,null,null,"CARTE DE SCORE"]
[null,null,"Date",null,null,133,68.599999999999994]
[]
[null,null,"Individuel Stableford BRUT/NET"]
[null,null,null,null,"Index","HCP trous",1,2,3,4,5,6,7,8,9,"Aller",10,11,12,13,14,15,16,17,18,"Retour","Total"]
[null,null,null,null,null,"PAR",4,4,5,4,3,5,3,5,3,{"$f":"SUM(G7:O7)","v":36},4,4,3,5,3,4,4,5,4,{"$f":"SUM(Q7:Y7)","v":36},{"$f":"SUM(P7+Z7)","v":72}]
[null,null,"Noms","Prénoms",null,"Trou",4,8,12,14,2,10,18,16,6,null,1,9,11,5,17,15,3,13,7,null,null,null,"NET","Classt","Rang","Points",null,"BRUT","Classt","Rang","Points",null,"STROKE","Classt","Rang","Points"]
[null,1,null,null,20,null,10,10,10,10,10,10,10,10,10,{"$f":"SUM(G9:O9)","v":90},10,10,10,10,10,10,10,10,10,{"$f":"SUM(Q9:Y9)","v":90},{"$f":"SUM(P9+Z9)","v":180},null,{"$f":"$AA$95","v":0},{"$f":"RANK(AC9,AC$9:AC$38,0)+COUNTIF(AC9:$AC$9,AC9)-1","v":1},{"$f":"RANK(AC9,AC$9:AC$38,0)","v":1},{"$f":"IF(ISBLANK($C9),0,1)*INDEX('Allocation Points'!$B$3:$AG$32,AE9,COUNTIF(AE$9:AE$38,AE9)+2)","v":0},null,{"$f":"AA96","v":0},{"$f":"RANK(AH9,AH$9:AH$38,0)+COUNTIF(AH9:$AH$9,AH9)-1","v":1},{"$f":"RANK(AH9,AH$9:AH$38,0)","v":1},{"$f":"IF(ISBLANK($C9),0,1)*INDEX('Allocation Points'!$B$3:$AG$32,AJ9,COUNTIF(AJ$9:AJ$38,AJ9)+2)","v":0},null,{"$f":"AA94","v":180},{"$f":"RANK(AM9,AM$9:AM$38,1)+COUNTIF(AM9:$AM$9,AM9)-1","v":1},{"$f":"RANK(AM9,AM$9:AM$38,1)","v":1},{"$f":"IF(ISBLANK($C9),0,1)*INDEX('Allocation Points'!$B$3:$AG$32,AO9,COUNTIF(AO$9:AO$38,AO9)+2)","v":0}]
[null,2,null,null,20,null,10,10,10,10,10,10,10,10,10,90,10,10,10,10,10,10,10,10,10,90,180,null,{"$f":"$AA$118","v":0},{"$f":"RANK(AC10,AC$9:AC$38,0)+COUNTIF(AC$9:$AC10,AC10)-1","v":2},{"$f":"RANK(AC10,AC$9:AC$38,0)","v":1},{"$f":"IF(ISBLANK($C10),0,1)*INDEX('Allocation Points'!$B$3:$AG$32,AE10,COUNTIF(AE$9:AE$38,AE10)+2)","v":0},null,{"$f":"AA119","v":0},{"$f":"RANK(AH10,AH$9:AH$38,0)+COUNTIF(AH$9:$AH10,AH10)-1","v":2},{"$f":"RANK(AH10,AH$9:AH$38,0)","v":1},{"$f":"IF(ISBLANK($C10),0,1)*INDEX('Allocation Points'!$B$3:$AG$32,AJ10,COUNTIF(AJ$9:AJ$38,AJ10)+2)","v":0},null,{"$f":"AA117","v":180},{"$f":"RANK(AM10,AM$9:AM$38,1)+COUNTIF(AM$9:$AM10,AM10)-1","v":2},{"$f":"RANK(AM10,AM$9:AM$38,1)","v":1},{"$f":"IF(ISBLANK($C10),0,1)*INDEX('Allocation Points'!$B$3:$AG$32,AO10,COUNTIF(AO$9:AO$38,AO10)+2)","v":0}]
[null,3,null,null,20,null,10,10,10,10,10,10,10,10,10,90,10,10,10,10,10,10,10,10,10,90,180,null,{"$f":"$AA$141","v":0},{"$f":"RANK(AC11,AC$9:AC$38,0)+COUNTIF(AC$9:$AC11,AC11)-1","v":3},1,{"$f":"IF(ISBLANK($C11),0,1)*INDEX('Allocation Points'!$B$3:$AG$32,AE11,COUNTIF(AE$9:AE$38,AE11)+2)","v":0},null,{"$f":"AA142","v":0},{"$f":"RANK(AH11,AH$9:AH$38,0)+COUNTIF(AH$9:$AH11,AH11)-1","v":3},1,{"$f":"IF(ISBLANK($C11),0,1)*INDEX('Allocation Points'!$B$3:$AG$32,AJ11,COUNTIF(AJ$9:AJ$38,AJ11)+2)","v":0},null,{"$f":"AA140","v":180},{"$f":"RANK(AM11,AM$9:AM$38,1)+COUNTIF(AM$9:$AM11,AM11)-1","v":3},1,{"$f":"IF(ISBLANK($C11),0,1)*INDEX('Allocation Points'!$B$3:$AG$32,AO11,COUNTIF(AO$9:AO$38,AO11)+2)","v":0}]
[null,4,null,null,20,null,10,10,10,10,10,10,10,10,10,90,10,10,10,10,10,10,10,10,10,90,180,null,{"$f":"$AA$164","v":0},{"$f":"RANK(AC12,AC$9:AC$38,0)+COUNTIF(AC$9:$AC12,AC12)-1","v":4},1,{"$f":"IF(ISBLANK($C12),0,1)*INDEX('Allocation Points'!$B$3:$AG$32,AE12,COUNTIF(AE$9:AE$38,AE12)+2)","v":0},null,{"$f":"AA165","v":0},{"$f":"RANK(AH12,AH$9:AH$38,0)+COUNTIF(AH$9:$AH12,AH12)-1","v":4},1,{"$f":"IF(ISBLANK($C12),0,1)*INDEX('Allocation Points'!$B$3:$AG$32,AJ12,COUNTIF(AJ$9:AJ$38,AJ12)+2)","v":0},null,{"$f":"AA163","v":180},{"$f":"RANK(AM12,AM$9:AM$38,1)+COUNTIF(AM$9:$AM12,AM12)-1","v":4},1,{"$f":"IF(ISBLANK($C12),0,1)*INDEX('Allocation Points'!$B$3:$AG$32,AO12,COUNTIF(AO$9:AO$38,AO12)+2)","v":0}]
[null,5,null,null,20,null,10,10,10,10,10,10,10,10,10,90,10,10,10,10,10,10,10,10,10,90,180,null,{"$f":"$AA$187","v":0},{"$f":"RANK(AC13,AC$9:AC$38,0)+COUNTIF(AC$9:$AC13,AC13)-1","v":5},1,{"$f":"IF(ISBLANK($C13),0,1)*INDEX('Allocation Points'!$B$3:$AG$32,AE13,COUNTIF(AE$9:AE$38,AE13)+2)","v":0},null,{"$f":"AA188","v":0},{"$f":"RANK(AH13,AH$9:AH$38,0)+COUNTIF(AH$9:$AH13,AH13)-1","v":5},1,{"$f":"IF(ISBLANK($C13),0,1)*INDEX('Allocation Points'!$B$3:$AG$32,AJ13,COUNTIF(AJ$9:AJ$38,AJ13)+2)","v":0},null,{"$f":"AA186","v":180},{"$f":"RANK(AM13,AM$9:AM$38,1)+COUNTIF(AM$9:$AM13,AM13)-1","v":5},1,{"$f":"IF(ISBLANK($C13),0,1)*INDEX('Allocation Points'!$B$3:$AG$32,AO13,COUNTIF(AO$9:AO$38,AO13)+2)","v":0}]
[null,6,null,null,20,null,10,10,10,10,10,10,10,10,10,90,10,10,10,10,10,10,10,10,10,90,180,null,{"$f":"$AA$210","v":0},{"$f":"RANK(AC14,AC$9:AC$38,0)+COUNTIF(AC$9:$AC14,AC14)-1","v":6},1,{"$f":"IF(ISBLANK($C14),0,1)*INDEX('Allocation Points'!$B$3:$AG$32,AE14,COUNTIF(AE$9:AE$38,AE14)+2)","v":0},null,{"$f":"AA211","v":0},{"$f":"RANK(AH14,AH$9:AH$38,0)+COUNTIF(AH$9:$AH14,AH14)-1","v":6},1,{"$f":"IF(ISBLANK($C14),0,1)*INDEX('Allocation Points'!$B$3:$AG$32,AJ14,COUNTIF(AJ$9:AJ$38,AJ14)+2)","v":0},null,{"$f":"AA209","v":180},{"$f":"RANK(AM14,AM$9:AM$38,1)+COUNTIF(AM$9:$AM14,AM14)-1","v":6},1,{"$f":"IF(ISBLANK($C14),0,1)*INDEX('Allocation Points'!$B$3:$AG$32,AO14,COUNTIF(AO$9:AO$38,AO14)+2)","v":0}]
[null,7,null,null,20,null,10,10,10,10,10,10,10,10,10,90,10,10,10,10,10,10,10,10,10,90,180,null,{"$f":"$AA$233","v":0},{"$f":"RANK(AC15,AC$9:AC$38,0)+COUNTIF(AC$9:$AC15,AC15)-1","v":7},1,{"$f":"IF(ISBLANK($C15),0,1)*INDEX('Allocation Points'!$B$3:$AG$32,AE15,COUNTIF(AE$9:AE$38,AE15)+2)","v":0},null,{"$f":"AA234","v":0},{"$f":"RANK(AH15,AH$9:AH$38,0)+COUNTIF(AH$9:$AH15,AH15)-1","v":7},1,{"$f":"IF(ISBLANK($C15),0,1)*INDEX('Allocation Points'!$B$3:$AG$32,AJ15,COUNTIF(AJ$9:AJ$38,AJ15)+2)","v":0},null,{"$f":"AA232","v":180},{"$f":"RANK(AM15,AM$9:AM$38,1)+COUNTIF(AM$9:$AM15,AM15)-1","v":7},1,{"$f":"IF(ISBLANK($C15),0,1)*INDEX('Allocation Points'!$B$3:$AG$32,AO15,COUNTIF(AO$9:AO$38,AO15)+2)","v":0}]
[null,8,null,null,20,null,10,10,10,10,10,10,10,10,10,90,10,10,10,10,10,10,10,10,10,90,180,null,{"$f":"$AA$256","v":0},{"$f":"RANK(AC16,AC$9:AC$38,0)+COUNTIF(AC$9:$AC16,AC16)-1","v":8},1,{"$f":"IF(ISBLANK($C16),0,1)*INDEX('Allocation Points'!$B$3:$AG$32,AE16,COUNTIF(AE$9:AE$38,AE16)+2)","v":0},null,{"$f":"AA257","v":0},{"$f":"RANK(AH16,AH$9:AH$38,0)+COUNTIF(AH$9:$AH16,AH16)-1","v":8},1,{"$f":"IF(ISBLANK($C16),0,1)*INDEX('Allocation Points'!$B$3:$AG$32,AJ16,COUNTIF(AJ$9:AJ$38,AJ16)+2)","v":0},null,{"$f":"AA255","v":180},{"$f":"RANK(AM16,AM$9:AM$38,1)+COUNTIF(AM$9:$AM16,AM16)-1","v":8},1,{"$f":"IF(ISBLANK($C16),0,1)*INDEX('Allocation Points'!$B$3:$AG$32,AO16,COUNTIF(AO$9:AO$38,AO16)+2)","v":0}]
[null,9,null,null,20,null,10,10,10,10,10,10,10,10,10,90,10,10,10,10,10,10,10,10,10,90,180,null,{"$f":"$AA$279","v":0},{"$f":"RANK(AC17,AC$9:AC$38,0)+COUNTIF(AC$9:$AC17,AC17)-1","v":9},1,{"$f":"IF(ISBLANK($C17),0,1)*INDEX('Allocation Points'!$B$3:$AG$32,AE17,COUNTIF(AE$9:AE$38,AE17)+2)","v":0},null,{"$f":"AA280","v":0},{"$f":"RANK(AH17,AH$9:AH$38,0)+COUNTIF(AH$9:$AH17,AH17)-1","v":9},1,{"$f":"IF(ISBLANK($C17),0,1)*INDEX('Allocation Points'!$B$3:$AG$32,AJ17,COUNTIF(AJ$9:AJ$38,AJ17)+2)","v":0},null,{"$f":"AA278","v":180},{"$f":"RANK(AM17,AM$9:AM$38,1)+COUNTIF(AM$9:$AM17,AM17)-1","v":9},1,{"$f":"IF(ISBLANK($C17),0,1)*INDEX('Allocation Points'!$B$3:$AG$32,AO17,COUNTIF(AO$9:AO$38,AO17)+2)","v":0}]
[null,10,null,null,20,null,10,10,10,10,10,10,10,10,10,90,10,10,10,10,10,10,10,10,10,90,180,null,{"$f":"$AA$302","v":0},{"$f":"RANK(AC18,AC$9:AC$38,0)+COUNTIF(AC$9:$AC18,AC18)-1","v":10},1,{"$f":"IF(ISBLANK($C18),0,1)*INDEX('Allocation Points'!$B$3:$AG$32,AE18,COUNTIF(AE$9:AE$38,AE18)+2)","v":0},null,{"$f":"AA303","v":0},{"$f":"RANK(AH18,AH$9:AH$38,0)+COUNTIF(AH$9:$AH18,AH18)-1","v":10},1,{"$f":"IF(ISBLANK($C18),0,1)*INDEX('Allocation Points'!$B$3:$AG$32,AJ18,COUNTIF(AJ$9:AJ$38,AJ18)+2)","v":0},null,{"$f":"AA301","v":180},{"$f":"RANK(AM18,AM$9:AM$38,1)+COUNTIF(AM$9:$AM18,AM18)-1","v":10},1,{"$f":"IF(ISBLANK($C18),0,1)*INDEX('Allocation Points'!$B$3:$AG$32,AO18,COUNTIF(AO$9:AO$38,AO18)+2)","v":0}]
[null,11,null,null,20,null,10,10,10,10,10,10,10,10,10,90,10,10,10,10,10,10,10,10,10,90,180,null,{"$f":"$AA$325","v":0},{"$f":"RANK(AC19,AC$9:AC$38,0)+COUNTIF(AC$9:$AC19,AC19)-1","v":11},1,{"$f":"IF(ISBLANK($C19),0,1)*INDEX('Allocation Points'!$B$3:$AG$32,AE19,COUNTIF(AE$9:AE$38,AE19)+2)","v":0},null,{"$f":"AA326","v":0},{"$f":"RANK(AH19,AH$9:AH$38,0)+COUNTIF(AH$9:$AH19,AH19)-1","v":11},1,{"$f":"IF(ISBLANK($C19),0,1)*INDEX('Allocation Points'!$B$3:$AG$32,AJ19,COUNTIF(AJ$9:AJ$38,AJ19)+2)","v":0},null,{"$f":"AA324","v":180},{"$f":"RANK(AM19,AM$9:AM$38,1)+COUNTIF(AM$9:$AM19,AM19)-1","v":11},1,{"$f":"IF(ISBLANK($C19),0,1)*INDEX('Allocation Points'!$B$3:$AG$32,AO19,COUNTIF(AO$9:AO$38,AO19)+2)","v":0}]
[null,12,null,null,20,null,10,10,10,10,10,10,10,10,10,90,10,10,10,10,10,10,10,10,10,90,180,null,{"$f":"$AA$348","v":0},{"$f":"RANK(AC20,AC$9:AC$38,0)+COUNTIF(AC$9:$AC20,AC20)-1","v":12},1,{"$f":"IF(ISBLANK($C20),0,1)*INDEX('Allocation Points'!$B$3:$AG$32,AE20,COUNTIF(AE$9:AE$38,AE20)+2)","v":0},null,{"$f":"AA349","v":0},{"$f":"RANK(AH20,AH$9:AH$38,0)+COUNTIF(AH$9:$AH20,AH20)-1","v":12},1,{"$f":"IF(ISBLANK($C20),0,1)*INDEX('Allocation Points'!$B$3:$AG$32,AJ20,COUNTIF(AJ$9:AJ$38,AJ20)+2)","v":0},null,{"$f":"AA347","v":180},{"$f":"RANK(AM20,AM$9:AM$38,1)+COUNTIF(AM$9:$AM20,AM20)-1","v":12},1,{"$f":"IF(ISBLANK($C20),0,1)*INDEX('Allocation Points'!$B$3:$AG$32,AO20,COUNTIF(AO$9:AO$38,AO20)+2)","v":0}]
[null,13,null,null,20,null,10,10,10,10,10,10,10,10,10,90,10,10,10,10,10,10,10,10,10,90,180,null,{"$f":"$AA$371","v":0},{"$f":"RANK(AC21,AC$9:AC$38,0)+COUNTIF(AC$9:$AC21,AC21)-1","v":13},1,{"$f":"IF(ISBLANK($C21),0,1)*INDEX('Allocation Points'!$B$3:$AG$32,AE21,COUNTIF(AE$9:AE$38,AE21)+2)","v":0},null,{"$f":"AA372","v":0},{"$f":"RANK(AH21,AH$9:AH$38,0)+COUNTIF(AH$9:$AH21,AH21)-1","v":13},1,{"$f":"IF(ISBLANK($C21),0,1)*INDEX('Allocation Points'!$B$3:$AG$32,AJ21,COUNTIF(AJ$9:AJ$38,AJ21)+2)","v":0},null,{"$f":"AA370","v":180},{"$f":"RANK(AM21,AM$9:AM$38,1)+COUNTIF(AM$9:$AM21,AM21)-1","v":13},1,{"$f":"IF(ISBLANK($C21),0,1)*INDEX('Allocation Points'!$B$3:$AG$32,AO21,COUNTIF(AO$9:AO$38,AO21)+2)","v":0}]
[null,14,null,null,20,null,10,10,10,10,10,10,10,10,10,90,10,10,10,10,10,10,10,10,10,90,180,null,{"$f":"$AA$394","v":0},{"$f":"RANK(AC22,AC$9:AC$38,0)+COUNTIF(AC$9:$AC22,AC22)-1","v":14},1,{"$f":"IF(ISBLANK($C22),0,1)*INDEX('Allocation Points'!$B$3:$AG$32,AE22,COUNTIF(AE$9:AE$38,AE22)+2)","v":0},null,{"$f":"AA395","v":0},{"$f":"RANK(AH22,AH$9:AH$38,0)+COUNTIF(AH$9:$AH22,AH22)-1","v":14},1,{"$f":"IF(ISBLANK($C22),0,1)*INDEX('Allocation Points'!$B$3:$AG$32,AJ22,COUNTIF(AJ$9:AJ$38,AJ22)+2)","v":0},null,{"$f":"AA393","v":180},{"$f":"RANK(AM22,AM$9:AM$38,1)+COUNTIF(AM$9:$AM22,AM22)-1","v":14},1,{"$f":"IF(ISBLANK($C22),0,1)*INDEX('Allocation Points'!$B$3:$AG$32,AO22,COUNTIF(AO$9:AO$38,AO22)+2)","v":0}]
[null,15,null,null,20,null,10,10,10,10,10,10,10,10,10,90,10,10,10,10,10,10,10,10,10,90,180,null,{"$f":"$AA$417","v":0},{"$f":"RANK(AC23,AC$9:AC$38,0)+COUNTIF(AC$9:$AC23,AC23)-1","v":15},1,{"$f":"IF(ISBLANK($C23),0,1)*INDEX('Allocation Points'!$B$3:$AG$32,AE23,COUNTIF(AE$9:AE$38,AE23)+2)","v":0},null,{"$f":"AA418","v":0},{"$f":"RANK(AH23,AH$9:AH$38,0)+COUNTIF(AH$9:$AH23,AH23)-1","v":15},1,{"$f":"IF(ISBLANK($C23),0,1)*INDEX('Allocation Points'!$B$3:$AG$32,AJ23,COUNTIF(AJ$9:AJ$38,AJ23)+2)","v":0},null,{"$f":"AA416","v":180},{"$f":"RANK(AM23,AM$9:AM$38,1)+COUNTIF(AM$9:$AM23,AM23)-1","v":15},1,{"$f":"IF(ISBLANK($C23),0,1)*INDEX('Allocation Points'!$B$3:$AG$32,AO23,COUNTIF(AO$9:AO$38,AO23)+2)","v":0}]
[null,16,null,null,20,null,10,10,10,10,10,10,10,10,10,90,10,10,10,10,10,10,10,10,10,90,180,null,{"$f":"$AA$440","v":0},{"$f":"RANK(AC24,AC$9:AC$38,0)+COUNTIF(AC$9:$AC24,AC24)-1","v":16},1,{"$f":"IF(ISBLANK($C24),0,1)*INDEX('Allocation Points'!$B$3:$AG$32,AE24,COUNTIF(AE$9:AE$38,AE24)+2)","v":0},null,{"$f":"AA441","v":0},{"$f":"RANK(AH24,AH$9:AH$38,0)+COUNTIF(AH$9:$AH24,AH24)-1","v":16},1,{"$f":"IF(ISBLANK($C24),0,1)*INDEX('Allocation Points'!$B$3:$AG$32,AJ24,COUNTIF(AJ$9:AJ$38,AJ24)+2)","v":0},null,{"$f":"AA439","v":180},{"$f":"RANK(AM24,AM$9:AM$38,1)+COUNTIF(AM$9:$AM24,AM24)-1","v":16},1,{"$f":"IF(ISBLANK($C24),0,1)*INDEX('Allocation Points'!$B$3:$AG$32,AO24,COUNTIF(AO$9:AO$38,AO24)+2)","v":0}]
[null,17,null,null,20,null,10,10,10,10,10,10,10,10,10,90,10,10,10,10,10,10,10,10,10,90,180,null,{"$f":"$AA$463","v":0},{"$f":"RANK(AC25,AC$9:AC$38,0)+COUNTIF(AC$9:$AC25,AC25)-1","v":17},1,{"$f":"IF(ISBLANK($C25),0,1)*INDEX('Allocation Points'!$B$3:$AG$32,AE25,COUNTIF(AE$9:AE$38,AE25)+2)","v":0},null,{"$f":"AA464","v":0},{"$f":"RANK(AH25,AH$9:AH$38,0)+COUNTIF(AH$9:$AH25,AH25)-1","v":17},1,{"$f":"IF(ISBLANK($C25),0,1)*INDEX('Allocation Points'!$B$3:$AG$32,AJ25,COUNTIF(AJ$9:AJ$38,AJ25)+2)","v":0},null,{"$f":"AA462","v":180},{"$f":"RANK(AM25,AM$9:AM$38,1)+COUNTIF(AM$9:$AM25,AM25)-1","v":17},1,{"$f":"IF(ISBLANK($C25),0,1)*INDEX('Allocation Points'!$B$3:$AG$32,AO25,COUNTIF(AO$9:AO$38,AO25)+2)","v":0}]
[null,18,null,null,20,null,10,10,10,10,10,10,10,10,10,90,10,10,10,10,10,10,10,10,10,90,180,null,{"$f":"$AA$486","v":0},{"$f":"RANK(AC26,AC$9:AC$38,0)+COUNTIF(AC$9:$AC26,AC26)-1","v":18},1,{"$f":"IF(ISBLANK($C26),0,1)*INDEX('Allocation Points'!$B$3:$AG$32,AE26,COUNTIF(AE$9:AE$38,AE26)+2)","v":0},null,{"$f":"AA487","v":0},{"$f":"RANK(AH26,AH$9:AH$38,0)+COUNTIF(AH$9:$AH26,AH26)-1","v":18},1,{"$f":"IF(ISBLANK($C26),0,1)*INDEX('Allocation Points'!$B$3:$AG$32,AJ26,COUNTIF(AJ$9:AJ$38,AJ26)+2)","v":0},null,{"$f":"AA485","v":180},{"$f":"RANK(AM26,AM$9:AM$38,1)+COUNTIF(AM$9:$AM26,AM26)-1","v":18},1,{"$f":"IF(ISBLANK($C26),0,1)*INDEX('Allocation Points'!$B$3:$AG$32,AO26,COUNTIF(AO$9:AO$38,AO26)+2)","v":0}]
[null,19,null,null,20,null,10,10,10,10,10,10,10,10,10,90,10,10,10,10,10,10,10,10,10,90,180,null,{"$f":"$AA$509","v":0},{"$f":"RANK(AC27,AC$9:AC$38,0)+COUNTIF(AC$9:$AC27,AC27)-1","v":19},1,{"$f":"IF(ISBLANK($C27),0,1)*INDEX('Allocation Points'!$B$3:$AG$32,AE27,COUNTIF(AE$9:AE$38,AE27)+2)","v":0},null,{"$f":"AA510","v":0},{"$f":"RANK(AH27,AH$9:AH$38,0)+COUNTIF(AH$9:$AH27,AH27)-1","v":19},1,{"$f":"IF(ISBLANK($C27),0,1)*INDEX('Allocation Points'!$B$3:$AG$32,AJ27,COUNTIF(AJ$9:AJ$38,AJ27)+2)","v":0},null,{"$f":"AA508","v":180},{"$f":"RANK(AM27,AM$9:AM$38,1)+COUNTIF(AM$9:$AM27,AM27)-1","v":19},1,{"$f":"IF(ISBLANK($C27),0,1)*INDEX('Allocation Points'!$B$3:$AG$32,AO27,COUNTIF(AO$9:AO$38,AO27)+2)","v":0}]
[null,20,null,null,20,null,10,10,10,10,10,10,10,10,10,90,10,10,10,10,10,10,10,10,10,90,180,null,{"$f":"$AA$532","v":0},{"$f":"RANK(AC28,AC$9:AC$38,0)+COUNTIF(AC$9:$AC28,AC28)-1","v":20},1,{"$f":"IF(ISBLANK($C28),0,1)*INDEX('Allocation Points'!$B$3:$AG$32,AE28,COUNTIF(AE$9:AE$38,AE28)+2)","v":0},null,{"$f":"AA533","v":0},{"$f":"RANK(AH28,AH$9:AH$38,0)+COUNTIF(AH$9:$AH28,AH28)-1","v":20},1,{"$f":"IF(ISBLANK($C28),0,1)*INDEX('Allocation Points'!$B$3:$AG$32,AJ28,COUNTIF(AJ$9:AJ$38,AJ28)+2)","v":0},null,{"$f":"AA531","v":180},{"$f":"RANK(AM28,AM$9:AM$38,1)+COUNTIF(AM$9:$AM28,AM28)-1","v":20},1,{"$f":"IF(ISBLANK($C28),0,1)*INDEX('Allocation Points'!$B$3:$AG$32,AO28,COUNTIF(AO$9:AO$38,AO28)+2)","v":0}]
[null,21,null,null,20,null,10,10,10,10,10,10,10,10,10,90,10,10,10,10,10,10,10,10,10,90,180,null,{"$f":"$AA$555","v":0},{"$f":"RANK(AC29,AC$9:AC$38,0)+COUNTIF(AC$9:$AC29,AC29)-1","v":21},1,{"$f":"IF(ISBLANK($C29),0,1)*INDEX('Allocation Points'!$B$3:$AG$32,AE29,COUNTIF(AE$9:AE$38,AE29)+2)","v":0},null,{"$f":"AA556","v":0},{"$f":"RANK(AH29,AH$9:AH$38,0)+COUNTIF(AH$9:$AH29,AH29)-1","v":21},1,{"$f":"IF(ISBLANK($C29),0,1)*INDEX('Allocation Points'!$B$3:$AG$32,AJ29,COUNTIF(AJ$9:AJ$38,AJ29)+2)","v":0},null,{"$f":"AA554","v":180},{"$f":"RANK(AM29,AM$9:AM$38,1)+COUNTIF(AM$9:$AM29,AM29)-1","v":21},1,{"$f":"IF(ISBLANK($C29),0,1)*INDEX('Allocation Points'!$B$3:$AG$32,AO29,COUNTIF(AO$9:AO$38,AO29)+2)","v":0}]
[null,22,null,null,20,null,10,10,10,10,10,10,10,10,10,90,10,10,10,10,10,10,10,10,10,90,180,null,{"$f":"$AA$578","v":0},{"$f":"RANK(AC30,AC$9:AC$38,0)+COUNTIF(AC$9:$AC30,AC30)-1","v":22},1,{"$f":"IF(ISBLANK($C30),0,1)*INDEX('Allocation Points'!$B$3:$AG$32,AE30,COUNTIF(AE$9:AE$38,AE30)+2)","v":0},null,{"$f":"AA579","v":0},{"$f":"RANK(AH30,AH$9:AH$38,0)+COUNTIF(AH$9:$AH30,AH30)-1","v":22},1,{"$f":"IF(ISBLANK($C30),0,1)*INDEX('Allocation Points'!$B$3:$AG$32,AJ30,COUNTIF(AJ$9:AJ$38,AJ30)+2)","v":0},null,{"$f":"AA577","v":180},{"$f":"RANK(AM30,AM$9:AM$38,1)+COUNTIF(AM$9:$AM30,AM30)-1","v":22},1,{"$f":"IF(ISBLANK($C30),0,1)*INDEX('Allocation Points'!$B$3:$AG$32,AO30,COUNTIF(AO$9:AO$38,AO30)+2)","v":0}]
[null,23,null,null,20,null,10,10,10,10,10,10,10,10,10,90,10,10,10,10,10,10,10,10,10,90,180,null,{"$f":"$AA$601","v":0},{"$f":"RANK(AC31,AC$9:AC$38,0)+COUNTIF(AC$9:$AC31,AC31)-1","v":23},1,{"$f":"IF(ISBLANK($C31),0,1)*INDEX('Allocation Points'!$B$3:$AG$32,AE31,COUNTIF(AE$9:AE$38,AE31)+2)","v":0},null,{"$f":"AA602","v":0},{"$f":"RANK(AH31,AH$9:AH$38,0)+COUNTIF(AH$9:$AH31,AH31)-1","v":23},1,{"$f":"IF(ISBLANK($C31),0,1)*INDEX('Allocation Points'!$B$3:$AG$32,AJ31,COUNTIF(AJ$9:AJ$38,AJ31)+2)","v":0},null,{"$f":"AA600","v":180},{"$f":"RANK(AM31,AM$9:AM$38,1)+COUNTIF(AM$9:$AM31,AM31)-1","v":23},1,{"$f":"IF(ISBLANK($C31),0,1)*INDEX('Allocation Points'!$B$3:$AG$32,AO31,COUNTIF(AO$9:AO$38,AO31)+2)","v":0}]
[null,24,null,null,20,null,10,10,10,10,10,10,10,10,10,90,10,10,10,10,10,10,10,10,10,90,180,null,{"$f":"$AA$624","v":0},{"$f":"RANK(AC32,AC$9:AC$38,0)+COUNTIF(AC$9:$AC32,AC32)-1","v":24},1,{"$f":"IF(ISBLANK($C32),0,1)*INDEX('Allocation Points'!$B$3:$AG$32,AE32,COUNTIF(AE$9:AE$38,AE32)+2)","v":0},null,{"$f":"AA625","v":0},{"$f":"RANK(AH32,AH$9:AH$38,0)+COUNTIF(AH$9:$AH32,AH32)-1","v":24},1,{"$f":"IF(ISBLANK($C32),0,1)*INDEX('Allocation Points'!$B$3:$AG$32,AJ32,COUNTIF(AJ$9:AJ$38,AJ32)+2)","v":0},null,{"$f":"AA623","v":180},{"$f":"RANK(AM32,AM$9:AM$38,1)+COUNTIF(AM$9:$AM32,AM32)-1","v":24},1,{"$f":"IF(ISBLANK($C32),0,1)*INDEX('Allocation Points'!$B$3:$AG$32,AO32,COUNTIF(AO$9:AO$38,AO32)+2)","v":0}]
[null,25,null,null,20,null,10,10,10,10,10,10,10,10,10,90,10,10,10,10,10,10,10,10,10,90,180,null,{"$f":"$AA$647","v":0},{"$f":"RANK(AC33,AC$9:AC$38,0)+COUNTIF(AC$9:$AC33,AC33)-1","v":25},1,{"$f":"IF(ISBLANK($C33),0,1)*INDEX('Allocation Points'!$B$3:$AG$32,AE33,COUNTIF(AE$9:AE$38,AE33)+2)","v":0},null,{"$f":"AA648","v":0},{"$f":"RANK(AH33,AH$9:AH$38,0)+COUNTIF(AH$9:$AH33,AH33)-1","v":25},1,{"$f":"IF(ISBLANK($C33),0,1)*INDEX('Allocation Points'!$B$3:$AG$32,AJ33,COUNTIF(AJ$9:AJ$38,AJ33)+2)","v":0},null,{"$f":"AA646","v":180},{"$f":"RANK(AM33,AM$9:AM$38,1)+COUNTIF(AM$9:$AM33,AM33)-1","v":25},1,{"$f":"IF(ISBLANK($C33),0,1)*INDEX('Allocation Points'!$B$3:$AG$32,AO33,COUNTIF(AO$9:AO$38,AO33)+2)","v":0}]
[null,26,null,null,20,null,10,10,10,10,10,10,10,10,10,90,10,10,10,10,10,10,10,10,10,90,180,null,{"$f":"$AA$670","v":0},{"$f":"RANK(AC34,AC$9:AC$38,0)+COUNTIF(AC$9:$AC34,AC34)-1","v":26},1,{"$f":"IF(ISBLANK($C34),0,1)*INDEX('Allocation Points'!$B$3:$AG$32,AE34,COUNTIF(AE$9:AE$38,AE34)+2)","v":0},null,{"$f":"AA671","v":0},{"$f":"RANK(AH34,AH$9:AH$38,0)+COUNTIF(AH$9:$AH34,AH34)-1","v":26},1,{"$f":"IF(ISBLANK($C34),0,1)*INDEX('Allocation Points'!$B$3:$AG$32,AJ34,COUNTIF(AJ$9:AJ$38,AJ34)+2)","v":0},null,{"$f":"AA669","v":180},{"$f":"RANK(AM34,AM$9:AM$38,1)+COUNTIF(AM$9:$AM34,AM34)-1","v":26},1,{"$f":"IF(ISBLANK($C34),0,1)*INDEX('Allocation Points'!$B$3:$AG$32,AO34,COUNTIF(AO$9:AO$38,AO34)+2)","v":0}]
[null,27,null,null,20,null,10,10,10,10,10,10,10,10,10,90,10,10,10,10,10,10,10,10,10,90,180,null,{"$f":"$AA$693","v":0},{"$f":"RANK(AC35,AC$9:AC$38,0)+COUNTIF(AC$9:$AC35,AC35)-1","v":27},1,{"$f":"IF(ISBLANK($C35),0,1)*INDEX('Allocation Points'!$B$3:$AG$32,AE35,COUNTIF(AE$9:AE$38,AE35)+2)","v":0},null,{"$f":"AA694","v":0},{"$f":"RANK(AH35,AH$9:AH$38,0)+COUNTIF(AH$9:$AH35,AH35)-1","v":27},1,{"$f":"IF(ISBLANK($C35),0,1)*INDEX('Allocation Points'!$B$3:$AG$32,AJ35,COUNTIF(AJ$9:AJ$38,AJ35)+2)","v":0},null,{"$f":"AA692","v":180},{"$f":"RANK(AM35,AM$9:AM$38,1)+COUNTIF(AM$9:$AM35,AM35)-1","v":27},1,{"$f":"IF(ISBLANK($C35),0,1)*INDEX('Allocation Points'!$B$3:$AG$32,AO35,COUNTIF(AO$9:AO$38,AO35)+2)","v":0}]
[null,28,null,null,20,null,10,10,10,10,10,10,10,10,10,90,10,10,10,10,10,10,10,10,10,90,180,null,{"$f":"$AA$716","v":0},{"$f":"RANK(AC36,AC$9:AC$38,0)+COUNTIF(AC$9:$AC36,AC36)-1","v":28},1,{"$f":"IF(ISBLANK($C36),0,1)*INDEX('Allocation Points'!$B$3:$AG$32,AE36,COUNTIF(AE$9:AE$38,AE36)+2)","v":0},null,{"$f":"AA717","v":0},{"$f":"RANK(AH36,AH$9:AH$38,0)+COUNTIF(AH$9:$AH36,AH36)-1","v":28},1,{"$f":"IF(ISBLANK($C36),0,1)*INDEX('Allocation Points'!$B$3:$AG$32,AJ36,COUNTIF(AJ$9:AJ$38,AJ36)+2)","v":0},null,{"$f":"AA715","v":180},{"$f":"RANK(AM36,AM$9:AM$38,1)+COUNTIF(AM$9:$AM36,AM36)-1","v":28},1,{"$f":"IF(ISBLANK($C36),0,1)*INDEX('Allocation Points'!$B$3:$AG$32,AO36,COUNTIF(AO$9:AO$38,AO36)+2)","v":0}]
[null,29,null,null,20,null,10,10,10,10,10,10,10,10,10,90,10,10,10,10,10,10,10,10,10,90,180,null,{"$f":"$AA$739","v":0},{"$f":"RANK(AC37,AC$9:AC$38,0)+COUNTIF(AC$9:$AC37,AC37)-1","v":29},1,{"$f":"IF(ISBLANK($C37),0,1)*INDEX('Allocation Points'!$B$3:$AG$32,AE37,COUNTIF(AE$9:AE$38,AE37)+2)","v":0},null,{"$f":"AA740","v":0},{"$f":"RANK(AH37,AH$9:AH$38,0)+COUNTIF(AH$9:$AH37,AH37)-1","v":29},1,{"$f":"IF(ISBLANK($C37),0,1)*INDEX('Allocation Points'!$B$3:$AG$32,AJ37,COUNTIF(AJ$9:AJ$38,AJ37)+2)","v":0},null,{"$f":"AA738","v":180},{"$f":"RANK(AM37,AM$9:AM$38,1)+COUNTIF(AM$9:$AM37,AM37)-1","v":29},1,{"$f":"IF(ISBLANK($C37),0,1)*INDEX('Allocation Points'!$B$3:$AG$32,AO37,COUNTIF(AO$9:AO$38,AO37)+2)","v":0}]
[null,30,null,null,20,null,10,10,10,10,10,10,10,10,10,90,10,10,10,10,10,10,10,10,10,90,180,null,{"$f":"$AA$762","v":0},{"$f":"RANK(AC38,AC$9:AC$38,0)+COUNTIF(AC$9:$AC38,AC38)-1","v":30},1,{"$f":"IF(ISBLANK($C38),0,1)*INDEX('Allocation Points'!$B$3:$AG$32,AE38,COUNTIF(AE$9:AE$38,AE38)+2)","v":0},null,{"$f":"AA763","v":0},{"$f":"RANK(AH38,AH$9:AH$38,0)+COUNTIF(AH$9:$AH38,AH38)-1","v":30},1,{"$f":"IF(ISBLANK($C38),0,1)*INDEX('Allocation Points'!$B$3:$AG$32,AJ38,COUNTIF(AJ$9:AJ$38,AJ38)+2)","v":0},null,{"$f":"AA761","v":180},{"$f":"RANK(AM38,AM$9:AM$38,1)+COUNTIF(AM$9:$AM38,AM38)-1","v":30},1,{"$f":"IF(ISBLANK($C38),0,1)*INDEX('Allocation Points'!$B$3:$AG$32,AO38,COUNTIF(AO$9:AO$38,AO38)+2)","v":0}]
[]
[]
[null,null,null,null,null,null,null,"CLASSEMENT"]
[]
[]
[]
[null,null,"NET",null,null,null,null,null,null,"BRUT",null,null,null,null,null,null,null,null,null,null,null,"STROKE"]
[]
[null,null,"Noms","Prénoms","NET",null,null,null,null,"Noms",null,null,null,"Prénoms",null,null,"BRUT",null,null,null,null,"Noms",null,null,null,"Prénoms",null,"STROKE"]
[null,1,{"$f":"INDEX($C$9:$AN$38,MATCH(B48,$AD$9:$AD$38,0),1)","v":0},{"$f":"INDEX($C$9:$AN$38,MATCH(B48,$AD$9:$AD$38,0),2)","v":0},{"$f":"INDEX($C$9:$AN$38,MATCH(B48,$AD$9:$AD$38,0),27)","v":0},null,null,null,1,{"$f":"INDEX($C$9:$AN$38,MATCH(I48,$AI$9:$AI$38,0),1)","v":0},null,null,null,{"$f":"INDEX($C$9:$AN$38,MATCH(I48,$AI$9:$AI$38,0),2)","v":0},null,null,{"$f":"INDEX($C$9:$AN$38,MATCH(I48,$AI$9:$AI$38,0),32)","v":0},null,null,null,1,{"$f":"INDEX($C$9:$AN$38,MATCH(U48,$AN$9:$AN$38,0),1)","v":0},null,null,null,{"$f":"INDEX($C$9:$AN$38,MATCH(U48,$AN$9:$AN$38,0),2)","v":0},null,{"$f":"INDEX($C$9:$AN$38,MATCH(U48,$AN$9:$AN$38,0),37)","v":180}]
[null,2,0,0,0,null,null,null,2,0,null,null,null,0,null,null,{"$f":"INDEX($C$9:$AN$38,MATCH(I49,$AI$9:$AI$38,0),32)","v":0},null,null,null,2,0,null,null,null,0,null,{"$f":"INDEX($C$9:$AN$38,MATCH(U49,$AN$9:$AN$38,0),37)","v":180}]
[null,3,0,0,0,null,null,null,3,0,null,null,null,0,null,null,0,null,null,null,3,0,null,null,null,0,null,180]
[null,4,0,0,0,null,null,null,4,0,null,null,null,0,null,null,0,null,null,null,4,0,null,null,null,0,null,180]
[null,5,0,0,0,null,null,null,5,0,null,null,null,0,null,null,0,null,null,null,5,0,null,null,null,0,null,180]
[null,6,0,0,0,null,null,null,6,0,null,null,null,0,null,null,0,null,null,null,6,0,null,null,null,0,null,180]
[null,7,0,0,0,null,null,null,7,0,null,null,null,0,null,null,0,null,null,null,7,0,null,null,null,0,null,180]
[null,8,0,0,0,null,null,null,8,0,null,null,null,0,null,null,0,null,null,null,8,0,null,null,null,0,null,180]
[null,9,0,0,0,null,null,null,9,0,null,null,null,0,null,null,0,null,null,null,9,0,null,null,null,0,null,180]
[null,10,0,0,0,null,null,null,10,0,null,null,null,0,null,null,0,null,null,null,10,0,null,null,null,0,null,180]
[null,11,0,0,0,null,null,null,11,0,null,null,null,0,null,null,0,null,null,null,11,0,null,null,null,0,null,180]
[null,12,0,0,0,null,null,null,12,0,null,null,null,0,null,null,0,null,null,null,12,0,null,null,null,0,null,180]
[null,13,0,0,0,null,null,null,13,0,null,null,null,0,null,null,0,null,null,null,13,0,null,null,null,0,null,180]
[null,14,0,0,0,null,null,null,14,0,null,null,null,0,null,null,0,null,null,null,14,0,null,null,null,0,null,180]
[null,15,0,0,0,null,null,null,15,0,null,null,null,0,null,null,0,null,null,null,15,0,null,null,null,0,null,180]
[null,16,0,0,0,null,null,null,16,0,null,null,null,0,null,null,0,null,null,null,16,0,null,null,null,0,null,180]
[null,17,0,0,0,null,null,null,17,0,null,null,null,0,null,null,0,null,null,null,17,0,null,null,null,0,null,180]
[null,18,0,0,0,null,null,null,18,0,null,null,null,0,null,null,0,null,null,null,18,0,null,null,null,0,null,180]
[null,19,0,0,0,null,null,null,19,0,null,null,null,0,null,null,0,null,null,null,19,0,null,null,null,0,null,180]
[null,20,0,0,0,null,null,null,20,0,null,null,null,0,null,null,0,null,null,null,20,0,null,null,null,0,null,180]
[null,21,0,0,0,null,null,null,21,0,null,null,null,0,null,null,0,null,null,null,21,0,null,null,null,0,null,180]
[null,22,0,0,0,null,null,null,22,0,null,null,null,0,null,null,0,null,null,null,22,0,null,null,null,0,null,180]
[null,23,0,0,0,null,null,null,23,0,null,null,null,0,null,null,0,null,null,null,23,0,null,null,null,0,null,180]
[null,24,0,0,0,null,null,null,24,0,null,null,null,0,null,null,0,null,null,null,24,0,null,null,null,0,null,180]
[null,25,0,0,0,null,null,null,25,0,null,null,null,0,null,null,0,null,null,null,25,0,null,null,null,0,null,180]
[null,26,0,0,0,null,null,null,26,0,null,null,null,0,null,null,0,null,null,null,26,0,null,null,null,0,null,180]
[null,27,0,0,0,null,null,null,27,0,null,null,null,0,null,null,0,null,null,null,27,0,null,null,null,0,null,180]
[null,28,0,0,0,null,null,null,28,0,null,null,null,0,null,null,0,null,null,null,28,0,null,null,null,0,null,180]
[null,29,0,0,0,null,null,null,29,0,null,null,null,0,null,null,0,null,null,null,29,0,null,null,null,0,null,180]
[null,30,0,0,0,null,null,null,30,0,null,null,null,0,null,null,0,null,null,null,30,0,null,null,null,0,null,180]
[]
[]
[]
[null,null,null,null,null,null,null,"STATISTIQUES INDIVIDUELLES"]
[]
[]
[]
[]
[]
[null,null,null,null,null,"Nom",{"$f":"C9","v":0},null,null,null,null,"Slope",null,null,"SSS",null,"Coups reçus",null,null,null,null,null,null,null,null,"Date",{"$f":"$D$3","v":"00:00:00"}]
[null,null,null,null,null,"Index",{"$f":"E9","v":20},null,null,null,null,{"$f":"$F$3","v":133},null,null,{"$f":"$G$3","v":68.599999999999994},null,{"$f":"ROUND((G88*(L88/113)+(O88-AA91)),0)","v":20}]
[]
[null,null,null,null,null,"Trou",1,2,3,4,5,6,7,8,9,"Aller",10,11,12,13,14,15,16,17,18,"Retour","Total"]
[null,null,null,null,null,"PAR",{"$f":"G$7","v":4},{"$f":"H$7","v":4},5,4,3,5,3,5,3,{"$f":"SUM(G91:O91)","v":36},{"$f":"Q$7","v":4},4,3,5,3,4,4,5,4,{"$f":"SUM(Q91:Y91)","v":36},{"$f":"SUM(P91+Z91)","v":72}]
[null,null,null,null,null,"HCP trous",{"$f":"G$8","v":4},{"$f":"H$8","v":8},12,14,2,10,18,16,6,null,{"$f":"Q$8","v":1},9,11,5,17,15,3,13,7]
[null,null,null,null,null,"Coups reçus",{"$f":"IF($Q88<=18,IF(G92<=$Q88,1,0),IF($Q88<=36,IF(G92<=($Q88-18),2,1),IF($Q88>36,IF(G92<=($Q88-36),3,2))))","v":1},{"$f":"IF($Q88<=18,IF(H92<=$Q88,1,0),IF($Q88<=36,IF(H92<=($Q88-18),2,1),IF($Q88>36,IF(H92<=($Q88-36),3,2))))","v":1},1,1,2,1,1,1,1,{"$f":"SUM(G93:O93)","v":10},{"$f":"IF($Q88<=18,IF(Q92<=$Q88,1,0),IF($Q88<=36,IF(Q92<=($Q88-18),2,1),IF($Q88>36,IF(Q92<=($Q88-36),3,2))))","v":2},1,1,1,1,1,1,1,1,{"$f":"SUM(Q93:Y93)","v":10},{"$f":"P93+Z93","v":20}]
[null,null,null,null,null,"Stroke play",{"$f":"G9","v":10},10,10,10,10,10,10,10,10,{"$f":"SUM(G94:O94)","v":90},{"$f":"Q9","v":10},10,10,10,10,10,10,10,10,{"$f":"SUM(Q94:Y94)","v":90},{"$f":"P94+Z94","v":180}]
[null,null,null,null,null,"Net Stableford",{"$f":"IF(G94-G91=-1,3+G93)+IF(G94-G91=0,2+G93)+IF(G94-G91=1,1+G93)+IF(G94-G91=2,G93)+IF(G94-G91=3,IF(G93-1>0,G93-1,0))+IF(G94-G91=4,IF(G93-2>0,G93-2,0))","v":0},{"$f":"IF(H94-H91=-1,3+H93)+IF(H94-H91=0,2+H93)+IF(H94-H91=1,1+H93)+IF(H94-H91=2,H93)+IF(H94-H91=3,IF(H93-1>0,H93-1,0))+IF(H94-H91=4,IF(H93-2>0,H93-2,0))","v":0},0,0,0,0,0,0,0,{"$f":"SUM(G95:O95)","v":0},{"$f":"IF(Q94-Q91=-1,3+Q93)+IF(Q94-Q91=0,2+Q93)+IF(Q94-Q91=1,1+Q93)+IF(Q94-Q91=2,Q93)+IF(Q94-Q91=3,IF(Q93-1>0,Q93-1,0))+IF(Q94-Q91=4,IF(Q93-2>0,Q93-2,0))","v":0},0,0,0,0,0,0,0,0,{"$f":"SUM(Q95:Y95)","v":0},{"$f":"P95+Z95","v":0}]
[null,null,null,null,null,"Score Brut",{"$f":"IF(G94-G91=-2,4)+IF(G94-G91=-1,3)+IF(G94-G91=0,2)+IF(G94-G91=1,1)+IF(G94-G91>2,0)","v":0},0,0,0,0,0,0,0,0,{"$f":"SUM(G96:O96)","v":0},{"$f":"IF(Q94-Q91=-2,4)+IF(Q94-Q91=-1,3)+IF(Q94-Q91=0,2)+IF(Q94-Q91=1,1)+IF(Q94-Q91>2,0)","v":0},0,0,0,0,0,0,0,0,{"$f":"SUM(Q96:Y96)","v":0},{"$f":"P96+Z96","v":0}]
[null,null,null,null,null,null,{"$f":"G94-G91","v":6},{"$f":"H94-H91","v":6},5,6,7,5,7,5,7,null,{"$f":"Q94-Q91","v":6},6,7,5,7,6,6,5,6]
[]
[]
[null,null,null,null,null,"Statistiques scores",null,"Eagle & moins",null,null,null,{"$f":"COUNTIF(G97:Y97,\"<=-2\")","v":0},"Par",null,{"$f":"COUNTIF(G97:Y97,\"=0\")","v":0},"Double bogey",null,null,null,null,{"$f":"COUNTIF(G97:Y97,\"=2\")","v":0}]
[null,null,null,null,null,null,null,"Birdie",null,null,null,{"$f":"COUNTIF(G97:Y97,\"=-1\")","v":0},"Bogey",null,{"$f":"COUNTIF(G97:Y97,\"=1\")","v":0},"Triple bogey & plus",null,null,null,null,{"$f":"COUNTIF(G97:Y97,\">=3\")","v":18}]
[null,null,null,null,null,null,null,{"$f":"M100","v":"Par"},null,null,null,{"$f":"O100","v":0}]
[null,null,null,null,null,null,null,{"$f":"M101","v":"Bogey"},null,null,null,{"$f":"O101","v":0}]
[null,null,null,null,null,null,null,{"$f":"P100","v":"Double bogey"},null,null,null,{"$f":"U100","v":0}]
[null,null,null,null,null,null,null,{"$f":"P101","v":"Triple bogey & plus"},null,null,null,{"$f":"U101","v":18}]
[]
[]
[]
[]
[null,null,null,null,null,"Nom",{"$f":"C10","v":0},null,null,null,null,"Slope",null,null,"SSS",null,"Coups reçus",null,null,null,null,null,null,null,null,"Date",{"$f":"$D$3","v":"00:00:00"}]
[null,null,null,null,null,"Index",{"$f":"E10","v":20},null,null,null,null,{"$f":"$F$3","v":133},null,null,{"$f":"$G$3","v":68.599999999999994},null,{"$f":"ROUND((G111*(L111/113)+(O111-AA114)),0)","v":20}]
[]
[null,null,null,null,null,"Trou",1,2,3,4,5,6,7,8,9,"Aller",10,11,12,13,14,15,16,17,18,"Retour","Total"]
[null,null,null,null,null,"PAR",{"$f":"G$7","v":4},{"$f":"H$7","v":4},5,4,3,5,3,5,3,{"$f":"SUM(G114:O114)","v":36},{"$f":"Q$7","v":4},4,3,5,3,4,4,5,4,{"$f":"SUM(Q114:Y114)","v":36},{"$f":"SUM(P114+Z114)","v":72}]
[null,null,null,null,null,"HCP trous",{"$f":"G$8","v":4},{"$f":"H$8","v":8},12,14,2,10,18,16,6,null,{"$f":"Q$8","v":1},9,11,5,17,15,3,13,7]
[null,null,null,null,null,"Coups reçus",{"$f":"IF($Q111<=18,IF(G115<=$Q111,1,0),IF($Q111<=36,IF(G115<=($Q111-18),2,1),IF($Q111>36,IF(G115<=($Q111-36),3,2))))","v":1},{"$f":"IF($Q111<=18,IF(H115<=$Q111,1,0),IF($Q111<=36,IF(H115<=($Q111-18),2,1),IF($Q111>36,IF(H115<=($Q111-36),3,2))))","v":1},1,1,2,1,1,1,1,{"$f":"SUM(G116:O116)","v":10},{"$f":"IF($Q111<=18,IF(Q115<=$Q111,1,0),IF($Q111<=36,IF(Q115<=($Q111-18),2,1),IF($Q111>36,IF(Q115<=($Q111-36),3,2))))","v":2},1,1,1,1,1,1,1,1,{"$f":"SUM(Q116:Y116)","v":10},{"$f":"P116+Z116","v":20}]
[null,null,null,null,null,"Stroke play",{"$f":"G10","v":10},10,10,10,10,10,10,10,10,{"$f":"SUM(G117:O117)","v":90},{"$f":"Q10","v":10},10,10,10,10,10,10,10,10,{"$f":"SUM(Q117:Y117)","v":90},{"$f":"P117+Z117","v":180}]
[null,null,null,null,null,"Net Stableford",{"$f":"IF(G117-G114=-1,3+G116)+IF(G117-G114=0,2+G116)+IF(G117-G114=1,1+G116)+IF(G117-G114=2,G116)+IF(G117-G114=3,IF(G116-1>0,G116-1,0))+IF(G117-G114=4,IF(G116-2>0,G116-2,0))","v":0},{"$f":"IF(H117-H114=-1,3+H116)+IF(H117-H114=0,2+H116)+IF(H117-H114=1,1+H116)+IF(H117-H114=2,H116)+IF(H117-H114=3,IF(H116-1>0,H116-1,0))+IF(H117-H114=4,IF(H116-2>0,H116-2,0))","v":0},0,0,0,0,0,0,0,{"$f":"SUM(G118:O118)","v":0},{"$f":"IF(Q117-Q114=-1,3+Q116)+IF(Q117-Q114=0,2+Q116)+IF(Q117-Q114=1,1+Q116)+IF(Q117-Q114=2,Q116)+IF(Q117-Q114=3,IF(Q116-1>0,Q116-1,0))+IF(Q117-Q114=4,IF(Q116-2>0,Q116-2,0))","v":0},0,0,0,0,0,0,0,0,{"$f":"SUM(Q118:Y118)","v":0},{"$f":"P118+Z118","v":0}]
[null,null,null,null,null,"Score Brut",{"$f":"IF(G117-G114=-2,4)+IF(G117-G114=-1,3)+IF(G117-G114=0,2)+IF(G117-G114=1,1)+IF(G117-G114>2,0)","v":0},0,0,0,0,0,0,0,0,{"$f":"SUM(G119:O119)","v":0},{"$f":"IF(Q117-Q114=-2,4)+IF(Q117-Q114=-1,3)+IF(Q117-Q114=0,2)+IF(Q117-Q114=1,1)+IF(Q117-Q114>2,0)","v":0},0,0,0,0,0,0,0,0,{"$f":"SUM(Q119:Y119)","v":0},{"$f":"P119+Z119","v":0}]
[null,null,null,null,null,null,{"$f":"G117-G114","v":6},{"$f":"H117-H114","v":6},5,6,7,5,7,5,7,null,{"$f":"Q117-Q114","v":6},6,7,5,7,6,6,5,6]
[]
[]
[null,null,null,null,null,"Statistiques scores",null,"Eagle & moins",null,null,null,{"$f":"COUNTIF(G120:Y120,\"<=-2\")","v":0},"Par",null,{"$f":"COUNTIF(G120:Y120,\"=0\")","v":0},"Double bogey",null,null,null,null,{"$f":"COUNTIF(G120:Y120,\"=2\")","v":0}]
[null,null,null,null,null,null,null,"Birdie",null,null,null,{"$f":"COUNTIF(G120:Y120,\"=-1\")","v":0},"Bogey",null,{"$f":"COUNTIF(G120:Y120,\"=1\")","v":0},"Triple bogey & plus",null,null,null,null,{"$f":"COUNTIF(G120:Y120,\">=3\")","v":18}]
[null,null,null,null,null,null,null,{"$f":"M123","v":"Par"},null,null,null,{"$f":"O123","v":0}]
[null,null,null,null,null,null,null,{"$f":"M124","v":"Bogey"},null,null,null,{"$f":"O124","v":0}]
[null,null,null,null,null,null,null,{"$f":"P123","v":"Double bogey"},null,null,null,{"$f":"U123","v":0}]
[null,null,null,null,null,null,null,{"$f":"P124","v":"Triple bogey & plus"},null,null,null,{"$f":"U124","v":18}]
[]
[]
[]
[]
[null,null,null,null,null,"Nom",{"$f":"C11","v":0},null,null,null,null,"Slope",null,null,"SSS",null,"Coups reçus",null,null,null,null,null,null,null,null,"Date",{"$f":"$D$3","v":"00:00:00"}]
[null,null,null,null,null,"Index",{"$f":"E11","v":20},null,null,null,null,{"$f":"$F$3","v":133},null,null,{"$f":"$G$3","v":68.599999999999994},null,{"$f":"ROUND((G134*(L134/113)+(O134-AA137)),0)","v":20}]
[]
[null,null,null,null,null,"Trou",1,2,3,4,5,6,7,8,9,"Aller",10,11,12,13,14,15,16,17,18,"Retour","Total"]
[null,null,null,null,null,"PAR",{"$f":"G$7","v":4},{"$f":"H$7","v":4},5,4,3,5,3,5,3,{"$f":"SUM(G137:O137)","v":36},{"$f":"Q$7","v":4},4,3,5,3,4,4,5,4,{"$f":"SUM(Q137:Y137)","v":36},{"$f":"SUM(P137+Z137)","v":72}]
[null,null,null,null,null,"HCP trous",{"$f":"G$8","v":4},{"$f":"H$8","v":8},12,14,2,10,18,16,6,null,{"$f":"Q$8","v":1},9,11,5,17,15,3,13,7]
[null,null,null,null,null,"Coups reçus",{"$f":"IF($Q134<=18,IF(G138<=$Q134,1,0),IF($Q134<=36,IF(G138<=($Q134-18),2,1),IF($Q134>36,IF(G138<=($Q134-36),3,2))))","v":1},{"$f":"IF($Q134<=18,IF(H138<=$Q134,1,0),IF($Q134<=36,IF(H138<=($Q134-18),2,1),IF($Q134>36,IF(H138<=($Q134-36),3,2))))","v":1},1,1,2,1,1,1,1,{"$f":"SUM(G139:O139)","v":10},{"$f":"IF($Q134<=18,IF(Q138<=$Q134,1,0),IF($Q134<=36,IF(Q138<=($Q134-18),2,1),IF($Q134>36,IF(Q138<=($Q134-36),3,2))))","v":2},1,1,1,1,1,1,1,1,{"$f":"SUM(Q139:Y139)","v":10},{"$f":"P139+Z139","v":20}]
[null,null,null,null,null,"Stroke play",{"$f":"G11","v":10},10,10,10,10,10,10,10,10,{"$f":"SUM(G140:O140)","v":90},{"$f":"Q11","v":10},10,10,10,10,10,10,10,10,{"$f":"SUM(Q140:Y140)","v":90},{"$f":"P140+Z140","v":180}]
[null,null,null,null,null,"Net Stableford",{"$f":"IF(G140-G137=-1,3+G139)+IF(G140-G137=0,2+G139)+IF(G140-G137=1,1+G139)+IF(G140-G137=2,G139)+IF(G140-G137=3,IF(G139-1>0,G139-1,0))+IF(G140-G137=4,IF(G139-2>0,G139-2,0))","v":0},{"$f":"IF(H140-H137=-1,3+H139)+IF(H140-H137=0,2+H139)+IF(H140-H137=1,1+H139)+IF(H140-H137=2,H139)+IF(H140-H137=3,IF(H139-1>0,H139-1,0))+IF(H140-H137=4,IF(H139-2>0,H139-2,0))","v":0},0,0,0,0,0,0,0,{"$f":"SUM(G141:O141)","v":0},{"$f":"IF(Q140-Q137=-1,3+Q139)+IF(Q140-Q137=0,2+Q139)+IF(Q140-Q137=1,1+Q139)+IF(Q140-Q137=2,Q139)+IF(Q140-Q137=3,IF(Q139-1>0,Q139-1,0))+IF(Q140-Q137=4,IF(Q139-2>0,Q139-2,0))","v":0},0,0,0,0,0,0,0,0,{"$f":"SUM(Q141:Y141)","v":0},{"$f":"P141+Z141","v":0}]
[null,null,null,null,null,"Score Brut",{"$f":"IF(G140-G137=-2,4)+IF(G140-G137=-1,3)+IF(G140-G137=0,2)+IF(G140-G137=1,1)+IF(G140-G137>2,0)","v":0},0,0,0,0,0,0,0,0,{"$f":"SUM(G142:O142)","v":0},{"$f":"IF(Q140-Q137=-2,4)+IF(Q140-Q137=-1,3)+IF(Q140-Q137=0,2)+IF(Q140-Q137=1,1)+IF(Q140-Q137>2,0)","v":0},0,0,0,0,0,0,0,0,{"$f":"SUM(Q142:Y142)","v":0},{"$f":"P142+Z142","v":0}]
[null,null,null,null,null,null,{"$f":"G140-G137","v":6},{"$f":"H140-H137","v":6},5,6,7,5,7,5,7,null,{"$f":"Q140-Q137","v":6},6,7,5,7,6,6,5,6]
[]
[]
[null,null,null,null,null,"Statistiques scores",null,"Eagle & moins",null,null,null,{"$f":"COUNTIF(G143:Y143,\"<=-2\")","v":0},"Par",null,{"$f":"COUNTIF(G143:Y143,\"=0\")","v":0},"Double bogey",null,null,null,null,{"$f":"COUNTIF(G143:Y143,\"=2\")","v":0}]
[null,null,null,null,null,null,null,"Birdie",null,null,null,{"$f":"COUNTIF(G143:Y143,\"=-1\")","v":0},"Bogey",null,{"$f":"COUNTIF(G143:Y143,\"=1\")","v":0},"Triple bogey & plus",null,null,null,null,{"$f":"COUNTIF(G143:Y143,\">=3\")","v":18}]
[null,null,null,null,null,null,null,{"$f":"M146","v":"Par"},null,null,null,{"$f":"O146","v":0}]
[null,null,null,null,null,null,null,{"$f":"M147","v":"Bogey"},null,null,null,{"$f":"O147","v":0}]
[null,null,null,null,null,null,null,{"$f":"P146","v":"Double bogey"},null,null,null,{"$f":"U146","v":0}]
[null,null,null,null,null,null,null,{"$f":"P147","v":"Triple bogey & plus"},null,null,null,{"$f":"U147","v":18}]
[]
[]
[]
[]
[null,null,null,null,null,"Nom",{"$f":"C12","v":0},null,null,null,null,"Slope",null,null,"SSS",null,"Coups reçus",null,null,null,null,null,null,null,null,"Date",{"$f":"$D$3","v":"00:00:00"}]
[null,null,null,null,null,"Index",{"$f":"E12","v":20},null,null,null,null,{"$f":"$F$3","v":133},null,null,{"$f":"$G$3","v":68.599999999999994},null,{"$f":"ROUND((G157*(L157/113)+(O157-AA160)),0)","v":20}]
[]
[null,null,null,null,null,"Trou",1,2,3,4,5,6,7,8,9,"Aller",10,11,12,13,14,15,16,17,18,"Retour","Total"]
[null,null,null,null,null,"PAR",{"$f":"G$7","v":4},{"$f":"H$7","v":4},5,4,3,5,3,5,3,{"$f":"SUM(G160:O160)","v":36},{"$f":"Q$7","v":4},4,3,5,3,4,4,5,4,{"$f":"SUM(Q160:Y160)","v":36},{"$f":"SUM(P160+Z160)","v":72}]
[null,null,null,null,null,"HCP trous",{"$f":"G$8","v":4},{"$f":"H$8","v":8},12,14,2,10,18,16,6,null,{"$f":"Q$8","v":1},9,11,5,17,15,3,13,7]
[null,null,null,null,null,"Coups reçus",{"$f":"IF($Q157<=18,IF(G161<=$Q157,1,0),IF($Q157<=36,IF(G161<=($Q157-18),2,1),IF($Q157>36,IF(G161<=($Q157-36),3,2))))","v":1},{"$f":"IF($Q157<=18,IF(H161<=$Q157,1,0),IF($Q157<=36,IF(H161<=($Q157-18),2,1),IF($Q157>36,IF(H161<=($Q157-36),3,2))))","v":1},1,1,2,1,1,1,1,{"$f":"SUM(G162:O162)","v":10},{"$f":"IF($Q157<=18,IF(Q161<=$Q157,1,0),IF($Q157<=36,IF(Q161<=($Q157-18),2,1),IF($Q157>36,IF(Q161<=($Q157-36),3,2))))","v":2},1,1,1,1,1,1,1,1,{"$f":"SUM(Q162:Y162)","v":10},{"$f":"P162+Z162","v":20}]
[null,null,null,null,null,"Stroke play",{"$f":"G12","v":10},10,10,10,10,10,10,10,10,{"$f":"SUM(G163:O163)","v":90},{"$f":"Q12","v":10},10,10,10,10,10,10,10,10,{"$f":"SUM(Q163:Y163)","v":90},{"$f":"P163+Z163","v":180}]
[null,null,null,null,null,"Net Stableford",{"$f":"IF(G163-G160=-1,3+G162)+IF(G163-G160=0,2+G162)+IF(G163-G160=1,1+G162)+IF(G163-G160=2,G162)+IF(G163-G160=3,IF(G162-1>0,G162-1,0))+IF(G163-G160=4,IF(G162-2>0,G162-2,0))","v":0},{"$f":"IF(H163-H160=-1,3+H162)+IF(H163-H160=0,2+H162)+IF(H163-H160=1,1+H162)+IF(H163-H160=2,H162)+IF(H163-H160=3,IF(H162-1>0,H162-1,0))+IF(H163-H160=4,IF(H162-2>0,H162-2,0))","v":0},0,0,0,0,0,0,0,{"$f":"SUM(G164:O164)","v":0},{"$f":"IF(Q163-Q160=-1,3+Q162)+IF(Q163-Q160=0,2+Q162)+IF(Q163-Q160=1,1+Q162)+IF(Q163-Q160=2,Q162)+IF(Q163-Q160=3,IF(Q162-1>0,Q162-1,0))+IF(Q163-Q160=4,IF(Q162-2>0,Q162-2,0))","v":0},0,0,0,0,0,0,0,0,{"$f":"SUM(Q164:Y164)","v":0},{"$f":"P164+Z164","v":0}]
[null,null,null,null,null,"Score Brut",{"$f":"IF(G163-G160=-2,4)+IF(G163-G160=-1,3)+IF(G163-G160=0,2)+IF(G163-G160=1,1)+IF(G163-G160>2,0)","v":0},0,0,0,0,0,0,0,0,{"$f":"SUM(G165:O165)","v":0},{"$f":"IF(Q163-Q160=-2,4)+IF(Q163-Q160=-1,3)+IF(Q163-Q160=0,2)+IF(Q163-Q160=1,1)+IF(Q163-Q160>2,0)","v":0},0,0,0,0,0,0,0,0,{"$f":"SUM(Q165:Y165)","v":0},{"$f":"P165+Z165","v":0}]
[null,null,null,null,null,null,{"$f":"G163-G160","v":6},{"$f":"H163-H160","v":6},5,6,7,5,7,5,7,null,{"$f":"Q163-Q160","v":6},6,7,5,7,6,6,5,6]
[]
[]
[null,null,null,null,null,"Statistiques scores",null,"Eagle & moins",null,null,null,{"$f":"COUNTIF(G166:Y166,\"<=-2\")","v":0},"Par",null,{"$f":"COUNTIF(G166:Y166,\"=0\")","v":0},"Double bogey",null,null,null,null,{"$f":"COUNTIF(G166:Y166,\"=2\")","v":0}]
[null,null,null,null,null,null,null,"Birdie",null,null,null,{"$f":"COUNTIF(G166:Y166,\"=-1\")","v":0},"Bogey",null,{"$f":"COUNTIF(G166:Y166,\"=1\")","v":0},"Triple bogey & plus",null,null,null,null,{"$f":"COUNTIF(G166:Y166,\">=3\")","v":18}]
[null,null,null,null,null,null,null,{"$f":"M169","v":"Par"},null,null,null,{"$f":"O169","v":0}]
[null,null,null,null,null,null,null,{"$f":"M170","v":"Bogey"},null,null,null,{"$f":"O170","v":0}]
[null,null,null,null,null,null,null,{"$f":"P169","v":"Double bogey"},null,null,null,{"$f":"U169","v":0}]
[null,null,null,null,null,null,null,{"$f":"P170","v":"Triple bogey & plus"},null,null,null,{"$f":"U170","v":18}]
[]
[]
[]
[]
[null,null,null,null,null,"Nom",{"$f":"C13","v":0},null,null,null,null,"Slope",null,null,"SSS",null,"Coups reçus",null,null,null,null,null,null,null,null,"Date",{"$f":"$D$3","v":"00:00:00"}]
[null,null,null,null,null,"Index",{"$f":"E13","v":20},null,null,null,null,{"$f":"$F$3","v":133},null,null,{"$f":"$G$3","v":68.599999999999994},null,{"$f":"ROUND((G180*(L180/113)+(O180-AA183)),0)","v":20}]
[]
[null,null,null,null,null,"Trou",1,2,3,4,5,6,7,8,9,"Aller",10,11,12,13,14,15,16,17,18,"Retour","Total"]
[null,null,null,null,null,"PAR",{"$f":"G$7","v":4},{"$f":"H$7","v":4},5,4,3,5,3,5,3,{"$f":"SUM(G183:O183)","v":36},{"$f":"Q$7","v":4},4,3,5,3,4,4,5,4,{"$f":"SUM(Q183:Y183)","v":36},{"$f":"SUM(P183+Z183)","v":72}]
[null,null,null,null,null,"HCP trous",{"$f":"G$8","v":4},{"$f":"H$8","v":8},12,14,2,10,18,16,6,null,{"$f":"Q$8","v":1},9,11,5,17,15,3,13,7]
[null,null,null,null,null,"Coups reçus",{"$f":"IF($Q180<=18,IF(G184<=$Q180,1,0),IF($Q180<=36,IF(G184<=($Q180-18),2,1),IF($Q180>36,IF(G184<=($Q180-36),3,2))))","v":1},{"$f":"IF($Q180<=18,IF(H184<=$Q180,1,0),IF($Q180<=36,IF(H184<=($Q180-18),2,1),IF($Q180>36,IF(H184<=($Q180-36),3,2))))","v":1},1,1,2,1,1,1,1,{"$f":"SUM(G185:O185)","v":10},{"$f":"IF($Q180<=18,IF(Q184<=$Q180,1,0),IF($Q180<=36,IF(Q184<=($Q180-18),2,1),IF($Q180>36,IF(Q184<=($Q180-36),3,2))))","v":2},1,1,1,1,1,1,1,1,{"$f":"SUM(Q185:Y185)","v":10},{"$f":"P185+Z185","v":20}]
[null,null,null,null,null,"Stroke play",{"$f":"G13","v":10},10,10,10,10,10,10,10,10,{"$f":"SUM(G186:O186)","v":90},{"$f":"Q13","v":10},10,10,10,10,10,10,10,10,{"$f":"SUM(Q186:Y186)","v":90},{"$f":"P186+Z186","v":180}]
[null,null,null,null,null,"Net Stableford",{"$f":"IF(G186-G183=-1,3+G185)+IF(G186-G183=0,2+G185)+IF(G186-G183=1,1+G185)+IF(G186-G183=2,G185)+IF(G186-G183=3,IF(G185-1>0,G185-1,0))+IF(G186-G183=4,IF(G185-2>0,G185-2,0))","v":0},{"$f":"IF(H186-H183=-1,3+H185)+IF(H186-H183=0,2+H185)+IF(H186-H183=1,1+H185)+IF(H186-H183=2,H185)+IF(H186-H183=3,IF(H185-1>0,H185-1,0))+IF(H186-H183=4,IF(H185-2>0,H185-2,0))","v":0},0,0,0,0,0,0,0,{"$f":"SUM(G187:O187)","v":0},{"$f":"IF(Q186-Q183=-1,3+Q185)+IF(Q186-Q183=0,2+Q185)+IF(Q186-Q183=1,1+Q185)+IF(Q186-Q183=2,Q185)+IF(Q186-Q183=3,IF(Q185-1>0,Q185-1,0))+IF(Q186-Q183=4,IF(Q185-2>0,Q185-2,0))","v":0},0,0,0,0,0,0,0,0,{"$f":"SUM(Q187:Y187)","v":0},{"$f":"P187+Z187","v":0}]
[null,null,null,null,null,"Score Brut",{"$f":"IF(G186-G183=-2,4)+IF(G186-G183=-1,3)+IF(G186-G183=0,2)+IF(G186-G183=1,1)+IF(G186-G183>2,0)","v":0},0,0,0,0,0,0,0,0,{"$f":"SUM(G188:O188)","v":0},{"$f":"IF(Q186-Q183=-2,4)+IF(Q186-Q183=-1,3)+IF(Q186-Q183=0,2)+IF(Q186-Q183=1,1)+IF(Q186-Q183>2,0)","v":0},0,0,0,0,0,0,0,0,{"$f":"SUM(Q188:Y188)","v":0},{"$f":"P188+Z188","v":0}]
[null,null,null,null,null,null,{"$f":"G186-G183","v":6},{"$f":"H186-H183","v":6},5,6,7,5,7,5,7,null,{"$f":"Q186-Q183","v":6},6,7,5,7,6,6,5,6]
[]
[]
[null,null,null,null,null,"Statistiques scores",null,"Eagle & moins",null,null,null,{"$f":"COUNTIF(G189:Y189,\"<=-2\")","v":0},"Par",null,{"$f":"COUNTIF(G189:Y189,\"=0\")","v":0},"Double bogey",null,null,null,null,{"$f":"COUNTIF(G189:Y189,\"=2\")","v":0}]
[null,null,null,null,null,null,null,"Birdie",null,null,null,{"$f":"COUNTIF(G189:Y189,\"=-1\")","v":0},"Bogey",null,{"$f":"COUNTIF(G189:Y189,\"=1\")","v":0},"Triple bogey & plus",null,null,null,null,{"$f":"COUNTIF(G189:Y189,\">=3\")","v":18}]
[null,null,null,null,null,null,null,{"$f":"M192","v":"Par"},null,null,null,{"$f":"O192","v":0}]
[null,null,null,null,null,null,null,{"$f":"M193","v":"Bogey"},null,null,null,{"$f":"O193","v":0}]
[null,null,null,null,null,null,null,{"$f":"P192","v":"Double bogey"},null,null,null,{"$f":"U192","v":0}]
[null,null,null,null,null,null,null,{"$f":"P193","v":"Triple bogey & plus"},null,null,null,{"$f":"U193","v":18}]
[]
[]
[]
[]
[null,null,null,null,null,"Nom",{"$f":"C14","v":0},null,null,null,null,"Slope",null,null,"SSS",null,"Coups reçus",null,null,null,null,null,null,null,null,"Date",{"$f":"$D$3","v":"00:00:00"}]
[null,null,null,null,null,"Index",{"$f":"E14","v":20},null,null,null,null,{"$f":"$F$3","v":133},null,null,{"$f":"$G$3","v":68.599999999999994},null,{"$f":"ROUND((G203*(L203/113)+(O203-AA206)),0)","v":20}]
[]
[null,null,null,null,null,"Trou",1,2,3,4,5,6,7,8,9,"Aller",10,11,12,13,14,15,16,17,18,"Retour","Total"]
[null,null,null,null,null,"PAR",{"$f":"G$7","v":4},{"$f":"H$7","v":4},5,4,3,5,3,5,3,{"$f":"SUM(G206:O206)","v":36},{"$f":"Q$7","v":4},4,3,5,3,4,4,5,4,{"$f":"SUM(Q206:Y206)","v":36},{"$f":"SUM(P206+Z206)","v":72}]
[null,null,null,null,null,"HCP trous",{"$f":"G$8","v":4},{"$f":"H$8","v":8},12,14,2,10,18,16,6,null,{"$f":"Q$8","v":1},9,11,5,17,15,3,13,7]
[null,null,null,null,null,"Coups reçus",{"$f":"IF($Q203<=18,IF(G207<=$Q203,1,0),IF($Q203<=36,IF(G207<=($Q203-18),2,1),IF($Q203>36,IF(G207<=($Q203-36),3,2))))","v":1},{"$f":"IF($Q203<=18,IF(H207<=$Q203,1,0),IF($Q203<=36,IF(H207<=($Q203-18),2,1),IF($Q203>36,IF(H207<=($Q203-36),3,2))))","v":1},1,1,2,1,1,1,1,{"$f":"SUM(G208:O208)","v":10},{"$f":"IF($Q203<=18,IF(Q207<=$Q203,1,0),IF($Q203<=36,IF(Q207<=($Q203-18),2,1),IF($Q203>36,IF(Q207<=($Q203-36),3,2))))","v":2},1,1,1,1,1,1,1,1,{"$f":"SUM(Q208:Y208)","v":10},{"$f":"P208+Z208","v":20}]
[null,null,null,null,null,"Stroke play",{"$f":"G14","v":10},10,10,10,10,10,10,10,10,{"$f":"SUM(G209:O209)","v":90},{"$f":"Q14","v":10},10,10,10,10,10,10,10,10,{"$f":"SUM(Q209:Y209)","v":90},{"$f":"P209+Z209","v":180}]
[null,null,null,null,null,"Net Stableford",{"$f":"IF(G209-G206=-1,3+G208)+IF(G209-G206=0,2+G208)+IF(G209-G206=1,1+G208)+IF(G209-G206=2,G208)+IF(G209-G206=3,IF(G208-1>0,G208-1,0))+IF(G209-G206=4,IF(G208-2>0,G208-2,0))","v":0},{"$f":"IF(H209-H206=-1,3+H208)+IF(H209-H206=0,2+H208)+IF(H209-H206=1,1+H208)+IF(H209-H206=2,H208)+IF(H209-H206=3,IF(H208-1>0,H208-1,0))+IF(H209-H206=4,IF(H208-2>0,H208-2,0))","v":0},0,0,0,0,0,0,0,{"$f":"SUM(G210:O210)","v":0},{"$f":"IF(Q209-Q206=-1,3+Q208)+IF(Q209-Q206=0,2+Q208)+IF(Q209-Q206=1,1+Q208)+IF(Q209-Q206=2,Q208)+IF(Q209-Q206=3,IF(Q208-1>0,Q208-1,0))+IF(Q209-Q206=4,IF(Q208-2>0,Q208-2,0))","v":0},0,0,0,0,0,0,0,0,{"$f":"SUM(Q210:Y210)","v":0},{"$f":"P210+Z210","v":0}]
[null,null,null,null,null,"Score Brut",{"$f":"IF(G209-G206=-2,4)+IF(G209-G206=-1,3)+IF(G209-G206=0,2)+IF(G209-G206=1,1)+IF(G209-G206>2,0)","v":0},0,0,0,0,0,0,0,0,{"$f":"SUM(G211:O211)","v":0},{"$f":"IF(Q209-Q206=-2,4)+IF(Q209-Q206=-1,3)+IF(Q209-Q206=0,2)+IF(Q209-Q206=1,1)+IF(Q209-Q206>2,0)","v":0},0,0,0,0,0,0,0,0,{"$f":"SUM(Q211:Y211)","v":0},{"$f":"P211+Z211","v":0}]
[null,null,null,null,null,null,{"$f":"G209-G206","v":6},{"$f":"H209-H206","v":6},5,6,7,5,7,5,7,null,{"$f":"Q209-Q206","v":6},6,7,5,7,6,6,5,6]
[]
[]
[null,null,null,null,null,"Statistiques scores",null,"Eagle & moins",null,null,null,{"$f":"COUNTIF(G212:Y212,\"<=-2\")","v":0},"Par",null,{"$f":"COUNTIF(G212:Y212,\"=0\")","v":0},"Double bogey",null,null,null,null,{"$f":"COUNTIF(G212:Y212,\"=2\")","v":0}]
[null,null,null,null,null,null,null,"Birdie",null,null,null,{"$f":"COUNTIF(G212:Y212,\"=-1\")","v":0},"Bogey",null,{"$f":"COUNTIF(G212:Y212,\"=1\")","v":0},"Triple bogey & plus",null,null,null,null,{"$f":"COUNTIF(G212:Y212,\">=3\")","v":18}]
[null,null,null,null,null,null,null,{"$f":"M215","v":"Par"},null,null,null,{"$f":"O215","v":0}]
[null,null,null,null,null,null,null,{"$f":"M216","v":"Bogey"},null,null,null,{"$f":"O216","v":0}]
[null,null,null,null,null,null,null,{"$f":"P215","v":"Double bogey"},null,null,null,{"$f":"U215","v":0}]
[null,null,null,null,null,null,null,{"$f":"P216","v":"Triple bogey & plus"},null,null,null,{"$f":"U216","v":18}]
[]
[]
[]
[]
[null,null,null,null,null,"Nom",{"$f":"C15","v":0},null,null,null,null,"Slope",null,null,"SSS",null,"Coups reçus",null,null,null,null,null,null,null,null,"Date",{"$f":"$D$3","v":"00:00:00"}]
[null,null,null,null,null,"Index",{"$f":"E15","v":20},null,null,null,null,{"$f":"$F$3","v":133},null,null,{"$f":"$G$3","v":68.599999999999994},null,{"$f":"ROUND((G226*(L226/113)+(O226-AA229)),0)","v":20}]
[]
[null,null,null,null,null,"Trou",1,2,3,4,5,6,7,8,9,"Aller",10,11,12,13,14,15,16,17,18,"Retour","Total"]
[null,null,null,null,null,"PAR",{"$f":"G$7","v":4},{"$f":"H$7","v":4},5,4,3,5,3,5,3,{"$f":"SUM(G229:O229)","v":36},{"$f":"Q$7","v":4},4,3,5,3,4,4,5,4,{"$f":"SUM(Q229:Y229)","v":36},{"$f":"SUM(P229+Z229)","v":72}]
[null,null,null,null,null,"HCP trous",{"$f":"G$8","v":4},{"$f":"H$8","v":8},12,14,2,10,18,16,6,null,{"$f":"Q$8","v":1},9,11,5,17,15,3,13,7]
[null,null,null,null,null,"Coups reçus",{"$f":"IF($Q226<=18,IF(G230<=$Q226,1,0),IF($Q226<=36,IF(G230<=($Q226-18),2,1),IF($Q226>36,IF(G230<=($Q226-36),3,2))))","v":1},{"$f":"IF($Q226<=18,IF(H230<=$Q226,1,0),IF($Q226<=36,IF(H230<=($Q226-18),2,1),IF($Q226>36,IF(H230<=($Q226-36),3,2))))","v":1},1,1,2,1,1,1,1,{"$f":"SUM(G231:O231)","v":10},{"$f":"IF($Q226<=18,IF(Q230<=$Q226,1,0),IF($Q226<=36,IF(Q230<=($Q226-18),2,1),IF($Q226>36,IF(Q230<=($Q226-36),3,2))))","v":2},1,1,1,1,1,1,1,1,{"$f":"SUM(Q231:Y231)","v":10},{"$f":"P231+Z231","v":20}]
[null,null,null,null,null,"Stroke play",{"$f":"G15","v":10},10,10,10,10,10,10,10,10,{"$f":"SUM(G232:O232)","v":90},{"$f":"Q15","v":10},10,10,10,10,10,10,10,10,{"$f":"SUM(Q232:Y232)","v":90},{"$f":"P232+Z232","v":180}]
[null,null,null,null,null,"Net Stableford",{"$f":"IF(G232-G229=-1,3+G231)+IF(G232-G229=0,2+G231)+IF(G232-G229=1,1+G231)+IF(G232-G229=2,G231)+IF(G232-G229=3,IF(G231-1>0,G231-1,0))+IF(G232-G229=4,IF(G231-2>0,G231-2,0))","v":0},{"$f":"IF(H232-H229=-1,3+H231)+IF(H232-H229=0,2+H231)+IF(H232-H229=1,1+H231)+IF(H232-H229=2,H231)+IF(H232-H229=3,IF(H231-1>0,H231-1,0))+IF(H232-H229=4,IF(H231-2>0,H231-2,0))","v":0},0,0,0,0,0,0,0,{"$f":"SUM(G233:O233)","v":0},{"$f":"IF(Q232-Q229=-1,3+Q231)+IF(Q232-Q229=0,2+Q231)+IF(Q232-Q229=1,1+Q231)+IF(Q232-Q229=2,Q231)+IF(Q232-Q229=3,IF(Q231-1>0,Q231-1,0))+IF(Q232-Q229=4,IF(Q231-2>0,Q231-2,0))","v":0},0,0,0,0,0,0,0,0,{"$f":"SUM(Q233:Y233)","v":0},{"$f":"P233+Z233","v":0}]
[null,null,null,null,null,"Score Brut",{"$f":"IF(G232-G229=-2,4)+IF(G232-G229=-1,3)+IF(G232-G229=0,2)+IF(G232-G229=1,1)+IF(G232-G229>2,0)","v":0},0,0,0,0,0,0,0,0,{"$f":"SUM(G234:O234)","v":0},{"$f":"IF(Q232-Q229=-2,4)+IF(Q232-Q229=-1,3)+IF(Q232-Q229=0,2)+IF(Q232-Q229=1,1)+IF(Q232-Q229>2,0)","v":0},0,0,0,0,0,0,0,0,{"$f":"SUM(Q234:Y234)","v":0},{"$f":"P234+Z234","v":0}]
[null,null,null,null,null,null,{"$f":"G232-G229","v":6},{"$f":"H232-H229","v":6},5,6,7,5,7,5,7,null,{"$f":"Q232-Q229","v":6},6,7,5,7,6,6,5,6]
[]
[]
[null,null,null,null,null,"Statistiques scores",null,"Eagle & moins",null,null,null,{"$f":"COUNTIF(G235:Y235,\"<=-2\")","v":0},"Par",null,{"$f":"COUNTIF(G235:Y235,\"=0\")","v":0},"Double bogey",null,null,null,null,{"$f":"COUNTIF(G235:Y235,\"=2\")","v":0}]
[null,null,null,null,null,null,null,"Birdie",null,null,null,{"$f":"COUNTIF(G235:Y235,\"=-1\")","v":0},"Bogey",null,{"$f":"COUNTIF(G235:Y235,\"=1\")","v":0},"Triple bogey & plus",null,null,null,null,{"$f":"COUNTIF(G235:Y235,\">=3\")","v":18}]
[null,null,null,null,null,null,null,{"$f":"M238","v":"Par"},null,null,null,{"$f":"O238","v":0}]
[null,null,null,null,null,null,null,{"$f":"M239","v":"Bogey"},null,null,null,{"$f":"O239","v":0}]
[null,null,null,null,null,null,null,{"$f":"P238","v":"Double bogey"},null,null,null,{"$f":"U238","v":0}]
[null,null,null,null,null,null,null,{"$f":"P239","v":"Triple bogey & plus"},null,null,null,{"$f":"U239","v":18}]
[]
[]
[]
[]
[null,null,null,null,null,"Nom",{"$f":"C16","v":0},null,null,null,null,"Slope",null,null,"SSS",null,"Coups reçus",null,null,null,null,null,null,null,null,"Date",{"$f":"$D$3","v":"00:00:00"}]
[null,null,null,null,null,"Index",{"$f":"E16","v":20},null,null,null,null,{"$f":"$F$3","v":133},null,null,{"$f":"$G$3","v":68.599999999999994},null,{"$f":"ROUND((G249*(L249/113)+(O249-AA252)),0)","v":20}]
[]
[null,null,null,null,null,"Trou",1,2,3,4,5,6,7,8,9,"Aller",10,11,12,13,14,15,16,17,18,"Retour","Total"]
[null,null,null,null,null,"PAR",{"$f":"G$7","v":4},{"$f":"H$7","v":4},5,4,3,5,3,5,3,{"$f":"SUM(G252:O252)","v":36},{"$f":"Q$7","v":4},4,3,5,3,4,4,5,4,{"$f":"SUM(Q252:Y252)","v":36},{"$f":"SUM(P252+Z252)","v":72}]
[null,null,null,null,null,"HCP trous",{"$f":"G$8","v":4},{"$f":"H$8","v":8},12,14,2,10,18,16,6,null,{"$f":"Q$8","v":1},9,11,5,17,15,3,13,7]
[null,null,null,null,null,"Coups reçus",{"$f":"IF($Q249<=18,IF(G253<=$Q249,1,0),IF($Q249<=36,IF(G253<=($Q249-18),2,1),IF($Q249>36,IF(G253<=($Q249-36),3,2))))","v":1},{"$f":"IF($Q249<=18,IF(H253<=$Q249,1,0),IF($Q249<=36,IF(H253<=($Q249-18),2,1),IF($Q249>36,IF(H253<=($Q249-36),3,2))))","v":1},1,1,2,1,1,1,1,{"$f":"SUM(G254:O254)","v":10},{"$f":"IF($Q249<=18,IF(Q253<=$Q249,1,0),IF($Q249<=36,IF(Q253<=($Q249-18),2,1),IF($Q249>36,IF(Q253<=($Q249-36),3,2))))","v":2},1,1,1,1,1,1,1,1,{"$f":"SUM(Q254:Y254)","v":10},{"$f":"P254+Z254","v":20}]
[null,null,null,null,null,"Stroke play",{"$f":"G16","v":10},10,10,10,10,10,10,10,10,{"$f":"SUM(G255:O255)","v":90},{"$f":"Q16","v":10},10,10,10,10,10,10,10,10,{"$f":"SUM(Q255:Y255)","v":90},{"$f":"P255+Z255","v":180}]
[null,null,null,null,null,"Net Stableford",{"$f":"IF(G255-G252=-1,3+G254)+IF(G255-G252=0,2+G254)+IF(G255-G252=1,1+G254)+IF(G255-G252=2,G254)+IF(G255-G252=3,IF(G254-1>0,G254-1,0))+IF(G255-G252=4,IF(G254-2>0,G254-2,0))","v":0},{"$f":"IF(H255-H252=-1,3+H254)+IF(H255-H252=0,2+H254)+IF(H255-H252=1,1+H254)+IF(H255-H252=2,H254)+IF(H255-H252=3,IF(H254-1>0,H254-1,0))+IF(H255-H252=4,IF(H254-2>0,H254-2,0))","v":0},0,0,0,0,0,0,0,{"$f":"SUM(G256:O256)","v":0},{"$f":"IF(Q255-Q252=-1,3+Q254)+IF(Q255-Q252=0,2+Q254)+IF(Q255-Q252=1,1+Q254)+IF(Q255-Q252=2,Q254)+IF(Q255-Q252=3,IF(Q254-1>0,Q254-1,0))+IF(Q255-Q252=4,IF(Q254-2>0,Q254-2,0))","v":0},0,0,0,0,0,0,0,0,{"$f":"SUM(Q256:Y256)","v":0},{"$f":"P256+Z256","v":0}]
[null,null,null,null,null,"Score Brut",{"$f":"IF(G255-G252=-2,4)+IF(G255-G252=-1,3)+IF(G255-G252=0,2)+IF(G255-G252=1,1)+IF(G255-G252>2,0)","v":0},0,0,0,0,0,0,0,0,{"$f":"SUM(G257:O257)","v":0},{"$f":"IF(Q255-Q252=-2,4)+IF(Q255-Q252=-1,3)+IF(Q255-Q252=0,2)+IF(Q255-Q252=1,1)+IF(Q255-Q252>2,0)","v":0},0,0,0,0,0,0,0,0,{"$f":"SUM(Q257:Y257)","v":0},{"$f":"P257+Z257","v":0}]
[null,null,null,null,null,null,{"$f":"G255-G252","v":6},{"$f":"H255-H252","v":6},5,6,7,5,7,5,7,null,{"$f":"Q255-Q252","v":6},6,7,5,7,6,6,5,6]
[]
[]
[null,null,null,null,null,"Statistiques scores",null,"Eagle & moins",null,null,null,{"$f":"COUNTIF(G258:Y258,\"<=-2\")","v":0},"Par",null,{"$f":"COUNTIF(G258:Y258,\"=0\")","v":0},"Double bogey",null,null,null,null,{"$f":"COUNTIF(G258:Y258,\"=2\")","v":0}]
[null,null,null,null,null,null,null,"Birdie",null,null,null,{"$f":"COUNTIF(G258:Y258,\"=-1\")","v":0},"Bogey",null,{"$f":"COUNTIF(G258:Y258,\"=1\")","v":0},"Triple bogey & plus",null,null,null,null,{"$f":"COUNTIF(G258:Y258,\">=3\")","v":18}]
[null,null,null,null,null,null,null,{"$f":"M261","v":"Par"},null,null,null,{"$f":"O261","v":0}]
[null,null,null,null,null,null,null,{"$f":"M262","v":"Bogey"},null,null,null,{"$f":"O262","v":0}]
[null,null,null,null,null,null,null,{"$f":"P261","v":"Double bogey"},null,null,null,{"$f":"U261","v":0}]
[null,null,null,null,null,null,null,{"$f":"P262","v":"Triple bogey & plus"},null,null,null,{"$f":"U262","v":18}]
[]
[]
[]
[]
[null,null,null,null,null,"Nom",{"$f":"C17","v":0},null,null,null,null,"Slope",null,null,"SSS",null,"Coups reçus",null,null,null,null,null,null,null,null,"Date",{"$f":"$D$3","v":"00:00:00"}]
[null,null,null,null,null,"Index",{"$f":"E17","v":20},null,null,null,null,{"$f":"$F$3","v":133},null,null,{"$f":"$G$3","v":68.599999999999994},null,{"$f":"ROUND((G272*(L272/113)+(O272-AA275)),0)","v":20}]
[]
[null,null,null,null,null,"Trou",1,2,3,4,5,6,7,8,9,"Aller",10,11,12,13,14,15,16,17,18,"Retour","Total"]
[null,null,null,null,null,"PAR",{"$f":"G$7","v":4},{"$f":"H$7","v":4},5,4,3,5,3,5,3,{"$f":"SUM(G275:O275)","v":36},{"$f":"Q$7","v":4},4,3,5,3,4,4,5,4,{"$f":"SUM(Q275:Y275)","v":36},{"$f":"SUM(P275+Z275)","v":72}]
[null,null,null,null,null,"HCP trous",{"$f":"G$8","v":4},{"$f":"H$8","v":8},12,14,2,10,18,16,6,null,{"$f":"Q$8","v":1},9,11,5,17,15,3,13,7]
[null,null,null,null,null,"Coups reçus",{"$f":"IF($Q272<=18,IF(G276<=$Q272,1,0),IF($Q272<=36,IF(G276<=($Q272-18),2,1),IF($Q272>36,IF(G276<=($Q272-36),3,2))))","v":1},{"$f":"IF($Q272<=18,IF(H276<=$Q272,1,0),IF($Q272<=36,IF(H276<=($Q272-18),2,1),IF($Q272>36,IF(H276<=($Q272-36),3,2))))","v":1},1,1,2,1,1,1,1,{"$f":"SUM(G277:O277)","v":10},{"$f":"IF($Q272<=18,IF(Q276<=$Q272,1,0),IF($Q272<=36,IF(Q276<=($Q272-18),2,1),IF($Q272>36,IF(Q276<=($Q272-36),3,2))))","v":2},1,1,1,1,1,1,1,1,{"$f":"SUM(Q277:Y277)","v":10},{"$f":"P277+Z277","v":20}]
[null,null,null,null,null,"Stroke play",{"$f":"G17","v":10},10,10,10,10,10,10,10,10,{"$f":"SUM(G278:O278)","v":90},{"$f":"Q17","v":10},10,10,10,10,10,10,10,10,{"$f":"SUM(Q278:Y278)","v":90},{"$f":"P278+Z278","v":180}]
[null,null,null,null,null,"Net Stableford",{"$f":"IF(G278-G275=-1,3+G277)+IF(G278-G275=0,2+G277)+IF(G278-G275=1,1+G277)+IF(G278-G275=2,G277)+IF(G278-G275=3,IF(G277-1>0,G277-1,0))+IF(G278-G275=4,IF(G277-2>0,G277-2,0))","v":0},{"$f":"IF(H278-H275=-1,3+H277)+IF(H278-H275=0,2+H277)+IF(H278-H275=1,1+H277)+IF(H278-H275=2,H277)+IF(H278-H275=3,IF(H277-1>0,H277-1,0))+IF(H278-H275=4,IF(H277-2>0,H277-2,0))","v":0},0,0,0,0,0,0,0,{"$f":"SUM(G279:O279)","v":0},{"$f":"IF(Q278-Q275=-1,3+Q277)+IF(Q278-Q275=0,2+Q277)+IF(Q278-Q275=1,1+Q277)+IF(Q278-Q275=2,Q277)+IF(Q278-Q275=3,IF(Q277-1>0,Q277-1,0))+IF(Q278-Q275=4,IF(Q277-2>0,Q277-2,0))","v":0},0,0,0,0,0,0,0,0,{"$f":"SUM(Q279:Y279)","v":0},{"$f":"P279+Z279","v":0}]
[null,null,null,null,null,"Score Brut",{"$f":"IF(G278-G275=-2,4)+IF(G278-G275=-1,3)+IF(G278-G275=0,2)+IF(G278-G275=1,1)+IF(G278-G275>2,0)","v":0},0,0,0,0,0,0,0,0,{"$f":"SUM(G280:O280)","v":0},{"$f":"IF(Q278-Q275=-2,4)+IF(Q278-Q275=-1,3)+IF(Q278-Q275=0,2)+IF(Q278-Q275=1,1)+IF(Q278-Q275>2,0)","v":0},0,0,0,0,0,0,0,0,{"$f":"SUM(Q280:Y280)","v":0},{"$f":"P280+Z280","v":0}]
[null,null,null,null,null,null,{"$f":"G278-G275","v":6},{"$f":"H278-H275","v":6},5,6,7,5,7,5,7,null,{"$f":"Q278-Q275","v":6},6,7,5,7,6,6,5,6]
[]
[]
[null,null,null,null,null,"Statistiques scores",null,"Eagle & moins",null,null,null,{"$f":"COUNTIF(G281:Y281,\"<=-2\")","v":0},"Par",null,{"$f":"COUNTIF(G281:Y281,\"=0\")","v":0},"Double bogey",null,null,null,null,{"$f":"COUNTIF(G281:Y281,\"=2\")","v":0}]
[null,null,null,null,null,null,null,"Birdie",null,null,null,{"$f":"COUNTIF(G281:Y281,\"=-1\")","v":0},"Bogey",null,{"$f":"COUNTIF(G281:Y281,\"=1\")","v":0},"Triple bogey & plus",null,null,null,null,{"$f":"COUNTIF(G281:Y281,\">=3\")","v":18}]
[null,null,null,null,null,null,null,{"$f":"M284","v":"Par"},null,null,null,{"$f":"O284","v":0}]
[null,null,null,null,null,null,null,{"$f":"M285","v":"Bogey"},null,null,null,{"$f":"O285","v":0}]
[null,null,null,null,null,null,null,{"$f":"P284","v":"Double bogey"},null,null,null,{"$f":"U284","v":0}]
[null,null,null,null,null,null,null,{"$f":"P285","v":"Triple bogey & plus"},null,null,null,{"$f":"U285","v":18}]
[]
[]
[]
[]
[null,null,null,null,null,"Nom",{"$f":"C18","v":0},null,null,null,null,"Slope",null,null,"SSS",null,"Coups reçus",null,null,null,null,null,null,null,null,"Date",{"$f":"$D$3","v":"00:00:00"}]
[null,null,null,null,null,"Index",{"$f":"E18","v":20},null,null,null,null,{"$f":"$F$3","v":133},null,null,{"$f":"$G$3","v":68.599999999999994},null,{"$f":"ROUND((G295*(L295/113)+(O295-AA298)),0)","v":20}]
[]
[null,null,null,null,null,"Trou",1,2,3,4,5,6,7,8,9,"Aller",10,11,12,13,14,15,16,17,18,"Retour","Total"]
[null,null,null,null,null,"PAR",{"$f":"G$7","v":4},{"$f":"H$7","v":4},5,4,3,5,3,5,3,{"$f":"SUM(G298:O298)","v":36},{"$f":"Q$7","v":4},4,3,5,3,4,4,5,4,{"$f":"SUM(Q298:Y298)","v":36},{"$f":"SUM(P298+Z298)","v":72}]
[null,null,null,null,null,"HCP trous",{"$f":"G$8","v":4},{"$f":"H$8","v":8},12,14,2,10,18,16,6,null,{"$f":"Q$8","v":1},9,11,5,17,15,3,13,7]
[null,null,null,null,null,"Coups reçus",{"$f":"IF($Q295<=18,IF(G299<=$Q295,1,0),IF($Q295<=36,IF(G299<=($Q295-18),2,1),IF($Q295>36,IF(G299<=($Q295-36),3,2))))","v":1},{"$f":"IF($Q295<=18,IF(H299<=$Q295,1,0),IF($Q295<=36,IF(H299<=($Q295-18),2,1),IF($Q295>36,IF(H299<=($Q295-36),3,2))))","v":1},1,1,2,1,1,1,1,{"$f":"SUM(G300:O300)","v":10},{"$f":"IF($Q295<=18,IF(Q299<=$Q295,1,0),IF($Q295<=36,IF(Q299<=($Q295-18),2,1),IF($Q295>36,IF(Q299<=($Q295-36),3,2))))","v":2},1,1,1,1,1,1,1,1,{"$f":"SUM(Q300:Y300)","v":10},{"$f":"P300+Z300","v":20}]
[null,null,null,null,null,"Stroke play",{"$f":"G18","v":10},10,10,10,10,10,10,10,10,{"$f":"SUM(G301:O301)","v":90},{"$f":"Q18","v":10},10,10,10,10,10,10,10,10,{"$f":"SUM(Q301:Y301)","v":90},{"$f":"P301+Z301","v":180}]
[null,null,null,null,null,"Net Stableford",{"$f":"IF(G301-G298=-1,3+G300)+IF(G301-G298=0,2+G300)+IF(G301-G298=1,1+G300)+IF(G301-G298=2,G300)+IF(G301-G298=3,IF(G300-1>0,G300-1,0))+IF(G301-G298=4,IF(G300-2>0,G300-2,0))","v":0},{"$f":"IF(H301-H298=-1,3+H300)+IF(H301-H298=0,2+H300)+IF(H301-H298=1,1+H300)+IF(H301-H298=2,H300)+IF(H301-H298=3,IF(H300-1>0,H300-1,0))+IF(H301-H298=4,IF(H300-2>0,H300-2,0))","v":0},0,0,0,0,0,0,0,{"$f":"SUM(G302:O302)","v":0},{"$f":"IF(Q301-Q298=-1,3+Q300)+IF(Q301-Q298=0,2+Q300)+IF(Q301-Q298=1,1+Q300)+IF(Q301-Q298=2,Q300)+IF(Q301-Q298=3,IF(Q300-1>0,Q300-1,0))+IF(Q301-Q298=4,IF(Q300-2>0,Q300-2,0))","v":0},0,0,0,0,0,0,0,0,{"$f":"SUM(Q302:Y302)","v":0},{"$f":"P302+Z302","v":0}]
[null,null,null,null,null,"Score Brut",{"$f":"IF(G301-G298=-2,4)+IF(G301-G298=-1,3)+IF(G301-G298=0,2)+IF(G301-G298=1,1)+IF(G301-G298>2,0)","v":0},0,0,0,0,0,0,0,0,{"$f":"SUM(G303:O303)","v":0},{"$f":"IF(Q301-Q298=-2,4)+IF(Q301-Q298=-1,3)+IF(Q301-Q298=0,2)+IF(Q301-Q298=1,1)+IF(Q301-Q298>2,0)","v":0},0,0,0,0,0,0,0,0,{"$f":"SUM(Q303:Y303)","v":0},{"$f":"P303+Z303","v":0}]
[null,null,null,null,null,null,{"$f":"G301-G298","v":6},{"$f":"H301-H298","v":6},5,6,7,5,7,5,7,null,{"$f":"Q301-Q298","v":6},6,7,5,7,6,6,5,6]
[]
[]
[null,null,null,null,null,"Statistiques scores",null,"Eagle & moins",null,null,null,{"$f":"COUNTIF(G304:Y304,\"<=-2\")","v":0},"Par",null,{"$f":"COUNTIF(G304:Y304,\"=0\")","v":0},"Double bogey",null,null,null,null,{"$f":"COUNTIF(G304:Y304,\"=2\")","v":0}]
[null,null,null,null,null,null,null,"Birdie",null,null,null,{"$f":"COUNTIF(G304:Y304,\"=-1\")","v":0},"Bogey",null,{"$f":"COUNTIF(G304:Y304,\"=1\")","v":0},"Triple bogey & plus",null,null,null,null,{"$f":"COUNTIF(G304:Y304,\">=3\")","v":18}]
[null,null,null,null,null,null,null,{"$f":"M307","v":"Par"},null,null,null,{"$f":"O307","v":0}]
[null,null,null,null,null,null,null,{"$f":"M308","v":"Bogey"},null,null,null,{"$f":"O308","v":0}]
[null,null,null,null,null,null,null,{"$f":"P307","v":"Double bogey"},null,null,null,{"$f":"U307","v":0}]
[null,null,null,null,null,null,null,{"$f":"P308","v":"Triple bogey & plus"},null,null,null,{"$f":"U308","v":18}]
[]
[]
[]
[]
[null,null,null,null,null,"Nom",{"$f":"C19","v":0},null,null,null,null,"Slope",null,null,"SSS",null,"Coups reçus",null,null,null,null,null,null,null,null,"Date",{"$f":"$D$3","v":"00:00:00"}]
[null,null,null,null,null,"Index",{"$f":"E19","v":20},null,null,null,null,{"$f":"$F$3","v":133},null,null,{"$f":"$G$3","v":68.599999999999994},null,{"$f":"ROUND((G318*(L318/113)+(O318-AA321)),0)","v":20}]
[]
[null,null,null,null,null,"Trou",1,2,3,4,5,6,7,8,9,"Aller",10,11,12,13,14,15,16,17,18,"Retour","Total"]
[null,null,null,null,null,"PAR",{"$f":"G$7","v":4},{"$f":"H$7","v":4},5,4,3,5,3,5,3,{"$f":"SUM(G321:O321)","v":36},{"$f":"Q$7","v":4},4,3,5,3,4,4,5,4,{"$f":"SUM(Q321:Y321)","v":36},{"$f":"SUM(P321+Z321)","v":72}]
[null,null,null,null,null,"HCP trous",{"$f":"G$8","v":4},{"$f":"H$8","v":8},12,14,2,10,18,16,6,null,{"$f":"Q$8","v":1},9,11,5,17,15,3,13,7]
[null,null,null,null,null,"Coups reçus",{"$f":"IF($Q318<=18,IF(G322<=$Q318,1,0),IF($Q318<=36,IF(G322<=($Q318-18),2,1),IF($Q318>36,IF(G322<=($Q318-36),3,2))))","v":1},{"$f":"IF($Q318<=18,IF(H322<=$Q318,1,0),IF($Q318<=36,IF(H322<=($Q318-18),2,1),IF($Q318>36,IF(H322<=($Q318-36),3,2))))","v":1},1,1,2,1,1,1,1,{"$f":"SUM(G323:O323)","v":10},{"$f":"IF($Q318<=18,IF(Q322<=$Q318,1,0),IF($Q318<=36,IF(Q322<=($Q318-18),2,1),IF($Q318>36,IF(Q322<=($Q318-36),3,2))))","v":2},1,1,1,1,1,1,1,1,{"$f":"SUM(Q323:Y323)","v":10},{"$f":"P323+Z323","v":20}]
[null,null,null,null,null,"Stroke play",{"$f":"G19","v":10},10,10,10,10,10,10,10,10,{"$f":"SUM(G324:O324)","v":90},{"$f":"Q19","v":10},10,10,10,10,10,10,10,10,{"$f":"SUM(Q324:Y324)","v":90},{"$f":"P324+Z324","v":180}]
[null,null,null,null,null,"Net Stableford",{"$f":"IF(G324-G321=-1,3+G323)+IF(G324-G321=0,2+G323)+IF(G324-G321=1,1+G323)+IF(G324-G321=2,G323)+IF(G324-G321=3,IF(G323-1>0,G323-1,0))+IF(G324-G321=4,IF(G323-2>0,G323-2,0))","v":0},{"$f":"IF(H324-H321=-1,3+H323)+IF(H324-H321=0,2+H323)+IF(H324-H321=1,1+H323)+IF(H324-H321=2,H323)+IF(H324-H321=3,IF(H323-1>0,H323-1,0))+IF(H324-H321=4,IF(H323-2>0,H323-2,0))","v":0},0,0,0,0,0,0,0,{"$f":"SUM(G325:O325)","v":0},{"$f":"IF(Q324-Q321=-1,3+Q323)+IF(Q324-Q321=0,2+Q323)+IF(Q324-Q321=1,1+Q323)+IF(Q324-Q321=2,Q323)+IF(Q324-Q321=3,IF(Q323-1>0,Q323-1,0))+IF(Q324-Q321=4,IF(Q323-2>0,Q323-2,0))","v":0},0,0,0,0,0,0,0,0,{"$f":"SUM(Q325:Y325)","v":0},{"$f":"P325+Z325","v":0}]
[null,null,null,null,null,"Score Brut",{"$f":"IF(G324-G321=-2,4)+IF(G324-G321=-1,3)+IF(G324-G321=0,2)+IF(G324-G321=1,1)+IF(G324-G321>2,0)","v":0},0,0,0,0,0,0,0,0,{"$f":"SUM(G326:O326)","v":0},{"$f":"IF(Q324-Q321=-2,4)+IF(Q324-Q321=-1,3)+IF(Q324-Q321=0,2)+IF(Q324-Q321=1,1)+IF(Q324-Q321>2,0)","v":0},0,0,0,0,0,0,0,0,{"$f":"SUM(Q326:Y326)","v":0},{"$f":"P326+Z326","v":0}]
[null,null,null,null,null,null,{"$f":"G324-G321","v":6},{"$f":"H324-H321","v":6},5,6,7,5,7,5,7,null,{"$f":"Q324-Q321","v":6},6,7,5,7,6,6,5,6]
[]
[]
[null,null,null,null,null,"Statistiques scores",null,"Eagle & moins",null,null,null,{"$f":"COUNTIF(G327:Y327,\"<=-2\")","v":0},"Par",null,{"$f":"COUNTIF(G327:Y327,\"=0\")","v":0},"Double bogey",null,null,null,null,{"$f":"COUNTIF(G327:Y327,\"=2\")","v":0}]
[null,null,null,null,null,null,null,"Birdie",null,null,null,{"$f":"COUNTIF(G327:Y327,\"=-1\")","v":0},"Bogey",null,{"$f":"COUNTIF(G327:Y327,\"=1\")","v":0},"Triple bogey & plus",null,null,null,null,{"$f":"COUNTIF(G327:Y327,\">=3\")","v":18}]
[null,null,null,null,null,null,null,{"$f":"M330","v":"Par"},null,null,null,{"$f":"O330","v":0}]
[null,null,null,null,null,null,null,{"$f":"M331","v":"Bogey"},null,null,null,{"$f":"O331","v":0}]
[null,null,null,null,null,null,null,{"$f":"P330","v":"Double bogey"},null,null,null,{"$f":"U330","v":0}]
[null,null,null,null,null,null,null,{"$f":"P331","v":"Triple bogey & plus"},null,null,null,{"$f":"U331","v":18}]
[]
[]
[]
[]
[null,null,null,null,null,"Nom",{"$f":"C20","v":0},null,null,null,null,"Slope",null,null,"SSS",null,"Coups reçus",null,null,null,null,null,null,null,null,"Date",{"$f":"$D$3","v":"00:00:00"}]
[null,null,null,null,null,"Index",{"$f":"E20","v":20},null,null,null,null,{"$f":"$F$3","v":133},null,null,{"$f":"$G$3","v":68.599999999999994},null,{"$f":"ROUND((G341*(L341/113)+(O341-AA344)),0)","v":20}]
[]
[null,null,null,null,null,"Trou",1,2,3,4,5,6,7,8,9,"Aller",10,11,12,13,14,15,16,17,18,"Retour","Total"]
[null,null,null,null,null,"PAR",{"$f":"G$7","v":4},{"$f":"H$7","v":4},5,4,3,5,3,5,3,{"$f":"SUM(G344:O344)","v":36},{"$f":"Q$7","v":4},4,3,5,3,4,4,5,4,{"$f":"SUM(Q344:Y344)","v":36},{"$f":"SUM(P344+Z344)","v":72}]
[null,null,null,null,null,"HCP trous",{"$f":"G$8","v":4},{"$f":"H$8","v":8},12,14,2,10,18,16,6,null,{"$f":"Q$8","v":1},9,11,5,17,15,3,13,7]
[null,null,null,null,null,"Coups reçus",{"$f":"IF($Q341<=18,IF(G345<=$Q341,1,0),IF($Q341<=36,IF(G345<=($Q341-18),2,1),IF($Q341>36,IF(G345<=($Q341-36),3,2))))","v":1},{"$f":"IF($Q341<=18,IF(H345<=$Q341,1,0),IF($Q341<=36,IF(H345<=($Q341-18),2,1),IF($Q341>36,IF(H345<=($Q341-36),3,2))))","v":1},1,1,2,1,1,1,1,{"$f":"SUM(G346:O346)","v":10},{"$f":"IF($Q341<=18,IF(Q345<=$Q341,1,0),IF($Q341<=36,IF(Q345<=($Q341-18),2,1),IF($Q341>36,IF(Q345<=($Q341-36),3,2))))","v":2},1,1,1,1,1,1,1,1,{"$f":"SUM(Q346:Y346)","v":10},{"$f":"P346+Z346","v":20}]
[null,null,null,null,null,"Stroke play",{"$f":"G20","v":10},10,10,10,10,10,10,10,10,{"$f":"SUM(G347:O347)","v":90},{"$f":"Q20","v":10},10,10,10,10,10,10,10,10,{"$f":"SUM(Q347:Y347)","v":90},{"$f":"P347+Z347","v":180}]
[null,null,null,null,null,"Net Stableford",{"$f":"IF(G347-G344=-1,3+G346)+IF(G347-G344=0,2+G346)+IF(G347-G344=1,1+G346)+IF(G347-G344=2,G346)+IF(G347-G344=3,IF(G346-1>0,G346-1,0))+IF(G347-G344=4,IF(G346-2>0,G346-2,0))","v":0},{"$f":"IF(H347-H344=-1,3+H346)+IF(H347-H344=0,2+H346)+IF(H347-H344=1,1+H346)+IF(H347-H344=2,H346)+IF(H347-H344=3,IF(H346-1>0,H346-1,0))+IF(H347-H344=4,IF(H346-2>0,H346-2,0))","v":0},0,0,0,0,0,0,0,{"$f":"SUM(G348:O348)","v":0},{"$f":"IF(Q347-Q344=-1,3+Q346)+IF(Q347-Q344=0,2+Q346)+IF(Q347-Q344=1,1+Q346)+IF(Q347-Q344=2,Q346)+IF(Q347-Q344=3,IF(Q346-1>0,Q346-1,0))+IF(Q347-Q344=4,IF(Q346-2>0,Q346-2,0))","v":0},0,0,0,0,0,0,0,0,{"$f":"SUM(Q348:Y348)","v":0},{"$f":"P348+Z348","v":0}]
[null,null,null,null,null,"Score Brut",{"$f":"IF(G347-G344=-2,4)+IF(G347-G344=-1,3)+IF(G347-G344=0,2)+IF(G347-G344=1,1)+IF(G347-G344>2,0)","v":0},0,0,0,0,0,0,0,0,{"$f":"SUM(G349:O349)","v":0},{"$f":"IF(Q347-Q344=-2,4)+IF(Q347-Q344=-1,3)+IF(Q347-Q344=0,2)+IF(Q347-Q344=1,1)+IF(Q347-Q344>2,0)","v":0},0,0,0,0,0,0,0,0,{"$f":"SUM(Q349:Y349)","v":0},{"$f":"P349+Z349","v":0}]
[null,null,null,null,null,null,{"$f":"G347-G344","v":6},{"$f":"H347-H344","v":6},5,6,7,5,7,5,7,null,{"$f":"Q347-Q344","v":6},6,7,5,7,6,6,5,6]
[]
[]
[null,null,null,null,null,"Statistiques scores",null,"Eagle & moins",null,null,null,{"$f":"COUNTIF(G350:Y350,\"<=-2\")","v":0},"Par",null,{"$f":"COUNTIF(G350:Y350,\"=0\")","v":0},"Double bogey",null,null,null,null,{"$f":"COUNTIF(G350:Y350,\"=2\")","v":0}]
[null,null,null,null,null,null,null,"Birdie",null,null,null,{"$f":"COUNTIF(G350:Y350,\"=-1\")","v":0},"Bogey",null,{"$f":"COUNTIF(G350:Y350,\"=1\")","v":0},"Triple bogey & plus",null,null,null,null,{"$f":"COUNTIF(G350:Y350,\">=3\")","v":18}]
[null,null,null,null,null,null,null,{"$f":"M353","v":"Par"},null,null,null,{"$f":"O353","v":0}]
[null,null,null,null,null,null,null,{"$f":"M354","v":"Bogey"},null,null,null,{"$f":"O354","v":0}]
[null,null,null,null,null,null,null,{"$f":"P353","v":"Double bogey"},null,null,null,{"$f":"U353","v":0}]
[null,null,null,null,null,null,null,{"$f":"P354","v":"Triple bogey & plus"},null,null,null,{"$f":"U354","v":18}]
[]
[]
[]
[]
[null,null,null,null,null,"Nom",{"$f":"C21","v":0},null,null,null,null,"Slope",null,null,"SSS",null,"Coups reçus",null,null,null,null,null,null,null,null,"Date",{"$f":"$D$3","v":"00:00:00"}]
[null,null,null,null,null,"Index",{"$f":"E21","v":20},null,null,null,null,{"$f":"$F$3","v":133},null,null,{"$f":"$G$3","v":68.599999999999994},null,{"$f":"ROUND((G364*(L364/113)+(O364-AA367)),0)","v":20}]
[]
[null,null,null,null,null,"Trou",1,2,3,4,5,6,7,8,9,"Aller",10,11,12,13,14,15,16,17,18,"Retour","Total"]
[null,null,null,null,null,"PAR",{"$f":"G$7","v":4},{"$f":"H$7","v":4},5,4,3,5,3,5,3,{"$f":"SUM(G367:O367)","v":36},{"$f":"Q$7","v":4},4,3,5,3,4,4,5,4,{"$f":"SUM(Q367:Y367)","v":36},{"$f":"SUM(P367+Z367)","v":72}]
[null,null,null,null,null,"HCP trous",{"$f":"G$8","v":4},{"$f":"H$8","v":8},12,14,2,10,18,16,6,null,{"$f":"Q$8","v":1},9,11,5,17,15,3,13,7]
[null,null,null,null,null,"Coups reçus",{"$f":"IF($Q364<=18,IF(G368<=$Q364,1,0),IF($Q364<=36,IF(G368<=($Q364-18),2,1),IF($Q364>36,IF(G368<=($Q364-36),3,2))))","v":1},{"$f":"IF($Q364<=18,IF(H368<=$Q364,1,0),IF($Q364<=36,IF(H368<=($Q364-18),2,1),IF($Q364>36,IF(H368<=($Q364-36),3,2))))","v":1},1,1,2,1,1,1,1,{"$f":"SUM(G369:O369)","v":10},{"$f":"IF($Q364<=18,IF(Q368<=$Q364,1,0),IF($Q364<=36,IF(Q368<=($Q364-18),2,1),IF($Q364>36,IF(Q368<=($Q364-36),3,2))))","v":2},1,1,1,1,1,1,1,1,{"$f":"SUM(Q369:Y369)","v":10},{"$f":"P369+Z369","v":20}]
[null,null,null,null,null,"Stroke play",{"$f":"G21","v":10},10,10,10,10,10,10,10,10,{"$f":"SUM(G370:O370)","v":90},{"$f":"Q21","v":10},10,10,10,10,10,10,10,10,{"$f":"SUM(Q370:Y370)","v":90},{"$f":"P370+Z370","v":180}]
[null,null,null,null,null,"Net Stableford",{"$f":"IF(G370-G367=-1,3+G369)+IF(G370-G367=0,2+G369)+IF(G370-G367=1,1+G369)+IF(G370-G367=2,G369)+IF(G370-G367=3,IF(G369-1>0,G369-1,0))+IF(G370-G367=4,IF(G369-2>0,G369-2,0))","v":0},{"$f":"IF(H370-H367=-1,3+H369)+IF(H370-H367=0,2+H369)+IF(H370-H367=1,1+H369)+IF(H370-H367=2,H369)+IF(H370-H367=3,IF(H369-1>0,H369-1,0))+IF(H370-H367=4,IF(H369-2>0,H369-2,0))","v":0},0,0,0,0,0,0,0,{"$f":"SUM(G371:O371)","v":0},{"$f":"IF(Q370-Q367=-1,3+Q369)+IF(Q370-Q367=0,2+Q369)+IF(Q370-Q367=1,1+Q369)+IF(Q370-Q367=2,Q369)+IF(Q370-Q367=3,IF(Q369-1>0,Q369-1,0))+IF(Q370-Q367=4,IF(Q369-2>0,Q369-2,0))","v":0},0,0,0,0,0,0,0,0,{"$f":"SUM(Q371:Y371)","v":0},{"$f":"P371+Z371","v":0}]
[null,null,null,null,null,"Score Brut",{"$f":"IF(G370-G367=-2,4)+IF(G370-G367=-1,3)+IF(G370-G367=0,2)+IF(G370-G367=1,1)+IF(G370-G367>2,0)","v":0},0,0,0,0,0,0,0,0,{"$f":"SUM(G372:O372)","v":0},{"$f":"IF(Q370-Q367=-2,4)+IF(Q370-Q367=-1,3)+IF(Q370-Q367=0,2)+IF(Q370-Q367=1,1)+IF(Q370-Q367>2,0)","v":0},0,0,0,0,0,0,0,0,{"$f":"SUM(Q372:Y372)","v":0},{"$f":"P372+Z372","v":0}]
[null,null,null,null,null,null,{"$f":"G370-G367","v":6},{"$f":"H370-H367","v":6},5,6,7,5,7,5,7,null,{"$f":"Q370-Q367","v":6},6,7,5,7,6,6,5,6]
[]
[]
[null,null,null,null,null,"Statistiques scores",null,"Eagle & moins",null,null,null,{"$f":"COUNTIF(G373:Y373,\"<=-2\")","v":0},"Par",null,{"$f":"COUNTIF(G373:Y373,\"=0\")","v":0},"Double bogey",null,null,null,null,{"$f":"COUNTIF(G373:Y373,\"=2\")","v":0}]
[null,null,null,null,null,null,null,"Birdie",null,null,null,{"$f":"COUNTIF(G373:Y373,\"=-1\")","v":0},"Bogey",null,{"$f":"COUNTIF(G373:Y373,\"=1\")","v":0},"Triple bogey & plus",null,null,null,null,{"$f":"COUNTIF(G373:Y373,\">=3\")","v":18}]
[null,null,null,null,null,null,null,{"$f":"M376","v":"Par"},null,null,null,{"$f":"O376","v":0}]
[null,null,null,null,null,null,null,{"$f":"M377","v":"Bogey"},null,null,null,{"$f":"O377","v":0}]
[null,null,null,null,null,null,null,{"$f":"P376","v":"Double bogey"},null,null,null,{"$f":"U376","v":0}]
[null,null,null,null,null,null,null,{"$f":"P377","v":"Triple bogey & plus"},null,null,null,{"$f":"U377","v":18}]
[]
[]
[]
[]
[null,null,null,null,null,"Nom",{"$f":"C22","v":0},null,null,null,null,"Slope",null,null,"SSS",null,"Coups reçus",null,null,null,null,null,null,null,null,"Date",{"$f":"$D$3","v":"00:00:00"}]
[null,null,null,null,null,"Index",{"$f":"E22","v":20},null,null,null,null,{"$f":"$F$3","v":133},null,null,{"$f":"$G$3","v":68.599999999999994},null,{"$f":"ROUND((G387*(L387/113)+(O387-AA390)),0)","v":20}]
[]
[null,null,null,null,null,"Trou",1,2,3,4,5,6,7,8,9,"Aller",10,11,12,13,14,15,16,17,18,"Retour","Total"]
[null,null,null,null,null,"PAR",{"$f":"G$7","v":4},{"$f":"H$7","v":4},5,4,3,5,3,5,3,{"$f":"SUM(G390:O390)","v":36},{"$f":"Q$7","v":4},4,3,5,3,4,4,5,4,{"$f":"SUM(Q390:Y390)","v":36},{"$f":"SUM(P390+Z390)","v":72}]
[null,null,null,null,null,"HCP trous",{"$f":"G$8","v":4},{"$f":"H$8","v":8},12,14,2,10,18,16,6,null,{"$f":"Q$8","v":1},9,11,5,17,15,3,13,7]
[null,null,null,null,null,"Coups reçus",{"$f":"IF($Q387<=18,IF(G391<=$Q387,1,0),IF($Q387<=36,IF(G391<=($Q387-18),2,1),IF($Q387>36,IF(G391<=($Q387-36),3,2))))","v":1},{"$f":"IF($Q387<=18,IF(H391<=$Q387,1,0),IF($Q387<=36,IF(H391<=($Q387-18),2,1),IF($Q387>36,IF(H391<=($Q387-36),3,2))))","v":1},1,1,2,1,1,1,1,{"$f":"SUM(G392:O392)","v":10},{"$f":"IF($Q387<=18,IF(Q391<=$Q387,1,0),IF($Q387<=36,IF(Q391<=($Q387-18),2,1),IF($Q387>36,IF(Q391<=($Q387-36),3,2))))","v":2},1,1,1,1,1,1,1,1,{"$f":"SUM(Q392:Y392)","v":10},{"$f":"P392+Z392","v":20}]
[null,null,null,null,null,"Stroke play",{"$f":"G22","v":10},10,10,10,10,10,10,10,10,{"$f":"SUM(G393:O393)","v":90},{"$f":"Q22","v":10},10,10,10,10,10,10,10,10,{"$f":"SUM(Q393:Y393)","v":90},{"$f":"P393+Z393","v":180}]
[null,null,null,null,null,"Net Stableford",{"$f":"IF(G393-G390=-1,3+G392)+IF(G393-G390=0,2+G392)+IF(G393-G390=1,1+G392)+IF(G393-G390=2,G392)+IF(G393-G390=3,IF(G392-1>0,G392-1,0))+IF(G393-G390=4,IF(G392-2>0,G392-2,0))","v":0},{"$f":"IF(H393-H390=-1,3+H392)+IF(H393-H390=0,2+H392)+IF(H393-H390=1,1+H392)+IF(H393-H390=2,H392)+IF(H393-H390=3,IF(H392-1>0,H392-1,0))+IF(H393-H390=4,IF(H392-2>0,H392-2,0))","v":0},0,0,0,0,0,0,0,{"$f":"SUM(G394:O394)","v":0},{"$f":"IF(Q393-Q390=-1,3+Q392)+IF(Q393-Q390=0,2+Q392)+IF(Q393-Q390=1,1+Q392)+IF(Q393-Q390=2,Q392)+IF(Q393-Q390=3,IF(Q392-1>0,Q392-1,0))+IF(Q393-Q390=4,IF(Q392-2>0,Q392-2,0))","v":0},0,0,0,0,0,0,0,0,{"$f":"SUM(Q394:Y394)","v":0},{"$f":"P394+Z394","v":0}]
[null,null,null,null,null,"Score Brut",{"$f":"IF(G393-G390=-2,4)+IF(G393-G390=-1,3)+IF(G393-G390=0,2)+IF(G393-G390=1,1)+IF(G393-G390>2,0)","v":0},0,0,0,0,0,0,0,0,{"$f":"SUM(G395:O395)","v":0},{"$f":"IF(Q393-Q390=-2,4)+IF(Q393-Q390=-1,3)+IF(Q393-Q390=0,2)+IF(Q393-Q390=1,1)+IF(Q393-Q390>2,0)","v":0},0,0,0,0,0,0,0,0,{"$f":"SUM(Q395:Y395)","v":0},{"$f":"P395+Z395","v":0}]
[null,null,null,null,null,null,{"$f":"G393-G390","v":6},{"$f":"H393-H390","v":6},5,6,7,5,7,5,7,null,{"$f":"Q393-Q390","v":6},6,7,5,7,6,6,5,6]
[]
[]
[null,null,null,null,null,"Statistiques scores",null,"Eagle & moins",null,null,null,{"$f":"COUNTIF(G396:Y396,\"<=-2\")","v":0},"Par",null,{"$f":"COUNTIF(G396:Y396,\"=0\")","v":0},"Double bogey",null,null,null,null,{"$f":"COUNTIF(G396:Y396,\"=2\")","v":0}]
[null,null,null,null,null,null,null,"Birdie",null,null,null,{"$f":"COUNTIF(G396:Y396,\"=-1\")","v":0},"Bogey",null,{"$f":"COUNTIF(G396:Y396,\"=1\")","v":0},"Triple bogey & plus",null,null,null,null,{"$f":"COUNTIF(G396:Y396,\">=3\")","v":18}]
[null,null,null,null,null,null,null,{"$f":"M399","v":"Par"},null,null,null,{"$f":"O399","v":0}]
[null,null,null,null,null,null,null,{"$f":"M400","v":"Bogey"},null,null,null,{"$f":"O400","v":0}]
[null,null,null,null,null,null,null,{"$f":"P399","v":"Double bogey"},null,null,null,{"$f":"U399","v":0}]
[null,null,null,null,null,null,null,{"$f":"P400","v":"Triple bogey & plus"},null,null,null,{"$f":"U400","v":18}]
[]
[]
[]
[]
[null,null,null,null,null,"Nom",{"$f":"C23","v":0},null,null,null,null,"Slope",null,null,"SSS",null,"Coups reçus",null,null,null,null,null,null,null,null,"Date",{"$f":"$D$3","v":"00:00:00"}]
[null,null,null,null,null,"Index",{"$f":"E23","v":20},null,null,null,null,{"$f":"$F$3","v":133},null,null,{"$f":"$G$3","v":68.599999999999994},null,{"$f":"ROUND((G410*(L410/113)+(O410-AA413)),0)","v":20}]
[]
[null,null,null,null,null,"Trou",1,2,3,4,5,6,7,8,9,"Aller",10,11,12,13,14,15,16,17,18,"Retour","Total"]
[null,null,null,null,null,"PAR",{"$f":"G$7","v":4},{"$f":"H$7","v":4},5,4,3,5,3,5,3,{"$f":"SUM(G413:O413)","v":36},{"$f":"Q$7","v":4},4,3,5,3,4,4,5,4,{"$f":"SUM(Q413:Y413)","v":36},{"$f":"SUM(P413+Z413)","v":72}]
[null,null,null,null,null,"HCP trous",{"$f":"G$8","v":4},{"$f":"H$8","v":8},12,14,2,10,18,16,6,null,{"$f":"Q$8","v":1},9,11,5,17,15,3,13,7]
[null,null,null,null,null,"Coups reçus",{"$f":"IF($Q410<=18,IF(G414<=$Q410,1,0),IF($Q410<=36,IF(G414<=($Q410-18),2,1),IF($Q410>36,IF(G414<=($Q410-36),3,2))))","v":1},{"$f":"IF($Q410<=18,IF(H414<=$Q410,1,0),IF($Q410<=36,IF(H414<=($Q410-18),2,1),IF($Q410>36,IF(H414<=($Q410-36),3,2))))","v":1},1,1,2,1,1,1,1,{"$f":"SUM(G415:O415)","v":10},{"$f":"IF($Q410<=18,IF(Q414<=$Q410,1,0),IF($Q410<=36,IF(Q414<=($Q410-18),2,1),IF($Q410>36,IF(Q414<=($Q410-36),3,2))))","v":2},1,1,1,1,1,1,1,1,{"$f":"SUM(Q415:Y415)","v":10},{"$f":"P415+Z415","v":20}]
[null,null,null,null,null,"Stroke play",{"$f":"G23","v":10},10,10,10,10,10,10,10,10,{"$f":"SUM(G416:O416)","v":90},{"$f":"Q23","v":10},10,10,10,10,10,10,10,10,{"$f":"SUM(Q416:Y416)","v":90},{"$f":"P416+Z416","v":180}]
[null,null,null,null,null,"Net Stableford",{"$f":"IF(G416-G413=-1,3+G415)+IF(G416-G413=0,2+G415)+IF(G416-G413=1,1+G415)+IF(G416-G413=2,G415)+IF(G416-G413=3,IF(G415-1>0,G415-1,0))+IF(G416-G413=4,IF(G415-2>0,G415-2,0))","v":0},{"$f":"IF(H416-H413=-1,3+H415)+IF(H416-H413=0,2+H415)+IF(H416-H413=1,1+H415)+IF(H416-H413=2,H415)+IF(H416-H413=3,IF(H415-1>0,H415-1,0))+IF(H416-H413=4,IF(H415-2>0,H415-2,0))","v":0},0,0,0,0,0,0,0,{"$f":"SUM(G417:O417)","v":0},{"$f":"IF(Q416-Q413=-1,3+Q415)+IF(Q416-Q413=0,2+Q415)+IF(Q416-Q413=1,1+Q415)+IF(Q416-Q413=2,Q415)+IF(Q416-Q413=3,IF(Q415-1>0,Q415-1,0))+IF(Q416-Q413=4,IF(Q415-2>0,Q415-2,0))","v":0},0,0,0,0,0,0,0,0,{"$f":"SUM(Q417:Y417)","v":0},{"$f":"P417+Z417","v":0}]
[null,null,null,null,null,"Score Brut",{"$f":"IF(G416-G413=-2,4)+IF(G416-G413=-1,3)+IF(G416-G413=0,2)+IF(G416-G413=1,1)+IF(G416-G413>2,0)","v":0},0,0,0,0,0,0,0,0,{"$f":"SUM(G418:O418)","v":0},{"$f":"IF(Q416-Q413=-2,4)+IF(Q416-Q413=-1,3)+IF(Q416-Q413=0,2)+IF(Q416-Q413=1,1)+IF(Q416-Q413>2,0)","v":0},0,0,0,0,0,0,0,0,{"$f":"SUM(Q418:Y418)","v":0},{"$f":"P418+Z418","v":0}]
[null,null,null,null,null,null,{"$f":"G416-G413","v":6},{"$f":"H416-H413","v":6},5,6,7,5,7,5,7,null,{"$f":"Q416-Q413","v":6},6,7,5,7,6,6,5,6]
[]
[]
[null,null,null,null,null,"Statistiques scores",null,"Eagle & moins",null,null,null,{"$f":"COUNTIF(G419:Y419,\"<=-2\")","v":0},"Par",null,{"$f":"COUNTIF(G419:Y419,\"=0\")","v":0},"Double bogey",null,null,null,null,{"$f":"COUNTIF(G419:Y419,\"=2\")","v":0}]
[null,null,null,null,null,null,null,"Birdie",null,null,null,{"$f":"COUNTIF(G419:Y419,\"=-1\")","v":0},"Bogey",null,{"$f":"COUNTIF(G419:Y419,\"=1\")","v":0},"Triple bogey & plus",null,null,null,null,{"$f":"COUNTIF(G419:Y419,\">=3\")","v":18}]
[null,null,null,null,null,null,null,{"$f":"M422","v":"Par"},null,null,null,{"$f":"O422","v":0}]
[null,null,null,null,null,null,null,{"$f":"M423","v":"Bogey"},null,null,null,{"$f":"O423","v":0}]
[null,null,null,null,null,null,null,{"$f":"P422","v":"Double bogey"},null,null,null,{"$f":"U422","v":0}]
[null,null,null,null,null,null,null,{"$f":"P423","v":"Triple bogey & plus"},null,null,null,{"$f":"U423","v":18}]
[]
[]
[]
[]
[null,null,null,null,null,"Nom",{"$f":"C24","v":0},null,null,null,null,"Slope",null,null,"SSS",null,"Coups reçus",null,null,null,null,null,null,null,null,"Date",{"$f":"$D$3","v":"00:00:00"}]
[null,null,null,null,null,"Index",{"$f":"E24","v":20},null,null,null,null,{"$f":"$F$3","v":133},null,null,{"$f":"$G$3","v":68.599999999999994},null,{"$f":"ROUND((G433*(L433/113)+(O433-AA436)),0)","v":20}]
[]
[null,null,null,null,null,"Trou",1,2,3,4,5,6,7,8,9,"Aller",10,11,12,13,14,15,16,17,18,"Retour","Total"]
[null,null,null,null,null,"PAR",{"$f":"G$7","v":4},{"$f":"H$7","v":4},5,4,3,5,3,5,3,{"$f":"SUM(G436:O436)","v":36},{"$f":"Q$7","v":4},4,3,5,3,4,4,5,4,{"$f":"SUM(Q436:Y436)","v":36},{"$f":"SUM(P436+Z436)","v":72}]
[null,null,null,null,null,"HCP trous",{"$f":"G$8","v":4},{"$f":"H$8","v":8},12,14,2,10,18,16,6,null,{"$f":"Q$8","v":1},9,11,5,17,15,3,13,7]
[null,null,null,null,null,"Coups reçus",{"$f":"IF($Q433<=18,IF(G437<=$Q433,1,0),IF($Q433<=36,IF(G437<=($Q433-18),2,1),IF($Q433>36,IF(G437<=($Q433-36),3,2))))","v":1},{"$f":"IF($Q433<=18,IF(H437<=$Q433,1,0),IF($Q433<=36,IF(H437<=($Q433-18),2,1),IF($Q433>36,IF(H437<=($Q433-36),3,2))))","v":1},1,1,2,1,1,1,1,{"$f":"SUM(G438:O438)","v":10},{"$f":"IF($Q433<=18,IF(Q437<=$Q433,1,0),IF($Q433<=36,IF(Q437<=($Q433-18),2,1),IF($Q433>36,IF(Q437<=($Q433-36),3,2))))","v":2},1,1,1,1,1,1,1,1,{"$f":"SUM(Q438:Y438)","v":10},{"$f":"P438+Z438","v":20}]
[null,null,null,null,null,"Stroke play",{"$f":"G24","v":10},10,10,10,10,10,10,10,10,{"$f":"SUM(G439:O439)","v":90},{"$f":"Q24","v":10},10,10,10,10,10,10,10,10,{"$f":"SUM(Q439:Y439)","v":90},{"$f":"P439+Z439","v":180}]
[null,null,null,null,null,"Net Stableford",{"$f":"IF(G439-G436=-1,3+G438)+IF(G439-G436=0,2+G438)+IF(G439-G436=1,1+G438)+IF(G439-G436=2,G438)+IF(G439-G436=3,IF(G438-1>0,G438-1,0))+IF(G439-G436=4,IF(G438-2>0,G438-2,0))","v":0},{"$f":"IF(H439-H436=-1,3+H438)+IF(H439-H436=0,2+H438)+IF(H439-H436=1,1+H438)+IF(H439-H436=2,H438)+IF(H439-H436=3,IF(H438-1>0,H438-1,0))+IF(H439-H436=4,IF(H438-2>0,H438-2,0))","v":0},0,0,0,0,0,0,0,{"$f":"SUM(G440:O440)","v":0},{"$f":"IF(Q439-Q436=-1,3+Q438)+IF(Q439-Q436=0,2+Q438)+IF(Q439-Q436=1,1+Q438)+IF(Q439-Q436=2,Q438)+IF(Q439-Q436=3,IF(Q438-1>0,Q438-1,0))+IF(Q439-Q436=4,IF(Q438-2>0,Q438-2,0))","v":0},0,0,0,0,0,0,0,0,{"$f":"SUM(Q440:Y440)","v":0},{"$f":"P440+Z440","v":0}]
[null,null,null,null,null,"Score Brut",{"$f":"IF(G439-G436=-2,4)+IF(G439-G436=-1,3)+IF(G439-G436=0,2)+IF(G439-G436=1,1)+IF(G439-G436>2,0)","v":0},0,0,0,0,0,0,0,0,{"$f":"SUM(G441:O441)","v":0},{"$f":"IF(Q439-Q436=-2,4)+IF(Q439-Q436=-1,3)+IF(Q439-Q436=0,2)+IF(Q439-Q436=1,1)+IF(Q439-Q436>2,0)","v":0},0,0,0,0,0,0,0,0,{"$f":"SUM(Q441:Y441)","v":0},{"$f":"P441+Z441","v":0}]
[null,null,null,null,null,null,{"$f":"G439-G436","v":6},{"$f":"H439-H436","v":6},5,6,7,5,7,5,7,null,{"$f":"Q439-Q436","v":6},6,7,5,7,6,6,5,6]
[]
[]
[null,null,null,null,null,"Statistiques scores",null,"Eagle & moins",null,null,null,{"$f":"COUNTIF(G442:Y442,\"<=-2\")","v":0},"Par",null,{"$f":"COUNTIF(G442:Y442,\"=0\")","v":0},"Double bogey",null,null,null,null,{"$f":"COUNTIF(G442:Y442,\"=2\")","v":0}]
[null,null,null,null,null,null,null,"Birdie",null,null,null,{"$f":"COUNTIF(G442:Y442,\"=-1\")","v":0},"Bogey",null,{"$f":"COUNTIF(G442:Y442,\"=1\")","v":0},"Triple bogey & plus",null,null,null,null,{"$f":"COUNTIF(G442:Y442,\">=3\")","v":18}]
[null,null,null,null,null,null,null,{"$f":"M445","v":"Par"},null,null,null,{"$f":"O445","v":0}]
[null,null,null,null,null,null,null,{"$f":"M446","v":"Bogey"},null,null,null,{"$f":"O446","v":0}]
[null,null,null,null,null,null,null,{"$f":"P445","v":"Double bogey"},null,null,null,{"$f":"U445","v":0}]
[null,null,null,null,null,null,null,{"$f":"P446","v":"Triple bogey & plus"},null,null,null,{"$f":"U446","v":18}]
[]
[]
[]
[]
[null,null,null,null,null,"Nom",{"$f":"C25","v":0},null,null,null,null,"Slope",null,null,"SSS",null,"Coups reçus",null,null,null,null,null,null,null,null,"Date",{"$f":"$D$3","v":"00:00:00"}]
[null,null,null,null,null,"Index",{"$f":"E25","v":20},null,null,null,null,{"$f":"$F$3","v":133},null,null,{"$f":"$G$3","v":68.599999999999994},null,{"$f":"ROUND((G456*(L456/113)+(O456-AA459)),0)","v":20}]
[]
[null,null,null,null,null,"Trou",1,2,3,4,5,6,7,8,9,"Aller",10,11,12,13,14,15,16,17,18,"Retour","Total"]
[null,null,null,null,null,"PAR",{"$f":"G$7","v":4},{"$f":"H$7","v":4},5,4,3,5,3,5,3,{"$f":"SUM(G459:O459)","v":36},{"$f":"Q$7","v":4},4,3,5,3,4,4,5,4,{"$f":"SUM(Q459:Y459)","v":36},{"$f":"SUM(P459+Z459)","v":72}]
[null,null,null,null,null,"HCP trous",{"$f":"G$8","v":4},{"$f":"H$8","v":8},12,14,2,10,18,16,6,null,{"$f":"Q$8","v":1},9,11,5,17,15,3,13,7]
[null,null,null,null,null,"Coups reçus",{"$f":"IF($Q456<=18,IF(G460<=$Q456,1,0),IF($Q456<=36,IF(G460<=($Q456-18),2,1),IF($Q456>36,IF(G460<=($Q456-36),3,2))))","v":1},{"$f":"IF($Q456<=18,IF(H460<=$Q456,1,0),IF($Q456<=36,IF(H460<=($Q456-18),2,1),IF($Q456>36,IF(H460<=($Q456-36),3,2))))","v":1},1,1,2,1,1,1,1,{"$f":"SUM(G461:O461)","v":10},{"$f":"IF($Q456<=18,IF(Q460<=$Q456,1,0),IF($Q456<=36,IF(Q460<=($Q456-18),2,1),IF($Q456>36,IF(Q460<=($Q456-36),3,2))))","v":2},1,1,1,1,1,1,1,1,{"$f":"SUM(Q461:Y461)","v":10},{"$f":"P461+Z461","v":20}]
[null,null,null,null,null,"Stroke play",{"$f":"G25","v":10},10,10,10,10,10,10,10,10,{"$f":"SUM(G462:O462)","v":90},{"$f":"Q25","v":10},10,10,10,10,10,10,10,10,{"$f":"SUM(Q462:Y462)","v":90},{"$f":"P462+Z462","v":180}]
[null,null,null,null,null,"Net Stableford",{"$f":"IF(G462-G459=-1,3+G461)+IF(G462-G459=0,2+G461)+IF(G462-G459=1,1+G461)+IF(G462-G459=2,G461)+IF(G462-G459=3,IF(G461-1>0,G461-1,0))+IF(G462-G459=4,IF(G461-2>0,G461-2,0))","v":0},{"$f":"IF(H462-H459=-1,3+H461)+IF(H462-H459=0,2+H461)+IF(H462-H459=1,1+H461)+IF(H462-H459=2,H461)+IF(H462-H459=3,IF(H461-1>0,H461-1,0))+IF(H462-H459=4,IF(H461-2>0,H461-2,0))","v":0},0,0,0,0,0,0,0,{"$f":"SUM(G463:O463)","v":0},{"$f":"IF(Q462-Q459=-1,3+Q461)+IF(Q462-Q459=0,2+Q461)+IF(Q462-Q459=1,1+Q461)+IF(Q462-Q459=2,Q461)+IF(Q462-Q459=3,IF(Q461-1>0,Q461-1,0))+IF(Q462-Q459=4,IF(Q461-2>0,Q461-2,0))","v":0},0,0,0,0,0,0,0,0,{"$f":"SUM(Q463:Y463)","v":0},{"$f":"P463+Z463","v":0}]
[null,null,null,null,null,"Score Brut",{"$f":"IF(G462-G459=-2,4)+IF(G462-G459=-1,3)+IF(G462-G459=0,2)+IF(G462-G459=1,1)+IF(G462-G459>2,0)","v":0},0,0,0,0,0,0,0,0,{"$f":"SUM(G464:O464)","v":0},{"$f":"IF(Q462-Q459=-2,4)+IF(Q462-Q459=-1,3)+IF(Q462-Q459=0,2)+IF(Q462-Q459=1,1)+IF(Q462-Q459>2,0)","v":0},0,0,0,0,0,0,0,0,{"$f":"SUM(Q464:Y464)","v":0},{"$f":"P464+Z464","v":0}]
[null,null,null,null,null,null,{"$f":"G462-G459","v":6},{"$f":"H462-H459","v":6},5,6,7,5,7,5,7,null,{"$f":"Q462-Q459","v":6},6,7,5,7,6,6,5,6]
[]
[]
[null,null,null,null,null,"Statistiques scores",null,"Eagle & moins",null,null,null,{"$f":"COUNTIF(G465:Y465,\"<=-2\")","v":0},"Par",null,{"$f":"COUNTIF(G465:Y465,\"=0\")","v":0},"Double bogey",null,null,null,null,{"$f":"COUNTIF(G465:Y465,\"=2\")","v":0}]
[null,null,null,null,null,null,null,"Birdie",null,null,null,{"$f":"COUNTIF(G465:Y465,\"=-1\")","v":0},"Bogey",null,{"$f":"COUNTIF(G465:Y465,\"=1\")","v":0},"Triple bogey & plus",null,null,null,null,{"$f":"COUNTIF(G465:Y465,\">=3\")","v":18}]
[null,null,null,null,null,null,null,{"$f":"M468","v":"Par"},null,null,null,{"$f":"O468","v":0}]
[null,null,null,null,null,null,null,{"$f":"M469","v":"Bogey"},null,null,null,{"$f":"O469","v":0}]
[null,null,null,null,null,null,null,{"$f":"P468","v":"Double bogey"},null,null,null,{"$f":"U468","v":0}]
[null,null,null,null,null,null,null,{"$f":"P469","v":"Triple bogey & plus"},null,null,null,{"$f":"U469","v":18}]
[]
[]
[]
[]
[null,null,null,null,null,"Nom",{"$f":"C26","v":0},null,null,null,null,"Slope",null,null,"SSS",null,"Coups reçus",null,null,null,null,null,null,null,null,"Date",{"$f":"$D$3","v":"00:00:00"}]
[null,null,null,null,null,"Index",{"$f":"E26","v":20},null,null,null,null,{"$f":"$F$3","v":133},null,null,{"$f":"$G$3","v":68.599999999999994},null,{"$f":"ROUND((G479*(L479/113)+(O479-AA482)),0)","v":20}]
[]
[null,null,null,null,null,"Trou",1,2,3,4,5,6,7,8,9,"Aller",10,11,12,13,14,15,16,17,18,"Retour","Total"]
[null,null,null,null,null,"PAR",{"$f":"G$7","v":4},{"$f":"H$7","v":4},5,4,3,5,3,5,3,{"$f":"SUM(G482:O482)","v":36},{"$f":"Q$7","v":4},4,3,5,3,4,4,5,4,{"$f":"SUM(Q482:Y482)","v":36},{"$f":"SUM(P482+Z482)","v":72}]
[null,null,null,null,null,"HCP trous",{"$f":"G$8","v":4},{"$f":"H$8","v":8},12,14,2,10,18,16,6,null,{"$f":"Q$8","v":1},9,11,5,17,15,3,13,7]
[null,null,null,null,null,"Coups reçus",{"$f":"IF($Q479<=18,IF(G483<=$Q479,1,0),IF($Q479<=36,IF(G483<=($Q479-18),2,1),IF($Q479>36,IF(G483<=($Q479-36),3,2))))","v":1},{"$f":"IF($Q479<=18,IF(H483<=$Q479,1,0),IF($Q479<=36,IF(H483<=($Q479-18),2,1),IF($Q479>36,IF(H483<=($Q479-36),3,2))))","v":1},1,1,2,1,1,1,1,{"$f":"SUM(G484:O484)","v":10},{"$f":"IF($Q479<=18,IF(Q483<=$Q479,1,0),IF($Q479<=36,IF(Q483<=($Q479-18),2,1),IF($Q479>36,IF(Q483<=($Q479-36),3,2))))","v":2},1,1,1,1,1,1,1,1,{"$f":"SUM(Q484:Y484)","v":10},{"$f":"P484+Z484","v":20}]
[null,null,null,null,null,"Stroke play",{"$f":"G26","v":10},10,10,10,10,10,10,10,10,{"$f":"SUM(G485:O485)","v":90},{"$f":"Q26","v":10},10,10,10,10,10,10,10,10,{"$f":"SUM(Q485:Y485)","v":90},{"$f":"P485+Z485","v":180}]
[null,null,null,null,null,"Net Stableford",{"$f":"IF(G485-G482=-1,3+G484)+IF(G485-G482=0,2+G484)+IF(G485-G482=1,1+G484)+IF(G485-G482=2,G484)+IF(G485-G482=3,IF(G484-1>0,G484-1,0))+IF(G485-G482=4,IF(G484-2>0,G484-2,0))","v":0},{"$f":"IF(H485-H482=-1,3+H484)+IF(H485-H482=0,2+H484)+IF(H485-H482=1,1+H484)+IF(H485-H482=2,H484)+IF(H485-H482=3,IF(H484-1>0,H484-1,0))+IF(H485-H482=4,IF(H484-2>0,H484-2,0))","v":0},0,0,0,0,0,0,0,{"$f":"SUM(G486:O486)","v":0},{"$f":"IF(Q485-Q482=-1,3+Q484)+IF(Q485-Q482=0,2+Q484)+IF(Q485-Q482=1,1+Q484)+IF(Q485-Q482=2,Q484)+IF(Q485-Q482=3,IF(Q484-1>0,Q484-1,0))+IF(Q485-Q482=4,IF(Q484-2>0,Q484-2,0))","v":0},0,0,0,0,0,0,0,0,{"$f":"SUM(Q486:Y486)","v":0},{"$f":"P486+Z486","v":0}]
[null,null,null,null,null,"Score Brut",{"$f":"IF(G485-G482=-2,4)+IF(G485-G482=-1,3)+IF(G485-G482=0,2)+IF(G485-G482=1,1)+IF(G485-G482>2,0)","v":0},0,0,0,0,0,0,0,0,{"$f":"SUM(G487:O487)","v":0},{"$f":"IF(Q485-Q482=-2,4)+IF(Q485-Q482=-1,3)+IF(Q485-Q482=0,2)+IF(Q485-Q482=1,1)+IF(Q485-Q482>2,0)","v":0},0,0,0,0,0,0,0,0,{"$f":"SUM(Q487:Y487)","v":0},{"$f":"P487+Z487","v":0}]
[null,null,null,null,null,null,{"$f":"G485-G482","v":6},{"$f":"H485-H482","v":6},5,6,7,5,7,5,7,null,{"$f":"Q485-Q482","v":6},6,7,5,7,6,6,5,6]
[]
[]
[null,null,null,null,null,"Statistiques scores",null,"Eagle & moins",null,null,null,{"$f":"COUNTIF(G488:Y488,\"<=-2\")","v":0},"Par",null,{"$f":"COUNTIF(G488:Y488,\"=0\")","v":0},"Double bogey",null,null,null,null,{"$f":"COUNTIF(G488:Y488,\"=2\")","v":0}]
[null,null,null,null,null,null,null,"Birdie",null,null,null,{"$f":"COUNTIF(G488:Y488,\"=-1\")","v":0},"Bogey",null,{"$f":"COUNTIF(G488:Y488,\"=1\")","v":0},"Triple bogey & plus",null,null,null,null,{"$f":"COUNTIF(G488:Y488,\">=3\")","v":18}]
[null,null,null,null,null,null,null,{"$f":"M491","v":"Par"},null,null,null,{"$f":"O491","v":0}]
[null,null,null,null,null,null,null,{"$f":"M492","v":"Bogey"},null,null,null,{"$f":"O492","v":0}]
[null,null,null,null,null,null,null,{"$f":"P491","v":"Double bogey"},null,null,null,{"$f":"U491","v":0}]
[null,null,null,null,null,null,null,{"$f":"P492","v":"Triple bogey & plus"},null,null,null,{"$f":"U492","v":18}]
[]
[]
[]
[]
[null,null,null,null,null,"Nom",{"$f":"C27","v":0},null,null,null,null,"Slope",null,null,"SSS",null,"Coups reçus",null,null,null,null,null,null,null,null,"Date",{"$f":"$D$3","v":"00:00:00"}]
[null,null,null,null,null,"Index",{"$f":"E27","v":20},null,null,null,null,{"$f":"$F$3","v":133},null,null,{"$f":"$G$3","v":68.599999999999994},null,{"$f":"ROUND((G502*(L502/113)+(O502-AA505)),0)","v":20}]
[]
[null,null,null,null,null,"Trou",1,2,3,4,5,6,7,8,9,"Aller",10,11,12,13,14,15,16,17,18,"Retour","Total"]
[null,null,null,null,null,"PAR",{"$f":"G$7","v":4},{"$f":"H$7","v":4},5,4,3,5,3,5,3,{"$f":"SUM(G505:O505)","v":36},{"$f":"Q$7","v":4},4,3,5,3,4,4,5,4,{"$f":"SUM(Q505:Y505)","v":36},{"$f":"SUM(P505+Z505)","v":72}]
[null,null,null,null,null,"HCP trous",{"$f":"G$8","v":4},{"$f":"H$8","v":8},12,14,2,10,18,16,6,null,{"$f":"Q$8","v":1},9,11,5,17,15,3,13,7]
[null,null,null,null,null,"Coups reçus",{"$f":"IF($Q502<=18,IF(G506<=$Q502,1,0),IF($Q502<=36,IF(G506<=($Q502-18),2,1),IF($Q502>36,IF(G506<=($Q502-36),3,2))))","v":1},{"$f":"IF($Q502<=18,IF(H506<=$Q502,1,0),IF($Q502<=36,IF(H506<=($Q502-18),2,1),IF($Q502>36,IF(H506<=($Q502-36),3,2))))","v":1},1,1,2,1,1,1,1,{"$f":"SUM(G507:O507)","v":10},{"$f":"IF($Q502<=18,IF(Q506<=$Q502,1,0),IF($Q502<=36,IF(Q506<=($Q502-18),2,1),IF($Q502>36,IF(Q506<=($Q502-36),3,2))))","v":2},1,1,1,1,1,1,1,1,{"$f":"SUM(Q507:Y507)","v":10},{"$f":"P507+Z507","v":20}]
[null,null,null,null,null,"Stroke play",{"$f":"G27","v":10},10,10,10,10,10,10,10,10,{"$f":"SUM(G508:O508)","v":90},{"$f":"Q27","v":10},10,10,10,10,10,10,10,10,{"$f":"SUM(Q508:Y508)","v":90},{"$f":"P508+Z508","v":180}]
[null,null,null,null,null,"Net Stableford",{"$f":"IF(G508-G505=-1,3+G507)+IF(G508-G505=0,2+G507)+IF(G508-G505=1,1+G507)+IF(G508-G505=2,G507)+IF(G508-G505=3,IF(G507-1>0,G507-1,0))+IF(G508-G505=4,IF(G507-2>0,G507-2,0))","v":0},{"$f":"IF(H508-H505=-1,3+H507)+IF(H508-H505=0,2+H507)+IF(H508-H505=1,1+H507)+IF(H508-H505=2,H507)+IF(H508-H505=3,IF(H507-1>0,H507-1,0))+IF(H508-H505=4,IF(H507-2>0,H507-2,0))","v":0},0,0,0,0,0,0,0,{"$f":"SUM(G509:O509)","v":0},{"$f":"IF(Q508-Q505=-1,3+Q507)+IF(Q508-Q505=0,2+Q507)+IF(Q508-Q505=1,1+Q507)+IF(Q508-Q505=2,Q507)+IF(Q508-Q505=3,IF(Q507-1>0,Q507-1,0))+IF(Q508-Q505=4,IF(Q507-2>0,Q507-2,0))","v":0},0,0,0,0,0,0,0,0,{"$f":"SUM(Q509:Y509)","v":0},{"$f":"P509+Z509","v":0}]
[null,null,null,null,null,"Score Brut",{"$f":"IF(G508-G505=-2,4)+IF(G508-G505=-1,3)+IF(G508-G505=0,2)+IF(G508-G505=1,1)+IF(G508-G505>2,0)","v":0},0,0,0,0,0,0,0,0,{"$f":"SUM(G510:O510)","v":0},{"$f":"IF(Q508-Q505=-2,4)+IF(Q508-Q505=-1,3)+IF(Q508-Q505=0,2)+IF(Q508-Q505=1,1)+IF(Q508-Q505>2,0)","v":0},0,0,0,0,0,0,0,0,{"$f":"SUM(Q510:Y510)","v":0},{"$f":"P510+Z510","v":0}]
[null,null,null,null,null,null,{"$f":"G508-G505","v":6},{"$f":"H508-H505","v":6},5,6,7,5,7,5,7,null,{"$f":"Q508-Q505","v":6},6,7,5,7,6,6,5,6]
[]
[]
[null,null,null,null,null,"Statistiques scores",null,"Eagle & moins",null,null,null,{"$f":"COUNTIF(G511:Y511,\"<=-2\")","v":0},"Par",null,{"$f":"COUNTIF(G511:Y511,\"=0\")","v":0},"Double bogey",null,null,null,null,{"$f":"COUNTIF(G511:Y511,\"=2\")","v":0}]
[null,null,null,null,null,null,null,"Birdie",null,null,null,{"$f":"COUNTIF(G511:Y511,\"=-1\")","v":0},"Bogey",null,{"$f":"COUNTIF(G511:Y511,\"=1\")","v":0},"Triple bogey & plus",null,null,null,null,{"$f":"COUNTIF(G511:Y511,\">=3\")","v":18}]
[null,null,null,null,null,null,null,{"$f":"M514","v":"Par"},null,null,null,{"$f":"O514","v":0}]
[null,null,null,null,null,null,null,{"$f":"M515","v":"Bogey"},null,null,null,{"$f":"O515","v":0}]
[null,null,null,null,null,null,null,{"$f":"P514","v":"Double bogey"},null,null,null,{"$f":"U514","v":0}]
[null,null,null,null,null,null,null,{"$f":"P515","v":"Triple bogey & plus"},null,null,null,{"$f":"U515","v":18}]
[]
[]
[]
[]
[null,null,null,null,null,"Nom",{"$f":"C28","v":0},null,null,null,null,"Slope",null,null,"SSS",null,"Coups reçus",null,null,null,null,null,null,null,null,"Date",{"$f":"$D$3","v":"00:00:00"}]
[null,null,null,null,null,"Index",{"$f":"E28","v":20},null,null,null,null,{"$f":"$F$3","v":133},null,null,{"$f":"$G$3","v":68.599999999999994},null,{"$f":"ROUND((G525*(L525/113)+(O525-AA528)),0)","v":20}]
[]
[null,null,null,null,null,"Trou",1,2,3,4,5,6,7,8,9,"Aller",10,11,12,13,14,15,16,17,18,"Retour","Total"]
[null,null,null,null,null,"PAR",{"$f":"G$7","v":4},{"$f":"H$7","v":4},5,4,3,5,3,5,3,{"$f":"SUM(G528:O528)","v":36},{"$f":"Q$7","v":4},4,3,5,3,4,4,5,4,{"$f":"SUM(Q528:Y528)","v":36},{"$f":"SUM(P528+Z528)","v":72}]
[null,null,null,null,null,"HCP trous",{"$f":"G$8","v":4},{"$f":"H$8","v":8},12,14,2,10,18,16,6,null,{"$f":"Q$8","v":1},9,11,5,17,15,3,13,7]
[null,null,null,null,null,"Coups reçus",{"$f":"IF($Q525<=18,IF(G529<=$Q525,1,0),IF($Q525<=36,IF(G529<=($Q525-18),2,1),IF($Q525>36,IF(G529<=($Q525-36),3,2))))","v":1},{"$f":"IF($Q525<=18,IF(H529<=$Q525,1,0),IF($Q525<=36,IF(H529<=($Q525-18),2,1),IF($Q525>36,IF(H529<=($Q525-36),3,2))))","v":1},1,1,2,1,1,1,1,{"$f":"SUM(G530:O530)","v":10},{"$f":"IF($Q525<=18,IF(Q529<=$Q525,1,0),IF($Q525<=36,IF(Q529<=($Q525-18),2,1),IF($Q525>36,IF(Q529<=($Q525-36),3,2))))","v":2},1,1,1,1,1,1,1,1,{"$f":"SUM(Q530:Y530)","v":10},{"$f":"P530+Z530","v":20}]
[null,null,null,null,null,"Stroke play",{"$f":"G28","v":10},10,10,10,10,10,10,10,10,{"$f":"SUM(G531:O531)","v":90},{"$f":"Q28","v":10},10,10,10,10,10,10,10,10,{"$f":"SUM(Q531:Y531)","v":90},{"$f":"P531+Z531","v":180}]
[null,null,null,null,null,"Net Stableford",{"$f":"IF(G531-G528=-1,3+G530)+IF(G531-G528=0,2+G530)+IF(G531-G528=1,1+G530)+IF(G531-G528=2,G530)+IF(G531-G528=3,IF(G530-1>0,G530-1,0))+IF(G531-G528=4,IF(G530-2>0,G530-2,0))","v":0},{"$f":"IF(H531-H528=-1,3+H530)+IF(H531-H528=0,2+H530)+IF(H531-H528=1,1+H530)+IF(H531-H528=2,H530)+IF(H531-H528=3,IF(H530-1>0,H530-1,0))+IF(H531-H528=4,IF(H530-2>0,H530-2,0))","v":0},0,0,0,0,0,0,0,{"$f":"SUM(G532:O532)","v":0},{"$f":"IF(Q531-Q528=-1,3+Q530)+IF(Q531-Q528=0,2+Q530)+IF(Q531-Q528=1,1+Q530)+IF(Q531-Q528=2,Q530)+IF(Q531-Q528=3,IF(Q530-1>0,Q530-1,0))+IF(Q531-Q528=4,IF(Q530-2>0,Q530-2,0))","v":0},0,0,0,0,0,0,0,0,{"$f":"SUM(Q532:Y532)","v":0},{"$f":"P532+Z532","v":0}]
[null,null,null,null,null,"Score Brut",{"$f":"IF(G531-G528=-2,4)+IF(G531-G528=-1,3)+IF(G531-G528=0,2)+IF(G531-G528=1,1)+IF(G531-G528>2,0)","v":0},0,0,0,0,0,0,0,0,{"$f":"SUM(G533:O533)","v":0},{"$f":"IF(Q531-Q528=-2,4)+IF(Q531-Q528=-1,3)+IF(Q531-Q528=0,2)+IF(Q531-Q528=1,1)+IF(Q531-Q528>2,0)","v":0},0,0,0,0,0,0,0,0,{"$f":"SUM(Q533:Y533)","v":0},{"$f":"P533+Z533","v":0}]
[null,null,null,null,null,null,{"$f":"G531-G528","v":6},{"$f":"H531-H528","v":6},5,6,7,5,7,5,7,null,{"$f":"Q531-Q528","v":6},6,7,5,7,6,6,5,6]
[]
[]
[null,null,null,null,null,"Statistiques scores",null,"Eagle & moins",null,null,null,{"$f":"COUNTIF(G534:Y534,\"<=-2\")","v":0},"Par",null,{"$f":"COUNTIF(G534:Y534,\"=0\")","v":0},"Double bogey",null,null,null,null,{"$f":"COUNTIF(G534:Y534,\"=2\")","v":0}]
[null,null,null,null,null,null,null,"Birdie",null,null,null,{"$f":"COUNTIF(G534:Y534,\"=-1\")","v":0},"Bogey",null,{"$f":"COUNTIF(G534:Y534,\"=1\")","v":0},"Triple bogey & plus",null,null,null,null,{"$f":"COUNTIF(G534:Y534,\">=3\")","v":18}]
[null,null,null,null,null,null,null,{"$f":"M537","v":"Par"},null,null,null,{"$f":"O537","v":0}]
[null,null,null,null,null,null,null,{"$f":"M538","v":"Bogey"},null,null,null,{"$f":"O538","v":0}]
[null,null,null,null,null,null,null,{"$f":"P537","v":"Double bogey"},null,null,null,{"$f":"U537","v":0}]
[null,null,null,null,null,null,null,{"$f":"P538","v":"Triple bogey & plus"},null,null,null,{"$f":"U538","v":18}]
[]
[]
[]
[]
[null,null,null,null,null,"Nom",{"$f":"C29","v":0},null,null,null,null,"Slope",null,null,"SSS",null,"Coups reçus",null,null,null,null,null,null,null,null,"Date",{"$f":"$D$3","v":"00:00:00"}]
[null,null,null,null,null,"Index",{"$f":"E29","v":20},null,null,null,null,{"$f":"$F$3","v":133},null,null,{"$f":"$G$3","v":68.599999999999994},null,{"$f":"ROUND((G548*(L548/113)+(O548-AA551)),0)","v":20}]
[]
[null,null,null,null,null,"Trou",1,2,3,4,5,6,7,8,9,"Aller",10,11,12,13,14,15,16,17,18,"Retour","Total"]
[null,null,null,null,null,"PAR",{"$f":"G$7","v":4},{"$f":"H$7","v":4},5,4,3,5,3,5,3,{"$f":"SUM(G551:O551)","v":36},{"$f":"Q$7","v":4},4,3,5,3,4,4,5,4,{"$f":"SUM(Q551:Y551)","v":36},{"$f":"SUM(P551+Z551)","v":72}]
[null,null,null,null,null,"HCP trous",{"$f":"G$8","v":4},{"$f":"H$8","v":8},12,14,2,10,18,16,6,null,{"$f":"Q$8","v":1},9,11,5,17,15,3,13,7]
[null,null,null,null,null,"Coups reçus",{"$f":"IF($Q548<=18,IF(G552<=$Q548,1,0),IF($Q548<=36,IF(G552<=($Q548-18),2,1),IF($Q548>36,IF(G552<=($Q548-36),3,2))))","v":1},{"$f":"IF($Q548<=18,IF(H552<=$Q548,1,0),IF($Q548<=36,IF(H552<=($Q548-18),2,1),IF($Q548>36,IF(H552<=($Q548-36),3,2))))","v":1},1,1,2,1,1,1,1,{"$f":"SUM(G553:O553)","v":10},{"$f":"IF($Q548<=18,IF(Q552<=$Q548,1,0),IF($Q548<=36,IF(Q552<=($Q548-18),2,1),IF($Q548>36,IF(Q552<=($Q548-36),3,2))))","v":2},1,1,1,1,1,1,1,1,{"$f":"SUM(Q553:Y553)","v":10},{"$f":"P553+Z553","v":20}]
[null,null,null,null,null,"Stroke play",{"$f":"G29","v":10},10,10,10,10,10,10,10,10,{"$f":"SUM(G554:O554)","v":90},{"$f":"Q29","v":10},10,10,10,10,10,10,10,10,{"$f":"SUM(Q554:Y554)","v":90},{"$f":"P554+Z554","v":180}]
[null,null,null,null,null,"Net Stableford",{"$f":"IF(G554-G551=-1,3+G553)+IF(G554-G551=0,2+G553)+IF(G554-G551=1,1+G553)+IF(G554-G551=2,G553)+IF(G554-G551=3,IF(G553-1>0,G553-1,0))+IF(G554-G551=4,IF(G553-2>0,G553-2,0))","v":0},{"$f":"IF(H554-H551=-1,3+H553)+IF(H554-H551=0,2+H553)+IF(H554-H551=1,1+H553)+IF(H554-H551=2,H553)+IF(H554-H551=3,IF(H553-1>0,H553-1,0))+IF(H554-H551=4,IF(H553-2>0,H553-2,0))","v":0},0,0,0,0,0,0,0,{"$f":"SUM(G555:O555)","v":0},{"$f":"IF(Q554-Q551=-1,3+Q553)+IF(Q554-Q551=0,2+Q553)+IF(Q554-Q551=1,1+Q553)+IF(Q554-Q551=2,Q553)+IF(Q554-Q551=3,IF(Q553-1>0,Q553-1,0))+IF(Q554-Q551=4,IF(Q553-2>0,Q553-2,0))","v":0},0,0,0,0,0,0,0,0,{"$f":"SUM(Q555:Y555)","v":0},{"$f":"P555+Z555","v":0}]
[null,null,null,null,null,"Score Brut",{"$f":"IF(G554-G551=-2,4)+IF(G554-G551=-1,3)+IF(G554-G551=0,2)+IF(G554-G551=1,1)+IF(G554-G551>2,0)","v":0},0,0,0,0,0,0,0,0,{"$f":"SUM(G556:O556)","v":0},{"$f":"IF(Q554-Q551=-2,4)+IF(Q554-Q551=-1,3)+IF(Q554-Q551=0,2)+IF(Q554-Q551=1,1)+IF(Q554-Q551>2,0)","v":0},0,0,0,0,0,0,0,0,{"$f":"SUM(Q556:Y556)","v":0},{"$f":"P556+Z556","v":0}]
[null,null,null,null,null,null,{"$f":"G554-G551","v":6},{"$f":"H554-H551","v":6},5,6,7,5,7,5,7,null,{"$f":"Q554-Q551","v":6},6,7,5,7,6,6,5,6]
[]
[]
[null,null,null,null,null,"Statistiques scores",null,"Eagle & moins",null,null,null,{"$f":"COUNTIF(G557:Y557,\"<=-2\")","v":0},"Par",null,{"$f":"COUNTIF(G557:Y557,\"=0\")","v":0},"Double bogey",null,null,null,null,{"$f":"COUNTIF(G557:Y557,\"=2\")","v":0}]
[null,null,null,null,null,null,null,"Birdie",null,null,null,{"$f":"COUNTIF(G557:Y557,\"=-1\")","v":0},"Bogey",null,{"$f":"COUNTIF(G557:Y557,\"=1\")","v":0},"Triple bogey & plus",null,null,null,null,{"$f":"COUNTIF(G557:Y557,\">=3\")","v":18}]
[null,null,null,null,null,null,null,{"$f":"M560","v":"Par"},null,null,null,{"$f":"O560","v":0}]
[null,null,null,null,null,null,null,{"$f":"M561","v":"Bogey"},null,null,null,{"$f":"O561","v":0}]
[null,null,null,null,null,null,null,{"$f":"P560","v":"Double bogey"},null,null,null,{"$f":"U560","v":0}]
[null,null,null,null,null,null,null,{"$f":"P561","v":"Triple bogey & plus"},null,null,null,{"$f":"U561","v":18}]
[]
[]
[]
[]
[null,null,null,null,null,"Nom",{"$f":"C30","v":0},null,null,null,null,"Slope",null,null,"SSS",null,"Coups reçus",null,null,null,null,null,null,null,null,"Date",{"$f":"$D$3","v":"00:00:00"}]
[null,null,null,null,null,"Index",{"$f":"E30","v":20},null,null,null,null,{"$f":"$F$3","v":133},null,null,{"$f":"$G$3","v":68.599999999999994},null,{"$f":"ROUND((G571*(L571/113)+(O571-AA574)),0)","v":20}]
[]
[null,null,null,null,null,"Trou",1,2,3,4,5,6,7,8,9,"Aller",10,11,12,13,14,15,16,17,18,"Retour","Total"]
[null,null,null,null,null,"PAR",{"$f":"G$7","v":4},{"$f":"H$7","v":4},5,4,3,5,3,5,3,{"$f":"SUM(G574:O574)","v":36},{"$f":"Q$7","v":4},4,3,5,3,4,4,5,4,{"$f":"SUM(Q574:Y574)","v":36},{"$f":"SUM(P574+Z574)","v":72}]
[null,null,null,null,null,"HCP trous",{"$f":"G$8","v":4},{"$f":"H$8","v":8},12,14,2,10,18,16,6,null,{"$f":"Q$8","v":1},9,11,5,17,15,3,13,7]
[null,null,null,null,null,"Coups reçus",{"$f":"IF($Q571<=18,IF(G575<=$Q571,1,0),IF($Q571<=36,IF(G575<=($Q571-18),2,1),IF($Q571>36,IF(G575<=($Q571-36),3,2))))","v":1},{"$f":"IF($Q571<=18,IF(H575<=$Q571,1,0),IF($Q571<=36,IF(H575<=($Q571-18),2,1),IF($Q571>36,IF(H575<=($Q571-36),3,2))))","v":1},1,1,2,1,1,1,1,{"$f":"SUM(G576:O576)","v":10},{"$f":"IF($Q571<=18,IF(Q575<=$Q571,1,0),IF($Q571<=36,IF(Q575<=($Q571-18),2,1),IF($Q571>36,IF(Q575<=($Q571-36),3,2))))","v":2},1,1,1,1,1,1,1,1,{"$f":"SUM(Q576:Y576)","v":10},{"$f":"P576+Z576","v":20}]
[null,null,null,null,null,"Stroke play",{"$f":"G30","v":10},10,10,10,10,10,10,10,10,{"$f":"SUM(G577:O577)","v":90},{"$f":"Q30","v":10},10,10,10,10,10,10,10,10,{"$f":"SUM(Q577:Y577)","v":90},{"$f":"P577+Z577","v":180}]
[null,null,null,null,null,"Net Stableford",{"$f":"IF(G577-G574=-1,3+G576)+IF(G577-G574=0,2+G576)+IF(G577-G574=1,1+G576)+IF(G577-G574=2,G576)+IF(G577-G574=3,IF(G576-1>0,G576-1,0))+IF(G577-G574=4,IF(G576-2>0,G576-2,0))","v":0},{"$f":"IF(H577-H574=-1,3+H576)+IF(H577-H574=0,2+H576)+IF(H577-H574=1,1+H576)+IF(H577-H574=2,H576)+IF(H577-H574=3,IF(H576-1>0,H576-1,0))+IF(H577-H574=4,IF(H576-2>0,H576-2,0))","v":0},0,0,0,0,0,0,0,{"$f":"SUM(G578:O578)","v":0},{"$f":"IF(Q577-Q574=-1,3+Q576)+IF(Q577-Q574=0,2+Q576)+IF(Q577-Q574=1,1+Q576)+IF(Q577-Q574=2,Q576)+IF(Q577-Q574=3,IF(Q576-1>0,Q576-1,0))+IF(Q577-Q574=4,IF(Q576-2>0,Q576-2,0))","v":0},0,0,0,0,0,0,0,0,{"$f":"SUM(Q578:Y578)","v":0},{"$f":"P578+Z578","v":0}]
[null,null,null,null,null,"Score Brut",{"$f":"IF(G577-G574=-2,4)+IF(G577-G574=-1,3)+IF(G577-G574=0,2)+IF(G577-G574=1,1)+IF(G577-G574>2,0)","v":0},0,0,0,0,0,0,0,0,{"$f":"SUM(G579:O579)","v":0},{"$f":"IF(Q577-Q574=-2,4)+IF(Q577-Q574=-1,3)+IF(Q577-Q574=0,2)+IF(Q577-Q574=1,1)+IF(Q577-Q574>2,0)","v":0},0,0,0,0,0,0,0,0,{"$f":"SUM(Q579:Y579)","v":0},{"$f":"P579+Z579","v":0}]
[null,null,null,null,null,null,{"$f":"G577-G574","v":6},{"$f":"H577-H574","v":6},5,6,7,5,7,5,7,null,{"$f":"Q577-Q574","v":6},6,7,5,7,6,6,5,6]
[]
[]
[null,null,null,null,null,"Statistiques scores",null,"Eagle & moins",null,null,null,{"$f":"COUNTIF(G580:Y580,\"<=-2\")","v":0},"Par",null,{"$f":"COUNTIF(G580:Y580,\"=0\")","v":0},"Double bogey",null,null,null,null,{"$f":"COUNTIF(G580:Y580,\"=2\")","v":0}]
[null,null,null,null,null,null,null,"Birdie",null,null,null,{"$f":"COUNTIF(G580:Y580,\"=-1\")","v":0},"Bogey",null,{"$f":"COUNTIF(G580:Y580,\"=1\")","v":0},"Triple bogey & plus",null,null,null,null,{"$f":"COUNTIF(G580:Y580,\">=3\")","v":18}]
[null,null,null,null,null,null,null,{"$f":"M583","v":"Par"},null,null,null,{"$f":"O583","v":0}]
[null,null,null,null,null,null,null,{"$f":"M584","v":"Bogey"},null,null,null,{"$f":"O584","v":0}]
[null,null,null,null,null,null,null,{"$f":"P583","v":"Double bogey"},null,null,null,{"$f":"U583","v":0}]
[null,null,null,null,null,null,null,{"$f":"P584","v":"Triple bogey & plus"},null,null,null,{"$f":"U584","v":18}]
[]
[]
[]
[]
[null,null,null,null,null,"Nom",{"$f":"C31","v":0},null,null,null,null,"Slope",null,null,"SSS",null,"Coups reçus",null,null,null,null,null,null,null,null,"Date",{"$f":"$D$3","v":"00:00:00"}]
[null,null,null,null,null,"Index",{"$f":"E31","v":20},null,null,null,null,{"$f":"$F$3","v":133},null,null,{"$f":"$G$3","v":68.599999999999994},null,{"$f":"ROUND((G594*(L594/113)+(O594-AA597)),0)","v":20}]
[]
[null,null,null,null,null,"Trou",1,2,3,4,5,6,7,8,9,"Aller",10,11,12,13,14,15,16,17,18,"Retour","Total"]
[null,null,null,null,null,"PAR",{"$f":"G$7","v":4},{"$f":"H$7","v":4},5,4,3,5,3,5,3,{"$f":"SUM(G597:O597)","v":36},{"$f":"Q$7","v":4},4,3,5,3,4,4,5,4,{"$f":"SUM(Q597:Y597)","v":36},{"$f":"SUM(P597+Z597)","v":72}]
[null,null,null,null,null,"HCP trous",{"$f":"G$8","v":4},{"$f":"H$8","v":8},12,14,2,10,18,16,6,null,{"$f":"Q$8","v":1},9,11,5,17,15,3,13,7]
[null,null,null,null,null,"Coups reçus",{"$f":"IF($Q594<=18,IF(G598<=$Q594,1,0),IF($Q594<=36,IF(G598<=($Q594-18),2,1),IF($Q594>36,IF(G598<=($Q594-36),3,2))))","v":1},{"$f":"IF($Q594<=18,IF(H598<=$Q594,1,0),IF($Q594<=36,IF(H598<=($Q594-18),2,1),IF($Q594>36,IF(H598<=($Q594-36),3,2))))","v":1},1,1,2,1,1,1,1,{"$f":"SUM(G599:O599)","v":10},{"$f":"IF($Q594<=18,IF(Q598<=$Q594,1,0),IF($Q594<=36,IF(Q598<=($Q594-18),2,1),IF($Q594>36,IF(Q598<=($Q594-36),3,2))))","v":2},1,1,1,1,1,1,1,1,{"$f":"SUM(Q599:Y599)","v":10},{"$f":"P599+Z599","v":20}]
[null,null,null,null,null,"Stroke play",{"$f":"G31","v":10},10,10,10,10,10,10,10,10,{"$f":"SUM(G600:O600)","v":90},{"$f":"Q31","v":10},10,10,10,10,10,10,10,10,{"$f":"SUM(Q600:Y600)","v":90},{"$f":"P600+Z600","v":180}]
[null,null,null,null,null,"Net Stableford",{"$f":"IF(G600-G597=-1,3+G599)+IF(G600-G597=0,2+G599)+IF(G600-G597=1,1+G599)+IF(G600-G597=2,G599)+IF(G600-G597=3,IF(G599-1>0,G599-1,0))+IF(G600-G597=4,IF(G599-2>0,G599-2,0))","v":0},{"$f":"IF(H600-H597=-1,3+H599)+IF(H600-H597=0,2+H599)+IF(H600-H597=1,1+H599)+IF(H600-H597=2,H599)+IF(H600-H597=3,IF(H599-1>0,H599-1,0))+IF(H600-H597=4,IF(H599-2>0,H599-2,0))","v":0},0,0,0,0,0,0,0,{"$f":"SUM(G601:O601)","v":0},{"$f":"IF(Q600-Q597=-1,3+Q599)+IF(Q600-Q597=0,2+Q599)+IF(Q600-Q597=1,1+Q599)+IF(Q600-Q597=2,Q599)+IF(Q600-Q597=3,IF(Q599-1>0,Q599-1,0))+IF(Q600-Q597=4,IF(Q599-2>0,Q599-2,0))","v":0},0,0,0,0,0,0,0,0,{"$f":"SUM(Q601:Y601)","v":0},{"$f":"P601+Z601","v":0}]
[null,null,null,null,null,"Score Brut",{"$f":"IF(G600-G597=-2,4)+IF(G600-G597=-1,3)+IF(G600-G597=0,2)+IF(G600-G597=1,1)+IF(G600-G597>2,0)","v":0},0,0,0,0,0,0,0,0,{"$f":"SUM(G602:O602)","v":0},{"$f":"IF(Q600-Q597=-2,4)+IF(Q600-Q597=-1,3)+IF(Q600-Q597=0,2)+IF(Q600-Q597=1,1)+IF(Q600-Q597>2,0)","v":0},0,0,0,0,0,0,0,0,{"$f":"SUM(Q602:Y602)","v":0},{"$f":"P602+Z602","v":0}]
[null,null,null,null,null,null,{"$f":"G600-G597","v":6},{"$f":"H600-H597","v":6},5,6,7,5,7,5,7,null,{"$f":"Q600-Q597","v":6},6,7,5,7,6,6,5,6]
[]
[]
[null,null,null,null,null,"Statistiques scores",null,"Eagle & moins",null,null,null,{"$f":"COUNTIF(G603:Y603,\"<=-2\")","v":0},"Par",null,{"$f":"COUNTIF(G603:Y603,\"=0\")","v":0},"Double bogey",null,null,null,null,{"$f":"COUNTIF(G603:Y603,\"=2\")","v":0}]
[null,null,null,null,null,null,null,"Birdie",null,null,null,{"$f":"COUNTIF(G603:Y603,\"=-1\")","v":0},"Bogey",null,{"$f":"COUNTIF(G603:Y603,\"=1\")","v":0},"Triple bogey & plus",null,null,null,null,{"$f":"COUNTIF(G603:Y603,\">=3\")","v":18}]
[null,null,null,null,null,null,null,{"$f":"M606","v":"Par"},null,null,null,{"$f":"O606","v":0}]
[null,null,null,null,null,null,null,{"$f":"M607","v":"Bogey"},null,null,null,{"$f":"O607","v":0}]
[null,null,null,null,null,null,null,{"$f":"P606","v":"Double bogey"},null,null,null,{"$f":"U606","v":0}]
[null,null,null,null,null,null,null,{"$f":"P607","v":"Triple bogey & plus"},null,null,null,{"$f":"U607","v":18}]
[]
[]
[]
[]
[null,null,null,null,null,"Nom",{"$f":"C32","v":0},null,null,null,null,"Slope",null,null,"SSS",null,"Coups reçus",null,null,null,null,null,null,null,null,"Date",{"$f":"$D$3","v":"00:00:00"}]
[null,null,null,null,null,"Index",{"$f":"E32","v":20},null,null,null,null,{"$f":"$F$3","v":133},null,null,{"$f":"$G$3","v":68.599999999999994},null,{"$f":"ROUND((G617*(L617/113)+(O617-AA620)),0)","v":20}]
[]
[null,null,null,null,null,"Trou",1,2,3,4,5,6,7,8,9,"Aller",10,11,12,13,14,15,16,17,18,"Retour","Total"]
[null,null,null,null,null,"PAR",{"$f":"G$7","v":4},{"$f":"H$7","v":4},5,4,3,5,3,5,3,{"$f":"SUM(G620:O620)","v":36},{"$f":"Q$7","v":4},4,3,5,3,4,4,5,4,{"$f":"SUM(Q620:Y620)","v":36},{"$f":"SUM(P620+Z620)","v":72}]
[null,null,null,null,null,"HCP trous",{"$f":"G$8","v":4},{"$f":"H$8","v":8},12,14,2,10,18,16,6,null,{"$f":"Q$8","v":1},9,11,5,17,15,3,13,7]
[null,null,null,null,null,"Coups reçus",{"$f":"IF($Q617<=18,IF(G621<=$Q617,1,0),IF($Q617<=36,IF(G621<=($Q617-18),2,1),IF($Q617>36,IF(G621<=($Q617-36),3,2))))","v":1},{"$f":"IF($Q617<=18,IF(H621<=$Q617,1,0),IF($Q617<=36,IF(H621<=($Q617-18),2,1),IF($Q617>36,IF(H621<=($Q617-36),3,2))))","v":1},1,1,2,1,1,1,1,{"$f":"SUM(G622:O622)","v":10},{"$f":"IF($Q617<=18,IF(Q621<=$Q617,1,0),IF($Q617<=36,IF(Q621<=($Q617-18),2,1),IF($Q617>36,IF(Q621<=($Q617-36),3,2))))","v":2},1,1,1,1,1,1,1,1,{"$f":"SUM(Q622:Y622)","v":10},{"$f":"P622+Z622","v":20}]
[null,null,null,null,null,"Stroke play",{"$f":"G32","v":10},10,10,10,10,10,10,10,10,{"$f":"SUM(G623:O623)","v":90},{"$f":"Q32","v":10},10,10,10,10,10,10,10,10,{"$f":"SUM(Q623:Y623)","v":90},{"$f":"P623+Z623","v":180}]
[null,null,null,null,null,"Net Stableford",{"$f":"IF(G623-G620=-1,3+G622)+IF(G623-G620=0,2+G622)+IF(G623-G620=1,1+G622)+IF(G623-G620=2,G622)+IF(G623-G620=3,IF(G622-1>0,G622-1,0))+IF(G623-G620=4,IF(G622-2>0,G622-2,0))","v":0},{"$f":"IF(H623-H620=-1,3+H622)+IF(H623-H620=0,2+H622)+IF(H623-H620=1,1+H622)+IF(H623-H620=2,H622)+IF(H623-H620=3,IF(H622-1>0,H622-1,0))+IF(H623-H620=4,IF(H622-2>0,H622-2,0))","v":0},0,0,0,0,0,0,0,{"$f":"SUM(G624:O624)","v":0},{"$f":"IF(Q623-Q620=-1,3+Q622)+IF(Q623-Q620=0,2+Q622)+IF(Q623-Q620=1,1+Q622)+IF(Q623-Q620=2,Q622)+IF(Q623-Q620=3,IF(Q622-1>0,Q622-1,0))+IF(Q623-Q620=4,IF(Q622-2>0,Q622-2,0))","v":0},0,0,0,0,0,0,0,0,{"$f":"SUM(Q624:Y624)","v":0},{"$f":"P624+Z624","v":0}]
[null,null,null,null,null,"Score Brut",{"$f":"IF(G623-G620=-2,4)+IF(G623-G620=-1,3)+IF(G623-G620=0,2)+IF(G623-G620=1,1)+IF(G623-G620>2,0)","v":0},0,0,0,0,0,0,0,0,{"$f":"SUM(G625:O625)","v":0},{"$f":"IF(Q623-Q620=-2,4)+IF(Q623-Q620=-1,3)+IF(Q623-Q620=0,2)+IF(Q623-Q620=1,1)+IF(Q623-Q620>2,0)","v":0},0,0,0,0,0,0,0,0,{"$f":"SUM(Q625:Y625)","v":0},{"$f":"P625+Z625","v":0}]
[null,null,null,null,null,null,{"$f":"G623-G620","v":6},{"$f":"H623-H620","v":6},5,6,7,5,7,5,7,null,{"$f":"Q623-Q620","v":6},6,7,5,7,6,6,5,6]
[]
[]
[null,null,null,null,null,"Statistiques scores",null,"Eagle & moins",null,null,null,{"$f":"COUNTIF(G626:Y626,\"<=-2\")","v":0},"Par",null,{"$f":"COUNTIF(G626:Y626,\"=0\")","v":0},"Double bogey",null,null,null,null,{"$f":"COUNTIF(G626:Y626,\"=2\")","v":0}]
[null,null,null,null,null,null,null,"Birdie",null,null,null,{"$f":"COUNTIF(G626:Y626,\"=-1\")","v":0},"Bogey",null,{"$f":"COUNTIF(G626:Y626,\"=1\")","v":0},"Triple bogey & plus",null,null,null,null,{"$f":"COUNTIF(G626:Y626,\">=3\")","v":18}]
[null,null,null,null,null,null,null,{"$f":"M629","v":"Par"},null,null,null,{"$f":"O629","v":0}]
[null,null,null,null,null,null,null,{"$f":"M630","v":"Bogey"},null,null,null,{"$f":"O630","v":0}]
[null,null,null,null,null,null,null,{"$f":"P629","v":"Double bogey"},null,null,null,{"$f":"U629","v":0}]
[null,null,null,null,null,null,null,{"$f":"P630","v":"Triple bogey & plus"},null,null,null,{"$f":"U630","v":18}]
[]
[]
[]
[]
[null,null,null,null,null,"Nom",{"$f":"C33","v":0},null,null,null,null,"Slope",null,null,"SSS",null,"Coups reçus",null,null,null,null,null,null,null,null,"Date",{"$f":"$D$3","v":"00:00:00"}]
[null,null,null,null,null,"Index",{"$f":"E33","v":20},null,null,null,null,{"$f":"$F$3","v":133},null,null,{"$f":"$G$3","v":68.599999999999994},null,{"$f":"ROUND((G640*(L640/113)+(O640-AA643)),0)","v":20}]
[]
[null,null,null,null,null,"Trou",1,2,3,4,5,6,7,8,9,"Aller",10,11,12,13,14,15,16,17,18,"Retour","Total"]
[null,null,null,null,null,"PAR",{"$f":"G$7","v":4},{"$f":"H$7","v":4},5,4,3,5,3,5,3,{"$f":"SUM(G643:O643)","v":36},{"$f":"Q$7","v":4},4,3,5,3,4,4,5,4,{"$f":"SUM(Q643:Y643)","v":36},{"$f":"SUM(P643+Z643)","v":72}]
[null,null,null,null,null,"HCP trous",{"$f":"G$8","v":4},{"$f":"H$8","v":8},12,14,2,10,18,16,6,null,{"$f":"Q$8","v":1},9,11,5,17,15,3,13,7]
[null,null,null,null,null,"Coups reçus",{"$f":"IF($Q640<=18,IF(G644<=$Q640,1,0),IF($Q640<=36,IF(G644<=($Q640-18),2,1),IF($Q640>36,IF(G644<=($Q640-36),3,2))))","v":1},{"$f":"IF($Q640<=18,IF(H644<=$Q640,1,0),IF($Q640<=36,IF(H644<=($Q640-18),2,1),IF($Q640>36,IF(H644<=($Q640-36),3,2))))","v":1},1,1,2,1,1,1,1,{"$f":"SUM(G645:O645)","v":10},{"$f":"IF($Q640<=18,IF(Q644<=$Q640,1,0),IF($Q640<=36,IF(Q644<=($Q640-18),2,1),IF($Q640>36,IF(Q644<=($Q640-36),3,2))))","v":2},1,1,1,1,1,1,1,1,{"$f":"SUM(Q645:Y645)","v":10},{"$f":"P645+Z645","v":20}]
[null,null,null,null,null,"Stroke play",{"$f":"G33","v":10},10,10,10,10,10,10,10,10,{"$f":"SUM(G646:O646)","v":90},{"$f":"Q33","v":10},10,10,10,10,10,10,10,10,{"$f":"SUM(Q646:Y646)","v":90},{"$f":"P646+Z646","v":180}]
[null,null,null,null,null,"Net Stableford",{"$f":"IF(G646-G643=-1,3+G645)+IF(G646-G643=0,2+G645)+IF(G646-G643=1,1+G645)+IF(G646-G643=2,G645)+IF(G646-G643=3,IF(G645-1>0,G645-1,0))+IF(G646-G643=4,IF(G645-2>0,G645-2,0))","v":0},{"$f":"IF(H646-H643=-1,3+H645)+IF(H646-H643=0,2+H645)+IF(H646-H643=1,1+H645)+IF(H646-H643=2,H645)+IF(H646-H643=3,IF(H645-1>0,H645-1,0))+IF(H646-H643=4,IF(H645-2>0,H645-2,0))","v":0},0,0,0,0,0,0,0,{"$f":"SUM(G647:O647)","v":0},{"$f":"IF(Q646-Q643=-1,3+Q645)+IF(Q646-Q643=0,2+Q645)+IF(Q646-Q643=1,1+Q645)+IF(Q646-Q643=2,Q645)+IF(Q646-Q643=3,IF(Q645-1>0,Q645-1,0))+IF(Q646-Q643=4,IF(Q645-2>0,Q645-2,0))","v":0},0,0,0,0,0,0,0,0,{"$f":"SUM(Q647:Y647)","v":0},{"$f":"P647+Z647","v":0}]
[null,null,null,null,null,"Score Brut",{"$f":"IF(G646-G643=-2,4)+IF(G646-G643=-1,3)+IF(G646-G643=0,2)+IF(G646-G643=1,1)+IF(G646-G643>2,0)","v":0},0,0,0,0,0,0,0,0,{"$f":"SUM(G648:O648)","v":0},{"$f":"IF(Q646-Q643=-2,4)+IF(Q646-Q643=-1,3)+IF(Q646-Q643=0,2)+IF(Q646-Q643=1,1)+IF(Q646-Q643>2,0)","v":0},0,0,0,0,0,0,0,0,{"$f":"SUM(Q648:Y648)","v":0},{"$f":"P648+Z648","v":0}]
[null,null,null,null,null,null,{"$f":"G646-G643","v":6},{"$f":"H646-H643","v":6},5,6,7,5,7,5,7,null,{"$f":"Q646-Q643","v":6},6,7,5,7,6,6,5,6]
[]
[]
[null,null,null,null,null,"Statistiques scores",null,"Eagle & moins",null,null,null,{"$f":"COUNTIF(G649:Y649,\"<=-2\")","v":0},"Par",null,{"$f":"COUNTIF(G649:Y649,\"=0\")","v":0},"Double bogey",null,null,null,null,{"$f":"COUNTIF(G649:Y649,\"=2\")","v":0}]
[null,null,null,null,null,null,null,"Birdie",null,null,null,{"$f":"COUNTIF(G649:Y649,\"=-1\")","v":0},"Bogey",null,{"$f":"COUNTIF(G649:Y649,\"=1\")","v":0},"Triple bogey & plus",null,null,null,null,{"$f":"COUNTIF(G649:Y649,\">=3\")","v":18}]
[null,null,null,null,null,null,null,{"$f":"M652","v":"Par"},null,null,null,{"$f":"O652","v":0}]
[null,null,null,null,null,null,null,{"$f":"M653","v":"Bogey"},null,null,null,{"$f":"O653","v":0}]
[null,null,null,null,null,null,null,{"$f":"P652","v":"Double bogey"},null,null,null,{"$f":"U652","v":0}]
[null,null,null,null,null,null,null,{"$f":"P653","v":"Triple bogey & plus"},null,null,null,{"$f":"U653","v":18}]
[]
[]
[]
[]
[null,null,null,null,null,"Nom",{"$f":"C34","v":0},null,null,null,null,"Slope",null,null,"SSS",null,"Coups reçus",null,null,null,null,null,null,null,null,"Date",{"$f":"$D$3","v":"00:00:00"}]
[null,null,null,null,null,"Index",{"$f":"E34","v":20},null,null,null,null,{"$f":"$F$3","v":133},null,null,{"$f":"$G$3","v":68.599999999999994},null,{"$f":"ROUND((G663*(L663/113)+(O663-AA666)),0)","v":20}]
[]
[null,null,null,null,null,"Trou",1,2,3,4,5,6,7,8,9,"Aller",10,11,12,13,14,15,16,17,18,"Retour","Total"]
[null,null,null,null,null,"PAR",{"$f":"G$7","v":4},{"$f":"H$7","v":4},5,4,3,5,3,5,3,{"$f":"SUM(G666:O666)","v":36},{"$f":"Q$7","v":4},4,3,5,3,4,4,5,4,{"$f":"SUM(Q666:Y666)","v":36},{"$f":"SUM(P666+Z666)","v":72}]
[null,null,null,null,null,"HCP trous",{"$f":"G$8","v":4},{"$f":"H$8","v":8},12,14,2,10,18,16,6,null,{"$f":"Q$8","v":1},9,11,5,17,15,3,13,7]
[null,null,null,null,null,"Coups reçus",{"$f":"IF($Q663<=18,IF(G667<=$Q663,1,0),IF($Q663<=36,IF(G667<=($Q663-18),2,1),IF($Q663>36,IF(G667<=($Q663-36),3,2))))","v":1},{"$f":"IF($Q663<=18,IF(H667<=$Q663,1,0),IF($Q663<=36,IF(H667<=($Q663-18),2,1),IF($Q663>36,IF(H667<=($Q663-36),3,2))))","v":1},1,1,2,1,1,1,1,{"$f":"SUM(G668:O668)","v":10},{"$f":"IF($Q663<=18,IF(Q667<=$Q663,1,0),IF($Q663<=36,IF(Q667<=($Q663-18),2,1),IF($Q663>36,IF(Q667<=($Q663-36),3,2))))","v":2},1,1,1,1,1,1,1,1,{"$f":"SUM(Q668:Y668)","v":10},{"$f":"P668+Z668","v":20}]
[null,null,null,null,null,"Stroke play",{"$f":"G34","v":10},10,10,10,10,10,10,10,10,{"$f":"SUM(G669:O669)","v":90},{"$f":"Q34","v":10},10,10,10,10,10,10,10,10,{"$f":"SUM(Q669:Y669)","v":90},{"$f":"P669+Z669","v":180}]
[null,null,null,null,null,"Net Stableford",{"$f":"IF(G669-G666=-1,3+G668)+IF(G669-G666=0,2+G668)+IF(G669-G666=1,1+G668)+IF(G669-G666=2,G668)+IF(G669-G666=3,IF(G668-1>0,G668-1,0))+IF(G669-G666=4,IF(G668-2>0,G668-2,0))","v":0},{"$f":"IF(H669-H666=-1,3+H668)+IF(H669-H666=0,2+H668)+IF(H669-H666=1,1+H668)+IF(H669-H666=2,H668)+IF(H669-H666=3,IF(H668-1>0,H668-1,0))+IF(H669-H666=4,IF(H668-2>0,H668-2,0))","v":0},0,0,0,0,0,0,0,{"$f":"SUM(G670:O670)","v":0},{"$f":"IF(Q669-Q666=-1,3+Q668)+IF(Q669-Q666=0,2+Q668)+IF(Q669-Q666=1,1+Q668)+IF(Q669-Q666=2,Q668)+IF(Q669-Q666=3,IF(Q668-1>0,Q668-1,0))+IF(Q669-Q666=4,IF(Q668-2>0,Q668-2,0))","v":0},0,0,0,0,0,0,0,0,{"$f":"SUM(Q670:Y670)","v":0},{"$f":"P670+Z670","v":0}]
[null,null,null,null,null,"Score Brut",{"$f":"IF(G669-G666=-2,4)+IF(G669-G666=-1,3)+IF(G669-G666=0,2)+IF(G669-G666=1,1)+IF(G669-G666>2,0)","v":0},0,0,0,0,0,0,0,0,{"$f":"SUM(G671:O671)","v":0},{"$f":"IF(Q669-Q666=-2,4)+IF(Q669-Q666=-1,3)+IF(Q669-Q666=0,2)+IF(Q669-Q666=1,1)+IF(Q669-Q666>2,0)","v":0},0,0,0,0,0,0,0,0,{"$f":"SUM(Q671:Y671)","v":0},{"$f":"P671+Z671","v":0}]
[null,null,null,null,null,null,{"$f":"G669-G666","v":6},{"$f":"H669-H666","v":6},5,6,7,5,7,5,7,null,{"$f":"Q669-Q666","v":6},6,7,5,7,6,6,5,6]
[]
[]
[null,null,null,null,null,"Statistiques scores",null,"Eagle & moins",null,null,null,{"$f":"COUNTIF(G672:Y672,\"<=-2\")","v":0},"Par",null,{"$f":"COUNTIF(G672:Y672,\"=0\")","v":0},"Double bogey",null,null,null,null,{"$f":"COUNTIF(G672:Y672,\"=2\")","v":0}]
[null,null,null,null,null,null,null,"Birdie",null,null,null,{"$f":"COUNTIF(G672:Y672,\"=-1\")","v":0},"Bogey",null,{"$f":"COUNTIF(G672:Y672,\"=1\")","v":0},"Triple bogey & plus",null,null,null,null,{"$f":"COUNTIF(G672:Y672,\">=3\")","v":18}]
[null,null,null,null,null,null,null,{"$f":"M675","v":"Par"},null,null,null,{"$f":"O675","v":0}]
[null,null,null,null,null,null,null,{"$f":"M676","v":"Bogey"},null,null,null,{"$f":"O676","v":0}]
[null,null,null,null,null,null,null,{"$f":"P675","v":"Double bogey"},null,null,null,{"$f":"U675","v":0}]
[null,null,null,null,null,null,null,{"$f":"P676","v":"Triple bogey & plus"},null,null,null,{"$f":"U676","v":18}]
[]
[]
[]
[]
[null,null,null,null,null,"Nom",{"$f":"C35","v":0},null,null,null,null,"Slope",null,null,"SSS",null,"Coups reçus",null,null,null,null,null,null,null,null,"Date",{"$f":"$D$3","v":"00:00:00"}]
[null,null,null,null,null,"Index",{"$f":"E35","v":20},null,null,null,null,{"$f":"$F$3","v":133},null,null,{"$f":"$G$3","v":68.599999999999994},null,{"$f":"ROUND((G686*(L686/113)+(O686-AA689)),0)","v":20}]
[]
[null,null,null,null,null,"Trou",1,2,3,4,5,6,7,8,9,"Aller",10,11,12,13,14,15,16,17,18,"Retour","Total"]
[null,null,null,null,null,"PAR",{"$f":"G$7","v":4},{"$f":"H$7","v":4},5,4,3,5,3,5,3,{"$f":"SUM(G689:O689)","v":36},{"$f":"Q$7","v":4},4,3,5,3,4,4,5,4,{"$f":"SUM(Q689:Y689)","v":36},{"$f":"SUM(P689+Z689)","v":72}]
[null,null,null,null,null,"HCP trous",{"$f":"G$8","v":4},{"$f":"H$8","v":8},12,14,2,10,18,16,6,null,{"$f":"Q$8","v":1},9,11,5,17,15,3,13,7]
[null,null,null,null,null,"Coups reçus",{"$f":"IF($Q686<=18,IF(G690<=$Q686,1,0),IF($Q686<=36,IF(G690<=($Q686-18),2,1),IF($Q686>36,IF(G690<=($Q686-36),3,2))))","v":1},{"$f":"IF($Q686<=18,IF(H690<=$Q686,1,0),IF($Q686<=36,IF(H690<=($Q686-18),2,1),IF($Q686>36,IF(H690<=($Q686-36),3,2))))","v":1},1,1,2,1,1,1,1,{"$f":"SUM(G691:O691)","v":10},{"$f":"IF($Q686<=18,IF(Q690<=$Q686,1,0),IF($Q686<=36,IF(Q690<=($Q686-18),2,1),IF($Q686>36,IF(Q690<=($Q686-36),3,2))))","v":2},1,1,1,1,1,1,1,1,{"$f":"SUM(Q691:Y691)","v":10},{"$f":"P691+Z691","v":20}]
[null,null,null,null,null,"Stroke play",{"$f":"G35","v":10},10,10,10,10,10,10,10,10,{"$f":"SUM(G692:O692)","v":90},{"$f":"Q35","v":10},10,10,10,10,10,10,10,10,{"$f":"SUM(Q692:Y692)","v":90},{"$f":"P692+Z692","v":180}]
[null,null,null,null,null,"Net Stableford",{"$f":"IF(G692-G689=-1,3+G691)+IF(G692-G689=0,2+G691)+IF(G692-G689=1,1+G691)+IF(G692-G689=2,G691)+IF(G692-G689=3,IF(G691-1>0,G691-1,0))+IF(G692-G689=4,IF(G691-2>0,G691-2,0))","v":0},{"$f":"IF(H692-H689=-1,3+H691)+IF(H692-H689=0,2+H691)+IF(H692-H689=1,1+H691)+IF(H692-H689=2,H691)+IF(H692-H689=3,IF(H691-1>0,H691-1,0))+IF(H692-H689=4,IF(H691-2>0,H691-2,0))","v":0},0,0,0,0,0,0,0,{"$f":"SUM(G693:O693)","v":0},{"$f":"IF(Q692-Q689=-1,3+Q691)+IF(Q692-Q689=0,2+Q691)+IF(Q692-Q689=1,1+Q691)+IF(Q692-Q689=2,Q691)+IF(Q692-Q689=3,IF(Q691-1>0,Q691-1,0))+IF(Q692-Q689=4,IF(Q691-2>0,Q691-2,0))","v":0},0,0,0,0,0,0,0,0,{"$f":"SUM(Q693:Y693)","v":0},{"$f":"P693+Z693","v":0}]
[null,null,null,null,null,"Score Brut",{"$f":"IF(G692-G689=-2,4)+IF(G692-G689=-1,3)+IF(G692-G689=0,2)+IF(G692-G689=1,1)+IF(G692-G689>2,0)","v":0},0,0,0,0,0,0,0,0,{"$f":"SUM(G694:O694)","v":0},{"$f":"IF(Q692-Q689=-2,4)+IF(Q692-Q689=-1,3)+IF(Q692-Q689=0,2)+IF(Q692-Q689=1,1)+IF(Q692-Q689>2,0)","v":0},0,0,0,0,0,0,0,0,{"$f":"SUM(Q694:Y694)","v":0},{"$f":"P694+Z694","v":0}]
[null,null,null,null,null,null,{"$f":"G692-G689","v":6},{"$f":"H692-H689","v":6},5,6,7,5,7,5,7,null,{"$f":"Q692-Q689","v":6},6,7,5,7,6,6,5,6]
[]
[]
[null,null,null,null,null,"Statistiques scores",null,"Eagle & moins",null,null,null,{"$f":"COUNTIF(G695:Y695,\"<=-2\")","v":0},"Par",null,{"$f":"COUNTIF(G695:Y695,\"=0\")","v":0},"Double bogey",null,null,null,null,{"$f":"COUNTIF(G695:Y695,\"=2\")","v":0}]
[null,null,null,null,null,null,null,"Birdie",null,null,null,{"$f":"COUNTIF(G695:Y695,\"=-1\")","v":0},"Bogey",null,{"$f":"COUNTIF(G695:Y695,\"=1\")","v":0},"Triple bogey & plus",null,null,null,null,{"$f":"COUNTIF(G695:Y695,\">=3\")","v":18}]
[null,null,null,null,null,null,null,{"$f":"M698","v":"Par"},null,null,null,{"$f":"O698","v":0}]
[null,null,null,null,null,null,null,{"$f":"M699","v":"Bogey"},null,null,null,{"$f":"O699","v":0}]
[null,null,null,null,null,null,null,{"$f":"P698","v":"Double bogey"},null,null,null,{"$f":"U698","v":0}]
[null,null,null,null,null,null,null,{"$f":"P699","v":"Triple bogey & plus"},null,null,null,{"$f":"U699","v":18}]
[]
[]
[]
[]
[null,null,null,null,null,"Nom",{"$f":"C36","v":0},null,null,null,null,"Slope",null,null,"SSS",null,"Coups reçus",null,null,null,null,null,null,null,null,"Date",{"$f":"$D$3","v":"00:00:00"}]
[null,null,null,null,null,"Index",{"$f":"E36","v":20},null,null,null,null,{"$f":"$F$3","v":133},null,null,{"$f":"$G$3","v":68.599999999999994},null,{"$f":"ROUND((G709*(L709/113)+(O709-AA712)),0)","v":20}]
[]
[null,null,null,null,null,"Trou",1,2,3,4,5,6,7,8,9,"Aller",10,11,12,13,14,15,16,17,18,"Retour","Total"]
[null,null,null,null,null,"PAR",{"$f":"G$7","v":4},{"$f":"H$7","v":4},5,4,3,5,3,5,3,{"$f":"SUM(G712:O712)","v":36},{"$f":"Q$7","v":4},4,3,5,3,4,4,5,4,{"$f":"SUM(Q712:Y712)","v":36},{"$f":"SUM(P712+Z712)","v":72}]
[null,null,null,null,null,"HCP trous",{"$f":"G$8","v":4},{"$f":"H$8","v":8},12,14,2,10,18,16,6,null,{"$f":"Q$8","v":1},9,11,5,17,15,3,13,7]
[null,null,null,null,null,"Coups reçus",{"$f":"IF($Q709<=18,IF(G713<=$Q709,1,0),IF($Q709<=36,IF(G713<=($Q709-18),2,1),IF($Q709>36,IF(G713<=($Q709-36),3,2))))","v":1},{"$f":"IF($Q709<=18,IF(H713<=$Q709,1,0),IF($Q709<=36,IF(H713<=($Q709-18),2,1),IF($Q709>36,IF(H713<=($Q709-36),3,2))))","v":1},1,1,2,1,1,1,1,{"$f":"SUM(G714:O714)","v":10},{"$f":"IF($Q709<=18,IF(Q713<=$Q709,1,0),IF($Q709<=36,IF(Q713<=($Q709-18),2,1),IF($Q709>36,IF(Q713<=($Q709-36),3,2))))","v":2},1,1,1,1,1,1,1,1,{"$f":"SUM(Q714:Y714)","v":10},{"$f":"P714+Z714","v":20}]
[null,null,null,null,null,"Stroke play",{"$f":"G36","v":10},10,10,10,10,10,10,10,10,{"$f":"SUM(G715:O715)","v":90},{"$f":"Q36","v":10},10,10,10,10,10,10,10,10,{"$f":"SUM(Q715:Y715)","v":90},{"$f":"P715+Z715","v":180}]
[null,null,null,null,null,"Net Stableford",{"$f":"IF(G715-G712=-1,3+G714)+IF(G715-G712=0,2+G714)+IF(G715-G712=1,1+G714)+IF(G715-G712=2,G714)+IF(G715-G712=3,IF(G714-1>0,G714-1,0))+IF(G715-G712=4,IF(G714-2>0,G714-2,0))","v":0},{"$f":"IF(H715-H712=-1,3+H714)+IF(H715-H712=0,2+H714)+IF(H715-H712=1,1+H714)+IF(H715-H712=2,H714)+IF(H715-H712=3,IF(H714-1>0,H714-1,0))+IF(H715-H712=4,IF(H714-2>0,H714-2,0))","v":0},0,0,0,0,0,0,0,{"$f":"SUM(G716:O716)","v":0},{"$f":"IF(Q715-Q712=-1,3+Q714)+IF(Q715-Q712=0,2+Q714)+IF(Q715-Q712=1,1+Q714)+IF(Q715-Q712=2,Q714)+IF(Q715-Q712=3,IF(Q714-1>0,Q714-1,0))+IF(Q715-Q712=4,IF(Q714-2>0,Q714-2,0))","v":0},0,0,0,0,0,0,0,0,{"$f":"SUM(Q716:Y716)","v":0},{"$f":"P716+Z716","v":0}]
[null,null,null,null,null,"Score Brut",{"$f":"IF(G715-G712=-2,4)+IF(G715-G712=-1,3)+IF(G715-G712=0,2)+IF(G715-G712=1,1)+IF(G715-G712>2,0)","v":0},0,0,0,0,0,0,0,0,{"$f":"SUM(G717:O717)","v":0},{"$f":"IF(Q715-Q712=-2,4)+IF(Q715-Q712=-1,3)+IF(Q715-Q712=0,2)+IF(Q715-Q712=1,1)+IF(Q715-Q712>2,0)","v":0},0,0,0,0,0,0,0,0,{"$f":"SUM(Q717:Y717)","v":0},{"$f":"P717+Z717","v":0}]
[null,null,null,null,null,null,{"$f":"G715-G712","v":6},{"$f":"H715-H712","v":6},5,6,7,5,7,5,7,null,{"$f":"Q715-Q712","v":6},6,7,5,7,6,6,5,6]
[]
[]
[null,null,null,null,null,"Statistiques scores",null,"Eagle & moins",null,null,null,{"$f":"COUNTIF(G718:Y718,\"<=-2\")","v":0},"Par",null,{"$f":"COUNTIF(G718:Y718,\"=0\")","v":0},"Double bogey",null,null,null,null,{"$f":"COUNTIF(G718:Y718,\"=2\")","v":0}]
[null,null,null,null,null,null,null,"Birdie",null,null,null,{"$f":"COUNTIF(G718:Y718,\"=-1\")","v":0},"Bogey",null,{"$f":"COUNTIF(G718:Y718,\"=1\")","v":0},"Triple bogey & plus",null,null,null,null,{"$f":"COUNTIF(G718:Y718,\">=3\")","v":18}]
[null,null,null,null,null,null,null,{"$f":"M721","v":"Par"},null,null,null,{"$f":"O721","v":0}]
[null,null,null,null,null,null,null,{"$f":"M722","v":"Bogey"},null,null,null,{"$f":"O722","v":0}]
[null,null,null,null,null,null,null,{"$f":"P721","v":"Double bogey"},null,null,null,{"$f":"U721","v":0}]
[null,null,null,null,null,null,null,{"$f":"P722","v":"Triple bogey & plus"},null,null,null,{"$f":"U722","v":18}]
[]
[]
[]
[]
[null,null,null,null,null,"Nom",{"$f":"C37","v":0},null,null,null,null,"Slope",null,null,"SSS",null,"Coups reçus",null,null,null,null,null,null,null,null,"Date",{"$f":"$D$3","v":"00:00:00"}]
[null,null,null,null,null,"Index",{"$f":"E37","v":20},null,null,null,null,{"$f":"$F$3","v":133},null,null,{"$f":"$G$3","v":68.599999999999994},null,{"$f":"ROUND((G732*(L732/113)+(O732-AA735)),0)","v":20}]
[]
[null,null,null,null,null,"Trou",1,2,3,4,5,6,7,8,9,"Aller",10,11,12,13,14,15,16,17,18,"Retour","Total"]
[null,null,null,null,null,"PAR",{"$f":"G$7","v":4},{"$f":"H$7","v":4},5,4,3,5,3,5,3,{"$f":"SUM(G735:O735)","v":36},{"$f":"Q$7","v":4},4,3,5,3,4,4,5,4,{"$f":"SUM(Q735:Y735)","v":36},{"$f":"SUM(P735+Z735)","v":72}]
[null,null,null,null,null,"HCP trous",{"$f":"G$8","v":4},{"$f":"H$8","v":8},12,14,2,10,18,16,6,null,{"$f":"Q$8","v":1},9,11,5,17,15,3,13,7]
[null,null,null,null,null,"Coups reçus",{"$f":"IF($Q732<=18,IF(G736<=$Q732,1,0),IF($Q732<=36,IF(G736<=($Q732-18),2,1),IF($Q732>36,IF(G736<=($Q732-36),3,2))))","v":1},{"$f":"IF($Q732<=18,IF(H736<=$Q732,1,0),IF($Q732<=36,IF(H736<=($Q732-18),2,1),IF($Q732>36,IF(H736<=($Q732-36),3,2))))","v":1},1,1,2,1,1,1,1,{"$f":"SUM(G737:O737)","v":10},{"$f":"IF($Q732<=18,IF(Q736<=$Q732,1,0),IF($Q732<=36,IF(Q736<=($Q732-18),2,1),IF($Q732>36,IF(Q736<=($Q732-36),3,2))))","v":2},1,1,1,1,1,1,1,1,{"$f":"SUM(Q737:Y737)","v":10},{"$f":"P737+Z737","v":20}]
[null,null,null,null,null,"Stroke play",{"$f":"G37","v":10},10,10,10,10,10,10,10,10,{"$f":"SUM(G738:O738)","v":90},{"$f":"Q37","v":10},10,10,10,10,10,10,10,10,{"$f":"SUM(Q738:Y738)","v":90},{"$f":"P738+Z738","v":180}]
[null,null,null,null,null,"Net Stableford",{"$f":"IF(G738-G735=-1,3+G737)+IF(G738-G735=0,2+G737)+IF(G738-G735=1,1+G737)+IF(G738-G735=2,G737)+IF(G738-G735=3,IF(G737-1>0,G737-1,0))+IF(G738-G735=4,IF(G737-2>0,G737-2,0))","v":0},{"$f":"IF(H738-H735=-1,3+H737)+IF(H738-H735=0,2+H737)+IF(H738-H735=1,1+H737)+IF(H738-H735=2,H737)+IF(H738-H735=3,IF(H737-1>0,H737-1,0))+IF(H738-H735=4,IF(H737-2>0,H737-2,0))","v":0},0,0,0,0,0,0,0,{"$f":"SUM(G739:O739)","v":0},{"$f":"IF(Q738-Q735=-1,3+Q737)+IF(Q738-Q735=0,2+Q737)+IF(Q738-Q735=1,1+Q737)+IF(Q738-Q735=2,Q737)+IF(Q738-Q735=3,IF(Q737-1>0,Q737-1,0))+IF(Q738-Q735=4,IF(Q737-2>0,Q737-2,0))","v":0},0,0,0,0,0,0,0,0,{"$f":"SUM(Q739:Y739)","v":0},{"$f":"P739+Z739","v":0}]
[null,null,null,null,null,"Score Brut",{"$f":"IF(G738-G735=-2,4)+IF(G738-G735=-1,3)+IF(G738-G735=0,2)+IF(G738-G735=1,1)+IF(G738-G735>2,0)","v":0},0,0,0,0,0,0,0,0,{"$f":"SUM(G740:O740)","v":0},{"$f":"IF(Q738-Q735=-2,4)+IF(Q738-Q735=-1,3)+IF(Q738-Q735=0,2)+IF(Q738-Q735=1,1)+IF(Q738-Q735>2,0)","v":0},0,0,0,0,0,0,0,0,{"$f":"SUM(Q740:Y740)","v":0},{"$f":"P740+Z740","v":0}]
[null,null,null,null,null,null,{"$f":"G738-G735","v":6},{"$f":"H738-H735","v":6},5,6,7,5,7,5,7,null,{"$f":"Q738-Q735","v":6},6,7,5,7,6,6,5,6]
[]
[]
[null,null,null,null,null,"Statistiques scores",null,"Eagle & moins",null,null,null,{"$f":"COUNTIF(G741:Y741,\"<=-2\")","v":0},"Par",null,{"$f":"COUNTIF(G741:Y741,\"=0\")","v":0},"Double bogey",null,null,null,null,{"$f":"COUNTIF(G741:Y741,\"=2\")","v":0}]
[null,null,null,null,null,null,null,"Birdie",null,null,null,{"$f":"COUNTIF(G741:Y741,\"=-1\")","v":0},"Bogey",null,{"$f":"COUNTIF(G741:Y741,\"=1\")","v":0},"Triple bogey & plus",null,null,null,null,{"$f":"COUNTIF(G741:Y741,\">=3\")","v":18}]
[null,null,null,null,null,null,null,{"$f":"M744","v":"Par"},null,null,null,{"$f":"O744","v":0}]
[null,null,null,null,null,null,null,{"$f":"M745","v":"Bogey"},null,null,null,{"$f":"O745","v":0}]
[null,null,null,null,null,null,null,{"$f":"P744","v":"Double bogey"},null,null,null,{"$f":"U744","v":0}]
[null,null,null,null,null,null,null,{"$f":"P745","v":"Triple bogey & plus"},null,null,null,{"$f":"U745","v":18}]
[]
[]
[]
[]
[null,null,null,null,null,"Nom",{"$f":"C38","v":0},null,null,null,null,"Slope",null,null,"SSS",null,"Coups reçus",null,null,null,null,null,null,null,null,"Date",{"$f":"$D$3","v":"00:00:00"}]
[null,null,null,null,null,"Index",{"$f":"E38","v":20},null,null,null,null,{"$f":"$F$3","v":133},null,null,{"$f":"$G$3","v":68.599999999999994},null,{"$f":"ROUND((G755*(L755/113)+(O755-AA758)),0)","v":20}]
[]
[null,null,null,null,null,"Trou",1,2,3,4,5,6,7,8,9,"Aller",10,11,12,13,14,15,16,17,18,"Retour","Total"]
[null,null,null,null,null,"PAR",{"$f":"G$7","v":4},{"$f":"H$7","v":4},5,4,3,5,3,5,3,{"$f":"SUM(G758:O758)","v":36},{"$f":"Q$7","v":4},4,3,5,3,4,4,5,4,{"$f":"SUM(Q758:Y758)","v":36},{"$f":"SUM(P758+Z758)","v":72}]
[null,null,null,null,null,"HCP trous",{"$f":"G$8","v":4},{"$f":"H$8","v":8},12,14,2,10,18,16,6,null,{"$f":"Q$8","v":1},9,11,5,17,15,3,13,7]
[null,null,null,null,null,"Coups reçus",{"$f":"IF($Q755<=18,IF(G759<=$Q755,1,0),IF($Q755<=36,IF(G759<=($Q755-18),2,1),IF($Q755>36,IF(G759<=($Q755-36),3,2))))","v":1},{"$f":"IF($Q755<=18,IF(H759<=$Q755,1,0),IF($Q755<=36,IF(H759<=($Q755-18),2,1),IF($Q755>36,IF(H759<=($Q755-36),3,2))))","v":1},1,1,2,1,1,1,1,{"$f":"SUM(G760:O760)","v":10},{"$f":"IF($Q755<=18,IF(Q759<=$Q755,1,0),IF($Q755<=36,IF(Q759<=($Q755-18),2,1),IF($Q755>36,IF(Q759<=($Q755-36),3,2))))","v":2},1,1,1,1,1,1,1,1,{"$f":"SUM(Q760:Y760)","v":10},{"$f":"P760+Z760","v":20}]
[null,null,null,null,null,"Stroke play",{"$f":"G38","v":10},10,10,10,10,10,10,10,10,{"$f":"SUM(G761:O761)","v":90},{"$f":"Q38","v":10},10,10,10,10,10,10,10,10,{"$f":"SUM(Q761:Y761)","v":90},{"$f":"P761+Z761","v":180}]
[null,null,null,null,null,"Net Stableford",{"$f":"IF(G761-G758=-1,3+G760)+IF(G761-G758=0,2+G760)+IF(G761-G758=1,1+G760)+IF(G761-G758=2,G760)+IF(G761-G758=3,IF(G760-1>0,G760-1,0))+IF(G761-G758=4,IF(G760-2>0,G760-2,0))","v":0},{"$f":"IF(H761-H758=-1,3+H760)+IF(H761-H758=0,2+H760)+IF(H761-H758=1,1+H760)+IF(H761-H758=2,H760)+IF(H761-H758=3,IF(H760-1>0,H760-1,0))+IF(H761-H758=4,IF(H760-2>0,H760-2,0))","v":0},0,0,0,0,0,0,0,{"$f":"SUM(G762:O762)","v":0},{"$f":"IF(Q761-Q758=-1,3+Q760)+IF(Q761-Q758=0,2+Q760)+IF(Q761-Q758=1,1+Q760)+IF(Q761-Q758=2,Q760)+IF(Q761-Q758=3,IF(Q760-1>0,Q760-1,0))+IF(Q761-Q758=4,IF(Q760-2>0,Q760-2,0))","v":0},0,0,0,0,0,0,0,0,{"$f":"SUM(Q762:Y762)","v":0},{"$f":"P762+Z762","v":0}]
[null,null,null,null,null,"Score Brut",{"$f":"IF(G761-G758=-2,4)+IF(G761-G758=-1,3)+IF(G761-G758=0,2)+IF(G761-G758=1,1)+IF(G761-G758>2,0)","v":0},0,0,0,0,0,0,0,0,{"$f":"SUM(G763:O763)","v":0},{"$f":"IF(Q761-Q758=-2,4)+IF(Q761-Q758=-1,3)+IF(Q761-Q758=0,2)+IF(Q761-Q758=1,1)+IF(Q761-Q758>2,0)","v":0},0,0,0,0,0,0,0,0,{"$f":"SUM(Q763:Y763)","v":0},{"$f":"P763+Z763","v":0}]
[null,null,null,null,null,null,{"$f":"G761-G758","v":6},{"$f":"H761-H758","v":6},5,6,7,5,7,5,7,null,{"$f":"Q761-Q758","v":6},6,7,5,7,6,6,5,6]
[]
[]
[null,null,null,null,null,"Statistiques scores",null,"Eagle & moins",null,null,null,{"$f":"COUNTIF(G764:Y764,\"<=-2\")","v":0},"Par",null,{"$f":"COUNTIF(G764:Y764,\"=0\")","v":0},"Double bogey",null,null,null,null,{"$f":"COUNTIF(G764:Y764,\"=2\")","v":0}]
[null,null,null,null,null,null,null,"Birdie",null,null,null,{"$f":"COUNTIF(G764:Y764,\"=-1\")","v":0},"Bogey",null,{"$f":"COUNTIF(G764:Y764,\"=1\")","v":0},"Triple bogey & plus",null,null,null,null,{"$f":"COUNTIF(G764:Y764,\">=3\")","v":18}]
[null,null,null,null,null,null,null,{"$f":"M767","v":"Par"},null,null,null,{"$f":"O767","v":0}]
[null,null,null,null,null,null,null,{"$f":"M768","v":"Bogey"},null,null,null,{"$f":"O768","v":0}]
[null,null,null,null,null,null,null,{"$f":"P767","v":"Double bogey"},null,null,null,{"$f":"U767","v":0}]
[null,null,null,null,null,null,null,{"$f":"P768","v":"Triple bogey & plus"},null,null,null,{"$f":"U768","v":18}]

{"sheet":"sortie (7)","index":8,"n_rows":772,"n_cols":42,"rows_kept":772,"cut":false,"hidden":false,"merged":[[767,15,767,19],[768,7,768,8],[769,7,769,8],[754,6,754,9],[754,11,754,13],[754,14,754,15],[754,16,754,19],[766,5,767,6],[766,7,766,10],[766,12,766,13],[766,15,766,19],[767,7,767,10],[767,12,767,13],[744,15,744,19],[745,7,745,8],[746,7,746,8],[753,6,753,9],[753,11,753,13],[753,14,753,15],[753,16,753,19],[731,6,731,9],[731,11,731,13],[731,14,731,15],[731,16,731,19],[743,5,744,6],[743,7,743,10],[743,12,743,13],[743,15,743,19],[744,7,744,10],[744,12,744,13],[721,15,721,19],[722,7,722,8],[723,7,723,8],[730,6,730,9],[730,11,730,13],[730,14,730,15],[730,16,730,19],[708,6,708,9],[708,11,708,13],[708,14,708,15],[708,16,708,19],[720,5,721,6],[720,7,720,10],[720,12,720,13],[720,15,720,19],[721,7,721,10],[721,12,721,13],[698,15,698,19],[699,7,699,8],[700,7,700,8],[707,6,707,9],[707,11,707,13],[707,14,707,15],[707,16,707,19],[685,6,685,9],[685,11,685,13],[685,14,685,15],[685,16,685,19],[697,5,698,6],[697,7,697,10],[697,12,697,13],[697,15,697,19],[698,7,698,10],[698,12,698,13],[675,15,675,19],[676,7,676,8],[677,7,677,8],[684,6,684,9],[684,11,684,13],[684,14,684,15],[684,16,684,19],[662,6,662,9],[662,11,662,13],[662,14,662,15],[662,16,662,19],[674,5,675,6],[674,7,674,10],[674,12,674,13],[674,15,674,19],[675,7,675,10],[675,12,675,13],[652,15,652,19],[653,7,653,8],[654,7,654,8],[661,6,661,9],[661,11,661,13],[661,14,661,15],[661,16,661,19],[639,6,639,9],[639,11,639,13],[639,14,639,15],[639,16,639,19],[651,5,652,6],[651,7,651,10],[651,12,651,13],[651,15,651,19],[652,7,652,10],[652,12,652,13],[629,15,629,19],[630,7,630,8],[631,7,631,8],[638,6,638,9],[638,11,638,13],[638,14,638,15],[638,16,638,19],[616,6,616,9],[616,11,616,13],[616,14,616,15],[616,16,616,19],[628,5,629,6],[628,7,628,10],[628,12,628,13],[628,15,628,19],[629,7,629,10],[629,12,629,13],[606,15,606,19],[607,7,607,8],[608,7,608,8],[615,6,615,9],[615,11,615,13],[615,14,615,15],[615,16,615,19],[593,6,593,9],[593,11,593,13],[593,14,593,15],[593,16,593,19],[605,5,606,6],[605,7,605,10],[605,12,605,13],[605,15,605,19],[606,7,606,10],[606,12,606,13],[583,15,583,19],[584,7,584,8],[585,7,585,8],[592,6,592,9],[592,11,592,13],[592,14,592,15],[592,16,592,19],[570,6,570,9],[570,11,570,13],[570,14,570,15],[570,16,570,19],[582,5,583,6],[582,7,582,10],[582,12,582,13],[582,15,582,19],[583,7,583,10],[583,12,583,13],[560,15,560,19],[561,7,561,8],[562,7,562,8],[569,6,569,9],[569,11,569,13],[569,14,569,15],[569,16,569,19],[547,6,547,9],[547,11,547,13],[547,14,547,15],[547,16,547,19],[559,5,560,6],[559,7,559,10],[559,12,559,13],[559,15,559,19],[560,7,560,10],[560,12,560,13],[537,15,537,19],[538,7,538,8],[539,7,539,8],[546,6,546,9],[546,11,546,13],[546,14,546,15],[546,16,546,19],[524,6,524,9],[524,11,524,13],[524,14,524,15],[524,16,524,19],[536,5,537,6],[536,7,536,10],[536,12,536,13],[536,15,536,19],[537,7,537,10],[537,12,537,13],[514,15,514,19],[515,7,515,8],[516,7,516,8],[523,6,523,9],[523,11,523,13],[523,14,523,15],[523,16,523,19],[501,6,501,9],[501,11,501,13],[501,14,501,15],[501,16,501,19],[513,5,514,6],[513,7,513,10],[513,12,513,13],[513,15,513,19],[514,7,514,10],[514,12,514,13],[491,15,491,19],[492,7,492,8],[493,7,493,8],[500,6,500,9],[500,11,500,13],[500,14,500,15],[500,16,500,19],[478,6,478,9],[478,11,478,13],[478,14,478,15],[478,16,478,19],[490,5,491,6],[490,7,490,10],[490,12,490,13],[490,15,490,19],[491,7,491,10],[491,12,491,13],[468,15,468,19],[469,7,469,8],[470,7,470,8],[477,6,477,9],[477,11,477,13],[477,14,477,15],[477,16,477,19],[455,6,455,9],[455,11,455,13],[455,14,455,15],[455,16,455,19],[467,5,468,6],[467,7,467,10],[467,12,467,13],[467,15,467,19],[468,7,468,10],[468,12,468,13],[445,15,445,19],[446,7,446,8],[447,7,447,8],[454,6,454,9],[454,11,454,13],[454,14,454,15],[454,16,454,19],[432,6,432,9],[432,11,432,13],[432,14,432,15],[432,16,432,19],[444,5,445,6],[444,7,444,10],[444,12,444,13],[444,15,444,19],[445,7,445,10],[445,12,445,13],[422,15,422,19],[423,7,423,8],[424,7,424,8],[431,6,431,9],[431,11,431,13],[431,14,431,15],[431,16,431,19],[409,6,409,9],[409,11,409,13],[409,14,409,15],[409,16,409,19],[421,5,422,6],[421,7,421,10],[421,12,421,13],[421,15,421,19],[422,7,422,10],[422,12,422,13],[399,15,399,19],[400,7,400,8],[401,7,401,8],[408,6,408,9],[408,11,408,13],[408,14,408,15],[408,16,408,19],[386,6,386,9],[386,11,386,13],[386,14,386,15],[386,16,386,19],[398,5,399,6],[398,7,398,10],[398,12,398,13],[398,15,398,19],[399,7,399,10],[399,12,399,13],[376,15,376,19],[377,7,377,8],[378,7,378,8],[385,6,385,9],[385,11,385,13],[385,14,385,15],[385,16,385,19],[363,6,363,9],[363,11,363,13],[363,14,363,15],[363,16,363,19],[375,5,376,6],[375,7,375,10],[375,12,375,13],[375,15,375,19],[376,7,376,10],[376,12,376,13],[353,15,353,19],[354,7,354,8],[355,7,355,8],[362,6,362,9],[362,11,362,13],[362,14,362,15],[362,16,362,19],[340,6,340,9],[340,11,340,13],[340,14,340,15],[340,16,340,19],[352,5,353,6],[352,7,352,10],[352,12,352,13],[352,15,352,19],[353,7,353,10],[353,12,353,13],[330,15,330,19],[331,7,331,8],[332,7,332,8],[339,6,339,9],[339,11,339,13],[339,14,339,15],[339,16,339,19],[317,6,317,9],[317,11,317,13],[317,14,317,15],[317,16,317,19],[329,5,330,6],[329,7,329,10],[329,12,329,13],[329,15,329,19],[330,7,330,10],[330,12,330,13],[307,15,307,19],[308,7,308,8],[309,7,309,8],[316,6,316,9],[316,11,316,13],[316,14,316,15],[316,16,316,19],[294,6,294,9],[294,11,294,13],[294,14,294,15],[294,16,294,19],[306,5,307,6],[306,7,306,10],[306,12,306,13],[306,15,306,19],[307,7,307,10],[307,12,307,13],[284,15,284,19],[285,7,285,8],[286,7,286,8],[293,6,293,9],[293,11,293,13],[293,14,293,15],[293,16,293,19],[271,6,271,9],[271,11,271,13],[271,14,271,15],[271,16,271,19],[283,5,284,6],[283,7,283,10],[283,12,283,13],[283,15,283,19],[284,7,284,10],[284,12,284,13],[261,15,261,19],[262,7,262,8],[263,7,263,8],[270,6,270,9],[270,11,270,13],[270,14,270,15],[270,16,270,19],[248,6,248,9],[248,11,248,13],[248,14,248,15],[248,16,248,19],[260,5,261,6],[260,7,260,10],[260,12,260,13],[260,15,260,19],[261,7,261,10],[261,12,261,13],[238,15,238,19],[239,7,239,8],[240,7,240,8],[247,6,247,9],[247,11,247,13],[247,14,247,15],[247,16,247,19],[225,6,225,9],[225,11,225,13],[225,14,225,15],[225,16,225,19],[237,5,238,6],[237,7,237,10],[237,12,237,13],[237,15,237,19],[238,7,238,10],[238,12,238,13],[215,15,215,19],[216,7,216,8],[217,7,217,8],[224,6,224,9],[224,11,224,13],[224,14,224,15],[224,16,224,19],[202,6,202,9],[202,11,202,13],[202,14,202,15],[202,16,202,19],[214,5,215,6],[214,7,214,10],[214,12,214,13],[214,15,214,19],[215,7,215,10],[215,12,215,13],[192,15,192,19],[193,7,193,8],[194,7,194,8],[201,6,201,9],[201,11,201,13],[201,14,201,15],[201,16,201,19],[179,6,179,9],[179,11,179,13],[179,14,179,15],[179,16,179,19],[191,5,192,6],[191,7,191,10],[191,12,191,13],[191,15,191,19],[192,7,192,10],[192,12,192,13],[169,15,169,19],[170,7,170,8],[171,7,171,8],[178,6,178,9],[178,11,178,13],[178,14,178,15],[178,16,178,19],[156,6,156,9],[156,11,156,13],[156,14,156,15],[156,16,156,19],[168,5,169,6],[168,7,168,10],[168,12,168,13],[168,15,168,19],[169,7,169,10],[169,12,169,13],[146,15,146,19],[147,7,147,8],[148,7,148,8],[155,6,155,9],[155,11,155,13],[155,14,155,15],[155,16,155,19],[133,6,133,9],[133,11,133,13],[133,14,133,15],[133,16,133,19],[145,5,146,6],[145,7,145,10],[145,12,145,13],[145,15,145,19],[146,7,146,10],[146,12,146,13],[123,15,123,19],[124,7,124,8],[125,7,125,8],[132,6,132,9],[132,11,132,13],[132,14,132,15],[132,16,132,19],[110,6,110,9],[110,11,110,13],[110,14,110,15],[110,16,110,19],[122,5,123,6],[122,7,122,10],[122,12,122,13],[122,15,122,19],[123,7,123,10],[123,12,123,13],[100,15,100,19],[101,7,101,8],[102,7,102,8],[109,6,109,9],[109,11,109,13],[109,14,109,15],[109,16,109,19],[87,6,87,9],[87,11,87,13],[87,14,87,15],[87,16,87,19],[99,5,100,6],[99,7,99,10],[99,12,99,13],[99,15,99,19],[100,7,100,10],[100,12,100,13],[76,9,76,12],[76,13,76,15],[76,21,76,24],[76,25,76,26],[80,7,82,20],[86,6,86,9],[86,11,86,13],[86,14,86,15],[86,16,86,19],[74,9,74,12],[74,13,74,15],[74,21,74,24],[74,25,74,26],[75,9,75,12],[75,13,75,15],[75,21,75,24],[75,25,75,26],[72,9,72,12],[72,13,72,15],[72,21,72,24],[72,25,72,26],[73,9,73,12],[73,13,73,15],[73,21,73,24],[73,25,73,26],[70,9,70,12],[70,13,70,15],[70,21,70,24],[70,25,70,26],[71,9,71,12],[71,13,71,15],[71,21,71,24],[71,25,71,26],[68,9,68,12],[68,13,68,15],[68,21,68,24],[68,25,68,26],[69,9,69,12],[69,13,69,15],[69,21,69,24],[69,25,69,26],[66,9,66,12],[66,13,66,15],[66,21,66,24],[66,25,66,26],[67,9,67,12],[67,13,67,15],[67,21,67,24],[67,25,67,26],[64,9,64,12],[64,13,64,15],[64,21,64,24],[64,25,64,26],[65,9,65,12],[65,13,65,15],[65,21,65,24],[65,25,65,26],[62,9,62,12],[62,13,62,15],[62,21,62,24],[62,25,62,26],[63,9,63,12],[63,13,63,15],[63,21,63,24],[63,25,63,26],[60,9,60,12],[60,13,60,15],[60,21,60,24],[60,25,60,26],[61,9,61,12],[61,13,61,15],[61,21,61,24],[61,25,61,26],[58,9,58,12],[58,13,58,15],[58,21,58,24],[58,25,58,26],[59,9,59,12],[59,13,59,15],[59,21,59,24],[59,25,59,26],[56,9,56,12],[56,13,56,15],[56,21,56,24],[56,25,56,26],[57,9,57,12],[57,13,57,15],[57,21,57,24],[57,25,57,26],[54,9,54,12],[54,13,54,15],[54,21,54,24],[54,25,54,26],[55,9,55,12],[55,13,55,15],[55,21,55,24],[55,25,55,26],[52,9,52,12],[52,13,52,15],[52,21,52,24],[52,25,52,26],[53,9,53,12],[53,13,53,15],[53,21,53,24],[53,25,53,26],[1,6,1,9],[1,13,3,24],[2,6,2,9],[40,7,42,20],[50,9,50,12],[50,13,50,15],[50,21,50,24],[50,25,50,26],[51,9,51,12],[51,13,51,15],[51,21,51,24],[51,25,51,26],[48,9,48,12],[48,13,48,15],[48,21,48,24],[48,25,48,26],[49,9,49,12],[49,13,49,15],[49,21,49,24],[49,25,49,26],[44,2,44,4],[44,9,44,16],[44,21,44,27],[46,9,46,12],[46,13,46,15],[46,21,46,24],[46,25,46,26],[47,9,47,12],[47,13,47,15],[47,21,47,24],[47,25,47,26]]}
[]
[null,null,"Golf","F",null,"Slope","SSS",null,null,null,null,null,null,"CARTE DE SCORE"]
[null,null,"Date",null,null,133,68.599999999999994]
[]
[null,null,"Individuel Stableford BRUT/NET"]
[null,null,null,null,"Index","HCP trous",1,2,3,4,5,6,7,8,9,"Aller",10,11,12,13,14,15,16,17,18,"Retour","Total"]
[null,null,null,null,null,"PAR",4,4,5,4,3,5,3,5,3,{"$f":"SUM(G7:O7)","v":36},4,4,3,5,3,4,4,5,4,{"$f":"SUM(Q7:Y7)","v":36},{"$f":"SUM(P7+Z7)","v":72}]
[null,null,"Noms","Prénoms",null,"Trou",4,8,12,14,2,10,18,16,6,null,1,9,11,5,17,15,3,13,7,null,null,null,"NET","Classt","Rang","Points",null,"BRUT","Classt","Rang","Points",null,"STROKE","Classt","Rang","Points"]
[null,1,null,null,20,null,10,10,10,10,10,10,10,10,10,{"$f":"SUM(G9:O9)","v":90},10,10,10,10,10,10,10,10,10,{"$f":"SUM(Q9:Y9)","v":90},{"$f":"SUM(P9+Z9)","v":180},null,{"$f":"$AA$95","v":0},{"$f":"RANK(AC9,AC$9:AC$38,0)+COUNTIF(AC9:$AC$9,AC9)-1","v":1},{"$f":"RANK(AC9,AC$9:AC$38,0)","v":1},{"$f":"IF(ISBLANK($C9),0,1)*INDEX('Allocation Points'!$B$3:$AG$32,AE9,COUNTIF(AE$9:AE$38,AE9)+2)","v":0},null,{"$f":"AA96","v":0},{"$f":"RANK(AH9,AH$9:AH$38,0)+COUNTIF(AH9:$AH$9,AH9)-1","v":1},{"$f":"RANK(AH9,AH$9:AH$38,0)","v":1},{"$f":"IF(ISBLANK($C9),0,1)*INDEX('Allocation Points'!$B$3:$AG$32,AJ9,COUNTIF(AJ$9:AJ$38,AJ9)+2)","v":0},null,{"$f":"AA94","v":180},{"$f":"RANK(AM9,AM$9:AM$38,1)+COUNTIF(AM9:$AM$9,AM9)-1","v":1},{"$f":"RANK(AM9,AM$9:AM$38,1)","v":1},{"$f":"IF(ISBLANK($C9),0,1)*INDEX('Allocation Points'!$B$3:$AG$32,AO9,COUNTIF(AO$9:AO$38,AO9)+2)","v":0}]
[null,2,null,null,20,null,10,10,10,10,10,10,10,10,10,90,10,10,10,10,10,10,10,10,10,90,180,null,{"$f":"$AA$118","v":0},{"$f":"RANK(AC10,AC$9:AC$38,0)+COUNTIF(AC$9:$AC10,AC10)-1","v":2},{"$f":"RANK(AC10,AC$9:AC$38,0)","v":1},{"$f":"IF(ISBLANK($C10),0,1)*INDEX('Allocation Points'!$B$3:$AG$32,AE10,COUNTIF(AE$9:AE$38,AE10)+2)","v":0},null,{"$f":"AA119","v":0},{"$f":"RANK(AH10,AH$9:AH$38,0)+COUNTIF(AH$9:$AH10,AH10)-1","v":2},{"$f":"RANK(AH10,AH$9:AH$38,0)","v":1},{"$f":"IF(ISBLANK($C10),0,1)*INDEX('Allocation Points'!$B$3:$AG$32,AJ10,COUNTIF(AJ$9:AJ$38,AJ10)+2)","v":0},null,{"$f":"AA117","v":180},{"$f":"RANK(AM10,AM$9:AM$38,1)+COUNTIF(AM$9:$AM10,AM10)-1","v":2},{"$f":"RANK(AM10,AM$9:AM$38,1)","v":1},{"$f":"IF(ISBLANK($C10),0,1)*INDEX('Allocation Points'!$B$3:$AG$32,AO10,COUNTIF(AO$9:AO$38,AO10)+2)","v":0}]
[null,3,null,null,20,null,10,10,10,10,10,10,10,10,10,90,10,10,10,10,10,10,10,10,10,90,180,null,{"$f":"$AA$141","v":0},{"$f":"RANK(AC11,AC$9:AC$38,0)+COUNTIF(AC$9:$AC11,AC11)-1","v":3},1,{"$f":"IF(ISBLANK($C11),0,1)*INDEX('Allocation Points'!$B$3:$AG$32,AE11,COUNTIF(AE$9:AE$38,AE11)+2)","v":0},null,{"$f":"AA142","v":0},{"$f":"RANK(AH11,AH$9:AH$38,0)+COUNTIF(AH$9:$AH11,AH11)-1","v":3},1,{"$f":"IF(ISBLANK($C11),0,1)*INDEX('Allocation Points'!$B$3:$AG$32,AJ11,COUNTIF(AJ$9:AJ$38,AJ11)+2)","v":0},null,{"$f":"AA140","v":180},{"$f":"RANK(AM11,AM$9:AM$38,1)+COUNTIF(AM$9:$AM11,AM11)-1","v":3},1,{"$f":"IF(ISBLANK($C11),0,1)*INDEX('Allocation Points'!$B$3:$AG$32,AO11,COUNTIF(AO$9:AO$38,AO11)+2)","v":0}]
[null,4,null,null,20,null,10,10,10,10,10,10,10,10,10,90,10,10,10,10,10,10,10,10,10,90,180,null,{"$f":"$AA$164","v":0},{"$f":"RANK(AC12,AC$9:AC$38,0)+COUNTIF(AC$9:$AC12,AC12)-1","v":4},1,{"$f":"IF(ISBLANK($C12),0,1)*INDEX('Allocation Points'!$B$3:$AG$32,AE12,COUNTIF(AE$9:AE$38,AE12)+2)","v":0},null,{"$f":"AA165","v":0},{"$f":"RANK(AH12,AH$9:AH$38,0)+COUNTIF(AH$9:$AH12,AH12)-1","v":4},1,{"$f":"IF(ISBLANK($C12),0,1)*INDEX('Allocation Points'!$B$3:$AG$32,AJ12,COUNTIF(AJ$9:AJ$38,AJ12)+2)","v":0},null,{"$f":"AA163","v":180},{"$f":"RANK(AM12,AM$9:AM$38,1)+COUNTIF(AM$9:$AM12,AM12)-1","v":4},1,{"$f":"IF(ISBLANK($C12),0,1)*INDEX('Allocation Points'!$B$3:$AG$32,AO12,COUNTIF(AO$9:AO$38,AO12)+2)","v":0}]
[null,5,null,null,20,null,10,10,10,10,10,10,10,10,10,90,10,10,10,10,10,10,10,10,10,90,180,null,{"$f":"$AA$187","v":0},{"$f":"RANK(AC13,AC$9:AC$38,0)+COUNTIF(AC$9:$AC13,AC13)-1","v":5},1,{"$f":"IF(ISBLANK($C13),0,1)*INDEX('Allocation Points'!$B$3:$AG$32,AE13,COUNTIF(AE$9:AE$38,AE13)+2)","v":0},null,{"$f":"AA188","v":0},{"$f":"RANK(AH13,AH$9:AH$38,0)+COUNTIF(AH$9:$AH13,AH13)-1","v":5},1,{"$f":"IF(ISBLANK($C13),0,1)*INDEX('Allocation Points'!$B$3:$AG$32,AJ13,COUNTIF(AJ$9:AJ$38,AJ13)+2)","v":0},null,{"$f":"AA186","v":180},{"$f":"RANK(AM13,AM$9:AM$38,1)+COUNTIF(AM$9:$AM13,AM13)-1","v":5},1,{"$f":"IF(ISBLANK($C13),0,1)*INDEX('Allocation Points'!$B$3:$AG$32,AO13,COUNTIF(AO$9:AO$38,AO13)+2)","v":0}]
[null,6,null,null,20,null,10,10,10,10,10,10,10,10,10,90,10,10,10,10,10,10,10,10,10,90,180,null,{"$f":"$AA$210","v":0},{"$f":"RANK(AC14,AC$9:AC$38,0)+COUNTIF(AC$9:$AC14,AC14)-1","v":6},1,{"$f":"IF(ISBLANK($C14),0,1)*INDEX('Allocation Points'!$B$3:$AG$32,AE14,COUNTIF(AE$9:AE$38,AE14)+2)","v":0},null,{"$f":"AA211","v":0},{"$f":"RANK(AH14,AH$9:AH$38,0)+COUNTIF(AH$9:$AH14,AH14)-1","v":6},1,{"$f":"IF(ISBLANK($C14),0,1)*INDEX('Allocation Points'!$B$3:$AG$32,AJ14,COUNTIF(AJ$9:AJ$38,AJ14)+2)","v":0},null,{"$f":"AA209","v":180},{"$f":"RANK(AM14,AM$9:AM$38,1)+COUNTIF(AM$9:$AM14,AM14)-1","v":6},1,{"$f":"IF(ISBLANK($C14),0,1)*INDEX('Allocation Points'!$B$3:$AG$32,AO14,COUNTIF(AO$9:AO$38,AO14)+2)","v":0}]
[null,7,null,null,20,null,10,10,10,10,10,10,10,10,10,90,10,10,10,10,10,10,10,10,10,90,180,null,{"$f":"$AA$233","v":0},{"$f":"RANK(AC15,AC$9:AC$38,0)+COUNTIF(AC$9:$AC15,AC15)-1","v":7},1,{"$f":"IF(ISBLANK($C15),0,1)*INDEX('Allocation Points'!$B$3:$AG$32,AE15,COUNTIF(AE$9:AE$38,AE15)+2)","v":0},null,{"$f":"AA234","v":0},{"$f":"RANK(AH15,AH$9:AH$38,0)+COUNTIF(AH$9:$AH15,AH15)-1","v":7},1,{"$f":"IF(ISBLANK($C15),0,1)*INDEX('Allocation Points'!$B$3:$AG$32,AJ15,COUNTIF(AJ$9:AJ$38,AJ15)+2)","v":0},null,{"$f":"AA232","v":180},{"$f":"RANK(AM15,AM$9:AM$38,1)+COUNTIF(AM$9:$AM15,AM15)-1","v":7},1,{"$f":"IF(ISBLANK($C15),0,1)*INDEX('Allocation Points'!$B$3:$AG$32,AO15,COUNTIF(AO$9:AO$38,AO15)+2)","v":0}]
[null,8,null,null,20,null,10,10,10,10,10,10,10,10,10,90,10,10,10,10,10,10,10,10,10,90,180,null,{"$f":"$AA$256","v":0},{"$f":"RANK(AC16,AC$9:AC$38,0)+COUNTIF(AC$9:$AC16,AC16)-1","v":8},1,{"$f":"IF(ISBLANK($C16),0,1)*INDEX('Allocation Points'!$B$3:$AG$32,AE16,COUNTIF(AE$9:AE$38,AE16)+2)","v":0},null,{"$f":"AA257","v":0},{"$f":"RANK(AH16,AH$9:AH$38,0)+COUNTIF(AH$9:$AH16,AH16)-1","v":8},1,{"$f":"IF(ISBLANK($C16),0,1)*INDEX('Allocation Points'!$B$3:$AG$32,AJ16,COUNTIF(AJ$9:AJ$38,AJ16)+2)","v":0},null,{"$f":"AA255","v":180},{"$f":"RANK(AM16,AM$9:AM$38,1)+COUNTIF(AM$9:$AM16,AM16)-1","v":8},1,{"$f":"IF(ISBLANK($C16),0,1)*INDEX('Allocation Points'!$B$3:$AG$32,AO16,COUNTIF(AO$9:AO$38,AO16)+2)","v":0}]
[null,9,null,null,20,null,10,10,10,10,10,10,10,10,10,90,10,10,10,10,10,10,10,10,10,90,180,null,{"$f":"$AA$279","v":0},{"$f":"RANK(AC17,AC$9:AC$38,0)+COUNTIF(AC$9:$AC17,AC17)-1","v":9},1,{"$f":"IF(ISBLANK($C17),0,1)*INDEX('Allocation Points'!$B$3:$AG$32,AE17,COUNTIF(AE$9:AE$38,AE17)+2)","v":0},null,{"$f":"AA280","v":0},{"$f":"RANK(AH17,AH$9:AH$38,0)+COUNTIF(AH$9:$AH17,AH17)-1","v":9},1,{"$f":"IF(ISBLANK($C17),0,1)*INDEX('Allocation Points'!$B$3:$AG$32,AJ17,COUNTIF(AJ$9:AJ$38,AJ17)+2)","v":0},null,{"$f":"AA278","v":180},{"$f":"RANK(AM17,AM$9:AM$38,1)+COUNTIF(AM$9:$AM17,AM17)-1","v":9},1,{"$f":"IF(ISBLANK($C17),0,1)*INDEX('Allocation Points'!$B$3:$AG$32,AO17,COUNTIF(AO$9:AO$38,AO17)+2)","v":0}]
[null,10,null,null,20,null,10,10,10,10,10,10,10,10,10,90,10,10,10,10,10,10,10,10,10,90,180,null,{"$f":"$AA$302","v":0},{"$f":"RANK(AC18,AC$9:AC$38,0)+COUNTIF(AC$9:$AC18,AC18)-1","v":10},1,{"$f":"IF(ISBLANK($C18),0,1)*INDEX('Allocation Points'!$B$3:$AG$32,AE18,COUNTIF(AE$9:AE$38,AE18)+2)","v":0},null,{"$f":"AA303","v":0},{"$f":"RANK(AH18,AH$9:AH$38,0)+COUNTIF(AH$9:$AH18,AH18)-1","v":10},1,{"$f":"IF(ISBLANK($C18),0,1)*INDEX('Allocation Points'!$B$3:$AG$32,AJ18,COUNTIF(AJ$9:AJ$38,AJ18)+2)","v":0},null,{"$f":"AA301","v":180},{"$f":"RANK(AM18,AM$9:AM$38,1)+COUNTIF(AM$9:$AM18,AM18)-1","v":10},1,{"$f":"IF(ISBLANK($C18),0,1)*INDEX('Allocation Points'!$B$3:$AG$32,AO18,COUNTIF(AO$9:AO$38,AO18)+2)","v":0}]
[null,11,null,null,20,null,10,10,10,10,10,10,10,10,10,90,10,10,10,10,10,10,10,10,10,90,180,null,{"$f":"$AA$325","v":0},{"$f":"RANK(AC19,AC$9:AC$38,0)+COUNTIF(AC$9:$AC19,AC19)-1","v":11},1,{"$f":"IF(ISBLANK($C19),0,1)*INDEX('Allocation Points'!$B$3:$AG$32,AE19,COUNTIF(AE$9:AE$38,AE19)+2)","v":0},null,{"$f":"AA326","v":0},{"$f":"RANK(AH19,AH$9:AH$38,0)+COUNTIF(AH$9:$AH19,AH19)-1","v":11},1,{"$f":"IF(ISBLANK($C19),0,1)*INDEX('Allocation Points'!$B$3:$AG$32,AJ19,COUNTIF(AJ$9:AJ$38,AJ19)+2)","v":0},null,{"$f":"AA324","v":180},{"$f":"RANK(AM19,AM$9:AM$38,1)+COUNTIF(AM$9:$AM19,AM19)-1","v":11},1,{"$f":"IF(ISBLANK($C19),0,1)*INDEX('Allocation Points'!$B$3:$AG$32,AO19,COUNTIF(AO$9:AO$38,AO19)+2)","v":0}]
[null,12,null,null,20,null,10,10,10,10,10,10,10,10,10,90,10,10,10,10,10,10,10,10,10,90,180,null,{"$f":"$AA$348","v":0},{"$f":"RANK(AC20,AC$9:AC$38,0)+COUNTIF(AC$9:$AC20,AC20)-1","v":12},1,{"$f":"IF(ISBLANK($C20),0,1)*INDEX('Allocation Points'!$B$3:$AG$32,AE20,COUNTIF(AE$9:AE$38,AE20)+2)","v":0},null,{"$f":"AA349","v":0},{"$f":"RANK(AH20,AH$9:AH$38,0)+COUNTIF(AH$9:$AH20,AH20)-1","v":12},1,{"$f":"IF(ISBLANK($C20),0,1)*INDEX('Allocation Points'!$B$3:$AG$32,AJ20,COUNTIF(AJ$9:AJ$38,AJ20)+2)","v":0},null,{"$f":"AA347","v":180},{"$f":"RANK(AM20,AM$9:AM$38,1)+COUNTIF(AM$9:$AM20,AM20)-1","v":12},1,{"$f":"IF(ISBLANK($C20),0,1)*INDEX('Allocation Points'!$B$3:$AG$32,AO20,COUNTIF(AO$9:AO$38,AO20)+2)","v":0}]
[null,13,null,null,20,null,10,10,10,10,10,10,10,10,10,90,10,10,10,10,10,10,10,10,10,90,180,null,{"$f":"$AA$371","v":0},{"$f":"RANK(AC21,AC$9:AC$38,0)+COUNTIF(AC$9:$AC21,AC21)-1","v":13},1,{"$f":"IF(ISBLANK($C21),0,1)*INDEX('Allocation Points'!$B$3:$AG$32,AE21,COUNTIF(AE$9:AE$38,AE21)+2)","v":0},null,{"$f":"AA372","v":0},{"$f":"RANK(AH21,AH$9:AH$38,0)+COUNTIF(AH$9:$AH21,AH21)-1","v":13},1,{"$f":"IF(ISBLANK($C21),0,1)*INDEX('Allocation Points'!$B$3:$AG$32,AJ21,COUNTIF(AJ$9:AJ$38,AJ21)+2)","v":0},null,{"$f":"AA370","v":180},{"$f":"RANK(AM21,AM$9:AM$38,1)+COUNTIF(AM$9:$AM21,AM21)-1","v":13},1,{"$f":"IF(ISBLANK($C21),0,1)*INDEX('Allocation Points'!$B$3:$AG$32,AO21,COUNTIF(AO$9:AO$38,AO21)+2)","v":0}]
[null,14,null,null,20,null,10,10,10,10,10,10,10,10,10,90,10,10,10,10,10,10,10,10,10,90,180,null,{"$f":"$AA$394","v":0},{"$f":"RANK(AC22,AC$9:AC$38,0)+COUNTIF(AC$9:$AC22,AC22)-1","v":14},1,{"$f":"IF(ISBLANK($C22),0,1)*INDEX('Allocation Points'!$B$3:$AG$32,AE22,COUNTIF(AE$9:AE$38,AE22)+2)","v":0},null,{"$f":"AA395","v":0},{"$f":"RANK(AH22,AH$9:AH$38,0)+COUNTIF(AH$9:$AH22,AH22)-1","v":14},1,{"$f":"IF(ISBLANK($C22),0,1)*INDEX('Allocation Points'!$B$3:$AG$32,AJ22,COUNTIF(AJ$9:AJ$38,AJ22)+2)","v":0},null,{"$f":"AA393","v":180},{"$f":"RANK(AM22,AM$9:AM$38,1)+COUNTIF(AM$9:$AM22,AM22)-1","v":14},1,{"$f":"IF(ISBLANK($C22),0,1)*INDEX('Allocation Points'!$B$3:$AG$32,AO22,COUNTIF(AO$9:AO$38,AO22)+2)","v":0}]
[null,15,null,null,20,null,10,10,10,10,10,10,10,10,10,90,10,10,10,10,10,10,10,10,10,90,180,null,{"$f":"$AA$417","v":0},{"$f":"RANK(AC23,AC$9:AC$38,0)+COUNTIF(AC$9:$AC23,AC23)-1","v":15},1,{"$f":"IF(ISBLANK($C23),0,1)*INDEX('Allocation Points'!$B$3:$AG$32,AE23,COUNTIF(AE$9:AE$38,AE23)+2)","v":0},null,{"$f":"AA418","v":0},{"$f":"RANK(AH23,AH$9:AH$38,0)+COUNTIF(AH$9:$AH23,AH23)-1","v":15},1,{"$f":"IF(ISBLANK($C23),0,1)*INDEX('Allocation Points'!$B$3:$AG$32,AJ23,COUNTIF(AJ$9:AJ$38,AJ23)+2)","v":0},null,{"$f":"AA416","v":180},{"$f":"RANK(AM23,AM$9:AM$38,1)+COUNTIF(AM$9:$AM23,AM23)-1","v":15},1,{"$f":"IF(ISBLANK($C23),0,1)*INDEX('Allocation Points'!$B$3:$AG$32,AO23,COUNTIF(AO$9:AO$38,AO23)+2)","v":0}]
[null,16,null,null,20,null,10,10,10,10,10,10,10,10,10,90,10,10,10,10,10,10,10,10,10,90,180,null,{"$f":"$AA$440","v":0},{"$f":"RANK(AC24,AC$9:AC$38,0)+COUNTIF(AC$9:$AC24,AC24)-1","v":16},1,{"$f":"IF(ISBLANK($C24),0,1)*INDEX('Allocation Points'!$B$3:$AG$32,AE24,COUNTIF(AE$9:AE$38,AE24)+2)","v":0},null,{"$f":"AA441","v":0},{"$f":"RANK(AH24,AH$9:AH$38,0)+COUNTIF(AH$9:$AH24,AH24)-1","v":16},1,{"$f":"IF(ISBLANK($C24),0,1)*INDEX('Allocation Points'!$B$3:$AG$32,AJ24,COUNTIF(AJ$9:AJ$38,AJ24)+2)","v":0},null,{"$f":"AA439","v":180},{"$f":"RANK(AM24,AM$9:AM$38,1)+COUNTIF(AM$9:$AM24,AM24)-1","v":16},1,{"$f":"IF(ISBLANK($C24),0,1)*INDEX('Allocation Points'!$B$3:$AG$32,AO24,COUNTIF(AO$9:AO$38,AO24)+2)","v":0}]
[null,17,null,null,20,null,10,10,10,10,10,10,10,10,10,90,10,10,10,10,10,10,10,10,10,90,180,null,{"$f":"$AA$463","v":0},{"$f":"RANK(AC25,AC$9:AC$38,0)+COUNTIF(AC$9:$AC25,AC25)-1","v":17},1,{"$f":"IF(ISBLANK($C25),0,1)*INDEX('Allocation Points'!$B$3:$AG$32,AE25,COUNTIF(AE$9:AE$38,AE25)+2)","v":0},null,{"$f":"AA464","v":0},{"$f":"RANK(AH25,AH$9:AH$38,0)+COUNTIF(AH$9:$AH25,AH25)-1","v":17},1,{"$f":"IF(ISBLANK($C25),0,1)*INDEX('Allocation Points'!$B$3:$AG$32,AJ25,COUNTIF(AJ$9:AJ$38,AJ25)+2)","v":0},null,{"$f":"AA462","v":180},{"$f":"RANK(AM25,AM$9:AM$38,1)+COUNTIF(AM$9:$AM25,AM25)-1","v":17},1,{"$f":"IF(ISBLANK($C25),0,1)*INDEX('Allocation Points'!$B$3:$AG$32,AO25,COUNTIF(AO$9:AO$38,AO25)+2)","v":0}]
[null,18,null,null,20,null,10,10,10,10,10,10,10,10,10,90,10,10,10,10,10,10,10,10,10,90,180,null,{"$f":"$AA$486","v":0},{"$f":"RANK(AC26,AC$9:AC$38,0)+COUNTIF(AC$9:$AC26,AC26)-1","v":18},1,{"$f":"IF(ISBLANK($C26),0,1)*INDEX('Allocation Points'!$B$3:$AG$32,AE26,COUNTIF(AE$9:AE$38,AE26)+2)","v":0},null,{"$f":"AA487","v":0},{"$f":"RANK(AH26,AH$9:AH$38,0)+COUNTIF(AH$9:$AH26,AH26)-1","v":18},1,{"$f":"IF(ISBLANK($C26),0,1)*INDEX('Allocation Points'!$B$3:$AG$32,AJ26,COUNTIF(AJ$9:AJ$38,AJ26)+2)","v":0},null,{"$f":"AA485","v":180},{"$f":"RANK(AM26,AM$9:AM$38,1)+COUNTIF(AM$9:$AM26,AM26)-1","v":18},1,{"$f":"IF(ISBLANK($C26),0,1)*INDEX('Allocation Points'!$B$3:$AG$32,AO26,COUNTIF(AO$9:AO$38,AO26)+2)","v":0}]
[null,19,null,null,20,null,10,10,10,10,10,10,10,10,10,90,10,10,10,10,10,10,10,10,10,90,180,null,{"$f":"$AA$509","v":0},{"$f":"RANK(AC27,AC$9:AC$38,0)+COUNTIF(AC$9:$AC27,AC27)-1","v":19},1,{"$f":"IF(ISBLANK($C27),0,1)*INDEX('Allocation Points'!$B$3:$AG$32,AE27,COUNTIF(AE$9:AE$38,AE27)+2)","v":0},null,{"$f":"AA510","v":0},{"$f":"RANK(AH27,AH$9:AH$38,0)+COUNTIF(AH$9:$AH27,AH27)-1","v":19},1,{"$f":"IF(ISBLANK($C27),0,1)*INDEX('Allocation Points'!$B$3:$AG$32,AJ27,COUNTIF(AJ$9:AJ$38,AJ27)+2)","v":0},null,{"$f":"AA508","v":180},{"$f":"RANK(AM27,AM$9:AM$38,1)+COUNTIF(AM$9:$AM27,AM27)-1","v":19},1,{"$f":"IF(ISBLANK($C27),0,1)*INDEX('Allocation Points'!$B$3:$AG$32,AO27,COUNTIF(AO$9:AO$38,AO27)+2)","v":0}]
[null,20,null,null,20,null,10,10,10,10,10,10,10,10,10,90,10,10,10,10,10,10,10,10,10,90,180,null,{"$f":"$AA$532","v":0},{"$f":"RANK(AC28,AC$9:AC$38,0)+COUNTIF(AC$9:$AC28,AC28)-1","v":20},1,{"$f":"IF(ISBLANK($C28),0,1)*INDEX('Allocation Points'!$B$3:$AG$32,AE28,COUNTIF(AE$9:AE$38,AE28)+2)","v":0},null,{"$f":"AA533","v":0},{"$f":"RANK(AH28,AH$9:AH$38,0)+COUNTIF(AH$9:$AH28,AH28)-1","v":20},1,{"$f":"IF(ISBLANK($C28),0,1)*INDEX('Allocation Points'!$B$3:$AG$32,AJ28,COUNTIF(AJ$9:AJ$38,AJ28)+2)","v":0},null,{"$f":"AA531","v":180},{"$f":"RANK(AM28,AM$9:AM$38,1)+COUNTIF(AM$9:$AM28,AM28)-1","v":20},1,{"$f":"IF(ISBLANK($C28),0,1)*INDEX('Allocation Points'!$B$3:$AG$32,AO28,COUNTIF(AO$9:AO$38,AO28)+2)","v":0}]
[null,21,null,null,20,null,10,10,10,10,10,10,10,10,10,90,10,10,10,10,10,10,10,10,10,90,180,null,{"$f":"$AA$555","v":0},{"$f":"RANK(AC29,AC$9:AC$38,0)+COUNTIF(AC$9:$AC29,AC29)-1","v":21},1,{"$f":"IF(ISBLANK($C29),0,1)*INDEX('Allocation Points'!$B$3:$AG$32,AE29,COUNTIF(AE$9:AE$38,AE29)+2)","v":0},null,{"$f":"AA556","v":0},{"$f":"RANK(AH29,AH$9:AH$38,0)+COUNTIF(AH$9:$AH29,AH29)-1","v":21},1,{"$f":"IF(ISBLANK($C29),0,1)*INDEX('Allocation Points'!$B$3:$AG$32,AJ29,COUNTIF(AJ$9:AJ$38,AJ29)+2)","v":0},null,{"$f":"AA554","v":180},{"$f":"RANK(AM29,AM$9:AM$38,1)+COUNTIF(AM$9:$AM29,AM29)-1","v":21},1,{"$f":"IF(ISBLANK($C29),0,1)*INDEX('Allocation Points'!$B$3:$AG$32,AO29,COUNTIF(AO$9:AO$38,AO29)+2)","v":0}]
[null,22,null,null,20,null,10,10,10,10,10,10,10,10,10,90,10,10,10,10,10,10,10,10,10,90,180,null,{"$f":"$AA$578","v":0},{"$f":"RANK(AC30,AC$9:AC$38,0)+COUNTIF(AC$9:$AC30,AC30)-1","v":22},1,{"$f":"IF(ISBLANK($C30),0,1)*INDEX('Allocation Points'!$B$3:$AG$32,AE30,COUNTIF(AE$9:AE$38,AE30)+2)","v":0},null,{"$f":"AA579","v":0},{"$f":"RANK(AH30,AH$9:AH$38,0)+COUNTIF(AH$9:$AH30,AH30)-1","v":22},1,{"$f":"IF(ISBLANK($C30),0,1)*INDEX('Allocation Points'!$B$3:$AG$32,AJ30,COUNTIF(AJ$9:AJ$38,AJ30)+2)","v":0},null,{"$f":"AA577","v":180},{"$f":"RANK(AM30,AM$9:AM$38,1)+COUNTIF(AM$9:$AM30,AM30)-1","v":22},1,{"$f":"IF(ISBLANK($C30),0,1)*INDEX('Allocation Points'!$B$3:$AG$32,AO30,COUNTIF(AO$9:AO$38,AO30)+2)","v":0}]
[null,23,null,null,20,null,10,10,10,10,10,10,10,10,10,90,10,10,10,10,10,10,10,10,10,90,180,null,{"$f":"$AA$601","v":0},{"$f":"RANK(AC31,AC$9:AC$38,0)+COUNTIF(AC$9:$AC31,AC31)-1","v":23},1,{"$f":"IF(ISBLANK($C31),0,1)*INDEX('Allocation Points'!$B$3:$AG$32,AE31,COUNTIF(AE$9:AE$38,AE31)+2)","v":0},null,{"$f":"AA602","v":0},{"$f":"RANK(AH31,AH$9:AH$38,0)+COUNTIF(AH$9:$AH31,AH31)-1","v":23},1,{"$f":"IF(ISBLANK($C31),0,1)*INDEX('Allocation Points'!$B$3:$AG$32,AJ31,COUNTIF(AJ$9:AJ$38,AJ31)+2)","v":0},null,{"$f":"AA600","v":180},{"$f":"RANK(AM31,AM$9:AM$38,1)+COUNTIF(AM$9:$AM31,AM31)-1","v":23},1,{"$f":"IF(ISBLANK($C31),0,1)*INDEX('Allocation Points'!$B$3:$AG$32,AO31,COUNTIF(AO$9:AO$38,AO31)+2)","v":0}]
[null,24,null,null,20,null,10,10,10,10,10,10,10,10,10,90,10,10,10,10,10,10,10,10,10,90,180,null,{"$f":"$AA$624","v":0},{"$f":"RANK(AC32,AC$9:AC$38,0)+COUNTIF(AC$9:$AC32,AC32)-1","v":24},1,{"$f":"IF(ISBLANK($C32),0,1)*INDEX('Allocation Points'!$B$3:$AG$32,AE32,COUNTIF(AE$9:AE$38,AE32)+2)","v":0},null,{"$f":"AA625","v":0},{"$f":"RANK(AH32,AH$9:AH$38,0)+COUNTIF(AH$9:$AH32,AH32)-1","v":24},1,{"$f":"IF(ISBLANK($C32),0,1)*INDEX('Allocation Points'!$B$3:$AG$32,AJ32,COUNTIF(AJ$9:AJ$38,AJ32)+2)","v":0},null,{"$f":"AA623","v":180},{"$f":"RANK(AM32,AM$9:AM$38,1)+COUNTIF(AM$9:$AM32,AM32)-1","v":24},1,{"$f":"IF(ISBLANK($C32),0,1)*INDEX('Allocation Points'!$B$3:$AG$32,AO32,COUNTIF(AO$9:AO$38,AO32)+2)","v":0}]
[null,25,null,null,20,null,10,10,10,10,10,10,10,10,10,90,10,10,10,10,10,10,10,10,10,90,180,null,{"$f":"$AA$647","v":0},{"$f":"RANK(AC33,AC$9:AC$38,0)+COUNTIF(AC$9:$AC33,AC33)-1","v":25},1,{"$f":"IF(ISBLANK($C33),0,1)*INDEX('Allocation Points'!$B$3:$AG$32,AE33,COUNTIF(AE$9:AE$38,AE33)+2)","v":0},null,{"$f":"AA648","v":0},{"$f":"RANK(AH33,AH$9:AH$38,0)+COUNTIF(AH$9:$AH33,AH33)-1","v":25},1,{"$f":"IF(ISBLANK($C33),0,1)*INDEX('Allocation Points'!$B$3:$AG$32,AJ33,COUNTIF(AJ$9:AJ$38,AJ33)+2)","v":0},null,{"$f":"AA646","v":180},{"$f":"RANK(AM33,AM$9:AM$38,1)+COUNTIF(AM$9:$AM33,AM33)-1","v":25},1,{"$f":"IF(ISBLANK($C33),0,1)*INDEX('Allocation Points'!$B$3:$AG$32,AO33,COUNTIF(AO$9:AO$38,AO33)+2)","v":0}]
[null,26,null,null,20,null,10,10,10,10,10,10,10,10,10,90,10,10,10,10,10,10,10,10,10,90,180,null,{"$f":"$AA$670","v":0},{"$f":"RANK(AC34,AC$9:AC$38,0)+COUNTIF(AC$9:$AC34,AC34)-1","v":26},1,{"$f":"IF(ISBLANK($C34),0,1)*INDEX('Allocation Points'!$B$3:$AG$32,AE34,COUNTIF(AE$9:AE$38,AE34)+2)","v":0},null,{"$f":"AA671","v":0},{"$f":"RANK(AH34,AH$9:AH$38,0)+COUNTIF(AH$9:$AH34,AH34)-1","v":26},1,{"$f":"IF(ISBLANK($C34),0,1)*INDEX('Allocation Points'!$B$3:$AG$32,AJ34,COUNTIF(AJ$9:AJ$38,AJ34)+2)","v":0},null,{"$f":"AA669","v":180},{"$f":"RANK(AM34,AM$9:AM$38,1)+COUNTIF(AM$9:$AM34,AM34)-1","v":26},1,{"$f":"IF(ISBLANK($C34),0,1)*INDEX('Allocation Points'!$B$3:$AG$32,AO34,COUNTIF(AO$9:AO$38,AO34)+2)","v":0}]
[null,27,null,null,20,null,10,10,10,10,10,10,10,10,10,90,10,10,10,10,10,10,10,10,10,90,180,null,{"$f":"$AA$693","v":0},{"$f":"RANK(AC35,AC$9:AC$38,0)+COUNTIF(AC$9:$AC35,AC35)-1","v":27},1,{"$f":"IF(ISBLANK($C35),0,1)*INDEX('Allocation Points'!$B$3:$AG$32,AE35,COUNTIF(AE$9:AE$38,AE35)+2)","v":0},null,{"$f":"AA694","v":0},{"$f":"RANK(AH35,AH$9:AH$38,0)+COUNTIF(AH$9:$AH35,AH35)-1","v":27},1,{"$f":"IF(ISBLANK($C35),0,1)*INDEX('Allocation Points'!$B$3:$AG$32,AJ35,COUNTIF(AJ$9:AJ$38,AJ35)+2)","v":0},null,{"$f":"AA692","v":180},{"$f":"RANK(AM35,AM$9:AM$38,1)+COUNTIF(AM$9:$AM35,AM35)-1","v":27},1,{"$f":"IF(ISBLANK($C35),0,1)*INDEX('Allocation Points'!$B$3:$AG$32,AO35,COUNTIF(AO$9:AO$38,AO35)+2)","v":0}]
[null,28,null,null,20,null,10,10,10,10,10,10,10,10,10,90,10,10,10,10,10,10,10,10,10,90,180,null,{"$f":"$AA$716","v":0},{"$f":"RANK(AC36,AC$9:AC$38,0)+COUNTIF(AC$9:$AC36,AC36)-1","v":28},1,{"$f":"IF(ISBLANK($C36),0,1)*INDEX('Allocation Points'!$B$3:$AG$32,AE36,COUNTIF(AE$9:AE$38,AE36)+2)","v":0},null,{"$f":"AA717","v":0},{"$f":"RANK(AH36,AH$9:AH$38,0)+COUNTIF(AH$9:$AH36,AH36)-1","v":28},1,{"$f":"IF(ISBLANK($C36),0,1)*INDEX('Allocation Points'!$B$3:$AG$32,AJ36,COUNTIF(AJ$9:AJ$38,AJ36)+2)","v":0},null,{"$f":"AA715","v":180},{"$f":"RANK(AM36,AM$9:AM$38,1)+COUNTIF(AM$9:$AM36,AM36)-1","v":28},1,{"$f":"IF(ISBLANK($C36),0,1)*INDEX('Allocation Points'!$B$3:$AG$32,AO36,COUNTIF(AO$9:AO$38,AO36)+2)","v":0}]
[null,29,null,null,20,null,10,10,10,10,10,10,10,10,10,90,10,10,10,10,10,10,10,10,10,90,180,null,{"$f":"$AA$739","v":0},{"$f":"RANK(AC37,AC$9:AC$38,0)+COUNTIF(AC$9:$AC37,AC37)-1","v":29},1,{"$f":"IF(ISBLANK($C37),0,1)*INDEX('Allocation Points'!$B$3:$AG$32,AE37,COUNTIF(AE$9:AE$38,AE37)+2)","v":0},null,{"$f":"AA740","v":0},{"$f":"RANK(AH37,AH$9:AH$38,0)+COUNTIF(AH$9:$AH37,AH37)-1","v":29},1,{"$f":"IF(ISBLANK($C37),0,1)*INDEX('Allocation Points'!$B$3:$AG$32,AJ37,COUNTIF(AJ$9:AJ$38,AJ37)+2)","v":0},null,{"$f":"AA738","v":180},{"$f":"RANK(AM37,AM$9:AM$38,1)+COUNTIF(AM$9:$AM37,AM37)-1","v":29},1,{"$f":"IF(ISBLANK($C37),0,1)*INDEX('Allocation Points'!$B$3:$AG$32,AO37,COUNTIF(AO$9:AO$38,AO37)+2)","v":0}]
[null,30,null,null,20,null,10,10,10,10,10,10,10,10,10,90,10,10,10,10,10,10,10,10,10,90,180,null,{"$f":"$AA$762","v":0},{"$f":"RANK(AC38,AC$9:AC$38,0)+COUNTIF(AC$9:$AC38,AC38)-1","v":30},1,{"$f":"IF(ISBLANK($C38),0,1)*INDEX('Allocation Points'!$B$3:$AG$32,AE38,COUNTIF(AE$9:AE$38,AE38)+2)","v":0},null,{"$f":"AA763","v":0},{"$f":"RANK(AH38,AH$9:AH$38,0)+COUNTIF(AH$9:$AH38,AH38)-1","v":30},1,{"$f":"IF(ISBLANK($C38),0,1)*INDEX('Allocation Points'!$B$3:$AG$32,AJ38,COUNTIF(AJ$9:AJ$38,AJ38)+2)","v":0},null,{"$f":"AA761","v":180},{"$f":"RANK(AM38,AM$9:AM$38,1)+COUNTIF(AM$9:$AM38,AM38)-1","v":30},1,{"$f":"IF(ISBLANK($C38),0,1)*INDEX('Allocation Points'!$B$3:$AG$32,AO38,COUNTIF(AO$9:AO$38,AO38)+2)","v":0}]
[]
[]
[null,null,null,null,null,null,null,"CLASSEMENT"]
[]
[]
[]
[null,null,"NET",null,null,null,null,null,null,"BRUT",null,null,null,null,null,null,null,null,null,null,null,"STROKE"]
[]
[null,null,"Noms","Prénoms","NET",null,null,null,null,"Noms",null,null,null,"Prénoms",null,null,"BRUT",null,null,null,null,"Noms",null,null,null,"Prénoms",null,"STROKE"]
[null,1,{"$f":"INDEX($C$9:$AN$38,MATCH(B48,$AD$9:$AD$38,0),1)","v":0},{"$f":"INDEX($C$9:$AN$38,MATCH(B48,$AD$9:$AD$38,0),2)","v":0},{"$f":"INDEX($C$9:$AN$38,MATCH(B48,$AD$9:$AD$38,0),27)","v":0},null,null,null,1,{"$f":"INDEX($C$9:$AN$38,MATCH(I48,$AI$9:$AI$38,0),1)","v":0},null,null,null,{"$f":"INDEX($C$9:$AN$38,MATCH(I48,$AI$9:$AI$38,0),2)","v":0},null,null,{"$f":"INDEX($C$9:$AN$38,MATCH(I48,$AI$9:$AI$38,0),32)","v":0},null,null,null,1,{"$f":"INDEX($C$9:$AN$38,MATCH(U48,$AN$9:$AN$38,0),1)","v":0},null,null,null,{"$f":"INDEX($C$9:$AN$38,MATCH(U48,$AN$9:$AN$38,0),2)","v":0},null,{"$f":"INDEX($C$9:$AN$38,MATCH(U48,$AN$9:$AN$38,0),37)","v":180}]
[null,2,0,0,0,null,null,null,2,0,null,null,null,0,null,null,{"$f":"INDEX($C$9:$AN$38,MATCH(I49,$AI$9:$AI$38,0),32)","v":0},null,null,null,2,0,null,null,null,0,null,{"$f":"INDEX($C$9:$AN$38,MATCH(U49,$AN$9:$AN$38,0),37)","v":180}]
[null,3,0,0,0,null,null,null,3,0,null,null,null,0,null,null,0,null,null,null,3,0,null,null,null,0,null,180]
[null,4,0,0,0,null,null,null,4,0,null,null,null,0,null,null,0,null,null,null,4,0,null,null,null,0,null,180]
[null,5,0,0,0,null,null,null,5,0,null,null,null,0,null,null,0,null,null,null,5,0,null,null,null,0,null,180]
[null,6,0,0,0,null,null,null,6,0,null,null,null,0,null,null,0,null,null,null,6,0,null,null,null,0,null,180]
[null,7,0,0,0,null,null,null,7,0,null,null,null,0,null,null,0,null,null,null,7,0,null,null,null,0,null,180]
[null,8,0,0,0,null,null,null,8,0,null,null,null,0,null,null,0,null,null,null,8,0,null,null,null,0,null,180]
[null,9,0,0,0,null,null,null,9,0,null,null,null,0,null,null,0,null,null,null,9,0,null,null,null,0,null,180]
[null,10,0,0,0,null,null,null,10,0,null,null,null,0,null,null,0,null,null,null,10,0,null,null,null,0,null,180]
[null,11,0,0,0,null,null,null,11,0,null,null,null,0,null,null,0,null,null,null,11,0,null,null,null,0,null,180]
[null,12,0,0,0,null,null,null,12,0,null,null,null,0,null,null,0,null,null,null,12,0,null,null,null,0,null,180]
[null,13,0,0,0,null,null,null,13,0,null,null,null,0,null,null,0,null,null,null,13,0,null,null,null,0,null,180]
[null,14,0,0,0,null,null,null,14,0,null,null,null,0,null,null,0,null,null,null,14,0,null,null,null,0,null,180]
[null,15,0,0,0,null,null,null,15,0,null,null,null,0,null,null,0,null,null,null,15,0,null,null,null,0,null,180]
[null,16,0,0,0,null,null,null,16,0,null,null,null,0,null,null,0,null,null,null,16,0,null,null,null,0,null,180]
[null,17,0,0,0,null,null,null,17,0,null,null,null,0,null,null,0,null,null,null,17,0,null,null,null,0,null,180]
[null,18,0,0,0,null,null,null,18,0,null,null,null,0,null,null,0,null,null,null,18,0,null,null,null,0,null,180]
[null,19,0,0,0,null,null,null,19,0,null,null,null,0,null,null,0,null,null,null,19,0,null,null,null,0,null,180]
[null,20,0,0,0,null,null,null,20,0,null,null,null,0,null,null,0,null,null,null,20,0,null,null,null,0,null,180]
[null,21,0,0,0,null,null,null,21,0,null,null,null,0,null,null,0,null,null,null,21,0,null,null,null,0,null,180]
[null,22,0,0,0,null,null,null,22,0,null,null,null,0,null,null,0,null,null,null,22,0,null,null,null,0,null,180]
[null,23,0,0,0,null,null,null,23,0,null,null,null,0,null,null,0,null,null,null,23,0,null,null,null,0,null,180]
[null,24,0,0,0,null,null,null,24,0,null,null,null,0,null,null,0,null,null,null,24,0,null,null,null,0,null,180]
[null,25,0,0,0,null,null,null,25,0,null,null,null,0,null,null,0,null,null,null,25,0,null,null,null,0,null,180]
[null,26,0,0,0,null,null,null,26,0,null,null,null,0,null,null,0,null,null,null,26,0,null,null,null,0,null,180]
[null,27,0,0,0,null,null,null,27,0,null,null,null,0,null,null,0,null,null,null,27,0,null,null,null,0,null,180]
[null,28,0,0,0,null,null,null,28,0,null,null,null,0,null,null,0,null,null,null,28,0,null,null,null,0,null,180]
[null,29,0,0,0,null,null,null,29,0,null,null,null,0,null,null,0,null,null,null,29,0,null,null,null,0,null,180]
[null,30,0,0,0,null,null,null,30,0,null,null,null,0,null,null,0,null,null,null,30,0,null,null,null,0,null,180]
[]
[]
[]
[null,null,null,null,null,null,null,"STATISTIQUES INDIVIDUELLES"]
[]
[]
[]
[]
[]
[null,null,null,null,null,"Nom",{"$f":"C9","v":0},null,null,null,null,"Slope",null,null,"SSS",null,"Coups reçus",null,null,null,null,null,null,null,null,"Date",{"$f":"$D$3","v":"00:00:00"}]
[null,null,null,null,null,"Index",{"$f":"E9","v":20},null,null,null,null,{"$f":"$F$3","v":133},null,null,{"$f":"$G$3","v":68.599999999999994},null,{"$f":"ROUND((G88*(L88/113)+(O88-AA91)),0)","v":20}]
[]
[null,null,null,null,null,"Trou",1,2,3,4,5,6,7,8,9,"Aller",10,11,12,13,14,15,16,17,18,"Retour","Total"]
[null,null,null,null,null,"PAR",{"$f":"G$7","v":4},{"$f":"H$7","v":4},5,4,3,5,3,5,3,{"$f":"SUM(G91:O91)","v":36},{"$f":"Q$7","v":4},4,3,5,3,4,4,5,4,{"$f":"SUM(Q91:Y91)","v":36},{"$f":"SUM(P91+Z91)","v":72}]
[null,null,null,null,null,"HCP trous",{"$f":"G$8","v":4},{"$f":"H$8","v":8},12,14,2,10,18,16,6,null,{"$f":"Q$8","v":1},9,11,5,17,15,3,13,7]
[null,null,null,null,null,"Coups reçus",{"$f":"IF($Q88<=18,IF(G92<=$Q88,1,0),IF($Q88<=36,IF(G92<=($Q88-18),2,1),IF($Q88>36,IF(G92<=($Q88-36),3,2))))","v":1},{"$f":"IF($Q88<=18,IF(H92<=$Q88,1,0),IF($Q88<=36,IF(H92<=($Q88-18),2,1),IF($Q88>36,IF(H92<=($Q88-36),3,2))))","v":1},1,1,2,1,1,1,1,{"$f":"SUM(G93:O93)","v":10},{"$f":"IF($Q88<=18,IF(Q92<=$Q88,1,0),IF($Q88<=36,IF(Q92<=($Q88-18),2,1),IF($Q88>36,IF(Q92<=($Q88-36),3,2))))","v":2},1,1,1,1,1,1,1,1,{"$f":"SUM(Q93:Y93)","v":10},{"$f":"P93+Z93","v":20}]
[null,null,null,null,null,"Stroke play",{"$f":"G9","v":10},10,10,10,10,10,10,10,10,{"$f":"SUM(G94:O94)","v":90},{"$f":"Q9","v":10},10,10,10,10,10,10,10,10,{"$f":"SUM(Q94:Y94)","v":90},{"$f":"P94+Z94","v":180}]
[null,null,null,null,null,"Net Stableford",{"$f":"IF(G94-G91=-1,3+G93)+IF(G94-G91=0,2+G93)+IF(G94-G91=1,1+G93)+IF(G94-G91=2,G93)+IF(G94-G91=3,IF(G93-1>0,G93-1,0))+IF(G94-G91=4,IF(G93-2>0,G93-2,0))","v":0},{"$f":"IF(H94-H91=-1,3+H93)+IF(H94-H91=0,2+H93)+IF(H94-H91=1,1+H93)+IF(H94-H91=2,H93)+IF(H94-H91=3,IF(H93-1>0,H93-1,0))+IF(H94-H91=4,IF(H93-2>0,H93-2,0))","v":0},0,0,0,0,0,0,0,{"$f":"SUM(G95:O95)","v":0},{"$f":"IF(Q94-Q91=-1,3+Q93)+IF(Q94-Q91=0,2+Q93)+IF(Q94-Q91=1,1+Q93)+IF(Q94-Q91=2,Q93)+IF(Q94-Q91=3,IF(Q93-1>0,Q93-1,0))+IF(Q94-Q91=4,IF(Q93-2>0,Q93-2,0))","v":0},0,0,0,0,0,0,0,0,{"$f":"SUM(Q95:Y95)","v":0},{"$f":"P95+Z95","v":0}]
[null,null,null,null,null,"Score Brut",{"$f":"IF(G94-G91=-2,4)+IF(G94-G91=-1,3)+IF(G94-G91=0,2)+IF(G94-G91=1,1)+IF(G94-G91>2,0)","v":0},0,0,0,0,0,0,0,0,{"$f":"SUM(G96:O96)","v":0},{"$f":"IF(Q94-Q91=-2,4)+IF(Q94-Q91=-1,3)+IF(Q94-Q91=0,2)+IF(Q94-Q91=1,1)+IF(Q94-Q91>2,0)","v":0},0,0,0,0,0,0,0,0,{"$f":"SUM(Q96:Y96)","v":0},{"$f":"P96+Z96","v":0}]
[null,null,null,null,null,null,{"$f":"G94-G91","v":6},{"$f":"H94-H91","v":6},5,6,7,5,7,5,7,null,{"$f":"Q94-Q91","v":6},6,7,5,7,6,6,5,6]
[]
[]
[null,null,null,null,null,"Statistiques scores",null,"Eagle & moins",null,null,null,{"$f":"COUNTIF(G97:Y97,\"<=-2\")","v":0},"Par",null,{"$f":"COUNTIF(G97:Y97,\"=0\")","v":0},"Double bogey",null,null,null,null,{"$f":"COUNTIF(G97:Y97,\"=2\")","v":0}]
[null,null,null,null,null,null,null,"Birdie",null,null,null,{"$f":"COUNTIF(G97:Y97,\"=-1\")","v":0},"Bogey",null,{"$f":"COUNTIF(G97:Y97,\"=1\")","v":0},"Triple bogey & plus",null,null,null,null,{"$f":"COUNTIF(G97:Y97,\">=3\")","v":18}]
[null,null,null,null,null,null,null,{"$f":"M100","v":"Par"},null,null,null,{"$f":"O100","v":0}]
[null,null,null,null,null,null,null,{"$f":"M101","v":"Bogey"},null,null,null,{"$f":"O101","v":0}]
[null,null,null,null,null,null,null,{"$f":"P100","v":"Double bogey"},null,null,null,{"$f":"U100","v":0}]
[null,null,null,null,null,null,null,{"$f":"P101","v":"Triple bogey & plus"},null,null,null,{"$f":"U101","v":18}]
[]
[]
[]
[]
[null,null,null,null,null,"Nom",{"$f":"C10","v":0},null,null,null,null,"Slope",null,null,"SSS",null,"Coups reçus",null,null,null,null,null,null,null,null,"Date",{"$f":"$D$3","v":"00:00:00"}]
[null,null,null,null,null,"Index",{"$f":"E10","v":20},null,null,null,null,{"$f":"$F$3","v":133},null,null,{"$f":"$G$3","v":68.599999999999994},null,{"$f":"ROUND((G111*(L111/113)+(O111-AA114)),0)","v":20}]
[]
[null,null,null,null,null,"Trou",1,2,3,4,5,6,7,8,9,"Aller",10,11,12,13,14,15,16,17,18,"Retour","Total"]
[null,null,null,null,null,"PAR",{"$f":"G$7","v":4},{"$f":"H$7","v":4},5,4,3,5,3,5,3,{"$f":"SUM(G114:O114)","v":36},{"$f":"Q$7","v":4},4,3,5,3,4,4,5,4,{"$f":"SUM(Q114:Y114)","v":36},{"$f":"SUM(P114+Z114)","v":72}]
[null,null,null,null,null,"HCP trous",{"$f":"G$8","v":4},{"$f":"H$8","v":8},12,14,2,10,18,16,6,null,{"$f":"Q$8","v":1},9,11,5,17,15,3,13,7]
[null,null,null,null,null,"Coups reçus",{"$f":"IF($Q111<=18,IF(G115<=$Q111,1,0),IF($Q111<=36,IF(G115<=($Q111-18),2,1),IF($Q111>36,IF(G115<=($Q111-36),3,2))))","v":1},{"$f":"IF($Q111<=18,IF(H115<=$Q111,1,0),IF($Q111<=36,IF(H115<=($Q111-18),2,1),IF($Q111>36,IF(H115<=($Q111-36),3,2))))","v":1},1,1,2,1,1,1,1,{"$f":"SUM(G116:O116)","v":10},{"$f":"IF($Q111<=18,IF(Q115<=$Q111,1,0),IF($Q111<=36,IF(Q115<=($Q111-18),2,1),IF($Q111>36,IF(Q115<=($Q111-36),3,2))))","v":2},1,1,1,1,1,1,1,1,{"$f":"SUM(Q116:Y116)","v":10},{"$f":"P116+Z116","v":20}]
[null,null,null,null,null,"Stroke play",{"$f":"G10","v":10},10,10,10,10,10,10,10,10,{"$f":"SUM(G117:O117)","v":90},{"$f":"Q10","v":10},10,10,10,10,10,10,10,10,{"$f":"SUM(Q117:Y117)","v":90},{"$f":"P117+Z117","v":180}]
[null,null,null,null,null,"Net Stableford",{"$f":"IF(G117-G114=-1,3+G116)+IF(G117-G114=0,2+G116)+IF(G117-G114=1,1+G116)+IF(G117-G114=2,G116)+IF(G117-G114=3,IF(G116-1>0,G116-1,0))+IF(G117-G114=4,IF(G116-2>0,G116-2,0))","v":0},{"$f":"IF(H117-H114=-1,3+H116)+IF(H117-H114=0,2+H116)+IF(H117-H114=1,1+H116)+IF(H117-H114=2,H116)+IF(H117-H114=3,IF(H116-1>0,H116-1,0))+IF(H117-H114=4,IF(H116-2>0,H116-2,0))","v":0},0,0,0,0,0,0,0,{"$f":"SUM(G118:O118)","v":0},{"$f":"IF(Q117-Q114=-1,3+Q116)+IF(Q117-Q114=0,2+Q116)+IF(Q117-Q114=1,1+Q116)+IF(Q117-Q114=2,Q116)+IF(Q117-Q114=3,IF(Q116-1>0,Q116-1,0))+IF(Q117-Q114=4,IF(Q116-2>0,Q116-2,0))","v":0},0,0,0,0,0,0,0,0,{"$f":"SUM(Q118:Y118)","v":0},{"$f":"P118+Z118","v":0}]
[null,null,null,null,null,"Score Brut",{"$f":"IF(G117-G114=-2,4)+IF(G117-G114=-1,3)+IF(G117-G114=0,2)+IF(G117-G114=1,1)+IF(G117-G114>2,0)","v":0},0,0,0,0,0,0,0,0,{"$f":"SUM(G119:O119)","v":0},{"$f":"IF(Q117-Q114=-2,4)+IF(Q117-Q114=-1,3)+IF(Q117-Q114=0,2)+IF(Q117-Q114=1,1)+IF(Q117-Q114>2,0)","v":0},0,0,0,0,0,0,0,0,{"$f":"SUM(Q119:Y119)","v":0},{"$f":"P119+Z119","v":0}]
[null,null,null,null,null,null,{"$f":"G117-G114","v":6},{"$f":"H117-H114","v":6},5,6,7,5,7,5,7,null,{"$f":"Q117-Q114","v":6},6,7,5,7,6,6,5,6]
[]
[]
[null,null,null,null,null,"Statistiques scores",null,"Eagle & moins",null,null,null,{"$f":"COUNTIF(G120:Y120,\"<=-2\")","v":0},"Par",null,{"$f":"COUNTIF(G120:Y120,\"=0\")","v":0},"Double bogey",null,null,null,null,{"$f":"COUNTIF(G120:Y120,\"=2\")","v":0}]
[null,null,null,null,null,null,null,"Birdie",null,null,null,{"$f":"COUNTIF(G120:Y120,\"=-1\")","v":0},"Bogey",null,{"$f":"COUNTIF(G120:Y120,\"=1\")","v":0},"Triple bogey & plus",null,null,null,null,{"$f":"COUNTIF(G120:Y120,\">=3\")","v":18}]
[null,null,null,null,null,null,null,{"$f":"M123","v":"Par"},null,null,null,{"$f":"O123","v":0}]
[null,null,null,null,null,null,null,{"$f":"M124","v":"Bogey"},null,null,null,{"$f":"O124","v":0}]
[null,null,null,null,null,null,null,{"$f":"P123","v":"Double bogey"},null,null,null,{"$f":"U123","v":0}]
[null,null,null,null,null,null,null,{"$f":"P124","v":"Triple bogey & plus"},null,null,null,{"$f":"U124","v":18}]
[]
[]
[]
[]
[null,null,null,null,null,"Nom",{"$f":"C11","v":0},null,null,null,null,"Slope",null,null,"SSS",null,"Coups reçus",null,null,null,null,null,null,null,null,"Date",{"$f":"$D$3","v":"00:00:00"}]
[null,null,null,null,null,"Index",{"$f":"E11","v":20},null,null,null,null,{"$f":"$F$3","v":133},null,null,{"$f":"$G$3","v":68.599999999999994},null,{"$f":"ROUND((G134*(L134/113)+(O134-AA137)),0)","v":20}]
[]
[null,null,null,null,null,"Trou",1,2,3,4,5,6,7,8,9,"Aller",10,11,12,13,14,15,16,17,18,"Retour","Total"]
[null,null,null,null,null,"PAR",{"$f":"G$7","v":4},{"$f":"H$7","v":4},5,4,3,5,3,5,3,{"$f":"SUM(G137:O137)","v":36},{"$f":"Q$7","v":4},4,3,5,3,4,4,5,4,{"$f":"SUM(Q137:Y137)","v":36},{"$f":"SUM(P137+Z137)","v":72}]
[null,null,null,null,null,"HCP trous",{"$f":"G$8","v":4},{"$f":"H$8","v":8},12,14,2,10,18,16,6,null,{"$f":"Q$8","v":1},9,11,5,17,15,3,13,7]
[null,null,null,null,null,"Coups reçus",{"$f":"IF($Q134<=18,IF(G138<=$Q134,1,0),IF($Q134<=36,IF(G138<=($Q134-18),2,1),IF($Q134>36,IF(G138<=($Q134-36),3,2))))","v":1},{"$f":"IF($Q134<=18,IF(H138<=$Q134,1,0),IF($Q134<=36,IF(H138<=($Q134-18),2,1),IF($Q134>36,IF(H138<=($Q134-36),3,2))))","v":1},1,1,2,1,1,1,1,{"$f":"SUM(G139:O139)","v":10},{"$f":"IF($Q134<=18,IF(Q138<=$Q134,1,0),IF($Q134<=36,IF(Q138<=($Q134-18),2,1),IF($Q134>36,IF(Q138<=($Q134-36),3,2))))","v":2},1,1,1,1,1,1,1,1,{"$f":"SUM(Q139:Y139)","v":10},{"$f":"P139+Z139","v":20}]
[null,null,null,null,null,"Stroke play",{"$f":"G11","v":10},10,10,10,10,10,10,10,10,{"$f":"SUM(G140:O140)","v":90},{"$f":"Q11","v":10},10,10,10,10,10,10,10,10,{"$f":"SUM(Q140:Y140)","v":90},{"$f":"P140+Z140","v":180}]
[null,null,null,null,null,"Net Stableford",{"$f":"IF(G140-G137=-1,3+G139)+IF(G140-G137=0,2+G139)+IF(G140-G137=1,1+G139)+IF(G140-G137=2,G139)+IF(G140-G137=3,IF(G139-1>0,G139-1,0))+IF(G140-G137=4,IF(G139-2>0,G139-2,0))","v":0},{"$f":"IF(H140-H137=-1,3+H139)+IF(H140-H137=0,2+H139)+IF(H140-H137=1,1+H139)+IF(H140-H137=2,H139)+IF(H140-H137=3,IF(H139-1>0,H139-1,0))+IF(H140-H137=4,IF(H139-2>0,H139-2,0))","v":0},0,0,0,0,0,0,0,{"$f":"SUM(G141:O141)","v":0},{"$f":"IF(Q140-Q137=-1,3+Q139)+IF(Q140-Q137=0,2+Q139)+IF(Q140-Q137=1,1+Q139)+IF(Q140-Q137=2,Q139)+IF(Q140-Q137=3,IF(Q139-1>0,Q139-1,0))+IF(Q140-Q137=4,IF(Q139-2>0,Q139-2,0))","v":0},0,0,0,0,0,0,0,0,{"$f":"SUM(Q141:Y141)","v":0},{"$f":"P141+Z141","v":0}]
[null,null,null,null,null,"Score Brut",{"$f":"IF(G140-G137=-2,4)+IF(G140-G137=-1,3)+IF(G140-G137=0,2)+IF(G140-G137=1,1)+IF(G140-G137>2,0)","v":0},0,0,0,0,0,0,0,0,{"$f":"SUM(G142:O142)","v":0},{"$f":"IF(Q140-Q137=-2,4)+IF(Q140-Q137=-1,3)+IF(Q140-Q137=0,2)+IF(Q140-Q137=1,1)+IF(Q140-Q137>2,0)","v":0},0,0,0,0,0,0,0,0,{"$f":"SUM(Q142:Y142)","v":0},{"$f":"P142+Z142","v":0}]
[null,null,null,null,null,null,{"$f":"G140-G137","v":6},{"$f":"H140-H137","v":6},5,6,7,5,7,5,7,null,{"$f":"Q140-Q137","v":6},6,7,5,7,6,6,5,6]
[]
[]
[null,null,null,null,null,"Statistiques scores",null,"Eagle & moins",null,null,null,{"$f":"COUNTIF(G143:Y143,\"<=-2\")","v":0},"Par",null,{"$f":"COUNTIF(G143:Y143,\"=0\")","v":0},"Double bogey",null,null,null,null,{"$f":"COUNTIF(G143:Y143,\"=2\")","v":0}]
[null,null,null,null,null,null,null,"Birdie",null,null,null,{"$f":"COUNTIF(G143:Y143,\"=-1\")","v":0},"Bogey",null,{"$f":"COUNTIF(G143:Y143,\"=1\")","v":0},"Triple bogey & plus",null,null,null,null,{"$f":"COUNTIF(G143:Y143,\">=3\")","v":18}]
[null,null,null,null,null,null,null,{"$f":"M146","v":"Par"},null,null,null,{"$f":"O146","v":0}]
[null,null,null,null,null,null,null,{"$f":"M147","v":"Bogey"},null,null,null,{"$f":"O147","v":0}]
[null,null,null,null,null,null,null,{"$f":"P146","v":"Double bogey"},null,null,null,{"$f":"U146","v":0}]
[null,null,null,null,null,null,null,{"$f":"P147","v":"Triple bogey & plus"},null,null,null,{"$f":"U147","v":18}]
[]
[]
[]
[]
[null,null,null,null,null,"Nom",{"$f":"C12","v":0},null,null,null,null,"Slope",null,null,"SSS",null,"Coups reçus",null,null,null,null,null,null,null,null,"Date",{"$f":"$D$3","v":"00:00:00"}]
[null,null,null,null,null,"Index",{"$f":"E12","v":20},null,null,null,null,{"$f":"$F$3","v":133},null,null,{"$f":"$G$3","v":68.599999999999994},null,{"$f":"ROUND((G157*(L157/113)+(O157-AA160)),0)","v":20}]
[]
[null,null,null,null,null,"Trou",1,2,3,4,5,6,7,8,9,"Aller",10,11,12,13,14,15,16,17,18,"Retour","Total"]
[null,null,null,null,null,"PAR",{"$f":"G$7","v":4},{"$f":"H$7","v":4},5,4,3,5,3,5,3,{"$f":"SUM(G160:O160)","v":36},{"$f":"Q$7","v":4},4,3,5,3,4,4,5,4,{"$f":"SUM(Q160:Y160)","v":36},{"$f":"SUM(P160+Z160)","v":72}]
[null,null,null,null,null,"HCP trous",{"$f":"G$8","v":4},{"$f":"H$8","v":8},12,14,2,10,18,16,6,null,{"$f":"Q$8","v":1},9,11,5,17,15,3,13,7]
[null,null,null,null,null,"Coups reçus",{"$f":"IF($Q157<=18,IF(G161<=$Q157,1,0),IF($Q157<=36,IF(G161<=($Q157-18),2,1),IF($Q157>36,IF(G161<=($Q157-36),3,2))))","v":1},{"$f":"IF($Q157<=18,IF(H161<=$Q157,1,0),IF($Q157<=36,IF(H161<=($Q157-18),2,1),IF($Q157>36,IF(H161<=($Q157-36),3,2))))","v":1},1,1,2,1,1,1,1,{"$f":"SUM(G162:O162)","v":10},{"$f":"IF($Q157<=18,IF(Q161<=$Q157,1,0),IF($Q157<=36,IF(Q161<=($Q157-18),2,1),IF($Q157>36,IF(Q161<=($Q157-36),3,2))))","v":2},1,1,1,1,1,1,1,1,{"$f":"SUM(Q162:Y162)","v":10},{"$f":"P162+Z162","v":20}]
[null,null,null,null,null,"Stroke play",{"$f":"G12","v":10},10,10,10,10,10,10,10,10,{"$f":"SUM(G163:O163)","v":90},{"$f":"Q12","v":10},10,10,10,10,10,10,10,10,{"$f":"SUM(Q163:Y163)","v":90},{"$f":"P163+Z163","v":180}]
[null,null,null,null,null,"Net Stableford",{"$f":"IF(G163-G160=-1,3+G162)+IF(G163-G160=0,2+G162)+IF(G163-G160=1,1+G162)+IF(G163-G160=2,G162)+IF(G163-G160=3,IF(G162-1>0,G162-1,0))+IF(G163-G160=4,IF(G162-2>0,G162-2,0))","v":0},{"$f":"IF(H163-H160=-1,3+H162)+IF(H163-H160=0,2+H162)+IF(H163-H160=1,1+H162)+IF(H163-H160=2,H162)+IF(H163-H160=3,IF(H162-1>0,H162-1,0))+IF(H163-H160=4,IF(H162-2>0,H162-2,0))","v":0},0,0,0,0,0,0,0,{"$f":"SUM(G164:O164)","v":0},{"$f":"IF(Q163-Q160=-1,3+Q162)+IF(Q163-Q160=0,2+Q162)+IF(Q163-Q160=1,1+Q162)+IF(Q163-Q160=2,Q162)+IF(Q163-Q160=3,IF(Q162-1>0,Q162-1,0))+IF(Q163-Q160=4,IF(Q162-2>0,Q162-2,0))","v":0},0,0,0,0,0,0,0,0,{"$f":"SUM(Q164:Y164)","v":0},{"$f":"P164+Z164","v":0}]
[null,null,null,null,null,"Score Brut",{"$f":"IF(G163-G160=-2,4)+IF(G163-G160=-1,3)+IF(G163-G160=0,2)+IF(G163-G160=1,1)+IF(G163-G160>2,0)","v":0},0,0,0,0,0,0,0,0,{"$f":"SUM(G165:O165)","v":0},{"$f":"IF(Q163-Q160=-2,4)+IF(Q163-Q160=-1,3)+IF(Q163-Q160=0,2)+IF(Q163-Q160=1,1)+IF(Q163-Q160>2,0)","v":0},0,0,0,0,0,0,0,0,{"$f":"SUM(Q165:Y165)","v":0},{"$f":"P165+Z165","v":0}]
[null,null,null,null,null,null,{"$f":"G163-G160","v":6},{"$f":"H163-H160","v":6},5,6,7,5,7,5,7,null,{"$f":"Q163-Q160","v":6},6,7,5,7,6,6,5,6]
[]
[]
[null,null,null,null,null,"Statistiques scores",null,"Eagle & moins",null,null,null,{"$f":"COUNTIF(G166:Y166,\"<=-2\")","v":0},"Par",null,{"$f":"COUNTIF(G166:Y166,\"=0\")","v":0},"Double bogey",null,null,null,null,{"$f":"COUNTIF(G166:Y166,\"=2\")","v":0}]
[null,null,null,null,null,null,null,"Birdie",null,null,null,{"$f":"COUNTIF(G166:Y166,\"=-1\")","v":0},"Bogey",null,{"$f":"COUNTIF(G166:Y166,\"=1\")","v":0},"Triple bogey & plus",null,null,null,null,{"$f":"COUNTIF(G166:Y166,\">=3\")","v":18}]
[null,null,null,null,null,null,null,{"$f":"M169","v":"Par"},null,null,null,{"$f":"O169","v":0}]
[null,null,null,null,null,null,null,{"$f":"M170","v":"Bogey"},null,null,null,{"$f":"O170","v":0}]
[null,null,null,null,null,null,null,{"$f":"P169","v":"Double bogey"},null,null,null,{"$f":"U169","v":0}]
[null,null,null,null,null,null,null,{"$f":"P170","v":"Triple bogey & plus"},null,null,null,{"$f":"U170","v":18}]
[]
[]
[]
[]
[null,null,null,null,null,"Nom",{"$f":"C13","v":0},null,null,null,null,"Slope",null,null,"SSS",null,"Coups reçus",null,null,null,null,null,null,null,null,"Date",{"$f":"$D$3","v":"00:00:00"}]
[null,null,null,null,null,"Index",{"$f":"E13","v":20},null,null,null,null,{"$f":"$F$3","v":133},null,null,{"$f":"$G$3","v":68.599999999999994},null,{"$f":"ROUND((G180*(L180/113)+(O180-AA183)),0)","v":20}]
[]
[null,null,null,null,null,"Trou",1,2,3,4,5,6,7,8,9,"Aller",10,11,12,13,14,15,16,17,18,"Retour","Total"]
[null,null,null,null,null,"PAR",{"$f":"G$7","v":4},{"$f":"H$7","v":4},5,4,3,5,3,5,3,{"$f":"SUM(G183:O183)","v":36},{"$f":"Q$7","v":4},4,3,5,3,4,4,5,4,{"$f":"SUM(Q183:Y183)","v":36},{"$f":"SUM(P183+Z183)","v":72}]
[null,null,null,null,null,"HCP trous",{"$f":"G$8","v":4},{"$f":"H$8","v":8},12,14,2,10,18,16,6,null,{"$f":"Q$8","v":1},9,11,5,17,15,3,13,7]
[null,null,null,null,null,"Coups reçus",{"$f":"IF($Q180<=18,IF(G184<=$Q180,1,0),IF($Q180<=36,IF(G184<=($Q180-18),2,1),IF($Q180>36,IF(G184<=($Q180-36),3,2))))","v":1},{"$f":"IF($Q180<=18,IF(H184<=$Q180,1,0),IF($Q180<=36,IF(H184<=($Q180-18),2,1),IF($Q180>36,IF(H184<=($Q180-36),3,2))))","v":1},1,1,2,1,1,1,1,{"$f":"SUM(G185:O185)","v":10},{"$f":"IF($Q180<=18,IF(Q184<=$Q180,1,0),IF($Q180<=36,IF(Q184<=($Q180-18),2,1),IF($Q180>36,IF(Q184<=($Q180-36),3,2))))","v":2},1,1,1,1,1,1,1,1,{"$f":"SUM(Q185:Y185)","v":10},{"$f":"P185+Z185","v":20}]
[null,null,null,null,null,"Stroke play",{"$f":"G13","v":10},10,10,10,10,10,10,10,10,{"$f":"SUM(G186:O186)","v":90},{"$f":"Q13","v":10},10,10,10,10,10,10,10,10,{"$f":"SUM(Q186:Y186)","v":90},{"$f":"P186+Z186","v":180}]
[null,null,null,null,null,"Net Stableford",{"$f":"IF(G186-G183=-1,3+G185)+IF(G186-G183=0,2+G185)+IF(G186-G183=1,1+G185)+IF(G186-G183=2,G185)+IF(G186-G183=3,IF(G185-1>0,G185-1,0))+IF(G186-G183=4,IF(G185-2>0,G185-2,0))","v":0},{"$f":"IF(H186-H183=-1,3+H185)+IF(H186-H183=0,2+H185)+IF(H186-H183=1,1+H185)+IF(H186-H183=2,H185)+IF(H186-H183=3,IF(H185-1>0,H185-1,0))+IF(H186-H183=4,IF(H185-2>0,H185-2,0))","v":0},0,0,0,0,0,0,0,{"$f":"SUM(G187:O187)","v":0},{"$f":"IF(Q186-Q183=-1,3+Q185)+IF(Q186-Q183=0,2+Q185)+IF(Q186-Q183=1,1+Q185)+IF(Q186-Q183=2,Q185)+IF(Q186-Q183=3,IF(Q185-1>0,Q185-1,0))+IF(Q186-Q183=4,IF(Q185-2>0,Q185-2,0))","v":0},0,0,0,0,0,0,0,0,{"$f":"SUM(Q187:Y187)","v":0},{"$f":"P187+Z187","v":0}]
[null,null,null,null,null,"Score Brut",{"$f":"IF(G186-G183=-2,4)+IF(G186-G183=-1,3)+IF(G186-G183=0,2)+IF(G186-G183=1,1)+IF(G186-G183>2,0)","v":0},0,0,0,0,0,0,0,0,{"$f":"SUM(G188:O188)","v":0},{"$f":"IF(Q186-Q183=-2,4)+IF(Q186-Q183=-1,3)+IF(Q186-Q183=0,2)+IF(Q186-Q183=1,1)+IF(Q186-Q183>2,0)","v":0},0,0,0,0,0,0,0,0,{"$f":"SUM(Q188:Y188)","v":0},{"$f":"P188+Z188","v":0}]
[null,null,null,null,null,null,{"$f":"G186-G183","v":6},{"$f":"H186-H183","v":6},5,6,7,5,7,5,7,null,{"$f":"Q186-Q183","v":6},6,7,5,7,6,6,5,6]
[]
[]
[null,null,null,null,null,"Statistiques scores",null,"Eagle & moins",null,null,null,{"$f":"COUNTIF(G189:Y189,\"<=-2\")","v":0},"Par",null,{"$f":"COUNTIF(G189:Y189,\"=0\")","v":0},"Double bogey",null,null,null,null,{"$f":"COUNTIF(G189:Y189,\"=2\")","v":0}]
[null,null,null,null,null,null,null,"Birdie",null,null,null,{"$f":"COUNTIF(G189:Y189,\"=-1\")","v":0},"Bogey",null,{"$f":"COUNTIF(G189:Y189,\"=1\")","v":0},"Triple bogey & plus",null,null,null,null,{"$f":"COUNTIF(G189:Y189,\">=3\")","v":18}]
[null,null,null,null,null,null,null,{"$f":"M192","v":"Par"},null,null,null,{"$f":"O192","v":0}]
[null,null,null,null,null,null,null,{"$f":"M193","v":"Bogey"},null,null,null,{"$f":"O193","v":0}]
[null,null,null,null,null,null,null,{"$f":"P192","v":"Double bogey"},null,null,null,{"$f":"U192","v":0}]
[null,null,null,null,null,null,null,{"$f":"P193","v":"Triple bogey & plus"},null,null,null,{"$f":"U193","v":18}]
[]
[]
[]
[]
[null,null,null,null,null,"Nom",{"$f":"C14","v":0},null,null,null,null,"Slope",null,null,"SSS",null,"Coups reçus",null,null,null,null,null,null,null,null,"Date",{"$f":"$D$3","v":"00:00:00"}]
[null,null,null,null,null,"Index",{"$f":"E14","v":20},null,null,null,null,{"$f":"$F$3","v":133},null,null,{"$f":"$G$3","v":68.599999999999994},null,{"$f":"ROUND((G203*(L203/113)+(O203-AA206)),0)","v":20}]
[]
[null,null,null,null,null,"Trou",1,2,3,4,5,6,7,8,9,"Aller",10,11,12,13,14,15,16,17,18,"Retour","Total"]
[null,null,null,null,null,"PAR",{"$f":"G$7","v":4},{"$f":"H$7","v":4},5,4,3,5,3,5,3,{"$f":"SUM(G206:O206)","v":36},{"$f":"Q$7","v":4},4,3,5,3,4,4,5,4,{"$f":"SUM(Q206:Y206)","v":36},{"$f":"SUM(P206+Z206)","v":72}]
[null,null,null,null,null,"HCP trous",{"$f":"G$8","v":4},{"$f":"H$8","v":8},12,14,2,10,18,16,6,null,{"$f":"Q$8","v":1},9,11,5,17,15,3,13,7]
[null,null,null,null,null,"Coups reçus",{"$f":"IF($Q203<=18,IF(G207<=$Q203,1,0),IF($Q203<=36,IF(G207<=($Q203-18),2,1),IF($Q203>36,IF(G207<=($Q203-36),3,2))))","v":1},{"$f":"IF($Q203<=18,IF(H207<=$Q203,1,0),IF($Q203<=36,IF(H207<=($Q203-18),2,1),IF($Q203>36,IF(H207<=($Q203-36),3,2))))","v":1},1,1,2,1,1,1,1,{"$f":"SUM(G208:O208)","v":10},{"$f":"IF($Q203<=18,IF(Q207<=$Q203,1,0),IF($Q203<=36,IF(Q207<=($Q203-18),2,1),IF($Q203>36,IF(Q207<=($Q203-36),3,2))))","v":2},1,1,1,1,1,1,1,1,{"$f":"SUM(Q208:Y208)","v":10},{"$f":"P208+Z208","v":20}]
[null,null,null,null,null,"Stroke play",{"$f":"G14","v":10},10,10,10,10,10,10,10,10,{"$f":"SUM(G209:O209)","v":90},{"$f":"Q14","v":10},10,10,10,10,10,10,10,10,{"$f":"SUM(Q209:Y209)","v":90},{"$f":"P209+Z209","v":180}]
[null,null,null,null,null,"Net Stableford",{"$f":"IF(G209-G206=-1,3+G208)+IF(G209-G206=0,2+G208)+IF(G209-G206=1,1+G208)+IF(G209-G206=2,G208)+IF(G209-G206=3,IF(G208-1>0,G208-1,0))+IF(G209-G206=4,IF(G208-2>0,G208-2,0))","v":0},{"$f":"IF(H209-H206=-1,3+H208)+IF(H209-H206=0,2+H208)+IF(H209-H206=1,1+H208)+IF(H209-H206=2,H208)+IF(H209-H206=3,IF(H208-1>0,H208-1,0))+IF(H209-H206=4,IF(H208-2>0,H208-2,0))","v":0},0,0,0,0,0,0,0,{"$f":"SUM(G210:O210)","v":0},{"$f":"IF(Q209-Q206=-1,3+Q208)+IF(Q209-Q206=0,2+Q208)+IF(Q209-Q206=1,1+Q208)+IF(Q209-Q206=2,Q208)+IF(Q209-Q206=3,IF(Q208-1>0,Q208-1,0))+IF(Q209-Q206=4,IF(Q208-2>0,Q208-2,0))","v":0},0,0,0,0,0,0,0,0,{"$f":"SUM(Q210:Y210)","v":0},{"$f":"P210+Z210","v":0}]
[null,null,null,null,null,"Score Brut",{"$f":"IF(G209-G206=-2,4)+IF(G209-G206=-1,3)+IF(G209-G206=0,2)+IF(G209-G206=1,1)+IF(G209-G206>2,0)","v":0},0,0,0,0,0,0,0,0,{"$f":"SUM(G211:O211)","v":0},{"$f":"IF(Q209-Q206=-2,4)+IF(Q209-Q206=-1,3)+IF(Q209-Q206=0,2)+IF(Q209-Q206=1,1)+IF(Q209-Q206>2,0)","v":0},0,0,0,0,0,0,0,0,{"$f":"SUM(Q211:Y211)","v":0},{"$f":"P211+Z211","v":0}]
[null,null,null,null,null,null,{"$f":"G209-G206","v":6},{"$f":"H209-H206","v":6},5,6,7,5,7,5,7,null,{"$f":"Q209-Q206","v":6},6,7,5,7,6,6,5,6]
[]
[]
[null,null,null,null,null,"Statistiques scores",null,"Eagle & moins",null,null,null,{"$f":"COUNTIF(G212:Y212,\"<=-2\")","v":0},"Par",null,{"$f":"COUNTIF(G212:Y212,\"=0\")","v":0},"Double bogey",null,null,null,null,{"$f":"COUNTIF(G212:Y212,\"=2\")","v":0}]
[null,null,null,null,null,null,null,"Birdie",null,null,null,{"$f":"COUNTIF(G212:Y212,\"=-1\")","v":0},"Bogey",null,{"$f":"COUNTIF(G212:Y212,\"=1\")","v":0},"Triple bogey & plus",null,null,null,null,{"$f":"COUNTIF(G212:Y212,\">=3\")","v":18}]
[null,null,null,null,null,null,null,{"$f":"M215","v":"Par"},null,null,null,{"$f":"O215","v":0}]
[null,null,null,null,null,null,null,{"$f":"M216","v":"Bogey"},null,null,null,{"$f":"O216","v":0}]
[null,null,null,null,null,null,null,{"$f":"P215","v":"Double bogey"},null,null,null,{"$f":"U215","v":0}]
[null,null,null,null,null,null,null,{"$f":"P216","v":"Triple bogey & plus"},null,null,null,{"$f":"U216","v":18}]
[]
[]
[]
[]
[null,null,null,null,null,"Nom",{"$f":"C15","v":0},null,null,null,null,"Slope",null,null,"SSS",null,"Coups reçus",null,null,null,null,null,null,null,null,"Date",{"$f":"$D$3","v":"00:00:00"}]
[null,null,null,null,null,"Index",{"$f":"E15","v":20},null,null,null,null,{"$f":"$F$3","v":133},null,null,{"$f":"$G$3","v":68.599999999999994},null,{"$f":"ROUND((G226*(L226/113)+(O226-AA229)),0)","v":20}]
[]
[null,null,null,null,null,"Trou",1,2,3,4,5,6,7,8,9,"Aller",10,11,12,13,14,15,16,17,18,"Retour","Total"]
[null,null,null,null,null,"PAR",{"$f":"G$7","v":4},{"$f":"H$7","v":4},5,4,3,5,3,5,3,{"$f":"SUM(G229:O229)","v":36},{"$f":"Q$7","v":4},4,3,5,3,4,4,5,4,{"$f":"SUM(Q229:Y229)","v":36},{"$f":"SUM(P229+Z229)","v":72}]
[null,null,null,null,null,"HCP trous",{"$f":"G$8","v":4},{"$f":"H$8","v":8},12,14,2,10,18,16,6,null,{"$f":"Q$8","v":1},9,11,5,17,15,3,13,7]
[null,null,null,null,null,"Coups reçus",{"$f":"IF($Q226<=18,IF(G230<=$Q226,1,0),IF($Q226<=36,IF(G230<=($Q226-18),2,1),IF($Q226>36,IF(G230<=($Q226-36),3,2))))","v":1},{"$f":"IF($Q226<=18,IF(H230<=$Q226,1,0),IF($Q226<=36,IF(H230<=($Q226-18),2,1),IF($Q226>36,IF(H230<=($Q226-36),3,2))))","v":1},1,1,2,1,1,1,1,{"$f":"SUM(G231:O231)","v":10},{"$f":"IF($Q226<=18,IF(Q230<=$Q226,1,0),IF($Q226<=36,IF(Q230<=($Q226-18),2,1),IF($Q226>36,IF(Q230<=($Q226-36),3,2))))","v":2},1,1,1,1,1,1,1,1,{"$f":"SUM(Q231:Y231)","v":10},{"$f":"P231+Z231","v":20}]
[null,null,null,null,null,"Stroke play",{"$f":"G15","v":10},10,10,10,10,10,10,10,10,{"$f":"SUM(G232:O232)","v":90},{"$f":"Q15","v":10},10,10,10,10,10,10,10,10,{"$f":"SUM(Q232:Y232)","v":90},{"$f":"P232+Z232","v":180}]
[null,null,null,null,null,"Net Stableford",{"$f":"IF(G232-G229=-1,3+G231)+IF(G232-G229=0,2+G231)+IF(G232-G229=1,1+G231)+IF(G232-G229=2,G231)+IF(G232-G229=3,IF(G231-1>0,G231-1,0))+IF(G232-G229=4,IF(G231-2>0,G231-2,0))","v":0},{"$f":"IF(H232-H229=-1,3+H231)+IF(H232-H229=0,2+H231)+IF(H232-H229=1,1+H231)+IF(H232-H229=2,H231)+IF(H232-H229=3,IF(H231-1>0,H231-1,0))+IF(H232-H229=4,IF(H231-2>0,H231-2,0))","v":0},0,0,0,0,0,0,0,{"$f":"SUM(G233:O233)","v":0},{"$f":"IF(Q232-Q229=-1,3+Q231)+IF(Q232-Q229=0,2+Q231)+IF(Q232-Q229=1,1+Q231)+IF(Q232-Q229=2,Q231)+IF(Q232-Q229=3,IF(Q231-1>0,Q231-1,0))+IF(Q232-Q229=4,IF(Q231-2>0,Q231-2,0))","v":0},0,0,0,0,0,0,0,0,{"$f":"SUM(Q233:Y233)","v":0},{"$f":"P233+Z233","v":0}]
[null,null,null,null,null,"Score Brut",{"$f":"IF(G232-G229=-2,4)+IF(G232-G229=-1,3)+IF(G232-G229=0,2)+IF(G232-G229=1,1)+IF(G232-G229>2,0)","v":0},0,0,0,0,0,0,0,0,{"$f":"SUM(G234:O234)","v":0},{"$f":"IF(Q232-Q229=-2,4)+IF(Q232-Q229=-1,3)+IF(Q232-Q229=0,2)+IF(Q232-Q229=1,1)+IF(Q232-Q229>2,0)","v":0},0,0,0,0,0,0,0,0,{"$f":"SUM(Q234:Y234)","v":0},{"$f":"P234+Z234","v":0}]
[null,null,null,null,null,null,{"$f":"G232-G229","v":6},{"$f":"H232-H229","v":6},5,6,7,5,7,5,7,null,{"$f":"Q232-Q229","v":6},6,7,5,7,6,6,5,6]
[]
[]
[null,null,null,null,null,"Statistiques scores",null,"Eagle & moins",null,null,null,{"$f":"COUNTIF(G235:Y235,\"<=-2\")","v":0},"Par",null,{"$f":"COUNTIF(G235:Y235,\"=0\")","v":0},"Double bogey",null,null,null,null,{"$f":"COUNTIF(G235:Y235,\"=2\")","v":0}]
[null,null,null,null,null,null,null,"Birdie",null,null,null,{"$f":"COUNTIF(G235:Y235,\"=-1\")","v":0},"Bogey",null,{"$f":"COUNTIF(G235:Y235,\"=1\")","v":0},"Triple bogey & plus",null,null,null,null,{"$f":"COUNTIF(G235:Y235,\">=3\")","v":18}]
[null,null,null,null,null,null,null,{"$f":"M238","v":"Par"},null,null,null,{"$f":"O238","v":0}]
[null,null,null,null,null,null,null,{"$f":"M239","v":"Bogey"},null,null,null,{"$f":"O239","v":0}]
[null,null,null,null,null,null,null,{"$f":"P238","v":"Double bogey"},null,null,null,{"$f":"U238","v":0}]
[null,null,null,null,null,null,null,{"$f":"P239","v":"Triple bogey & plus"},null,null,null,{"$f":"U239","v":18}]
[]
[]
[]
[]
[null,null,null,null,null,"Nom",{"$f":"C16","v":0},null,null,null,null,"Slope",null,null,"SSS",null,"Coups reçus",null,null,null,null,null,null,null,null,"Date",{"$f":"$D$3","v":"00:00:00"}]
[null,null,null,null,null,"Index",{"$f":"E16","v":20},null,null,null,null,{"$f":"$F$3","v":133},null,null,{"$f":"$G$3","v":68.599999999999994},null,{"$f":"ROUND((G249*(L249/113)+(O249-AA252)),0)","v":20}]
[]
[null,null,null,null,null,"Trou",1,2,3,4,5,6,7,8,9,"Aller",10,11,12,13,14,15,16,17,18,"Retour","Total"]
[null,null,null,null,null,"PAR",{"$f":"G$7","v":4},{"$f":"H$7","v":4},5,4,3,5,3,5,3,{"$f":"SUM(G252:O252)","v":36},{"$f":"Q$7","v":4},4,3,5,3,4,4,5,4,{"$f":"SUM(Q252:Y252)","v":36},{"$f":"SUM(P252+Z252)","v":72}]
[null,null,null,null,null,"HCP trous",{"$f":"G$8","v":4},{"$f":"H$8","v":8},12,14,2,10,18,16,6,null,{"$f":"Q$8","v":1},9,11,5,17,15,3,13,7]
[null,null,null,null,null,"Coups reçus",{"$f":"IF($Q249<=18,IF(G253<=$Q249,1,0),IF($Q249<=36,IF(G253<=($Q249-18),2,1),IF($Q249>36,IF(G253<=($Q249-36),3,2))))","v":1},{"$f":"IF($Q249<=18,IF(H253<=$Q249,1,0),IF($Q249<=36,IF(H253<=($Q249-18),2,1),IF($Q249>36,IF(H253<=($Q249-36),3,2))))","v":1},1,1,2,1,1,1,1,{"$f":"SUM(G254:O254)","v":10},{"$f":"IF($Q249<=18,IF(Q253<=$Q249,1,0),IF($Q249<=36,IF(Q253<=($Q249-18),2,1),IF($Q249>36,IF(Q253<=($Q249-36),3,2))))","v":2},1,1,1,1,1,1,1,1,{"$f":"SUM(Q254:Y254)","v":10},{"$f":"P254+Z254","v":20}]
[null,null,null,null,null,"Stroke play",{"$f":"G16","v":10},10,10,10,10,10,10,10,10,{"$f":"SUM(G255:O255)","v":90},{"$f":"Q16","v":10},10,10,10,10,10,10,10,10,{"$f":"SUM(Q255:Y255)","v":90},{"$f":"P255+Z255","v":180}]
[null,null,null,null,null,"Net Stableford",{"$f":"IF(G255-G252=-1,3+G254)+IF(G255-G252=0,2+G254)+IF(G255-G252=1,1+G254)+IF(G255-G252=2,G254)+IF(G255-G252=3,IF(G254-1>0,G254-1,0))+IF(G255-G252=4,IF(G254-2>0,G254-2,0))","v":0},{"$f":"IF(H255-H252=-1,3+H254)+IF(H255-H252=0,2+H254)+IF(H255-H252=1,1+H254)+IF(H255-H252=2,H254)+IF(H255-H252=3,IF(H254-1>0,H254-1,0))+IF(H255-H252=4,IF(H254-2>0,H254-2,0))","v":0},0,0,0,0,0,0,0,{"$f":"SUM(G256:O256)","v":0},{"$f":"IF(Q255-Q252=-1,3+Q254)+IF(Q255-Q252=0,2+Q254)+IF(Q255-Q252=1,1+Q254)+IF(Q255-Q252=2,Q254)+IF(Q255-Q252=3,IF(Q254-1>0,Q254-1,0))+IF(Q255-Q252=4,IF(Q254-2>0,Q254-2,0))","v":0},0,0,0,0,0,0,0,0,{"$f":"SUM(Q256:Y256)","v":0},{"$f":"P256+Z256","v":0}]
[null,null,null,null,null,"Score Brut",{"$f":"IF(G255-G252=-2,4)+IF(G255-G252=-1,3)+IF(G255-G252=0,2)+IF(G255-G252=1,1)+IF(G255-G252>2,0)","v":0},0,0,0,0,0,0,0,0,{"$f":"SUM(G257:O257)","v":0},{"$f":"IF(Q255-Q252=-2,4)+IF(Q255-Q252=-1,3)+IF(Q255-Q252=0,2)+IF(Q255-Q252=1,1)+IF(Q255-Q252>2,0)","v":0},0,0,0,0,0,0,0,0,{"$f":"SUM(Q257:Y257)","v":0},{"$f":"P257+Z257","v":0}]
[null,null,null,null,null,null,{"$f":"G255-G252","v":6},{"$f":"H255-H252","v":6},5,6,7,5,7,5,7,null,{"$f":"Q255-Q252","v":6},6,7,5,7,6,6,5,6]
[]
[]
[null,null,null,null,null,"Statistiques scores",null,"Eagle & moins",null,null,null,{"$f":"COUNTIF(G258:Y258,\"<=-2\")","v":0},"Par",null,{"$f":"COUNTIF(G258:Y258,\"=0\")","v":0},"Double bogey",null,null,null,null,{"$f":"COUNTIF(G258:Y258,\"=2\")","v":0}]
[null,null,null,null,null,null,null,"Birdie",null,null,null,{"$f":"COUNTIF(G258:Y258,\"=-1\")","v":0},"Bogey",null,{"$f":"COUNTIF(G258:Y258,\"=1\")","v":0},"Triple bogey & plus",null,null,null,null,{"$f":"COUNTIF(G258:Y258,\">=3\")","v":18}]
[null,null,null,null,null,null,null,{"$f":"M261","v":"Par"},null,null,null,{"$f":"O261","v":0}]
[null,null,null,null,null,null,null,{"$f":"M262","v":"Bogey"},null,null,null,{"$f":"O262","v":0}]
[null,null,null,null,null,null,null,{"$f":"P261","v":"Double bogey"},null,null,null,{"$f":"U261","v":0}]
[null,null,null,null,null,null,null,{"$f":"P262","v":"Triple bogey & plus"},null,null,null,{"$f":"U262","v":18}]
[]
[]
[]
[]
[null,null,null,null,null,"Nom",{"$f":"C17","v":0},null,null,null,null,"Slope",null,null,"SSS",null,"Coups reçus",null,null,null,null,null,null,null,null,"Date",{"$f":"$D$3","v":"00:00:00"}]
[null,null,null,null,null,"Index",{"$f":"E17","v":20},null,null,null,null,{"$f":"$F$3","v":133},null,null,{"$f":"$G$3","v":68.599999999999994},null,{"$f":"ROUND((G272*(L272/113)+(O272-AA275)),0)","v":20}]
[]
[null,null,null,null,null,"Trou",1,2,3,4,5,6,7,8,9,"Aller",10,11,12,13,14,15,16,17,18,"Retour","Total"]
[null,null,null,null,null,"PAR",{"$f":"G$7","v":4},{"$f":"H$7","v":4},5,4,3,5,3,5,3,{"$f":"SUM(G275:O275)","v":36},{"$f":"Q$7","v":4},4,3,5,3,4,4,5,4,{"$f":"SUM(Q275:Y275)","v":36},{"$f":"SUM(P275+Z275)","v":72}]
[null,null,null,null,null,"HCP trous",{"$f":"G$8","v":4},{"$f":"H$8","v":8},12,14,2,10,18,16,6,null,{"$f":"Q$8","v":1},9,11,5,17,15,3,13,7]
[null,null,null,null,null,"Coups reçus",{"$f":"IF($Q272<=18,IF(G276<=$Q272,1,0),IF($Q272<=36,IF(G276<=($Q272-18),2,1),IF($Q272>36,IF(G276<=($Q272-36),3,2))))","v":1},{"$f":"IF($Q272<=18,IF(H276<=$Q272,1,0),IF($Q272<=36,IF(H276<=($Q272-18),2,1),IF($Q272>36,IF(H276<=($Q272-36),3,2))))","v":1},1,1,2,1,1,1,1,{"$f":"SUM(G277:O277)","v":10},{"$f":"IF($Q272<=18,IF(Q276<=$Q272,1,0),IF($Q272<=36,IF(Q276<=($Q272-18),2,1),IF($Q272>36,IF(Q276<=($Q272-36),3,2))))","v":2},1,1,1,1,1,1,1,1,{"$f":"SUM(Q277:Y277)","v":10},{"$f":"P277+Z277","v":20}]
[null,null,null,null,null,"Stroke play",{"$f":"G17","v":10},10,10,10,10,10,10,10,10,{"$f":"SUM(G278:O278)","v":90},{"$f":"Q17","v":10},10,10,10,10,10,10,10,10,{"$f":"SUM(Q278:Y278)","v":90},{"$f":"P278+Z278","v":180}]
[null,null,null,null,null,"Net Stableford",{"$f":"IF(G278-G275=-1,3+G277)+IF(G278-G275=0,2+G277)+IF(G278-G275=1,1+G277)+IF(G278-G275=2,G277)+IF(G278-G275=3,IF(G277-1>0,G277-1,0))+IF(G278-G275=4,IF(G277-2>0,G277-2,0))","v":0},{"$f":"IF(H278-H275=-1,3+H277)+IF(H278-H275=0,2+H277)+IF(H278-H275=1,1+H277)+IF(H278-H275=2,H277)+IF(H278-H275=3,IF(H277-1>0,H277-1,0))+IF(H278-H275=4,IF(H277-2>0,H277-2,0))","v":0},0,0,0,0,0,0,0,{"$f":"SUM(G279:O279)","v":0},{"$f":"IF(Q278-Q275=-1,3+Q277)+IF(Q278-Q275=0,2+Q277)+IF(Q278-Q275=1,1+Q277)+IF(Q278-Q275=2,Q277)+IF(Q278-Q275=3,IF(Q277-1>0,Q277-1,0))+IF(Q278-Q275=4,IF(Q277-2>0,Q277-2,0))","v":0},0,0,0,0,0,0,0,0,{"$f":"SUM(Q279:Y279)","v":0},{"$f":"P279+Z279","v":0}]
[null,null,null,null,null,"Score Brut",{"$f":"IF(G278-G275=-2,4)+IF(G278-G275=-1,3)+IF(G278-G275=0,2)+IF(G278-G275=1,1)+IF(G278-G275>2,0)","v":0},0,0,0,0,0,0,0,0,{"$f":"SUM(G280:O280)","v":0},{"$f":"IF(Q278-Q275=-2,4)+IF(Q278-Q275=-1,3)+IF(Q278-Q275=0,2)+IF(Q278-Q275=1,1)+IF(Q278-Q275>2,0)","v":0},0,0,0,0,0,0,0,0,{"$f":"SUM(Q280:Y280)","v":0},{"$f":"P280+Z280","v":0}]
[null,null,null,null,null,null,{"$f":"G278-G275","v":6},{"$f":"H278-H275","v":6},5,6,7,5,7,5,7,null,{"$f":"Q278-Q275","v":6},6,7,5,7,6,6,5,6]
[]
[]
[null,null,null,null,null,"Statistiques scores",null,"Eagle & moins",null,null,null,{"$f":"COUNTIF(G281:Y281,\"<=-2\")","v":0},"Par",null,{"$f":"COUNTIF(G281:Y281,\"=0\")","v":0},"Double bogey",null,null,null,null,{"$f":"COUNTIF(G281:Y281,\"=2\")","v":0}]
[null,null,null,null,null,null,null,"Birdie",null,null,null,{"$f":"COUNTIF(G281:Y281,\"=-1\")","v":0},"Bogey",null,{"$f":"COUNTIF(G281:Y281,\"=1\")","v":0},"Triple bogey & plus",null,null,null,null,{"$f":"COUNTIF(G281:Y281,\">=3\")","v":18}]
[null,null,null,null,null,null,null,{"$f":"M284","v":"Par"},null,null,null,{"$f":"O284","v":0}]
[null,null,null,null,null,null,null,{"$f":"M285","v":"Bogey"},null,null,null,{"$f":"O285","v":0}]
[null,null,null,null,null,null,null,{"$f":"P284","v":"Double bogey"},null,null,null,{"$f":"U284","v":0}]
[null,null,null,null,null,null,null,{"$f":"P285","v":"Triple bogey & plus"},null,null,null,{"$f":"U285","v":18}]
[]
[]
[]
[]
[null,null,null,null,null,"Nom",{"$f":"C18","v":0},null,null,null,null,"Slope",null,null,"SSS",null,"Coups reçus",null,null,null,null,null,null,null,null,"Date",{"$f":"$D$3","v":"00:00:00"}]
[null,null,null,null,null,"Index",{"$f":"E18","v":20},null,null,null,null,{"$f":"$F$3","v":133},null,null,{"$f":"$G$3","v":68.599999999999994},null,{"$f":"ROUND((G295*(L295/113)+(O295-AA298)),0)","v":20}]
[]
[null,null,null,null,null,"Trou",1,2,3,4,5,6,7,8,9,"Aller",10,11,12,13,14,15,16,17,18,"Retour","Total"]
[null,null,null,null,null,"PAR",{"$f":"G$7","v":4},{"$f":"H$7","v":4},5,4,3,5,3,5,3,{"$f":"SUM(G298:O298)","v":36},{"$f":"Q$7","v":4},4,3,5,3,4,4,5,4,{"$f":"SUM(Q298:Y298)","v":36},{"$f":"SUM(P298+Z298)","v":72}]
[null,null,null,null,null,"HCP trous",{"$f":"G$8","v":4},{"$f":"H$8","v":8},12,14,2,10,18,16,6,null,{"$f":"Q$8","v":1},9,11,5,17,15,3,13,7]
[null,null,null,null,null,"Coups reçus",{"$f":"IF($Q295<=18,IF(G299<=$Q295,1,0),IF($Q295<=36,IF(G299<=($Q295-18),2,1),IF($Q295>36,IF(G299<=($Q295-36),3,2))))","v":1},{"$f":"IF($Q295<=18,IF(H299<=$Q295,1,0),IF($Q295<=36,IF(H299<=($Q295-18),2,1),IF($Q295>36,IF(H299<=($Q295-36),3,2))))","v":1},1,1,2,1,1,1,1,{"$f":"SUM(G300:O300)","v":10},{"$f":"IF($Q295<=18,IF(Q299<=$Q295,1,0),IF($Q295<=36,IF(Q299<=($Q295-18),2,1),IF($Q295>36,IF(Q299<=($Q295-36),3,2))))","v":2},1,1,1,1,1,1,1,1,{"$f":"SUM(Q300:Y300)","v":10},{"$f":"P300+Z300","v":20}]
[null,null,null,null,null,"Stroke play",{"$f":"G18","v":10},10,10,10,10,10,10,10,10,{"$f":"SUM(G301:O301)","v":90},{"$f":"Q18","v":10},10,10,10,10,10,10,10,10,{"$f":"SUM(Q301:Y301)","v":90},{"$f":"P301+Z301","v":180}]
[null,null,null,null,null,"Net Stableford",{"$f":"IF(G301-G298=-1,3+G300)+IF(G301-G298=0,2+G300)+IF(G301-G298=1,1+G300)+IF(G301-G298=2,G300)+IF(G301-G298=3,IF(G300-1>0,G300-1,0))+IF(G301-G298=4,IF(G300-2>0,G300-2,0))","v":0},{"$f":"IF(H301-H298=-1,3+H300)+IF(H301-H298=0,2+H300)+IF(H301-H298=1,1+H300)+IF(H301-H298=2,H300)+IF(H301-H298=3,IF(H300-1>0,H300-1,0))+IF(H301-H298=4,IF(H300-2>0,H300-2,0))","v":0},0,0,0,0,0,0,0,{"$f":"SUM(G302:O302)","v":0},{"$f":"IF(Q301-Q298=-1,3+Q300)+IF(Q301-Q298=0,2+Q300)+IF(Q301-Q298=1,1+Q300)+IF(Q301-Q298=2,Q300)+IF(Q301-Q298=3,IF(Q300-1>0,Q300-1,0))+IF(Q301-Q298=4,IF(Q300-2>0,Q300-2,0))","v":0},0,0,0,0,0,0,0,0,{"$f":"SUM(Q302:Y302)","v":0},{"$f":"P302+Z302","v":0}]
[null,null,null,null,null,"Score Brut",{"$f":"IF(G301-G298=-2,4)+IF(G301-G298=-1,3)+IF(G301-G298=0,2)+IF(G301-G298=1,1)+IF(G301-G298>2,0)","v":0},0,0,0,0,0,0,0,0,{"$f":"SUM(G303:O303)","v":0},{"$f":"IF(Q301-Q298=-2,4)+IF(Q301-Q298=-1,3)+IF(Q301-Q298=0,2)+IF(Q301-Q298=1,1)+IF(Q301-Q298>2,0)","v":0},0,0,0,0,0,0,0,0,{"$f":"SUM(Q303:Y303)","v":0},{"$f":"P303+Z303","v":0}]
[null,null,null,null,null,null,{"$f":"G301-G298","v":6},{"$f":"H301-H298","v":6},5,6,7,5,7,5,7,null,{"$f":"Q301-Q298","v":6},6,7,5,7,6,6,5,6]
[]
[]
[null,null,null,null,null,"Statistiques scores",null,"Eagle & moins",null,null,null,{"$f":"COUNTIF(G304:Y304,\"<=-2\")","v":0},"Par",null,{"$f":"COUNTIF(G304:Y304,\"=0\")","v":0},"Double bogey",null,null,null,null,{"$f":"COUNTIF(G304:Y304,\"=2\")","v":0}]
[null,null,null,null,null,null,null,"Birdie",null,null,null,{"$f":"COUNTIF(G304:Y304,\"=-1\")","v":0},"Bogey",null,{"$f":"COUNTIF(G304:Y304,\"=1\")","v":0},"Triple bogey & plus",null,null,null,null,{"$f":"COUNTIF(G304:Y304,\">=3\")","v":18}]
[null,null,null,null,null,null,null,{"$f":"M307","v":"Par"},null,null,null,{"$f":"O307","v":0}]
[null,null,null,null,null,null,null,{"$f":"M308","v":"Bogey"},null,null,null,{"$f":"O308","v":0}]
[null,null,null,null,null,null,null,{"$f":"P307","v":"Double bogey"},null,null,null,{"$f":"U307","v":0}]
[null,null,null,null,null,null,null,{"$f":"P308","v":"Triple bogey & plus"},null,null,null,{"$f":"U308","v":18}]
[]
[]
[]
[]
[null,null,null,null,null,"Nom",{"$f":"C19","v":0},null,null,null,null,"Slope",null,null,"SSS",null,"Coups reçus",null,null,null,null,null,null,null,null,"Date",{"$f":"$D$3","v":"00:00:00"}]
[null,null,null,null,null,"Index",{"$f":"E19","v":20},null,null,null,null,{"$f":"$F$3","v":133},null,null,{"$f":"$G$3","v":68.599999999999994},null,{"$f":"ROUND((G318*(L318/113)+(O318-AA321)),0)","v":20}]
[]
[null,null,null,null,null,"Trou",1,2,3,4,5,6,7,8,9,"Aller",10,11,12,13,14,15,16,17,18,"Retour","Total"]
[null,null,null,null,null,"PAR",{"$f":"G$7","v":4},{"$f":"H$7","v":4},5,4,3,5,3,5,3,{"$f":"SUM(G321:O321)","v":36},{"$f":"Q$7","v":4},4,3,5,3,4,4,5,4,{"$f":"SUM(Q321:Y321)","v":36},{"$f":"SUM(P321+Z321)","v":72}]
[null,null,null,null,null,"HCP trous",{"$f":"G$8","v":4},{"$f":"H$8","v":8},12,14,2,10,18,16,6,null,{"$f":"Q$8","v":1},9,11,5,17,15,3,13,7]
[null,null,null,null,null,"Coups reçus",{"$f":"IF($Q318<=18,IF(G322<=$Q318,1,0),IF($Q318<=36,IF(G322<=($Q318-18),2,1),IF($Q318>36,IF(G322<=($Q318-36),3,2))))","v":1},{"$f":"IF($Q318<=18,IF(H322<=$Q318,1,0),IF($Q318<=36,IF(H322<=($Q318-18),2,1),IF($Q318>36,IF(H322<=($Q318-36),3,2))))","v":1},1,1,2,1,1,1,1,{"$f":"SUM(G323:O323)","v":10},{"$f":"IF($Q318<=18,IF(Q322<=$Q318,1,0),IF($Q318<=36,IF(Q322<=($Q318-18),2,1),IF($Q318>36,IF(Q322<=($Q318-36),3,2))))","v":2},1,1,1,1,1,1,1,1,{"$f":"SUM(Q323:Y323)","v":10},{"$f":"P323+Z323","v":20}]
[null,null,null,null,null,"Stroke play",{"$f":"G19","v":10},10,10,10,10,10,10,10,10,{"$f":"SUM(G324:O324)","v":90},{"$f":"Q19","v":10},10,10,10,10,10,10,10,10,{"$f":"SUM(Q324:Y324)","v":90},{"$f":"P324+Z324","v":180}]
[null,null,null,null,null,"Net Stableford",{"$f":"IF(G324-G321=-1,3+G323)+IF(G324-G321=0,2+G323)+IF(G324-G321=1,1+G323)+IF(G324-G321=2,G323)+IF(G324-G321=3,IF(G323-1>0,G323-1,0))+IF(G324-G321=4,IF(G323-2>0,G323-2,0))","v":0},{"$f":"IF(H324-H321=-1,3+H323)+IF(H324-H321=0,2+H323)+IF(H324-H321=1,1+H323)+IF(H324-H321=2,H323)+IF(H324-H321=3,IF(H323-1>0,H323-1,0))+IF(H324-H321=4,IF(H323-2>0,H323-2,0))","v":0},0,0,0,0,0,0,0,{"$f":"SUM(G325:O325)","v":0},{"$f":"IF(Q324-Q321=-1,3+Q323)+IF(Q324-Q321=0,2+Q323)+IF(Q324-Q321=1,1+Q323)+IF(Q324-Q321=2,Q323)+IF(Q324-Q321=3,IF(Q323-1>0,Q323-1,0))+IF(Q324-Q321=4,IF(Q323-2>0,Q323-2,0))","v":0},0,0,0,0,0,0,0,0,{"$f":"SUM(Q325:Y325)","v":0},{"$f":"P325+Z325","v":0}]
[null,null,null,null,null,"Score Brut",{"$f":"IF(G324-G321=-2,4)+IF(G324-G321=-1,3)+IF(G324-G321=0,2)+IF(G324-G321=1,1)+IF(G324-G321>2,0)","v":0},0,0,0,0,0,0,0,0,{"$f":"SUM(G326:O326)","v":0},{"$f":"IF(Q324-Q321=-2,4)+IF(Q324-Q321=-1,3)+IF(Q324-Q321=0,2)+IF(Q324-Q321=1,1)+IF(Q324-Q321>2,0)","v":0},0,0,0,0,0,0,0,0,{"$f":"SUM(Q326:Y326)","v":0},{"$f":"P326+Z326","v":0}]
[null,null,null,null,null,null,{"$f":"G324-G321","v":6},{"$f":"H324-H321","v":6},5,6,7,5,7,5,7,null,{"$f":"Q324-Q321","v":6},6,7,5,7,6,6,5,6]
[]
[]
[null,null,null,null,null,"Statistiques scores",null,"Eagle & moins",null,null,null,{"$f":"COUNTIF(G327:Y327,\"<=-2\")","v":0},"Par",null,{"$f":"COUNTIF(G327:Y327,\"=0\")","v":0},"Double bogey",null,null,null,null,{"$f":"COUNTIF(G327:Y327,\"=2\")","v":0}]
[null,null,null,null,null,null,null,"Birdie",null,null,null,{"$f":"COUNTIF(G327:Y327,\"=-1\")","v":0},"Bogey",null,{"$f":"COUNTIF(G327:Y327,\"=1\")","v":0},"Triple bogey & plus",null,null,null,null,{"$f":"COUNTIF(G327:Y327,\">=3\")","v":18}]
[null,null,null,null,null,null,null,{"$f":"M330","v":"Par"},null,null,null,{"$f":"O330","v":0}]
[null,null,null,null,null,null,null,{"$f":"M331","v":"Bogey"},null,null,null,{"$f":"O331","v":0}]
[null,null,null,null,null,null,null,{"$f":"P330","v":"Double bogey"},null,null,null,{"$f":"U330","v":0}]
[null,null,null,null,null,null,null,{"$f":"P331","v":"Triple bogey & plus"},null,null,null,{"$f":"U331","v":18}]
[]
[]
[]
[]
[null,null,null,null,null,"Nom",{"$f":"C20","v":0},null,null,null,null,"Slope",null,null,"SSS",null,"Coups reçus",null,null,null,null,null,null,null,null,"Date",{"$f":"$D$3","v":"00:00:00"}]
[null,null,null,null,null,"Index",{"$f":"E20","v":20},null,null,null,null,{"$f":"$F$3","v":133},null,null,{"$f":"$G$3","v":68.599999999999994},null,{"$f":"ROUND((G341*(L341/113)+(O341-AA344)),0)","v":20}]
[]
[null,null,null,null,null,"Trou",1,2,3,4,5,6,7,8,9,"Aller",10,11,12,13,14,15,16,17,18,"Retour","Total"]
[null,null,null,null,null,"PAR",{"$f":"G$7","v":4},{"$f":"H$7","v":4},5,4,3,5,3,5,3,{"$f":"SUM(G344:O344)","v":36},{"$f":"Q$7","v":4},4,3,5,3,4,4,5,4,{"$f":"SUM(Q344:Y344)","v":36},{"$f":"SUM(P344+Z344)","v":72}]
[null,null,null,null,null,"HCP trous",{"$f":"G$8","v":4},{"$f":"H$8","v":8},12,14,2,10,18,16,6,null,{"$f":"Q$8","v":1},9,11,5,17,15,3,13,7]
[null,null,null,null,null,"Coups reçus",{"$f":"IF($Q341<=18,IF(G345<=$Q341,1,0),IF($Q341<=36,IF(G345<=($Q341-18),2,1),IF($Q341>36,IF(G345<=($Q341-36),3,2))))","v":1},{"$f":"IF($Q341<=18,IF(H345<=$Q341,1,0),IF($Q341<=36,IF(H345<=($Q341-18),2,1),IF($Q341>36,IF(H345<=($Q341-36),3,2))))","v":1},1,1,2,1,1,1,1,{"$f":"SUM(G346:O346)","v":10},{"$f":"IF($Q341<=18,IF(Q345<=$Q341,1,0),IF($Q341<=36,IF(Q345<=($Q341-18),2,1),IF($Q341>36,IF(Q345<=($Q341-36),3,2))))","v":2},1,1,1,1,1,1,1,1,{"$f":"SUM(Q346:Y346)","v":10},{"$f":"P346+Z346","v":20}]
[null,null,null,null,null,"Stroke play",{"$f":"G20","v":10},10,10,10,10,10,10,10,10,{"$f":"SUM(G347:O347)","v":90},{"$f":"Q20","v":10},10,10,10,10,10,10,10,10,{"$f":"SUM(Q347:Y347)","v":90},{"$f":"P347+Z347","v":180}]
[null,null,null,null,null,"Net Stableford",{"$f":"IF(G347-G344=-1,3+G346)+IF(G347-G344=0,2+G346)+IF(G347-G344=1,1+G346)+IF(G347-G344=2,G346)+IF(G347-G344=3,IF(G346-1>0,G346-1,0))+IF(G347-G344=4,IF(G346-2>0,G346-2,0))","v":0},{"$f":"IF(H347-H344=-1,3+H346)+IF(H347-H344=0,2+H346)+IF(H347-H344=1,1+H346)+IF(H347-H344=2,H346)+IF(H347-H344=3,IF(H346-1>0,H346-1,0))+IF(H347-H344=4,IF(H346-2>0,H346-2,0))","v":0},0,0,0,0,0,0,0,{"$f":"SUM(G348:O348)","v":0},{"$f":"IF(Q347-Q344=-1,3+Q346)+IF(Q347-Q344=0,2+Q346)+IF(Q347-Q344=1,1+Q346)+IF(Q347-Q344=2,Q346)+IF(Q347-Q344=3,IF(Q346-1>0,Q346-1,0))+IF(Q347-Q344=4,IF(Q346-2>0,Q346-2,0))","v":0},0,0,0,0,0,0,0,0,{"$f":"SUM(Q348:Y348)","v":0},{"$f":"P348+Z348","v":0}]
[null,null,null,null,null,"Score Brut",{"$f":"IF(G347-G344=-2,4)+IF(G347-G344=-1,3)+IF(G347-G344=0,2)+IF(G347-G344=1,1)+IF(G347-G344>2,0)","v":0},0,0,0,0,0,0,0,0,{"$f":"SUM(G349:O349)","v":0},{"$f":"IF(Q347-Q344=-2,4)+IF(Q347-Q344=-1,3)+IF(Q347-Q344=0,2)+IF(Q347-Q344=1,1)+IF(Q347-Q344>2,0)","v":0},0,0,0,0,0,0,0,0,{"$f":"SUM(Q349:Y349)","v":0},{"$f":"P349+Z349","v":0}]
[null,null,null,null,null,null,{"$f":"G347-G344","v":6},{"$f":"H347-H344","v":6},5,6,7,5,7,5,7,null,{"$f":"Q347-Q344","v":6},6,7,5,7,6,6,5,6]
[]
[]
[null,null,null,null,null,"Statistiques scores",null,"Eagle & moins",null,null,null,{"$f":"COUNTIF(G350:Y350,\"<=-2\")","v":0},"Par",null,{"$f":"COUNTIF(G350:Y350,\"=0\")","v":0},"Double bogey",null,null,null,null,{"$f":"COUNTIF(G350:Y350,\"=2\")","v":0}]
[null,null,null,null,null,null,null,"Birdie",null,null,null,{"$f":"COUNTIF(G350:Y350,\"=-1\")","v":0},"Bogey",null,{"$f":"COUNTIF(G350:Y350,\"=1\")","v":0},"Triple bogey & plus",null,null,null,null,{"$f":"COUNTIF(G350:Y350,\">=3\")","v":18}]
[null,null,null,null,null,null,null,{"$f":"M353","v":"Par"},null,null,null,{"$f":"O353","v":0}]
[null,null,null,null,null,null,null,{"$f":"M354","v":"Bogey"},null,null,null,{"$f":"O354","v":0}]
[null,null,null,null,null,null,null,{"$f":"P353","v":"Double bogey"},null,null,null,{"$f":"U353","v":0}]
[null,null,null,null,null,null,null,{"$f":"P354","v":"Triple bogey & plus"},null,null,null,{"$f":"U354","v":18}]
[]
[]
[]
[]
[null,null,null,null,null,"Nom",{"$f":"C21","v":0},null,null,null,null,"Slope",null,null,"SSS",null,"Coups reçus",null,null,null,null,null,null,null,null,"Date",{"$f":"$D$3","v":"00:00:00"}]
[null,null,null,null,null,"Index",{"$f":"E21","v":20},null,null,null,null,{"$f":"$F$3","v":133},null,null,{"$f":"$G$3","v":68.599999999999994},null,{"$f":"ROUND((G364*(L364/113)+(O364-AA367)),0)","v":20}]
[]
[null,null,null,null,null,"Trou",1,2,3,4,5,6,7,8,9,"Aller",10,11,12,13,14,15,16,17,18,"Retour","Total"]
[null,null,null,null,null,"PAR",{"$f":"G$7","v":4},{"$f":"H$7","v":4},5,4,3,5,3,5,3,{"$f":"SUM(G367:O367)","v":36},{"$f":"Q$7","v":4},4,3,5,3,4,4,5,4,{"$f":"SUM(Q367:Y367)","v":36},{"$f":"SUM(P367+Z367)","v":72}]
[null,null,null,null,null,"HCP trous",{"$f":"G$8","v":4},{"$f":"H$8","v":8},12,14,2,10,18,16,6,null,{"$f":"Q$8","v":1},9,11,5,17,15,3,13,7]
[null,null,null,null,null,"Coups reçus",{"$f":"IF($Q364<=18,IF(G368<=$Q364,1,0),IF($Q364<=36,IF(G368<=($Q364-18),2,1),IF($Q364>36,IF(G368<=($Q364-36),3,2))))","v":1},{"$f":"IF($Q364<=18,IF(H368<=$Q364,1,0),IF($Q364<=36,IF(H368<=($Q364-18),2,1),IF($Q364>36,IF(H368<=($Q364-36),3,2))))","v":1},1,1,2,1,1,1,1,{"$f":"SUM(G369:O369)","v":10},{"$f":"IF($Q364<=18,IF(Q368<=$Q364,1,0),IF($Q364<=36,IF(Q368<=($Q364-18),2,1),IF($Q364>36,IF(Q368<=($Q364-36),3,2))))","v":2},1,1,1,1,1,1,1,1,{"$f":"SUM(Q369:Y369)","v":10},{"$f":"P369+Z369","v":20}]
[null,null,null,null,null,"Stroke play",{"$f":"G21","v":10},10,10,10,10,10,10,10,10,{"$f":"SUM(G370:O370)","v":90},{"$f":"Q21","v":10},10,10,10,10,10,10,10,10,{"$f":"SUM(Q370:Y370)","v":90},{"$f":"P370+Z370","v":180}]
[null,null,null,null,null,"Net Stableford",{"$f":"IF(G370-G367=-1,3+G369)+IF(G370-G367=0,2+G369)+IF(G370-G367=1,1+G369)+IF(G370-G367=2,G369)+IF(G370-G367=3,IF(G369-1>0,G369-1,0))+IF(G370-G367=4,IF(G369-2>0,G369-2,0))","v":0},{"$f":"IF(H370-H367=-1,3+H369)+IF(H370-H367=0,2+H369)+IF(H370-H367=1,1+H369)+IF(H370-H367=2,H369)+IF(H370-H367=3,IF(H369-1>0,H369-1,0))+IF(H370-H367=4,IF(H369-2>0,H369-2,0))","v":0},0,0,0,0,0,0,0,{"$f":"SUM(G371:O371)","v":0},{"$f":"IF(Q370-Q367=-1,3+Q369)+IF(Q370-Q367=0,2+Q369)+IF(Q370-Q367=1,1+Q369)+IF(Q370-Q367=2,Q369)+IF(Q370-Q367=3,IF(Q369-1>0,Q369-1,0))+IF(Q370-Q367=4,IF(Q369-2>0,Q369-2,0))","v":0},0,0,0,0,0,0,0,0,{"$f":"SUM(Q371:Y371)","v":0},{"$f":"P371+Z371","v":0}]
[null,null,null,null,null,"Score Brut",{"$f":"IF(G370-G367=-2,4)+IF(G370-G367=-1,3)+IF(G370-G367=0,2)+IF(G370-G367=1,1)+IF(G370-G367>2,0)","v":0},0,0,0,0,0,0,0,0,{"$f":"SUM(G372:O372)","v":0},{"$f":"IF(Q370-Q367=-2,4)+IF(Q370-Q367=-1,3)+IF(Q370-Q367=0,2)+IF(Q370-Q367=1,1)+IF(Q370-Q367>2,0)","v":0},0,0,0,0,0,0,0,0,{"$f":"SUM(Q372:Y372)","v":0},{"$f":"P372+Z372","v":0}]
[null,null,null,null,null,null,{"$f":"G370-G367","v":6},{"$f":"H370-H367","v":6},5,6,7,5,7,5,7,null,{"$f":"Q370-Q367","v":6},6,7,5,7,6,6,5,6]
[]
[]
[null,null,null,null,null,"Statistiques scores",null,"Eagle & moins",null,null,null,{"$f":"COUNTIF(G373:Y373,\"<=-2\")","v":0},"Par",null,{"$f":"COUNTIF(G373:Y373,\"=0\")","v":0},"Double bogey",null,null,null,null,{"$f":"COUNTIF(G373:Y373,\"=2\")","v":0}]
[null,null,null,null,null,null,null,"Birdie",null,null,null,{"$f":"COUNTIF(G373:Y373,\"=-1\")","v":0},"Bogey",null,{"$f":"COUNTIF(G373:Y373,\"=1\")","v":0},"Triple bogey & plus",null,null,null,null,{"$f":"COUNTIF(G373:Y373,\">=3\")","v":18}]
[null,null,null,null,null,null,null,{"$f":"M376","v":"Par"},null,null,null,{"$f":"O376","v":0}]
[null,null,null,null,null,null,null,{"$f":"M377","v":"Bogey"},null,null,null,{"$f":"O377","v":0}]
[null,null,null,null,null,null,null,{"$f":"P376","v":"Double bogey"},null,null,null,{"$f":"U376","v":0}]
[null,null,null,null,null,null,null,{"$f":"P377","v":"Triple bogey & plus"},null,null,null,{"$f":"U377","v":18}]
[]
[]
[]
[]
[null,null,null,null,null,"Nom",{"$f":"C22","v":0},null,null,null,null,"Slope",null,null,"SSS",null,"Coups reçus",null,null,null,null,null,null,null,null,"Date",{"$f":"$D$3","v":"00:00:00"}]
[null,null,null,null,null,"Index",{"$f":"E22","v":20},null,null,null,null,{"$f":"$F$3","v":133},null,null,{"$f":"$G$3","v":68.599999999999994},null,{"$f":"ROUND((G387*(L387/113)+(O387-AA390)),0)","v":20}]
[]
[null,null,null,null,null,"Trou",1,2,3,4,5,6,7,8,9,"Aller",10,11,12,13,14,15,16,17,18,"Retour","Total"]
[null,null,null,null,null,"PAR",{"$f":"G$7","v":4},{"$f":"H$7","v":4},5,4,3,5,3,5,3,{"$f":"SUM(G390:O390)","v":36},{"$f":"Q$7","v":4},4,3,5,3,4,4,5,4,{"$f":"SUM(Q390:Y390)","v":36},{"$f":"SUM(P390+Z390)","v":72}]
[null,null,null,null,null,"HCP trous",{"$f":"G$8","v":4},{"$f":"H$8","v":8},12,14,2,10,18,16,6,null,{"$f":"Q$8","v":1},9,11,5,17,15,3,13,7]
[null,null,null,null,null,"Coups reçus",{"$f":"IF($Q387<=18,IF(G391<=$Q387,1,0),IF($Q387<=36,IF(G391<=($Q387-18),2,1),IF($Q387>36,IF(G391<=($Q387-36),3,2))))","v":1},{"$f":"IF($Q387<=18,IF(H391<=$Q387,1,0),IF($Q387<=36,IF(H391<=($Q387-18),2,1),IF($Q387>36,IF(H391<=($Q387-36),3,2))))","v":1},1,1,2,1,1,1,1,{"$f":"SUM(G392:O392)","v":10},{"$f":"IF($Q387<=18,IF(Q391<=$Q387,1,0),IF($Q387<=36,IF(Q391<=($Q387-18),2,1),IF($Q387>36,IF(Q391<=($Q387-36),3,2))))","v":2},1,1,1,1,1,1,1,1,{"$f":"SUM(Q392:Y392)","v":10},{"$f":"P392+Z392","v":20}]
[null,null,null,null,null,"Stroke play",{"$f":"G22","v":10},10,10,10,10,10,10,10,10,{"$f":"SUM(G393:O393)","v":90},{"$f":"Q22","v":10},10,10,10,10,10,10,10,10,{"$f":"SUM(Q393:Y393)","v":90},{"$f":"P393+Z393","v":180}]
[null,null,null,null,null,"Net Stableford",{"$f":"IF(G393-G390=-1,3+G392)+IF(G393-G390=0,2+G392)+IF(G393-G390=1,1+G392)+IF(G393-G390=2,G392)+IF(G393-G390=3,IF(G392-1>0,G392-1,0))+IF(G393-G390=4,IF(G392-2>0,G392-2,0))","v":0},{"$f":"IF(H393-H390=-1,3+H392)+IF(H393-H390=0,2+H392)+IF(H393-H390=1,1+H392)+IF(H393-H390=2,H392)+IF(H393-H390=3,IF(H392-1>0,H392-1,0))+IF(H393-H390=4,IF(H392-2>0,H392-2,0))","v":0},0,0,0,0,0,0,0,{"$f":"SUM(G394:O394)","v":0},{"$f":"IF(Q393-Q390=-1,3+Q392)+IF(Q393-Q390=0,2+Q392)+IF(Q393-Q390=1,1+Q392)+IF(Q393-Q390=2,Q392)+IF(Q393-Q390=3,IF(Q392-1>0,Q392-1,0))+IF(Q393-Q390=4,IF(Q392-2>0,Q392-2,0))","v":0},0,0,0,0,0,0,0,0,{"$f":"SUM(Q394:Y394)","v":0},{"$f":"P394+Z394","v":0}]
[null,null,null,null,null,"Score Brut",{"$f":"IF(G393-G390=-2,4)+IF(G393-G390=-1,3)+IF(G393-G390=0,2)+IF(G393-G390=1,1)+IF(G393-G390>2,0)","v":0},0,0,0,0,0,0,0,0,{"$f":"SUM(G395:O395)","v":0},{"$f":"IF(Q393-Q390=-2,4)+IF(Q393-Q390=-1,3)+IF(Q393-Q390=0,2)+IF(Q393-Q390=1,1)+IF(Q393-Q390>2,0)","v":0},0,0,0,0,0,0,0,0,{"$f":"SUM(Q395:Y395)","v":0},{"$f":"P395+Z395","v":0}]
[null,null,null,null,null,null,{"$f":"G393-G390","v":6},{"$f":"H393-H390","v":6},5,6,7,5,7,5,7,null,{"$f":"Q393-Q390","v":6},6,7,5,7,6,6,5,6]
[]
[]
[null,null,null,null,null,"Statistiques scores",null,"Eagle & moins",null,null,null,{"$f":"COUNTIF(G396:Y396,\"<=-2\")","v":0},"Par",null,{"$f":"COUNTIF(G396:Y396,\"=0\")","v":0},"Double bogey",null,null,null,null,{"$f":"COUNTIF(G396:Y396,\"=2\")","v":0}]
[null,null,null,null,null,null,null,"Birdie",null,null,null,{"$f":"COUNTIF(G396:Y396,\"=-1\")","v":0},"Bogey",null,{"$f":"COUNTIF(G396:Y396,\"=1\")","v":0},"Triple bogey & plus",null,null,null,null,{"$f":"COUNTIF(G396:Y396,\">=3\")","v":18}]
[null,null,null,null,null,null,null,{"$f":"M399","v":"Par"},null,null,null,{"$f":"O399","v":0}]
[null,null,null,null,null,null,null,{"$f":"M400","v":"Bogey"},null,null,null,{"$f":"O400","v":0}]
[null,null,null,null,null,null,null,{"$f":"P399","v":"Double bogey"},null,null,null,{"$f":"U399","v":0}]
[null,null,null,null,null,null,null,{"$f":"P400","v":"Triple bogey & plus"},null,null,null,{"$f":"U400","v":18}]
[]
[]
[]
[]
[null,null,null,null,null,"Nom",{"$f":"C23","v":0},null,null,null,null,"Slope",null,null,"SSS",null,"Coups reçus",null,null,null,null,null,null,null,null,"Date",{"$f":"$D$3","v":"00:00:00"}]
[null,null,null,null,null,"Index",{"$f":"E23","v":20},null,null,null,null,{"$f":"$F$3","v":133},null,null,{"$f":"$G$3","v":68.599999999999994},null,{"$f":"ROUND((G410*(L410/113)+(O410-AA413)),0)","v":20}]
[]
[null,null,null,null,null,"Trou",1,2,3,4,5,6,7,8,9,"Aller",10,11,12,13,14,15,16,17,18,"Retour","Total"]
[null,null,null,null,null,"PAR",{"$f":"G$7","v":4},{"$f":"H$7","v":4},5,4,3,5,3,5,3,{"$f":"SUM(G413:O413)","v":36},{"$f":"Q$7","v":4},4,3,5,3,4,4,5,4,{"$f":"SUM(Q413:Y413)","v":36},{"$f":"SUM(P413+Z413)","v":72}]
[null,null,null,null,null,"HCP trous",{"$f":"G$8","v":4},{"$f":"H$8","v":8},12,14,2,10,18,16,6,null,{"$f":"Q$8","v":1},9,11,5,17,15,3,13,7]
[null,null,null,null,null,"Coups reçus",{"$f":"IF($Q410<=18,IF(G414<=$Q410,1,0),IF($Q410<=36,IF(G414<=($Q410-18),2,1),IF($Q410>36,IF(G414<=($Q410-36),3,2))))","v":1},{"$f":"IF($Q410<=18,IF(H414<=$Q410,1,0),IF($Q410<=36,IF(H414<=($Q410-18),2,1),IF($Q410>36,IF(H414<=($Q410-36),3,2))))","v":1},1,1,2,1,1,1,1,{"$f":"SUM(G415:O415)","v":10},{"$f":"IF($Q410<=18,IF(Q414<=$Q410,1,0),IF($Q410<=36,IF(Q414<=($Q410-18),2,1),IF($Q410>36,IF(Q414<=($Q410-36),3,2))))","v":2},1,1,1,1,1,1,1,1,{"$f":"SUM(Q415:Y415)","v":10},{"$f":"P415+Z415","v":20}]
[null,null,null,null,null,"Stroke play",{"$f":"G23","v":10},10,10,10,10,10,10,10,10,{"$f":"SUM(G416:O416)","v":90},{"$f":"Q23","v":10},10,10,10,10,10,10,10,10,{"$f":"SUM(Q416:Y416)","v":90},{"$f":"P416+Z416","v":180}]
[null,null,null,null,null,"Net Stableford",{"$f":"IF(G416-G413=-1,3+G415)+IF(G416-G413=0,2+G415)+IF(G416-G413=1,1+G415)+IF(G416-G413=2,G415)+IF(G416-G413=3,IF(G415-1>0,G415-1,0))+IF(G416-G413=4,IF(G415-2>0,G415-2,0))","v":0},{"$f":"IF(H416-H413=-1,3+H415)+IF(H416-H413=0,2+H415)+IF(H416-H413=1,1+H415)+IF(H416-H413=2,H415)+IF(H416-H413=3,IF(H415-1>0,H415-1,0))+IF(H416-H413=4,IF(H415-2>0,H415-2,0))","v":0},0,0,0,0,0,0,0,{"$f":"SUM(G417:O417)","v":0},{"$f":"IF(Q416-Q413=-1,3+Q415)+IF(Q416-Q413=0,2+Q415)+IF(Q416-Q413=1,1+Q415)+IF(Q416-Q413=2,Q415)+IF(Q416-Q413=3,IF(Q415-1>0,Q415-1,0))+IF(Q416-Q413=4,IF(Q415-2>0,Q415-2,0))","v":0},0,0,0,0,0,0,0,0,{"$f":"SUM(Q417:Y417)","v":0},{"$f":"P417+Z417","v":0}]
[null,null,null,null,null,"Score Brut",{"$f":"IF(G416-G413=-2,4)+IF(G416-G413=-1,3)+IF(G416-G413=0,2)+IF(G416-G413=1,1)+IF(G416-G413>2,0)","v":0},0,0,0,0,0,0,0,0,{"$f":"SUM(G418:O418)","v":0},{"$f":"IF(Q416-Q413=-2,4)+IF(Q416-Q413=-1,3)+IF(Q416-Q413=0,2)+IF(Q416-Q413=1,1)+IF(Q416-Q413>2,0)","v":0},0,0,0,0,0,0,0,0,{"$f":"SUM(Q418:Y418)","v":0},{"$f":"P418+Z418","v":0}]
[null,null,null,null,null,null,{"$f":"G416-G413","v":6},{"$f":"H416-H413","v":6},5,6,7,5,7,5,7,null,{"$f":"Q416-Q413","v":6},6,7,5,7,6,6,5,6]
[]
[]
[null,null,null,null,null,"Statistiques scores",null,"Eagle & moins",null,null,null,{"$f":"COUNTIF(G419:Y419,\"<=-2\")","v":0},"Par",null,{"$f":"COUNTIF(G419:Y419,\"=0\")","v":0},"Double bogey",null,null,null,null,{"$f":"COUNTIF(G419:Y419,\"=2\")","v":0}]
[null,null,null,null,null,null,null,"Birdie",null,null,null,{"$f":"COUNTIF(G419:Y419,\"=-1\")","v":0},"Bogey",null,{"$f":"COUNTIF(G419:Y419,\"=1\")","v":0},"Triple bogey & plus",null,null,null,null,{"$f":"COUNTIF(G419:Y419,\">=3\")","v":18}]
[null,null,null,null,null,null,null,{"$f":"M422","v":"Par"},null,null,null,{"$f":"O422","v":0}]
[null,null,null,null,null,null,null,{"$f":"M423","v":"Bogey"},null,null,null,{"$f":"O423","v":0}]
[null,null,null,null,null,null,null,{"$f":"P422","v":"Double bogey"},null,null,null,{"$f":"U422","v":0}]
[null,null,null,null,null,null,null,{"$f":"P423","v":"Triple bogey & plus"},null,null,null,{"$f":"U423","v":18}]
[]
[]
[]
[]
[null,null,null,null,null,"Nom",{"$f":"C24","v":0},null,null,null,null,"Slope",null,null,"SSS",null,"Coups reçus",null,null,null,null,null,null,null,null,"Date",{"$f":"$D$3","v":"00:00:00"}]
[null,null,null,null,null,"Index",{"$f":"E24","v":20},null,null,null,null,{"$f":"$F$3","v":133},null,null,{"$f":"$G$3","v":68.599999999999994},null,{"$f":"ROUND((G433*(L433/113)+(O433-AA436)),0)","v":20}]
[]
[null,null,null,null,null,"Trou",1,2,3,4,5,6,7,8,9,"Aller",10,11,12,13,14,15,16,17,18,"Retour","Total"]
[null,null,null,null,null,"PAR",{"$f":"G$7","v":4},{"$f":"H$7","v":4},5,4,3,5,3,5,3,{"$f":"SUM(G436:O436)","v":36},{"$f":"Q$7","v":4},4,3,5,3,4,4,5,4,{"$f":"SUM(Q436:Y436)","v":36},{"$f":"SUM(P436+Z436)","v":72}]
[null,null,null,null,null,"HCP trous",{"$f":"G$8","v":4},{"$f":"H$8","v":8},12,14,2,10,18,16,6,null,{"$f":"Q$8","v":1},9,11,5,17,15,3,13,7]
[null,null,null,null,null,"Coups reçus",{"$f":"IF($Q433<=18,IF(G437<=$Q433,1,0),IF($Q433<=36,IF(G437<=($Q433-18),2,1),IF($Q433>36,IF(G437<=($Q433-36),3,2))))","v":1},{"$f":"IF($Q433<=18,IF(H437<=$Q433,1,0),IF($Q433<=36,IF(H437<=($Q433-18),2,1),IF($Q433>36,IF(H437<=($Q433-36),3,2))))","v":1},1,1,2,1,1,1,1,{"$f":"SUM(G438:O438)","v":10},{"$f":"IF($Q433<=18,IF(Q437<=$Q433,1,0),IF($Q433<=36,IF(Q437<=($Q433-18),2,1),IF($Q433>36,IF(Q437<=($Q433-36),3,2))))","v":2},1,1,1,1,1,1,1,1,{"$f":"SUM(Q438:Y438)","v":10},{"$f":"P438+Z438","v":20}]
[null,null,null,null,null,"Stroke play",{"$f":"G24","v":10},10,10,10,10,10,10,10,10,{"$f":"SUM(G439:O439)","v":90},{"$f":"Q24","v":10},10,10,10,10,10,10,10,10,{"$f":"SUM(Q439:Y439)","v":90},{"$f":"P439+Z439","v":180}]
[null,null,null,null,null,"Net Stableford",{"$f":"IF(G439-G436=-1,3+G438)+IF(G439-G436=0,2+G438)+IF(G439-G436=1,1+G438)+IF(G439-G436=2,G438)+IF(G439-G436=3,IF(G438-1>0,G438-1,0))+IF(G439-G436=4,IF(G438-2>0,G438-2,0))","v":0},{"$f":"IF(H439-H436=-1,3+H438)+IF(H439-H436=0,2+H438)+IF(H439-H436=1,1+H438)+IF(H439-H436=2,H438)+IF(H439-H436=3,IF(H438-1>0,H438-1,0))+IF(H439-H436=4,IF(H438-2>0,H438-2,0))","v":0},0,0,0,0,0,0,0,{"$f":"SUM(G440:O440)","v":0},{"$f":"IF(Q439-Q436=-1,3+Q438)+IF(Q439-Q436=0,2+Q438)+IF(Q439-Q436=1,1+Q438)+IF(Q439-Q436=2,Q438)+IF(Q439-Q436=3,IF(Q438-1>0,Q438-1,0))+IF(Q439-Q436=4,IF(Q438-2>0,Q438-2,0))","v":0},0,0,0,0,0,0,0,0,{"$f":"SUM(Q440:Y440)","v":0},{"$f":"P440+Z440","v":0}]
[null,null,null,null,null,"Score Brut",{"$f":"IF(G439-G436=-2,4)+IF(G439-G436=-1,3)+IF(G439-G436=0,2)+IF(G439-G436=1,1)+IF(G439-G436>2,0)","v":0},0,0,0,0,0,0,0,0,{"$f":"SUM(G441:O441)","v":0},{"$f":"IF(Q439-Q436=-2,4)+IF(Q439-Q436=-1,3)+IF(Q439-Q436=0,2)+IF(Q439-Q436=1,1)+IF(Q439-Q436>2,0)","v":0},0,0,0,0,0,0,0,0,{"$f":"SUM(Q441:Y441)","v":0},{"$f":"P441+Z441","v":0}]
[null,null,null,null,null,null,{"$f":"G439-G436","v":6},{"$f":"H439-H436","v":6},5,6,7,5,7,5,7,null,{"$f":"Q439-Q436","v":6},6,7,5,7,6,6,5,6]
[]
[]
[null,null,null,null,null,"Statistiques scores",null,"Eagle & moins",null,null,null,{"$f":"COUNTIF(G442:Y442,\"<=-2\")","v":0},"Par",null,{"$f":"COUNTIF(G442:Y442,\"=0\")","v":0},"Double bogey",null,null,null,null,{"$f":"COUNTIF(G442:Y442,\"=2\")","v":0}]
[null,null,null,null,null,null,null,"Birdie",null,null,null,{"$f":"COUNTIF(G442:Y442,\"=-1\")","v":0},"Bogey",null,{"$f":"COUNTIF(G442:Y442,\"=1\")","v":0},"Triple bogey & plus",null,null,null,null,{"$f":"COUNTIF(G442:Y442,\">=3\")","v":18}]
[null,null,null,null,null,null,null,{"$f":"M445","v":"Par"},null,null,null,{"$f":"O445","v":0}]
[null,null,null,null,null,null,null,{"$f":"M446","v":"Bogey"},null,null,null,{"$f":"O446","v":0}]
[null,null,null,null,null,null,null,{"$f":"P445","v":"Double bogey"},null,null,null,{"$f":"U445","v":0}]
[null,null,null,null,null,null,null,{"$f":"P446","v":"Triple bogey & plus"},null,null,null,{"$f":"U446","v":18}]
[]
[]
[]
[]
[null,null,null,null,null,"Nom",{"$f":"C25","v":0},null,null,null,null,"Slope",null,null,"SSS",null,"Coups reçus",null,null,null,null,null,null,null,null,"Date",{"$f":"$D$3","v":"00:00:00"}]
[null,null,null,null,null,"Index",{"$f":"E25","v":20},null,null,null,null,{"$f":"$F$3","v":133},null,null,{"$f":"$G$3","v":68.599999999999994},null,{"$f":"ROUND((G456*(L456/113)+(O456-AA459)),0)","v":20}]
[]
[null,null,null,null,null,"Trou",1,2,3,4,5,6,7,8,9,"Aller",10,11,12,13,14,15,16,17,18,"Retour","Total"]
[null,null,null,null,null,"PAR",{"$f":"G$7","v":4},{"$f":"H$7","v":4},5,4,3,5,3,5,3,{"$f":"SUM(G459:O459)","v":36},{"$f":"Q$7","v":4},4,3,5,3,4,4,5,4,{"$f":"SUM(Q459:Y459)","v":36},{"$f":"SUM(P459+Z459)","v":72}]
[null,null,null,null,null,"HCP trous",{"$f":"G$8","v":4},{"$f":"H$8","v":8},12,14,2,10,18,16,6,null,{"$f":"Q$8","v":1},9,11,5,17,15,3,13,7]
[null,null,null,null,null,"Coups reçus",{"$f":"IF($Q456<=18,IF(G460<=$Q456,1,0),IF($Q456<=36,IF(G460<=($Q456-18),2,1),IF($Q456>36,IF(G460<=($Q456-36),3,2))))","v":1},{"$f":"IF($Q456<=18,IF(H460<=$Q456,1,0),IF($Q456<=36,IF(H460<=($Q456-18),2,1),IF($Q456>36,IF(H460<=($Q456-36),3,2))))","v":1},1,1,2,1,1,1,1,{"$f":"SUM(G461:O461)","v":10},{"$f":"IF($Q456<=18,IF(Q460<=$Q456,1,0),IF($Q456<=36,IF(Q460<=($Q456-18),2,1),IF($Q456>36,IF(Q460<=($Q456-36),3,2))))","v":2},1,1,1,1,1,1,1,1,{"$f":"SUM(Q461:Y461)","v":10},{"$f":"P461+Z461","v":20}]
[null,null,null,null,null,"Stroke play",{"$f":"G25","v":10},10,10,10,10,10,10,10,10,{"$f":"SUM(G462:O462)","v":90},{"$f":"Q25","v":10},10,10,10,10,10,10,10,10,{"$f":"SUM(Q462:Y462)","v":90},{"$f":"P462+Z462","v":180}]
[null,null,null,null,null,"Net Stableford",{"$f":"IF(G462-G459=-1,3+G461)+IF(G462-G459=0,2+G461)+IF(G462-G459=1,1+G461)+IF(G462-G459=2,G461)+IF(G462-G459=3,IF(G461-1>0,G461-1,0))+IF(G462-G459=4,IF(G461-2>0,G461-2,0))","v":0},{"$f":"IF(H462-H459=-1,3+H461)+IF(H462-H459=0,2+H461)+IF(H462-H459=1,1+H461)+IF(H462-H459=2,H461)+IF(H462-H459=3,IF(H461-1>0,H461-1,0))+IF(H462-H459=4,IF(H461-2>0,H461-2,0))","v":0},0,0,0,0,0,0,0,{"$f":"SUM(G463:O463)","v":0},{"$f":"IF(Q462-Q459=-1,3+Q461)+IF(Q462-Q459=0,2+Q461)+IF(Q462-Q459=1,1+Q461)+IF(Q462-Q459=2,Q461)+IF(Q462-Q459=3,IF(Q461-1>0,Q461-1,0))+IF(Q462-Q459=4,IF(Q461-2>0,Q461-2,0))","v":0},0,0,0,0,0,0,0,0,{"$f":"SUM(Q463:Y463)","v":0},{"$f":"P463+Z463","v":0}]
[null,null,null,null,null,"Score Brut",{"$f":"IF(G462-G459=-2,4)+IF(G462-G459=-1,3)+IF(G462-G459=0,2)+IF(G462-G459=1,1)+IF(G462-G459>2,0)","v":0},0,0,0,0,0,0,0,0,{"$f":"SUM(G464:O464)","v":0},{"$f":"IF(Q462-Q459=-2,4)+IF(Q462-Q459=-1,3)+IF(Q462-Q459=0,2)+IF(Q462-Q459=1,1)+IF(Q462-Q459>2,0)","v":0},0,0,0,0,0,0,0,0,{"$f":"SUM(Q464:Y464)","v":0},{"$f":"P464+Z464","v":0}]
[null,null,null,null,null,null,{"$f":"G462-G459","v":6},{"$f":"H462-H459","v":6},5,6,7,5,7,5,7,null,{"$f":"Q462-Q459","v":6},6,7,5,7,6,6,5,6]
[]
[]
[null,null,null,null,null,"Statistiques scores",null,"Eagle & moins",null,null,null,{"$f":"COUNTIF(G465:Y465,\"<=-2\")","v":0},"Par",null,{"$f":"COUNTIF(G465:Y465,\"=0\")","v":0},"Double bogey",null,null,null,null,{"$f":"COUNTIF(G465:Y465,\"=2\")","v":0}]
[null,null,null,null,null,null,null,"Birdie",null,null,null,{"$f":"COUNTIF(G465:Y465,\"=-1\")","v":0},"Bogey",null,{"$f":"COUNTIF(G465:Y465,\"=1\")","v":0},"Triple bogey & plus",null,null,null,null,{"$f":"COUNTIF(G465:Y465,\">=3\")","v":18}]
[null,null,null,null,null,null,null,{"$f":"M468","v":"Par"},null,null,null,{"$f":"O468","v":0}]
[null,null,null,null,null,null,null,{"$f":"M469","v":"Bogey"},null,null,null,{"$f":"O469","v":0}]
[null,null,null,null,null,null,null,{"$f":"P468","v":"Double bogey"},null,null,null,{"$f":"U468","v":0}]
[null,null,null,null,null,null,null,{"$f":"P469","v":"Triple bogey & plus"},null,null,null,{"$f":"U469","v":18}]
[]
[]
[]
[]
[null,null,null,null,null,"Nom",{"$f":"C26","v":0},null,null,null,null,"Slope",null,null,"SSS",null,"Coups reçus",null,null,null,null,null,null,null,null,"Date",{"$f":"$D$3","v":"00:00:00"}]
[null,null,null,null,null,"Index",{"$f":"E26","v":20},null,null,null,null,{"$f":"$F$3","v":133},null,null,{"$f":"$G$3","v":68.599999999999994},null,{"$f":"ROUND((G479*(L479/113)+(O479-AA482)),0)","v":20}]
[]
[null,null,null,null,null,"Trou",1,2,3,4,5,6,7,8,9,"Aller",10,11,12,13,14,15,16,17,18,"Retour","Total"]
[null,null,null,null,null,"PAR",{"$f":"G$7","v":4},{"$f":"H$7","v":4},5,4,3,5,3,5,3,{"$f":"SUM(G482:O482)","v":36},{"$f":"Q$7","v":4},4,3,5,3,4,4,5,4,{"$f":"SUM(Q482:Y482)","v":36},{"$f":"SUM(P482+Z482)","v":72}]
[null,null,null,null,null,"HCP trous",{"$f":"G$8","v":4},{"$f":"H$8","v":8},12,14,2,10,18,16,6,null,{"$f":"Q$8","v":1},9,11,5,17,15,3,13,7]
[null,null,null,null,null,"Coups reçus",{"$f":"IF($Q479<=18,IF(G483<=$Q479,1,0),IF($Q479<=36,IF(G483<=($Q479-18),2,1),IF($Q479>36,IF(G483<=($Q479-36),3,2))))","v":1},{"$f":"IF($Q479<=18,IF(H483<=$Q479,1,0),IF($Q479<=36,IF(H483<=($Q479-18),2,1),IF($Q479>36,IF(H483<=($Q479-36),3,2))))","v":1},1,1,2,1,1,1,1,{"$f":"SUM(G484:O484)","v":10},{"$f":"IF($Q479<=18,IF(Q483<=$Q479,1,0),IF($Q479<=36,IF(Q483<=($Q479-18),2,1),IF($Q479>36,IF(Q483<=($Q479-36),3,2))))","v":2},1,1,1,1,1,1,1,1,{"$f":"SUM(Q484:Y484)","v":10},{"$f":"P484+Z484","v":20}]
[null,null,null,null,null,"Stroke play",{"$f":"G26","v":10},10,10,10,10,10,10,10,10,{"$f":"SUM(G485:O485)","v":90},{"$f":"Q26","v":10},10,10,10,10,10,10,10,10,{"$f":"SUM(Q485:Y485)","v":90},{"$f":"P485+Z485","v":180}]
[null,null,null,null,null,"Net Stableford",{"$f":"IF(G485-G482=-1,3+G484)+IF(G485-G482=0,2+G484)+IF(G485-G482=1,1+G484)+IF(G485-G482=2,G484)+IF(G485-G482=3,IF(G484-1>0,G484-1,0))+IF(G485-G482=4,IF(G484-2>0,G484-2,0))","v":0},{"$f":"IF(H485-H482=-1,3+H484)+IF(H485-H482=0,2+H484)+IF(H485-H482=1,1+H484)+IF(H485-H482=2,H484)+IF(H485-H482=3,IF(H484-1>0,H484-1,0))+IF(H485-H482=4,IF(H484-2>0,H484-2,0))","v":0},0,0,0,0,0,0,0,{"$f":"SUM(G486:O486)","v":0},{"$f":"IF(Q485-Q482=-1,3+Q484)+IF(Q485-Q482=0,2+Q484)+IF(Q485-Q482=1,1+Q484)+IF(Q485-Q482=2,Q484)+IF(Q485-Q482=3,IF(Q484-1>0,Q484-1,0))+IF(Q485-Q482=4,IF(Q484-2>0,Q484-2,0))","v":0},0,0,0,0,0,0,0,0,{"$f":"SUM(Q486:Y486)","v":0},{"$f":"P486+Z486","v":0}]
[null,null,null,null,null,"Score Brut",{"$f":"IF(G485-G482=-2,4)+IF(G485-G482=-1,3)+IF(G485-G482=0,2)+IF(G485-G482=1,1)+IF(G485-G482>2,0)","v":0},0,0,0,0,0,0,0,0,{"$f":"SUM(G487:O487)","v":0},{"$f":"IF(Q485-Q482=-2,4)+IF(Q485-Q482=-1,3)+IF(Q485-Q482=0,2)+IF(Q485-Q482=1,1)+IF(Q485-Q482>2,0)","v":0},0,0,0,0,0,0,0,0,{"$f":"SUM(Q487:Y487)","v":0},{"$f":"P487+Z487","v":0}]
[null,null,null,null,null,null,{"$f":"G485-G482","v":6},{"$f":"H485-H482","v":6},5,6,7,5,7,5,7,null,{"$f":"Q485-Q482","v":6},6,7,5,7,6,6,5,6]
[]
[]
[null,null,null,null,null,"Statistiques scores",null,"Eagle & moins",null,null,null,{"$f":"COUNTIF(G488:Y488,\"<=-2\")","v":0},"Par",null,{"$f":"COUNTIF(G488:Y488,\"=0\")","v":0},"Double bogey",null,null,null,null,{"$f":"COUNTIF(G488:Y488,\"=2\")","v":0}]
[null,null,null,null,null,null,null,"Birdie",null,null,null,{"$f":"COUNTIF(G488:Y488,\"=-1\")","v":0},"Bogey",null,{"$f":"COUNTIF(G488:Y488,\"=1\")","v":0},"Triple bogey & plus",null,null,null,null,{"$f":"COUNTIF(G488:Y488,\">=3\")","v":18}]
[null,null,null,null,null,null,null,{"$f":"M491","v":"Par"},null,null,null,{"$f":"O491","v":0}]
[null,null,null,null,null,null,null,{"$f":"M492","v":"Bogey"},null,null,null,{"$f":"O492","v":0}]
[null,null,null,null,null,null,null,{"$f":"P491","v":"Double bogey"},null,null,null,{"$f":"U491","v":0}]
[null,null,null,null,null,null,null,{"$f":"P492","v":"Triple bogey & plus"},null,null,null,{"$f":"U492","v":18}]
[]
[]
[]
[]
[null,null,null,null,null,"Nom",{"$f":"C27","v":0},null,null,null,null,"Slope",null,null,"SSS",null,"Coups reçus",null,null,null,null,null,null,null,null,"Date",{"$f":"$D$3","v":"00:00:00"}]
[null,null,null,null,null,"Index",{"$f":"E27","v":20},null,null,null,null,{"$f":"$F$3","v":133},null,null,{"$f":"$G$3","v":68.599999999999994},null,{"$f":"ROUND((G502*(L502/113)+(O502-AA505)),0)","v":20}]
[]
[null,null,null,null,null,"Trou",1,2,3,4,5,6,7,8,9,"Aller",10,11,12,13,14,15,16,17,18,"Retour","Total"]
[null,null,null,null,null,"PAR",{"$f":"G$7","v":4},{"$f":"H$7","v":4},5,4,3,5,3,5,3,{"$f":"SUM(G505:O505)","v":36},{"$f":"Q$7","v":4},4,3,5,3,4,4,5,4,{"$f":"SUM(Q505:Y505)","v":36},{"$f":"SUM(P505+Z505)","v":72}]
[null,null,null,null,null,"HCP trous",{"$f":"G$8","v":4},{"$f":"H$8","v":8},12,14,2,10,18,16,6,null,{"$f":"Q$8","v":1},9,11,5,17,15,3,13,7]
[null,null,null,null,null,"Coups reçus",{"$f":"IF($Q502<=18,IF(G506<=$Q502,1,0),IF($Q502<=36,IF(G506<=($Q502-18),2,1),IF($Q502>36,IF(G506<=($Q502-36),3,2))))","v":1},{"$f":"IF($Q502<=18,IF(H506<=$Q502,1,0),IF($Q502<=36,IF(H506<=($Q502-18),2,1),IF($Q502>36,IF(H506<=($Q502-36),3,2))))","v":1},1,1,2,1,1,1,1,{"$f":"SUM(G507:O507)","v":10},{"$f":"IF($Q502<=18,IF(Q506<=$Q502,1,0),IF($Q502<=36,IF(Q506<=($Q502-18),2,1),IF($Q502>36,IF(Q506<=($Q502-36),3,2))))","v":2},1,1,1,1,1,1,1,1,{"$f":"SUM(Q507:Y507)","v":10},{"$f":"P507+Z507","v":20}]
[null,null,null,null,null,"Stroke play",{"$f":"G27","v":10},10,10,10,10,10,10,10,10,{"$f":"SUM(G508:O508)","v":90},{"$f":"Q27","v":10},10,10,10,10,10,10,10,10,{"$f":"SUM(Q508:Y508)","v":90},{"$f":"P508+Z508","v":180}]
[null,null,null,null,null,"Net Stableford",{"$f":"IF(G508-G505=-1,3+G507)+IF(G508-G505=0,2+G507)+IF(G508-G505=1,1+G507)+IF(G508-G505=2,G507)+IF(G508-G505=3,IF(G507-1>0,G507-1,0))+IF(G508-G505=4,IF(G507-2>0,G507-2,0))","v":0},{"$f":"IF(H508-H505=-1,3+H507)+IF(H508-H505=0,2+H507)+IF(H508-H505=1,1+H507)+IF(H508-H505=2,H507)+IF(H508-H505=3,IF(H507-1>0,H507-1,0))+IF(H508-H505=4,IF(H507-2>0,H507-2,0))","v":0},0,0,0,0,0,0,0,{"$f":"SUM(G509:O509)","v":0},{"$f":"IF(Q508-Q505=-1,3+Q507)+IF(Q508-Q505=0,2+Q507)+IF(Q508-Q505=1,1+Q507)+IF(Q508-Q505=2,Q507)+IF(Q508-Q505=3,IF(Q507-1>0,Q507-1,0))+IF(Q508-Q505=4,IF(Q507-2>0,Q507-2,0))","v":0},0,0,0,0,0,0,0,0,{"$f":"SUM(Q509:Y509)","v":0},{"$f":"P509+Z509","v":0}]
[null,null,null,null,null,"Score Brut",{"$f":"IF(G508-G505=-2,4)+IF(G508-G505=-1,3)+IF(G508-G505=0,2)+IF(G508-G505=1,1)+IF(G508-G505>2,0)","v":0},0,0,0,0,0,0,0,0,{"$f":"SUM(G510:O510)","v":0},{"$f":"IF(Q508-Q505=-2,4)+IF(Q508-Q505=-1,3)+IF(Q508-Q505=0,2)+IF(Q508-Q505=1,1)+IF(Q508-Q505>2,0)","v":0},0,0,0,0,0,0,0,0,{"$f":"SUM(Q510:Y510)","v":0},{"$f":"P510+Z510","v":0}]
[null,null,null,null,null,null,{"$f":"G508-G505","v":6},{"$f":"H508-H505","v":6},5,6,7,5,7,5,7,null,{"$f":"Q508-Q505","v":6},6,7,5,7,6,6,5,6]
[]
[]
[null,null,null,null,null,"Statistiques scores",null,"Eagle & moins",null,null,null,{"$f":"COUNTIF(G511:Y511,\"<=-2\")","v":0},"Par",null,{"$f":"COUNTIF(G511:Y511,\"=0\")","v":0},"Double bogey",null,null,null,null,{"$f":"COUNTIF(G511:Y511,\"=2\")","v":0}]
[null,null,null,null,null,null,null,"Birdie",null,null,null,{"$f":"COUNTIF(G511:Y511,\"=-1\")","v":0},"Bogey",null,{"$f":"COUNTIF(G511:Y511,\"=1\")","v":0},"Triple bogey & plus",null,null,null,null,{"$f":"COUNTIF(G511:Y511,\">=3\")","v":18}]
[null,null,null,null,null,null,null,{"$f":"M514","v":"Par"},null,null,null,{"$f":"O514","v":0}]
[null,null,null,null,null,null,null,{"$f":"M515","v":"Bogey"},null,null,null,{"$f":"O515","v":0}]
[null,null,null,null,null,null,null,{"$f":"P514","v":"Double bogey"},null,null,null,{"$f":"U514","v":0}]
[null,null,null,null,null,null,null,{"$f":"P515","v":"Triple bogey & plus"},null,null,null,{"$f":"U515","v":18}]
[]
[]
[]
[]
[null,null,null,null,null,"Nom",{"$f":"C28","v":0},null,null,null,null,"Slope",null,null,"SSS",null,"Coups reçus",null,null,null,null,null,null,null,null,"Date",{"$f":"$D$3","v":"00:00:00"}]
[null,null,null,null,null,"Index",{"$f":"E28","v":20},null,null,null,null,{"$f":"$F$3","v":133},null,null,{"$f":"$G$3","v":68.599999999999994},null,{"$f":"ROUND((G525*(L525/113)+(O525-AA528)),0)","v":20}]
[]
[null,null,null,null,null,"Trou",1,2,3,4,5,6,7,8,9,"Aller",10,11,12,13,14,15,16,17,18,"Retour","Total"]
[null,null,null,null,null,"PAR",{"$f":"G$7","v":4},{"$f":"H$7","v":4},5,4,3,5,3,5,3,{"$f":"SUM(G528:O528)","v":36},{"$f":"Q$7","v":4},4,3,5,3,4,4,5,4,{"$f":"SUM(Q528:Y528)","v":36},{"$f":"SUM(P528+Z528)","v":72}]
[null,null,null,null,null,"HCP trous",{"$f":"G$8","v":4},{"$f":"H$8","v":8},12,14,2,10,18,16,6,null,{"$f":"Q$8","v":1},9,11,5,17,15,3,13,7]
[null,null,null,null,null,"Coups reçus",{"$f":"IF($Q525<=18,IF(G529<=$Q525,1,0),IF($Q525<=36,IF(G529<=($Q525-18),2,1),IF($Q525>36,IF(G529<=($Q525-36),3,2))))","v":1},{"$f":"IF($Q525<=18,IF(H529<=$Q525,1,0),IF($Q525<=36,IF(H529<=($Q525-18),2,1),IF($Q525>36,IF(H529<=($Q525-36),3,2))))","v":1},1,1,2,1,1,1,1,{"$f":"SUM(G530:O530)","v":10},{"$f":"IF($Q525<=18,IF(Q529<=$Q525,1,0),IF($Q525<=36,IF(Q529<=($Q525-18),2,1),IF($Q525>36,IF(Q529<=($Q525-36),3,2))))","v":2},1,1,1,1,1,1,1,1,{"$f":"SUM(Q530:Y530)","v":10},{"$f":"P530+Z530","v":20}]
[null,null,null,null,null,"Stroke play",{"$f":"G28","v":10},10,10,10,10,10,10,10,10,{"$f":"SUM(G531:O531)","v":90},{"$f":"Q28","v":10},10,10,10,10,10,10,10,10,{"$f":"SUM(Q531:Y531)","v":90},{"$f":"P531+Z531","v":180}]
[null,null,null,null,null,"Net Stableford",{"$f":"IF(G531-G528=-1,3+G530)+IF(G531-G528=0,2+G530)+IF(G531-G528=1,1+G530)+IF(G531-G528=2,G530)+IF(G531-G528=3,IF(G530-1>0,G530-1,0))+IF(G531-G528=4,IF(G530-2>0,G530-2,0))","v":0},{"$f":"IF(H531-H528=-1,3+H530)+IF(H531-H528=0,2+H530)+IF(H531-H528=1,1+H530)+IF(H531-H528=2,H530)+IF(H531-H528=3,IF(H530-1>0,H530-1,0))+IF(H531-H528=4,IF(H530-2>0,H530-2,0))","v":0},0,0,0,0,0,0,0,{"$f":"SUM(G532:O532)","v":0},{"$f":"IF(Q531-Q528=-1,3+Q530)+IF(Q531-Q528=0,2+Q530)+IF(Q531-Q528=1,1+Q530)+IF(Q531-Q528=2,Q530)+IF(Q531-Q528=3,IF(Q530-1>0,Q530-1,0))+IF(Q531-Q528=4,IF(Q530-2>0,Q530-2,0))","v":0},0,0,0,0,0,0,0,0,{"$f":"SUM(Q532:Y532)","v":0},{"$f":"P532+Z532","v":0}]
[null,null,null,null,null,"Score Brut",{"$f":"IF(G531-G528=-2,4)+IF(G531-G528=-1,3)+IF(G531-G528=0,2)+IF(G531-G528=1,1)+IF(G531-G528>2,0)","v":0},0,0,0,0,0,0,0,0,{"$f":"SUM(G533:O533)","v":0},{"$f":"IF(Q531-Q528=-2,4)+IF(Q531-Q528=-1,3)+IF(Q531-Q528=0,2)+IF(Q531-Q528=1,1)+IF(Q531-Q528>2,0)","v":0},0,0,0,0,0,0,0,0,{"$f":"SUM(Q533:Y533)","v":0},{"$f":"P533+Z533","v":0}]
[null,null,null,null,null,null,{"$f":"G531-G528","v":6},{"$f":"H531-H528","v":6},5,6,7,5,7,5,7,null,{"$f":"Q531-Q528","v":6},6,7,5,7,6,6,5,6]
[]
[]
[null,null,null,null,null,"Statistiques scores",null,"Eagle & moins",null,null,null,{"$f":"COUNTIF(G534:Y534,\"<=-2\")","v":0},"Par",null,{"$f":"COUNTIF(G534:Y534,\"=0\")","v":0},"Double bogey",null,null,null,null,{"$f":"COUNTIF(G534:Y534,\"=2\")","v":0}]
[null,null,null,null,null,null,null,"Birdie",null,null,null,{"$f":"COUNTIF(G534:Y534,\"=-1\")","v":0},"Bogey",null,{"$f":"COUNTIF(G534:Y534,\"=1\")","v":0},"Triple bogey & plus",null,null,null,null,{"$f":"COUNTIF(G534:Y534,\">=3\")","v":18}]
[null,null,null,null,null,null,null,{"$f":"M537","v":"Par"},null,null,null,{"$f":"O537","v":0}]
[null,null,null,null,null,null,null,{"$f":"M538","v":"Bogey"},null,null,null,{"$f":"O538","v":0}]
[null,null,null,null,null,null,null,{"$f":"P537","v":"Double bogey"},null,null,null,{"$f":"U537","v":0}]
[null,null,null,null,null,null,null,{"$f":"P538","v":"Triple bogey & plus"},null,null,null,{"$f":"U538","v":18}]
[]
[]
[]
[]
[null,null,null,null,null,"Nom",{"$f":"C29","v":0},null,null,null,null,"Slope",null,null,"SSS",null,"Coups reçus",null,null,null,null,null,null,null,null,"Date",{"$f":"$D$3","v":"00:00:00"}]
[null,null,null,null,null,"Index",{"$f":"E29","v":20},null,null,null,null,{"$f":"$F$3","v":133},null,null,{"$f":"$G$3","v":68.599999999999994},null,{"$f":"ROUND((G548*(L548/113)+(O548-AA551)),0)","v":20}]
[]
[null,null,null,null,null,"Trou",1,2,3,4,5,6,7,8,9,"Aller",10,11,12,13,14,15,16,17,18,"Retour","Total"]
[null,null,null,null,null,"PAR",{"$f":"G$7","v":4},{"$f":"H$7","v":4},5,4,3,5,3,5,3,{"$f":"SUM(G551:O551)","v":36},{"$f":"Q$7","v":4},4,3,5,3,4,4,5,4,{"$f":"SUM(Q551:Y551)","v":36},{"$f":"SUM(P551+Z551)","v":72}]
[null,null,null,null,null,"HCP trous",{"$f":"G$8","v":4},{"$f":"H$8","v":8},12,14,2,10,18,16,6,null,{"$f":"Q$8","v":1},9,11,5,17,15,3,13,7]
[null,null,null,null,null,"Coups reçus",{"$f":"IF($Q548<=18,IF(G552<=$Q548,1,0),IF($Q548<=36,IF(G552<=($Q548-18),2,1),IF($Q548>36,IF(G552<=($Q548-36),3,2))))","v":1},{"$f":"IF($Q548<=18,IF(H552<=$Q548,1,0),IF($Q548<=36,IF(H552<=($Q548-18),2,1),IF($Q548>36,IF(H552<=($Q548-36),3,2))))","v":1},1,1,2,1,1,1,1,{"$f":"SUM(G553:O553)","v":10},{"$f":"IF($Q548<=18,IF(Q552<=$Q548,1,0),IF($Q548<=36,IF(Q552<=($Q548-18),2,1),IF($Q548>36,IF(Q552<=($Q548-36),3,2))))","v":2},1,1,1,1,1,1,1,1,{"$f":"SUM(Q553:Y553)","v":10},{"$f":"P553+Z553","v":20}]
[null,null,null,null,null,"Stroke play",{"$f":"G29","v":10},10,10,10,10,10,10,10,10,{"$f":"SUM(G554:O554)","v":90},{"$f":"Q29","v":10},10,10,10,10,10,10,10,10,{"$f":"SUM(Q554:Y554)","v":90},{"$f":"P554+Z554","v":180}]
[null,null,null,null,null,"Net Stableford",{"$f":"IF(G554-G551=-1,3+G553)+IF(G554-G551=0,2+G553)+IF(G554-G551=1,1+G553)+IF(G554-G551=2,G553)+IF(G554-G551=3,IF(G553-1>0,G553-1,0))+IF(G554-G551=4,IF(G553-2>0,G553-2,0))","v":0},{"$f":"IF(H554-H551=-1,3+H553)+IF(H554-H551=0,2+H553)+IF(H554-H551=1,1+H553)+IF(H554-H551=2,H553)+IF(H554-H551=3,IF(H553-1>0,H553-1,0))+IF(H554-H551=4,IF(H553-2>0,H553-2,0))","v":0},0,0,0,0,0,0,0,{"$f":"SUM(G555:O555)","v":0},{"$f":"IF(Q554-Q551=-1,3+Q553)+IF(Q554-Q551=0,2+Q553)+IF(Q554-Q551=1,1+Q553)+IF(Q554-Q551=2,Q553)+IF(Q554-Q551=3,IF(Q553-1>0,Q553-1,0))+IF(Q554-Q551=4,IF(Q553-2>0,Q553-2,0))","v":0},0,0,0,0,0,0,0,0,{"$f":"SUM(Q555:Y555)","v":0},{"$f":"P555+Z555","v":0}]
[null,null,null,null,null,"Score Brut",{"$f":"IF(G554-G551=-2,4)+IF(G554-G551=-1,3)+IF(G554-G551=0,2)+IF(G554-G551=1,1)+IF(G554-G551>2,0)","v":0},0,0,0,0,0,0,0,0,{"$f":"SUM(G556:O556)","v":0},{"$f":"IF(Q554-Q551=-2,4)+IF(Q554-Q551=-1,3)+IF(Q554-Q551=0,2)+IF(Q554-Q551=1,1)+IF(Q554-Q551>2,0)","v":0},0,0,0,0,0,0,0,0,{"$f":"SUM(Q556:Y556)","v":0},{"$f":"P556+Z556","v":0}]
[null,null,null,null,null,null,{"$f":"G554-G551","v":6},{"$f":"H554-H551","v":6},5,6,7,5,7,5,7,null,{"$f":"Q554-Q551","v":6},6,7,5,7,6,6,5,6]
[]
[]
[null,null,null,null,null,"Statistiques scores",null,"Eagle & moins",null,null,null,{"$f":"COUNTIF(G557:Y557,\"<=-2\")","v":0},"Par",null,{"$f":"COUNTIF(G557:Y557,\"=0\")","v":0},"Double bogey",null,null,null,null,{"$f":"COUNTIF(G557:Y557,\"=2\")","v":0}]
[null,null,null,null,null,null,null,"Birdie",null,null,null,{"$f":"COUNTIF(G557:Y557,\"=-1\")","v":0},"Bogey",null,{"$f":"COUNTIF(G557:Y557,\"=1\")","v":0},"Triple bogey & plus",null,null,null,null,{"$f":"COUNTIF(G557:Y557,\">=3\")","v":18}]
[null,null,null,null,null,null,null,{"$f":"M560","v":"Par"},null,null,null,{"$f":"O560","v":0}]
[null,null,null,null,null,null,null,{"$f":"M561","v":"Bogey"},null,null,null,{"$f":"O561","v":0}]
[null,null,null,null,null,null,null,{"$f":"P560","v":"Double bogey"},null,null,null,{"$f":"U560","v":0}]
[null,null,null,null,null,null,null,{"$f":"P561","v":"Triple bogey & plus"},null,null,null,{"$f":"U561","v":18}]
[]
[]
[]
[]
[null,null,null,null,null,"Nom",{"$f":"C30","v":0},null,null,null,null,"Slope",null,null,"SSS",null,"Coups reçus",null,null,null,null,null,null,null,null,"Date",{"$f":"$D$3","v":"00:00:00"}]
[null,null,null,null,null,"Index",{"$f":"E30","v":20},null,null,null,null,{"$f":"$F$3","v":133},null,null,{"$f":"$G$3","v":68.599999999999994},null,{"$f":"ROUND((G571*(L571/113)+(O571-AA574)),0)","v":20}]
[]
[null,null,null,null,null,"Trou",1,2,3,4,5,6,7,8,9,"Aller",10,11,12,13,14,15,16,17,18,"Retour","Total"]
[null,null,null,null,null,"PAR",{"$f":"G$7","v":4},{"$f":"H$7","v":4},5,4,3,5,3,5,3,{"$f":"SUM(G574:O574)","v":36},{"$f":"Q$7","v":4},4,3,5,3,4,4,5,4,{"$f":"SUM(Q574:Y574)","v":36},{"$f":"SUM(P574+Z574)","v":72}]
[null,null,null,null,null,"HCP trous",{"$f":"G$8","v":4},{"$f":"H$8","v":8},12,14,2,10,18,16,6,null,{"$f":"Q$8","v":1},9,11,5,17,15,3,13,7]
[null,null,null,null,null,"Coups reçus",{"$f":"IF($Q571<=18,IF(G575<=$Q571,1,0),IF($Q571<=36,IF(G575<=($Q571-18),2,1),IF($Q571>36,IF(G575<=($Q571-36),3,2))))","v":1},{"$f":"IF($Q571<=18,IF(H575<=$Q571,1,0),IF($Q571<=36,IF(H575<=($Q571-18),2,1),IF($Q571>36,IF(H575<=($Q571-36),3,2))))","v":1},1,1,2,1,1,1,1,{"$f":"SUM(G576:O576)","v":10},{"$f":"IF($Q571<=18,IF(Q575<=$Q571,1,0),IF($Q571<=36,IF(Q575<=($Q571-18),2,1),IF($Q571>36,IF(Q575<=($Q571-36),3,2))))","v":2},1,1,1,1,1,1,1,1,{"$f":"SUM(Q576:Y576)","v":10},{"$f":"P576+Z576","v":20}]
[null,null,null,null,null,"Stroke play",{"$f":"G30","v":10},10,10,10,10,10,10,10,10,{"$f":"SUM(G577:O577)","v":90},{"$f":"Q30","v":10},10,10,10,10,10,10,10,10,{"$f":"SUM(Q577:Y577)","v":90},{"$f":"P577+Z577","v":180}]
[null,null,null,null,null,"Net Stableford",{"$f":"IF(G577-G574=-1,3+G576)+IF(G577-G574=0,2+G576)+IF(G577-G574=1,1+G576)+IF(G577-G574=2,G576)+IF(G577-G574=3,IF(G576-1>0,G576-1,0))+IF(G577-G574=4,IF(G576-2>0,G576-2,0))","v":0},{"$f":"IF(H577-H574=-1,3+H576)+IF(H577-H574=0,2+H576)+IF(H577-H574=1,1+H576)+IF(H577-H574=2,H576)+IF(H577-H574=3,IF(H576-1>0,H576-1,0))+IF(H577-H574=4,IF(H576-2>0,H576-2,0))","v":0},0,0,0,0,0,0,0,{"$f":"SUM(G578:O578)","v":0},{"$f":"IF(Q577-Q574=-1,3+Q576)+IF(Q577-Q574=0,2+Q576)+IF(Q577-Q574=1,1+Q576)+IF(Q577-Q574=2,Q576)+IF(Q577-Q574=3,IF(Q576-1>0,Q576-1,0))+IF(Q577-Q574=4,IF(Q576-2>0,Q576-2,0))","v":0},0,0,0,0,0,0,0,0,{"$f":"SUM(Q578:Y578)","v":0},{"$f":"P578+Z578","v":0}]
[null,null,null,null,null,"Score Brut",{"$f":"IF(G577-G574=-2,4)+IF(G577-G574=-1,3)+IF(G577-G574=0,2)+IF(G577-G574=1,1)+IF(G577-G574>2,0)","v":0},0,0,0,0,0,0,0,0,{"$f":"SUM(G579:O579)","v":0},{"$f":"IF(Q577-Q574=-2,4)+IF(Q577-Q574=-1,3)+IF(Q577-Q574=0,2)+IF(Q577-Q574=1,1)+IF(Q577-Q574>2,0)","v":0},0,0,0,0,0,0,0,0,{"$f":"SUM(Q579:Y579)","v":0},{"$f":"P579+Z579","v":0}]
[null,null,null,null,null,null,{"$f":"G577-G574","v":6},{"$f":"H577-H574","v":6},5,6,7,5,7,5,7,null,{"$f":"Q577-Q574","v":6},6,7,5,7,6,6,5,6]
[]
[]
[null,null,null,null,null,"Statistiques scores",null,"Eagle & moins",null,null,null,{"$f":"COUNTIF(G580:Y580,\"<=-2\")","v":0},"Par",null,{"$f":"COUNTIF(G580:Y580,\"=0\")","v":0},"Double bogey",null,null,null,null,{"$f":"COUNTIF(G580:Y580,\"=2\")","v":0}]
[null,null,null,null,null,null,null,"Birdie",null,null,null,{"$f":"COUNTIF(G580:Y580,\"=-1\")","v":0},"Bogey",null,{"$f":"COUNTIF(G580:Y580,\"=1\")","v":0},"Triple bogey & plus",null,null,null,null,{"$f":"COUNTIF(G580:Y580,\">=3\")","v":18}]
[null,null,null,null,null,null,null,{"$f":"M583","v":"Par"},null,null,null,{"$f":"O583","v":0}]
[null,null,null,null,null,null,null,{"$f":"M584","v":"Bogey"},null,null,null,{"$f":"O584","v":0}]
[null,null,null,null,null,null,null,{"$f":"P583","v":"Double bogey"},null,null,null,{"$f":"U583","v":0}]
[null,null,null,null,null,null,null,{"$f":"P584","v":"Triple bogey & plus"},null,null,null,{"$f":"U584","v":18}]
[]
[]
[]
[]
[null,null,null,null,null,"Nom",{"$f":"C31","v":0},null,null,null,null,"Slope",null,null,"SSS",null,"Coups reçus",null,null,null,null,null,null,null,null,"Date",{"$f":"$D$3","v":"00:00:00"}]
[null,null,null,null,null,"Index",{"$f":"E31","v":20},null,null,null,null,{"$f":"$F$3","v":133},null,null,{"$f":"$G$3","v":68.599999999999994},null,{"$f":"ROUND((G594*(L594/113)+(O594-AA597)),0)","v":20}]
[]
[null,null,null,null,null,"Trou",1,2,3,4,5,6,7,8,9,"Aller",10,11,12,13,14,15,16,17,18,"Retour","Total"]
[null,null,null,null,null,"PAR",{"$f":"G$7","v":4},{"$f":"H$7","v":4},5,4,3,5,3,5,3,{"$f":"SUM(G597:O597)","v":36},{"$f":"Q$7","v":4},4,3,5,3,4,4,5,4,{"$f":"SUM(Q597:Y597)","v":36},{"$f":"SUM(P597+Z597)","v":72}]
[null,null,null,null,null,"HCP trous",{"$f":"G$8","v":4},{"$f":"H$8","v":8},12,14,2,10,18,16,6,null,{"$f":"Q$8","v":1},9,11,5,17,15,3,13,7]
[null,null,null,null,null,"Coups reçus",{"$f":"IF($Q594<=18,IF(G598<=$Q594,1,0),IF($Q594<=36,IF(G598<=($Q594-18),2,1),IF($Q594>36,IF(G598<=($Q594-36),3,2))))","v":1},{"$f":"IF($Q594<=18,IF(H598<=$Q594,1,0),IF($Q594<=36,IF(H598<=($Q594-18),2,1),IF($Q594>36,IF(H598<=($Q594-36),3,2))))","v":1},1,1,2,1,1,1,1,{"$f":"SUM(G599:O599)","v":10},{"$f":"IF($Q594<=18,IF(Q598<=$Q594,1,0),IF($Q594<=36,IF(Q598<=($Q594-18),2,1),IF($Q594>36,IF(Q598<=($Q594-36),3,2))))","v":2},1,1,1,1,1,1,1,1,{"$f":"SUM(Q599:Y599)","v":10},{"$f":"P599+Z599","v":20}]
[null,null,null,null,null,"Stroke play",{"$f":"G31","v":10},10,10,10,10,10,10,10,10,{"$f":"SUM(G600:O600)","v":90},{"$f":"Q31","v":10},10,10,10,10,10,10,10,10,{"$f":"SUM(Q600:Y600)","v":90},{"$f":"P600+Z600","v":180}]
[null,null,null,null,null,"Net Stableford",{"$f":"IF(G600-G597=-1,3+G599)+IF(G600-G597=0,2+G599)+IF(G600-G597=1,1+G599)+IF(G600-G597=2,G599)+IF(G600-G597=3,IF(G599-1>0,G599-1,0))+IF(G600-G597=4,IF(G599-2>0,G599-2,0))","v":0},{"$f":"IF(H600-H597=-1,3+H599)+IF(H600-H597=0,2+H599)+IF(H600-H597=1,1+H599)+IF(H600-H597=2,H599)+IF(H600-H597=3,IF(H599-1>0,H599-1,0))+IF(H600-H597=4,IF(H599-2>0,H599-2,0))","v":0},0,0,0,0,0,0,0,{"$f":"SUM(G601:O601)","v":0},{"$f":"IF(Q600-Q597=-1,3+Q599)+IF(Q600-Q597=0,2+Q599)+IF(Q600-Q597=1,1+Q599)+IF(Q600-Q597=2,Q599)+IF(Q600-Q597=3,IF(Q599-1>0,Q599-1,0))+IF(Q600-Q597=4,IF(Q599-2>0,Q599-2,0))","v":0},0,0,0,0,0,0,0,0,{"$f":"SUM(Q601:Y601)","v":0},{"$f":"P601+Z601","v":0}]
[null,null,null,null,null,"Score Brut",{"$f":"IF(G600-G597=-2,4)+IF(G600-G597=-1,3)+IF(G600-G597=0,2)+IF(G600-G597=1,1)+IF(G600-G597>2,0)","v":0},0,0,0,0,0,0,0,0,{"$f":"SUM(G602:O602)","v":0},{"$f":"IF(Q600-Q597=-2,4)+IF(Q600-Q597=-1,3)+IF(Q600-Q597=0,2)+IF(Q600-Q597=1,1)+IF(Q600-Q597>2,0)","v":0},0,0,0,0,0,0,0,0,{"$f":"SUM(Q602:Y602)","v":0},{"$f":"P602+Z602","v":0}]
[null,null,null,null,null,null,{"$f":"G600-G597","v":6},{"$f":"H600-H597","v":6},5,6,7,5,7,5,7,null,{"$f":"Q600-Q597","v":6},6,7,5,7,6,6,5,6]
[]
[]
[null,null,null,null,null,"Statistiques scores",null,"Eagle & moins",null,null,null,{"$f":"COUNTIF(G603:Y603,\"<=-2\")","v":0},"Par",null,{"$f":"COUNTIF(G603:Y603,\"=0\")","v":0},"Double bogey",null,null,null,null,{"$f":"COUNTIF(G603:Y603,\"=2\")","v":0}]
[null,null,null,null,null,null,null,"Birdie",null,null,null,{"$f":"COUNTIF(G603:Y603,\"=-1\")","v":0},"Bogey",null,{"$f":"COUNTIF(G603:Y603,\"=1\")","v":0},"Triple bogey & plus",null,null,null,null,{"$f":"COUNTIF(G603:Y603,\">=3\")","v":18}]
[null,null,null,null,null,null,null,{"$f":"M606","v":"Par"},null,null,null,{"$f":"O606","v":0}]
[null,null,null,null,null,null,null,{"$f":"M607","v":"Bogey"},null,null,null,{"$f":"O607","v":0}]
[null,null,null,null,null,null,null,{"$f":"P606","v":"Double bogey"},null,null,null,{"$f":"U606","v":0}]
[null,null,null,null,null,null,null,{"$f":"P607","v":"Triple bogey & plus"},null,null,null,{"$f":"U607","v":18}]
[]
[]
[]
[]
[null,null,null,null,null,"Nom",{"$f":"C32","v":0},null,null,null,null,"Slope",null,null,"SSS",null,"Coups reçus",null,null,null,null,null,null,null,null,"Date",{"$f":"$D$3","v":"00:00:00"}]
[null,null,null,null,null,"Index",{"$f":"E32","v":20},null,null,null,null,{"$f":"$F$3","v":133},null,null,{"$f":"$G$3","v":68.599999999999994},null,{"$f":"ROUND((G617*(L617/113)+(O617-AA620)),0)","v":20}]
[]
[null,null,null,null,null,"Trou",1,2,3,4,5,6,7,8,9,"Aller",10,11,12,13,14,15,16,17,18,"Retour","Total"]
[null,null,null,null,null,"PAR",{"$f":"G$7","v":4},{"$f":"H$7","v":4},5,4,3,5,3,5,3,{"$f":"SUM(G620:O620)","v":36},{"$f":"Q$7","v":4},4,3,5,3,4,4,5,4,{"$f":"SUM(Q620:Y620)","v":36},{"$f":"SUM(P620+Z620)","v":72}]
[null,null,null,null,null,"HCP trous",{"$f":"G$8","v":4},{"$f":"H$8","v":8},12,14,2,10,18,16,6,null,{"$f":"Q$8","v":1},9,11,5,17,15,3,13,7]
[null,null,null,null,null,"Coups reçus",{"$f":"IF($Q617<=18,IF(G621<=$Q617,1,0),IF($Q617<=36,IF(G621<=($Q617-18),2,1),IF($Q617>36,IF(G621<=($Q617-36),3,2))))","v":1},{"$f":"IF($Q617<=18,IF(H621<=$Q617,1,0),IF($Q617<=36,IF(H621<=($Q617-18),2,1),IF($Q617>36,IF(H621<=($Q617-36),3,2))))","v":1},1,1,2,1,1,1,1,{"$f":"SUM(G622:O622)","v":10},{"$f":"IF($Q617<=18,IF(Q621<=$Q617,1,0),IF($Q617<=36,IF(Q621<=($Q617-18),2,1),IF($Q617>36,IF(Q621<=($Q617-36),3,2))))","v":2},1,1,1,1,1,1,1,1,{"$f":"SUM(Q622:Y622)","v":10},{"$f":"P622+Z622","v":20}]
[null,null,null,null,null,"Stroke play",{"$f":"G32","v":10},10,10,10,10,10,10,10,10,{"$f":"SUM(G623:O623)","v":90},{"$f":"Q32","v":10},10,10,10,10,10,10,10,10,{"$f":"SUM(Q623:Y623)","v":90},{"$f":"P623+Z623","v":180}]
[null,null,null,null,null,"Net Stableford",{"$f":"IF(G623-G620=-1,3+G622)+IF(G623-G620=0,2+G622)+IF(G623-G620=1,1+G622)+IF(G623-G620=2,G622)+IF(G623-G620=3,IF(G622-1>0,G622-1,0))+IF(G623-G620=4,IF(G622-2>0,G622-2,0))","v":0},{"$f":"IF(H623-H620=-1,3+H622)+IF(H623-H620=0,2+H622)+IF(H623-H620=1,1+H622)+IF(H623-H620=2,H622)+IF(H623-H620=3,IF(H622-1>0,H622-1,0))+IF(H623-H620=4,IF(H622-2>0,H622-2,0))","v":0},0,0,0,0,0,0,0,{"$f":"SUM(G624:O624)","v":0},{"$f":"IF(Q623-Q620=-1,3+Q622)+IF(Q623-Q620=0,2+Q622)+IF(Q623-Q620=1,1+Q622)+IF(Q623-Q620=2,Q622)+IF(Q623-Q620=3,IF(Q622-1>0,Q622-1,0))+IF(Q623-Q620=4,IF(Q622-2>0,Q622-2,0))","v":0},0,0,0,0,0,0,0,0,{"$f":"SUM(Q624:Y624)","v":0},{"$f":"P624+Z624","v":0}]
[null,null,null,null,null,"Score Brut",{"$f":"IF(G623-G620=-2,4)+IF(G623-G620=-1,3)+IF(G623-G620=0,2)+IF(G623-G620=1,1)+IF(G623-G620>2,0)","v":0},0,0,0,0,0,0,0,0,{"$f":"SUM(G625:O625)","v":0},{"$f":"IF(Q623-Q620=-2,4)+IF(Q623-Q620=-1,3)+IF(Q623-Q620=0,2)+IF(Q623-Q620=1,1)+IF(Q623-Q620>2,0)","v":0},0,0,0,0,0,0,0,0,{"$f":"SUM(Q625:Y625)","v":0},{"$f":"P625+Z625","v":0}]
[null,null,null,null,null,null,{"$f":"G623-G620","v":6},{"$f":"H623-H620","v":6},5,6,7,5,7,5,7,null,{"$f":"Q623-Q620","v":6},6,7,5,7,6,6,5,6]
[]
[]
[null,null,null,null,null,"Statistiques scores",null,"Eagle & moins",null,null,null,{"$f":"COUNTIF(G626:Y626,\"<=-2\")","v":0},"Par",null,{"$f":"COUNTIF(G626:Y626,\"=0\")","v":0},"Double bogey",null,null,null,null,{"$f":"COUNTIF(G626:Y626,\"=2\")","v":0}]
[null,null,null,null,null,null,null,"Birdie",null,null,null,{"$f":"COUNTIF(G626:Y626,\"=-1\")","v":0},"Bogey",null,{"$f":"COUNTIF(G626:Y626,\"=1\")","v":0},"Triple bogey & plus",null,null,null,null,{"$f":"COUNTIF(G626:Y626,\">=3\")","v":18}]
[null,null,null,null,null,null,null,{"$f":"M629","v":"Par"},null,null,null,{"$f":"O629","v":0}]
[null,null,null,null,null,null,null,{"$f":"M630","v":"Bogey"},null,null,null,{"$f":"O630","v":0}]
[null,null,null,null,null,null,null,{"$f":"P629","v":"Double bogey"},null,null,null,{"$f":"U629","v":0}]
[null,null,null,null,null,null,null,{"$f":"P630","v":"Triple bogey & plus"},null,null,null,{"$f":"U630","v":18}]
[]
[]
[]
[]
[null,null,null,null,null,"Nom",{"$f":"C33","v":0},null,null,null,null,"Slope",null,null,"SSS",null,"Coups reçus",null,null,null,null,null,null,null,null,"Date",{"$f":"$D$3","v":"00:00:00"}]
[null,null,null,null,null,"Index",{"$f":"E33","v":20},null,null,null,null,{"$f":"$F$3","v":133},null,null,{"$f":"$G$3","v":68.599999999999994},null,{"$f":"ROUND((G640*(L640/113)+(O640-AA643)),0)","v":20}]
[]
[null,null,null,null,null,"Trou",1,2,3,4,5,6,7,8,9,"Aller",10,11,12,13,14,15,16,17,18,"Retour","Total"]
[null,null,null,null,null,"PAR",{"$f":"G$7","v":4},{"$f":"H$7","v":4},5,4,3,5,3,5,3,{"$f":"SUM(G643:O643)","v":36},{"$f":"Q$7","v":4},4,3,5,3,4,4,5,4,{"$f":"SUM(Q643:Y643)","v":36},{"$f":"SUM(P643+Z643)","v":72}]
[null,null,null,null,null,"HCP trous",{"$f":"G$8","v":4},{"$f":"H$8","v":8},12,14,2,10,18,16,6,null,{"$f":"Q$8","v":1},9,11,5,17,15,3,13,7]
[null,null,null,null,null,"Coups reçus",{"$f":"IF($Q640<=18,IF(G644<=$Q640,1,0),IF($Q640<=36,IF(G644<=($Q640-18),2,1),IF($Q640>36,IF(G644<=($Q640-36),3,2))))","v":1},{"$f":"IF($Q640<=18,IF(H644<=$Q640,1,0),IF($Q640<=36,IF(H644<=($Q640-18),2,1),IF($Q640>36,IF(H644<=($Q640-36),3,2))))","v":1},1,1,2,1,1,1,1,{"$f":"SUM(G645:O645)","v":10},{"$f":"IF($Q640<=18,IF(Q644<=$Q640,1,0),IF($Q640<=36,IF(Q644<=($Q640-18),2,1),IF($Q640>36,IF(Q644<=($Q640-36),3,2))))","v":2},1,1,1,1,1,1,1,1,{"$f":"SUM(Q645:Y645)","v":10},{"$f":"P645+Z645","v":20}]
[null,null,null,null,null,"Stroke play",{"$f":"G33","v":10},10,10,10,10,10,10,10,10,{"$f":"SUM(G646:O646)","v":90},{"$f":"Q33","v":10},10,10,10,10,10,10,10,10,{"$f":"SUM(Q646:Y646)","v":90},{"$f":"P646+Z646","v":180}]
[null,null,null,null,null,"Net Stableford",{"$f":"IF(G646-G643=-1,3+G645)+IF(G646-G643=0,2+G645)+IF(G646-G643=1,1+G645)+IF(G646-G643=2,G645)+IF(G646-G643=3,IF(G645-1>0,G645-1,0))+IF(G646-G643=4,IF(G645-2>0,G645-2,0))","v":0},{"$f":"IF(H646-H643=-1,3+H645)+IF(H646-H643=0,2+H645)+IF(H646-H643=1,1+H645)+IF(H646-H643=2,H645)+IF(H646-H643=3,IF(H645-1>0,H645-1,0))+IF(H646-H643=4,IF(H645-2>0,H645-2,0))","v":0},0,0,0,0,0,0,0,{"$f":"SUM(G647:O647)","v":0},{"$f":"IF(Q646-Q643=-1,3+Q645)+IF(Q646-Q643=0,2+Q645)+IF(Q646-Q643=1,1+Q645)+IF(Q646-Q643=2,Q645)+IF(Q646-Q643=3,IF(Q645-1>0,Q645-1,0))+IF(Q646-Q643=4,IF(Q645-2>0,Q645-2,0))","v":0},0,0,0,0,0,0,0,0,{"$f":"SUM(Q647:Y647)","v":0},{"$f":"P647+Z647","v":0}]
[null,null,null,null,null,"Score Brut",{"$f":"IF(G646-G643=-2,4)+IF(G646-G643=-1,3)+IF(G646-G643=0,2)+IF(G646-G643=1,1)+IF(G646-G643>2,0)","v":0},0,0,0,0,0,0,0,0,{"$f":"SUM(G648:O648)","v":0},{"$f":"IF(Q646-Q643=-2,4)+IF(Q646-Q643=-1,3)+IF(Q646-Q643=0,2)+IF(Q646-Q643=1,1)+IF(Q646-Q643>2,0)","v":0},0,0,0,0,0,0,0,0,{"$f":"SUM(Q648:Y648)","v":0},{"$f":"P648+Z648","v":0}]
[null,null,null,null,null,null,{"$f":"G646-G643","v":6},{"$f":"H646-H643","v":6},5,6,7,5,7,5,7,null,{"$f":"Q646-Q643","v":6},6,7,5,7,6,6,5,6]
[]
[]
[null,null,null,null,null,"Statistiques scores",null,"Eagle & moins",null,null,null,{"$f":"COUNTIF(G649:Y649,\"<=-2\")","v":0},"Par",null,{"$f":"COUNTIF(G649:Y649,\"=0\")","v":0},"Double bogey",null,null,null,null,{"$f":"COUNTIF(G649:Y649,\"=2\")","v":0}]
[null,null,null,null,null,null,null,"Birdie",null,null,null,{"$f":"COUNTIF(G649:Y649,\"=-1\")","v":0},"Bogey",null,{"$f":"COUNTIF(G649:Y649,\"=1\")","v":0},"Triple bogey & plus",null,null,null,null,{"$f":"COUNTIF(G649:Y649,\">=3\")","v":18}]
[null,null,null,null,null,null,null,{"$f":"M652","v":"Par"},null,null,null,{"$f":"O652","v":0}]
[null,null,null,null,null,null,null,{"$f":"M653","v":"Bogey"},null,null,null,{"$f":"O653","v":0}]
[null,null,null,null,null,null,null,{"$f":"P652","v":"Double bogey"},null,null,null,{"$f":"U652","v":0}]
[null,null,null,null,null,null,null,{"$f":"P653","v":"Triple bogey & plus"},null,null,null,{"$f":"U653","v":18}]
[]
[]
[]
[]
[null,null,null,null,null,"Nom",{"$f":"C34","v":0},null,null,null,null,"Slope",null,null,"SSS",null,"Coups reçus",null,null,null,null,null,null,null,null,"Date",{"$f":"$D$3","v":"00:00:00"}]
[null,null,null,null,null,"Index",{"$f":"E34","v":20},null,null,null,null,{"$f":"$F$3","v":133},null,null,{"$f":"$G$3","v":68.599999999999994},null,{"$f":"ROUND((G663*(L663/113)+(O663-AA666)),0)","v":20}]
[]
[null,null,null,null,null,"Trou",1,2,3,4,5,6,7,8,9,"Aller",10,11,12,13,14,15,16,17,18,"Retour","Total"]
[null,null,null,null,null,"PAR",{"$f":"G$7","v":4},{"$f":"H$7","v":4},5,4,3,5,3,5,3,{"$f":"SUM(G666:O666)","v":36},{"$f":"Q$7","v":4},4,3,5,3,4,4,5,4,{"$f":"SUM(Q666:Y666)","v":36},{"$f":"SUM(P666+Z666)","v":72}]
[null,null,null,null,null,"HCP trous",{"$f":"G$8","v":4},{"$f":"H$8","v":8},12,14,2,10,18,16,6,null,{"$f":"Q$8","v":1},9,11,5,17,15,3,13,7]
[null,null,null,null,null,"Coups reçus",{"$f":"IF($Q663<=18,IF(G667<=$Q663,1,0),IF($Q663<=36,IF(G667<=($Q663-18),2,1),IF($Q663>36,IF(G667<=($Q663-36),3,2))))","v":1},{"$f":"IF($Q663<=18,IF(H667<=$Q663,1,0),IF($Q663<=36,IF(H667<=($Q663-18),2,1),IF($Q663>36,IF(H667<=($Q663-36),3,2))))","v":1},1,1,2,1,1,1,1,{"$f":"SUM(G668:O668)","v":10},{"$f":"IF($Q663<=18,IF(Q667<=$Q663,1,0),IF($Q663<=36,IF(Q667<=($Q663-18),2,1),IF($Q663>36,IF(Q667<=($Q663-36),3,2))))","v":2},1,1,1,1,1,1,1,1,{"$f":"SUM(Q668:Y668)","v":10},{"$f":"P668+Z668","v":20}]
[null,null,null,null,null,"Stroke play",{"$f":"G34","v":10},10,10,10,10,10,10,10,10,{"$f":"SUM(G669:O669)","v":90},{"$f":"Q34","v":10},10,10,10,10,10,10,10,10,{"$f":"SUM(Q669:Y669)","v":90},{"$f":"P669+Z669","v":180}]
[null,null,null,null,null,"Net Stableford",{"$f":"IF(G669-G666=-1,3+G668)+IF(G669-G666=0,2+G668)+IF(G669-G666=1,1+G668)+IF(G669-G666=2,G668)+IF(G669-G666=3,IF(G668-1>0,G668-1,0))+IF(G669-G666=4,IF(G668-2>0,G668-2,0))","v":0},{"$f":"IF(H669-H666=-1,3+H668)+IF(H669-H666=0,2+H668)+IF(H669-H666=1,1+H668)+IF(H669-H666=2,H668)+IF(H669-H666=3,IF(H668-1>0,H668-1,0))+IF(H669-H666=4,IF(H668-2>0,H668-2,0))","v":0},0,0,0,0,0,0,0,{"$f":"SUM(G670:O670)","v":0},{"$f":"IF(Q669-Q666=-1,3+Q668)+IF(Q669-Q666=0,2+Q668)+IF(Q669-Q666=1,1+Q668)+IF(Q669-Q666=2,Q668)+IF(Q669-Q666=3,IF(Q668-1>0,Q668-1,0))+IF(Q669-Q666=4,IF(Q668-2>0,Q668-2,0))","v":0},0,0,0,0,0,0,0,0,{"$f":"SUM(Q670:Y670)","v":0},{"$f":"P670+Z670","v":0}]
[null,null,null,null,null,"Score Brut",{"$f":"IF(G669-G666=-2,4)+IF(G669-G666=-1,3)+IF(G669-G666=0,2)+IF(G669-G666=1,1)+IF(G669-G666>2,0)","v":0},0,0,0,0,0,0,0,0,{"$f":"SUM(G671:O671)","v":0},{"$f":"IF(Q669-Q666=-2,4)+IF(Q669-Q666=-1,3)+IF(Q669-Q666=0,2)+IF(Q669-Q666=1,1)+IF(Q669-Q666>2,0)","v":0},0,0,0,0,0,0,0,0,{"$f":"SUM(Q671:Y671)","v":0},{"$f":"P671+Z671","v":0}]
[null,null,null,null,null,null,{"$f":"G669-G666","v":6},{"$f":"H669-H666","v":6},5,6,7,5,7,5,7,null,{"$f":"Q669-Q666","v":6},6,7,5,7,6,6,5,6]
[]
[]
[null,null,null,null,null,"Statistiques scores",null,"Eagle & moins",null,null,null,{"$f":"COUNTIF(G672:Y672,\"<=-2\")","v":0},"Par",null,{"$f":"COUNTIF(G672:Y672,\"=0\")","v":0},"Double bogey",null,null,null,null,{"$f":"COUNTIF(G672:Y672,\"=2\")","v":0}]
[null,null,null,null,null,null,null,"Birdie",null,null,null,{"$f":"COUNTIF(G672:Y672,\"=-1\")","v":0},"Bogey",null,{"$f":"COUNTIF(G672:Y672,\"=1\")","v":0},"Triple bogey & plus",null,null,null,null,{"$f":"COUNTIF(G672:Y672,\">=3\")","v":18}]
[null,null,null,null,null,null,null,{"$f":"M675","v":"Par"},null,null,null,{"$f":"O675","v":0}]
[null,null,null,null,null,null,null,{"$f":"M676","v":"Bogey"},null,null,null,{"$f":"O676","v":0}]
[null,null,null,null,null,null,null,{"$f":"P675","v":"Double bogey"},null,null,null,{"$f":"U675","v":0}]
[null,null,null,null,null,null,null,{"$f":"P676","v":"Triple bogey & plus"},null,null,null,{"$f":"U676","v":18}]
[]
[]
[]
[]
[null,null,null,null,null,"Nom",{"$f":"C35","v":0},null,null,null,null,"Slope",null,null,"SSS",null,"Coups reçus",null,null,null,null,null,null,null,null,"Date",{"$f":"$D$3","v":"00:00:00"}]
[null,null,null,null,null,"Index",{"$f":"E35","v":20},null,null,null,null,{"$f":"$F$3","v":133},null,null,{"$f":"$G$3","v":68.599999999999994},null,{"$f":"ROUND((G686*(L686/113)+(O686-AA689)),0)","v":20}]
[]
[null,null,null,null,null,"Trou",1,2,3,4,5,6,7,8,9,"Aller",10,11,12,13,14,15,16,17,18,"Retour","Total"]
[null,null,null,null,null,"PAR",{"$f":"G$7","v":4},{"$f":"H$7","v":4},5,4,3,5,3,5,3,{"$f":"SUM(G689:O689)","v":36},{"$f":"Q$7","v":4},4,3,5,3,4,4,5,4,{"$f":"SUM(Q689:Y689)","v":36},{"$f":"SUM(P689+Z689)","v":72}]
[null,null,null,null,null,"HCP trous",{"$f":"G$8","v":4},{"$f":"H$8","v":8},12,14,2,10,18,16,6,null,{"$f":"Q$8","v":1},9,11,5,17,15,3,13,7]
[null,null,null,null,null,"Coups reçus",{"$f":"IF($Q686<=18,IF(G690<=$Q686,1,0),IF($Q686<=36,IF(G690<=($Q686-18),2,1),IF($Q686>36,IF(G690<=($Q686-36),3,2))))","v":1},{"$f":"IF($Q686<=18,IF(H690<=$Q686,1,0),IF($Q686<=36,IF(H690<=($Q686-18),2,1),IF($Q686>36,IF(H690<=($Q686-36),3,2))))","v":1},1,1,2,1,1,1,1,{"$f":"SUM(G691:O691)","v":10},{"$f":"IF($Q686<=18,IF(Q690<=$Q686,1,0),IF($Q686<=36,IF(Q690<=($Q686-18),2,1),IF($Q686>36,IF(Q690<=($Q686-36),3,2))))","v":2},1,1,1,1,1,1,1,1,{"$f":"SUM(Q691:Y691)","v":10},{"$f":"P691+Z691","v":20}]
[null,null,null,null,null,"Stroke play",{"$f":"G35","v":10},10,10,10,10,10,10,10,10,{"$f":"SUM(G692:O692)","v":90},{"$f":"Q35","v":10},10,10,10,10,10,10,10,10,{"$f":"SUM(Q692:Y692)","v":90},{"$f":"P692+Z692","v":180}]
[null,null,null,null,null,"Net Stableford",{"$f":"IF(G692-G689=-1,3+G691)+IF(G692-G689=0,2+G691)+IF(G692-G689=1,1+G691)+IF(G692-G689=2,G691)+IF(G692-G689=3,IF(G691-1>0,G691-1,0))+IF(G692-G689=4,IF(G691-2>0,G691-2,0))","v":0},{"$f":"IF(H692-H689=-1,3+H691)+IF(H692-H689=0,2+H691)+IF(H692-H689=1,1+H691)+IF(H692-H689=2,H691)+IF(H692-H689=3,IF(H691-1>0,H691-1,0))+IF(H692-H689=4,IF(H691-2>0,H691-2,0))","v":0},0,0,0,0,0,0,0,{"$f":"SUM(G693:O693)","v":0},{"$f":"IF(Q692-Q689=-1,3+Q691)+IF(Q692-Q689=0,2+Q691)+IF(Q692-Q689=1,1+Q691)+IF(Q692-Q689=2,Q691)+IF(Q692-Q689=3,IF(Q691-1>0,Q691-1,0))+IF(Q692-Q689=4,IF(Q691-2>0,Q691-2,0))","v":0},0,0,0,0,0,0,0,0,{"$f":"SUM(Q693:Y693)","v":0},{"$f":"P693+Z693","v":0}]
[null,null,null,null,null,"Score Brut",{"$f":"IF(G692-G689=-2,4)+IF(G692-G689=-1,3)+IF(G692-G689=0,2)+IF(G692-G689=1,1)+IF(G692-G689>2,0)","v":0},0,0,0,0,0,0,0,0,{"$f":"SUM(G694:O694)","v":0},{"$f":"IF(Q692-Q689=-2,4)+IF(Q692-Q689=-1,3)+IF(Q692-Q689=0,2)+IF(Q692-Q689=1,1)+IF(Q692-Q689>2,0)","v":0},0,0,0,0,0,0,0,0,{"$f":"SUM(Q694:Y694)","v":0},{"$f":"P694+Z694","v":0}]
[null,null,null,null,null,null,{"$f":"G692-G689","v":6},{"$f":"H692-H689","v":6},5,6,7,5,7,5,7,null,{"$f":"Q692-Q689","v":6},6,7,5,7,6,6,5,6]
[]
[]
[null,null,null,null,null,"Statistiques scores",null,"Eagle & moins",null,null,null,{"$f":"COUNTIF(G695:Y695,\"<=-2\")","v":0},"Par",null,{"$f":"COUNTIF(G695:Y695,\"=0\")","v":0},"Double bogey",null,null,null,null,{"$f":"COUNTIF(G695:Y695,\"=2\")","v":0}]
[null,null,null,null,null,null,null,"Birdie",null,null,null,{"$f":"COUNTIF(G695:Y695,\"=-1\")","v":0},"Bogey",null,{"$f":"COUNTIF(G695:Y695,\"=1\")","v":0},"Triple bogey & plus",null,null,null,null,{"$f":"COUNTIF(G695:Y695,\">=3\")","v":18}]
[null,null,null,null,null,null,null,{"$f":"M698","v":"Par"},null,null,null,{"$f":"O698","v":0}]
[null,null,null,null,null,null,null,{"$f":"M699","v":"Bogey"},null,null,null,{"$f":"O699","v":0}]
[null,null,null,null,null,null,null,{"$f":"P698","v":"Double bogey"},null,null,null,{"$f":"U698","v":0}]
[null,null,null,null,null,null,null,{"$f":"P699","v":"Triple bogey & plus"},null,null,null,{"$f":"U699","v":18}]
[]
[]
[]
[]
[null,null,null,null,null,"Nom",{"$f":"C36","v":0},null,null,null,null,"Slope",null,null,"SSS",null,"Coups reçus",null,null,null,null,null,null,null,null,"Date",{"$f":"$D$3","v":"00:00:00"}]
[null,null,null,null,null,"Index",{"$f":"E36","v":20},null,null,null,null,{"$f":"$F$3","v":133},null,null,{"$f":"$G$3","v":68.599999999999994},null,{"$f":"ROUND((G709*(L709/113)+(O709-AA712)),0)","v":20}]
[]
[null,null,null,null,null,"Trou",1,2,3,4,5,6,7,8,9,"Aller",10,11,12,13,14,15,16,17,18,"Retour","Total"]
[null,null,null,null,null,"PAR",{"$f":"G$7","v":4},{"$f":"H$7","v":4},5,4,3,5,3,5,3,{"$f":"SUM(G712:O712)","v":36},{"$f":"Q$7","v":4},4,3,5,3,4,4,5,4,{"$f":"SUM(Q712:Y712)","v":36},{"$f":"SUM(P712+Z712)","v":72}]
[null,null,null,null,null,"HCP trous",{"$f":"G$8","v":4},{"$f":"H$8","v":8},12,14,2,10,18,16,6,null,{"$f":"Q$8","v":1},9,11,5,17,15,3,13,7]
[null,null,null,null,null,"Coups reçus",{"$f":"IF($Q709<=18,IF(G713<=$Q709,1,0),IF($Q709<=36,IF(G713<=($Q709-18),2,1),IF($Q709>36,IF(G713<=($Q709-36),3,2))))","v":1},{"$f":"IF($Q709<=18,IF(H713<=$Q709,1,0),IF($Q709<=36,IF(H713<=($Q709-18),2,1),IF($Q709>36,IF(H713<=($Q709-36),3,2))))","v":1},1,1,2,1,1,1,1,{"$f":"SUM(G714:O714)","v":10},{"$f":"IF($Q709<=18,IF(Q713<=$Q709,1,0),IF($Q709<=36,IF(Q713<=($Q709-18),2,1),IF($Q709>36,IF(Q713<=($Q709-36),3,2))))","v":2},1,1,1,1,1,1,1,1,{"$f":"SUM(Q714:Y714)","v":10},{"$f":"P714+Z714","v":20}]
[null,null,null,null,null,"Stroke play",{"$f":"G36","v":10},10,10,10,10,10,10,10,10,{"$f":"SUM(G715:O715)","v":90},{"$f":"Q36","v":10},10,10,10,10,10,10,10,10,{"$f":"SUM(Q715:Y715)","v":90},{"$f":"P715+Z715","v":180}]
[null,null,null,null,null,"Net Stableford",{"$f":"IF(G715-G712=-1,3+G714)+IF(G715-G712=0,2+G714)+IF(G715-G712=1,1+G714)+IF(G715-G712=2,G714)+IF(G715-G712=3,IF(G714-1>0,G714-1,0))+IF(G715-G712=4,IF(G714-2>0,G714-2,0))","v":0},{"$f":"IF(H715-H712=-1,3+H714)+IF(H715-H712=0,2+H714)+IF(H715-H712=1,1+H714)+IF(H715-H712=2,H714)+IF(H715-H712=3,IF(H714-1>0,H714-1,0))+IF(H715-H712=4,IF(H714-2>0,H714-2,0))","v":0},0,0,0,0,0,0,0,{"$f":"SUM(G716:O716)","v":0},{"$f":"IF(Q715-Q712=-1,3+Q714)+IF(Q715-Q712=0,2+Q714)+IF(Q715-Q712=1,1+Q714)+IF(Q715-Q712=2,Q714)+IF(Q715-Q712=3,IF(Q714-1>0,Q714-1,0))+IF(Q715-Q712=4,IF(Q714-2>0,Q714-2,0))","v":0},0,0,0,0,0,0,0,0,{"$f":"SUM(Q716:Y716)","v":0},{"$f":"P716+Z716","v":0}]
[null,null,null,null,null,"Score Brut",{"$f":"IF(G715-G712=-2,4)+IF(G715-G712=-1,3)+IF(G715-G712=0,2)+IF(G715-G712=1,1)+IF(G715-G712>2,0)","v":0},0,0,0,0,0,0,0,0,{"$f":"SUM(G717:O717)","v":0},{"$f":"IF(Q715-Q712=-2,4)+IF(Q715-Q712=-1,3)+IF(Q715-Q712=0,2)+IF(Q715-Q712=1,1)+IF(Q715-Q712>2,0)","v":0},0,0,0,0,0,0,0,0,{"$f":"SUM(Q717:Y717)","v":0},{"$f":"P717+Z717","v":0}]
[null,null,null,null,null,null,{"$f":"G715-G712","v":6},{"$f":"H715-H712","v":6},5,6,7,5,7,5,7,null,{"$f":"Q715-Q712","v":6},6,7,5,7,6,6,5,6]
[]
[]
[null,null,null,null,null,"Statistiques scores",null,"Eagle & moins",null,null,null,{"$f":"COUNTIF(G718:Y718,\"<=-2\")","v":0},"Par",null,{"$f":"COUNTIF(G718:Y718,\"=0\")","v":0},"Double bogey",null,null,null,null,{"$f":"COUNTIF(G718:Y718,\"=2\")","v":0}]
[null,null,null,null,null,null,null,"Birdie",null,null,null,{"$f":"COUNTIF(G718:Y718,\"=-1\")","v":0},"Bogey",null,{"$f":"COUNTIF(G718:Y718,\"=1\")","v":0},"Triple bogey & plus",null,null,null,null,{"$f":"COUNTIF(G718:Y718,\">=3\")","v":18}]
[null,null,null,null,null,null,null,{"$f":"M721","v":"Par"},null,null,null,{"$f":"O721","v":0}]
[null,null,null,null,null,null,null,{"$f":"M722","v":"Bogey"},null,null,null,{"$f":"O722","v":0}]
[null,null,null,null,null,null,null,{"$f":"P721","v":"Double bogey"},null,null,null,{"$f":"U721","v":0}]
[null,null,null,null,null,null,null,{"$f":"P722","v":"Triple bogey & plus"},null,null,null,{"$f":"U722","v":18}]
[]
[]
[]
[]
[null,null,null,null,null,"Nom",{"$f":"C37","v":0},null,null,null,null,"Slope",null,null,"SSS",null,"Coups reçus",null,null,null,null,null,null,null,null,"Date",{"$f":"$D$3","v":"00:00:00"}]
[null,null,null,null,null,"Index",{"$f":"E37","v":20},null,null,null,null,{"$f":"$F$3","v":133},null,null,{"$f":"$G$3","v":68.599999999999994},null,{"$f":"ROUND((G732*(L732/113)+(O732-AA735)),0)","v":20}]
[]
[null,null,null,null,null,"Trou",1,2,3,4,5,6,7,8,9,"Aller",10,11,12,13,14,15,16,17,18,"Retour","Total"]
[null,null,null,null,null,"PAR",{"$f":"G$7","v":4},{"$f":"H$7","v":4},5,4,3,5,3,5,3,{"$f":"SUM(G735:O735)","v":36},{"$f":"Q$7","v":4},4,3,5,3,4,4,5,4,{"$f":"SUM(Q735:Y735)","v":36},{"$f":"SUM(P735+Z735)","v":72}]
[null,null,null,null,null,"HCP trous",{"$f":"G$8","v":4},{"$f":"H$8","v":8},12,14,2,10,18,16,6,null,{"$f":"Q$8","v":1},9,11,5,17,15,3,13,7]
[null,null,null,null,null,"Coups reçus",{"$f":"IF($Q732<=18,IF(G736<=$Q732,1,0),IF($Q732<=36,IF(G736<=($Q732-18),2,1),IF($Q732>36,IF(G736<=($Q732-36),3,2))))","v":1},{"$f":"IF($Q732<=18,IF(H736<=$Q732,1,0),IF($Q732<=36,IF(H736<=($Q732-18),2,1),IF($Q732>36,IF(H736<=($Q732-36),3,2))))","v":1},1,1,2,1,1,1,1,{"$f":"SUM(G737:O737)","v":10},{"$f":"IF($Q732<=18,IF(Q736<=$Q732,1,0),IF($Q732<=36,IF(Q736<=($Q732-18),2,1),IF($Q732>36,IF(Q736<=($Q732-36),3,2))))","v":2},1,1,1,1,1,1,1,1,{"$f":"SUM(Q737:Y737)","v":10},{"$f":"P737+Z737","v":20}]
[null,null,null,null,null,"Stroke play",{"$f":"G37","v":10},10,10,10,10,10,10,10,10,{"$f":"SUM(G738:O738)","v":90},{"$f":"Q37","v":10},10,10,10,10,10,10,10,10,{"$f":"SUM(Q738:Y738)","v":90},{"$f":"P738+Z738","v":180}]
[null,null,null,null,null,"Net Stableford",{"$f":"IF(G738-G735=-1,3+G737)+IF(G738-G735=0,2+G737)+IF(G738-G735=1,1+G737)+IF(G738-G735=2,G737)+IF(G738-G735=3,IF(G737-1>0,G737-1,0))+IF(G738-G735=4,IF(G737-2>0,G737-2,0))","v":0},{"$f":"IF(H738-H735=-1,3+H737)+IF(H738-H735=0,2+H737)+IF(H738-H735=1,1+H737)+IF(H738-H735=2,H737)+IF(H738-H735=3,IF(H737-1>0,H737-1,0))+IF(H738-H735=4,IF(H737-2>0,H737-2,0))","v":0},0,0,0,0,0,0,0,{"$f":"SUM(G739:O739)","v":0},{"$f":"IF(Q738-Q735=-1,3+Q737)+IF(Q738-Q735=0,2+Q737)+IF(Q738-Q735=1,1+Q737)+IF(Q738-Q735=2,Q737)+IF(Q738-Q735=3,IF(Q737-1>0,Q737-1,0))+IF(Q738-Q735=4,IF(Q737-2>0,Q737-2,0))","v":0},0,0,0,0,0,0,0,0,{"$f":"SUM(Q739:Y739)","v":0},{"$f":"P739+Z739","v":0}]
[null,null,null,null,null,"Score Brut",{"$f":"IF(G738-G735=-2,4)+IF(G738-G735=-1,3)+IF(G738-G735=0,2)+IF(G738-G735=1,1)+IF(G738-G735>2,0)","v":0},0,0,0,0,0,0,0,0,{"$f":"SUM(G740:O740)","v":0},{"$f":"IF(Q738-Q735=-2,4)+IF(Q738-Q735=-1,3)+IF(Q738-Q735=0,2)+IF(Q738-Q735=1,1)+IF(Q738-Q735>2,0)","v":0},0,0,0,0,0,0,0,0,{"$f":"SUM(Q740:Y740)","v":0},{"$f":"P740+Z740","v":0}]
[null,null,null,null,null,null,{"$f":"G738-G735","v":6},{"$f":"H738-H735","v":6},5,6,7,5,7,5,7,null,{"$f":"Q738-Q735","v":6},6,7,5,7,6,6,5,6]
[]
[]
[null,null,null,null,null,"Statistiques scores",null,"Eagle & moins",null,null,null,{"$f":"COUNTIF(G741:Y741,\"<=-2\")","v":0},"Par",null,{"$f":"COUNTIF(G741:Y741,\"=0\")","v":0},"Double bogey",null,null,null,null,{"$f":"COUNTIF(G741:Y741,\"=2\")","v":0}]
[null,null,null,null,null,null,null,"Birdie",null,null,null,{"$f":"COUNTIF(G741:Y741,\"=-1\")","v":0},"Bogey",null,{"$f":"COUNTIF(G741:Y741,\"=1\")","v":0},"Triple bogey & plus",null,null,null,null,{"$f":"COUNTIF(G741:Y741,\">=3\")","v":18}]
[null,null,null,null,null,null,null,{"$f":"M744","v":"Par"},null,null,null,{"$f":"O744","v":0}]
[null,null,null,null,null,null,null,{"$f":"M745","v":"Bogey"},null,null,null,{"$f":"O745","v":0}]
[null,null,null,null,null,null,null,{"$f":"P744","v":"Double bogey"},null,null,null,{"$f":"U744","v":0}]
[null,null,null,null,null,null,null,{"$f":"P745","v":"Triple bogey & plus"},null,null,null,{"$f":"U745","v":18}]
[]
[]
[]
[]
[null,null,null,null,null,"Nom",{"$f":"C38","v":0},null,null,null,null,"Slope",null,null,"SSS",null,"Coups reçus",null,null,null,null,null,null,null,null,"Date",{"$f":"$D$3","v":"00:00:00"}]
[null,null,null,null,null,"Index",{"$f":"E38","v":20},null,null,null,null,{"$f":"$F$3","v":133},null,null,{"$f":"$G$3","v":68.599999999999994},null,{"$f":"ROUND((G755*(L755/113)+(O755-AA758)),0)","v":20}]
[]
[null,null,null,null,null,"Trou",1,2,3,4,5,6,7,8,9,"Aller",10,11,12,13,14,15,16,17,18,"Retour","Total"]
[null,null,null,null,null,"PAR",{"$f":"G$7","v":4},{"$f":"H$7","v":4},5,4,3,5,3,5,3,{"$f":"SUM(G758:O758)","v":36},{"$f":"Q$7","v":4},4,3,5,3,4,4,5,4,{"$f":"SUM(Q758:Y758)","v":36},{"$f":"SUM(P758+Z758)","v":72}]
[null,null,null,null,null,"HCP trous",{"$f":"G$8","v":4},{"$f":"H$8","v":8},12,14,2,10,18,16,6,null,{"$f":"Q$8","v":1},9,11,5,17,15,3,13,7]
[null,null,null,null,null,"Coups reçus",{"$f":"IF($Q755<=18,IF(G759<=$Q755,1,0),IF($Q755<=36,IF(G759<=($Q755-18),2,1),IF($Q755>36,IF(G759<=($Q755-36),3,2))))","v":1},{"$f":"IF($Q755<=18,IF(H759<=$Q755,1,0),IF($Q755<=36,IF(H759<=($Q755-18),2,1),IF($Q755>36,IF(H759<=($Q755-36),3,2))))","v":1},1,1,2,1,1,1,1,{"$f":"SUM(G760:O760)","v":10},{"$f":"IF($Q755<=18,IF(Q759<=$Q755,1,0),IF($Q755<=36,IF(Q759<=($Q755-18),2,1),IF($Q755>36,IF(Q759<=($Q755-36),3,2))))","v":2},1,1,1,1,1,1,1,1,{"$f":"SUM(Q760:Y760)","v":10},{"$f":"P760+Z760","v":20}]
[null,null,null,null,null,"Stroke play",{"$f":"G38","v":10},10,10,10,10,10,10,10,10,{"$f":"SUM(G761:O761)","v":90},{"$f":"Q38","v":10},10,10,10,10,10,10,10,10,{"$f":"SUM(Q761:Y761)","v":90},{"$f":"P761+Z761","v":180}]
[null,null,null,null,null,"Net Stableford",{"$f":"IF(G761-G758=-1,3+G760)+IF(G761-G758=0,2+G760)+IF(G761-G758=1,1+G760)+IF(G761-G758=2,G760)+IF(G761-G758=3,IF(G760-1>0,G760-1,0))+IF(G761-G758=4,IF(G760-2>0,G760-2,0))","v":0},{"$f":"IF(H761-H758=-1,3+H760)+IF(H761-H758=0,2+H760)+IF(H761-H758=1,1+H760)+IF(H761-H758=2,H760)+IF(H761-H758=3,IF(H760-1>0,H760-1,0))+IF(H761-H758=4,IF(H760-2>0,H760-2,0))","v":0},0,0,0,0,0,0,0,{"$f":"SUM(G762:O762)","v":0},{"$f":"IF(Q761-Q758=-1,3+Q760)+IF(Q761-Q758=0,2+Q760)+IF(Q761-Q758=1,1+Q760)+IF(Q761-Q758=2,Q760)+IF(Q761-Q758=3,IF(Q760-1>0,Q760-1,0))+IF(Q761-Q758=4,IF(Q760-2>0,Q760-2,0))","v":0},0,0,0,0,0,0,0,0,{"$f":"SUM(Q762:Y762)","v":0},{"$f":"P762+Z762","v":0}]
[null,null,null,null,null,"Score Brut",{"$f":"IF(G761-G758=-2,4)+IF(G761-G758=-1,3)+IF(G761-G758=0,2)+IF(G761-G758=1,1)+IF(G761-G758>2,0)","v":0},0,0,0,0,0,0,0,0,{"$f":"SUM(G763:O763)","v":0},{"$f":"IF(Q761-Q758=-2,4)+IF(Q761-Q758=-1,3)+IF(Q761-Q758=0,2)+IF(Q761-Q758=1,1)+IF(Q761-Q758>2,0)","v":0},0,0,0,0,0,0,0,0,{"$f":"SUM(Q763:Y763)","v":0},{"$f":"P763+Z763","v":0}]
[null,null,null,null,null,null,{"$f":"G761-G758","v":6},{"$f":"H761-H758","v":6},5,6,7,5,7,5,7,null,{"$f":"Q761-Q758","v":6},6,7,5,7,6,6,5,6]
[]
[]
[null,null,null,null,null,"Statistiques scores",null,"Eagle & moins",null,null,null,{"$f":"COUNTIF(G764:Y764,\"<=-2\")","v":0},"Par",null,{"$f":"COUNTIF(G764:Y764,\"=0\")","v":0},"Double bogey",null,null,null,null,{"$f":"COUNTIF(G764:Y764,\"=2\")","v":0}]
[null,null,null,null,null,null,null,"Birdie",null,null,null,{"$f":"COUNTIF(G764:Y764,\"=-1\")","v":0},"Bogey",null,{"$f":"COUNTIF(G764:Y764,\"=1\")","v":0},"Triple bogey & plus",null,null,null,null,{"$f":"COUNTIF(G764:Y764,\">=3\")","v":18}]
[null,null,null,null,null,null,null,{"$f":"M767","v":"Par"},null,null,null,{"$f":"O767","v":0}]
[null,null,null,null,null,null,null,{"$f":"M768","v":"Bogey"},null,null,null,{"$f":"O768","v":0}]
[null,null,null,null,null,null,null,{"$f":"P767","v":"Double bogey"},null,null,null,{"$f":"U767","v":0}]
[null,null,null,null,null,null,null,{"$f":"P768","v":"Triple bogey & plus"},null,null,null,{"$f":"U768","v":18}]

{"sheet":"sortie (8)","index":9,"n_rows":772,"n_cols":42,"rows_kept":772,"cut":false,"hidden":false,"merged":[[767,15,767,19],[768,7,768,8],[769,7,769,8],[754,6,754,9],[754,11,754,13],[754,14,754,15],[754,16,754,19],[766,5,767,6],[766,7,766,10],[766,12,766,13],[766,15,766,19],[767,7,767,10],[767,12,767,13],[744,15,744,19],[745,7,745,8],[746,7,746,8],[753,6,753,9],[753,11,753,13],[753,14,753,15],[753,16,753,19],[731,6,731,9],[731,11,731,13],[731,14,731,15],[731,16,731,19],[743,5,744,6],[743,7,743,10],[743,12,743,13],[743,15,743,19],[744,7,744,10],[744,12,744,13],[721,15,721,19],[722,7,722,8],[723,7,723,8],[730,6,730,9],[730,11,730,13],[730,14,730,15],[730,16,730,19],[708,6,708,9],[708,11,708,13],[708,14,708,15],[708,16,708,19],[720,5,721,6],[720,7,720,10],[720,12,720,13],[720,15,720,19],[721,7,721,10],[721,12,721,13],[698,15,698,19],[699,7,699,8],[700,7,700,8],[707,6,707,9],[707,11,707,13],[707,14,707,15],[707,16,707,19],[685,6,685,9],[685,11,685,13],[685,14,685,15],[685,16,685,19],[697,5,698,6],[697,7,697,10],[697,12,697,13],[697,15,697,19],[698,7,698,10],[698,12,698,13],[675,15,675,19],[676,7,676,8],[677,7,677,8],[684,6,684,9],[684,11,684,13],[684,14,684,15],[684,16,684,19],[662,6,662,9],[662,11,662,13],[662,14,662,15],[662,16,662,19],[674,5,675,6],[674,7,674,10],[674,12,674,13],[674,15,674,19],[675,7,675,10],[675,12,675,13],[652,15,652,19],[653,7,653,8],[654,7,654,8],[661,6,661,9],[661,11,661,13],[661,14,661,15],[661,16,661,19],[639,6,639,9],[639,11,639,13],[639,14,639,15],[639,16,639,19],[651,5,652,6],[651,7,651,10],[651,12,651,13],[651,15,651,19],[652,7,652,10],[652,12,652,13],[629,15,629,19],[630,7,630,8],[631,7,631,8],[638,6,638,9],[638,11,638,13],[638,14,638,15],[638,16,638,19],[616,6,616,9],[616,11,616,13],[616,14,616,15],[616,16,616,19],[628,5,629,6],[628,7,628,10],[628,12,628,13],[628,15,628,19],[629,7,629,10],[629,12,629,13],[606,15,606,19],[607,7,607,8],[608,7,608,8],[615,6,615,9],[615,11,615,13],[615,14,615,15],[615,16,615,19],[593,6,593,9],[593,11,593,13],[593,14,593,15],[593,16,593,19],[605,5,606,6],[605,7,605,10],[605,12,605,13],[605,15,605,19],[606,7,606,10],[606,12,606,13],[583,15,583,19],[584,7,584,8],[585,7,585,8],[592,6,592,9],[592,11,592,13],[592,14,592,15],[592,16,592,19],[570,6,570,9],[570,11,570,13],[570,14,570,15],[570,16,570,19],[582,5,583,6],[582,7,582,10],[582,12,582,13],[582,15,582,19],[583,7,583,10],[583,12,583,13],[560,15,560,19],[561,7,561,8],[562,7,562,8],[569,6,569,9],[569,11,569,13],[569,14,569,15],[569,16,569,19],[547,6,547,9],[547,11,547,13],[547,14,547,15],[547,16,547,19],[559,5,560,6],[559,7,559,10],[559,12,559,13],[559,15,559,19],[560,7,560,10],[560,12,560,13],[537,15,537,19],[538,7,538,8],[539,7,539,8],[546,6,546,9],[546,11,546,13],[546,14,546,15],[546,16,546,19],[524,6,524,9],[524,11,524,13],[524,14,524,15],[524,16,524,19],[536,5,537,6],[536,7,536,10],[536,12,536,13],[536,15,536,19],[537,7,537,10],[537,12,537,13],[514,15,514,19],[515,7,515,8],[516,7,516,8],[523,6,523,9],[523,11,523,13],[523,14,523,15],[523,16,523,19],[501,6,501,9],[501,11,501,13],[501,14,501,15],[501,16,501,19],[513,5,514,6],[513,7,513,10],[513,12,513,13],[513,15,513,19],[514,7,514,10],[514,12,514,13],[491,15,491,19],[492,7,492,8],[493,7,493,8],[500,6,500,9],[500,11,500,13],[500,14,500,15],[500,16,500,19],[478,6,478,9],[478,11,478,13],[478,14,478,15],[478,16,478,19],[490,5,491,6],[490,7,490,10],[490,12,490,13],[490,15,490,19],[491,7,491,10],[491,12,491,13],[468,15,468,19],[469,7,469,8],[470,7,470,8],[477,6,477,9],[477,11,477,13],[477,14,477,15],[477,16,477,19],[455,6,455,9],[455,11,455,13],[455,14,455,15],[455,16,455,19],[467,5,468,6],[467,7,467,10],[467,12,467,13],[467,15,467,19],[468,7,468,10],[468,12,468,13],[445,15,445,19],[446,7,446,8],[447,7,447,8],[454,6,454,9],[454,11,454,13],[454,14,454,15],[454,16,454,19],[432,6,432,9],[432,11,432,13],[432,14,432,15],[432,16,432,19],[444,5,445,6],[444,7,444,10],[444,12,444,13],[444,15,444,19],[445,7,445,10],[445,12,445,13],[422,15,422,19],[423,7,423,8],[424,7,424,8],[431,6,431,9],[431,11,431,13],[431,14,431,15],[431,16,431,19],[409,6,409,9],[409,11,409,13],[409,14,409,15],[409,16,409,19],[421,5,422,6],[421,7,421,10],[421,12,421,13],[421,15,421,19],[422,7,422,10],[422,12,422,13],[399,15,399,19],[400,7,400,8],[401,7,401,8],[408,6,408,9],[408,11,408,13],[408,14,408,15],[408,16,408,19],[386,6,386,9],[386,11,386,13],[386,14,386,15],[386,16,386,19],[398,5,399,6],[398,7,398,10],[398,12,398,13],[398,15,398,19],[399,7,399,10],[399,12,399,13],[376,15,376,19],[377,7,377,8],[378,7,378,8],[385,6,385,9],[385,11,385,13],[385,14,385,15],[385,16,385,19],[363,6,363,9],[363,11,363,13],[363,14,363,15],[363,16,363,19],[375,5,376,6],[375,7,375,10],[375,12,375,13],[375,15,375,19],[376,7,376,10],[376,12,376,13],[353,15,353,19],[354,7,354,8],[355,7,355,8],[362,6,362,9],[362,11,362,13],[362,14,362,15],[362,16,362,19],[340,6,340,9],[340,11,340,13],[340,14,340,15],[340,16,340,19],[352,5,353,6],[352,7,352,10],[352,12,352,13],[352,15,352,19],[353,7,353,10],[353,12,353,13],[330,15,330,19],[331,7,331,8],[332,7,332,8],[339,6,339,9],[339,11,339,13],[339,14,339,15],[339,16,339,19],[317,6,317,9],[317,11,317,13],[317,14,317,15],[317,16,317,19],[329,5,330,6],[329,7,329,10],[329,12,329,13],[329,15,329,19],[330,7,330,10],[330,12,330,13],[307,15,307,19],[308,7,308,8],[309,7,309,8],[316,6,316,9],[316,11,316,13],[316,14,316,15],[316,16,316,19],[294,6,294,9],[294,11,294,13],[294,14,294,15],[294,16,294,19],[306,5,307,6],[306,7,306,10],[306,12,306,13],[306,15,306,19],[307,7,307,10],[307,12,307,13],[284,15,284,19],[285,7,285,8],[286,7,286,8],[293,6,293,9],[293,11,293,13],[293,14,293,15],[293,16,293,19],[271,6,271,9],[271,11,271,13],[271,14,271,15],[271,16,271,19],[283,5,284,6],[283,7,283,10],[283,12,283,13],[283,15,283,19],[284,7,284,10],[284,12,284,13],[261,15,261,19],[262,7,262,8],[263,7,263,8],[270,6,270,9],[270,11,270,13],[270,14,270,15],[270,16,270,19],[248,6,248,9],[248,11,248,13],[248,14,248,15],[248,16,248,19],[260,5,261,6],[260,7,260,10],[260,12,260,13],[260,15,260,19],[261,7,261,10],[261,12,261,13],[238,15,238,19],[239,7,239,8],[240,7,240,8],[247,6,247,9],[247,11,247,13],[247,14,247,15],[247,16,247,19],[225,6,225,9],[225,11,225,13],[225,14,225,15],[225,16,225,19],[237,5,238,6],[237,7,237,10],[237,12,237,13],[237,15,237,19],[238,7,238,10],[238,12,238,13],[215,15,215,19],[216,7,216,8],[217,7,217,8],[224,6,224,9],[224,11,224,13],[224,14,224,15],[224,16,224,19],[202,6,202,9],[202,11,202,13],[202,14,202,15],[202,16,202,19],[214,5,215,6],[214,7,214,10],[214,12,214,13],[214,15,214,19],[215,7,215,10],[215,12,215,13],[192,15,192,19],[193,7,193,8],[194,7,194,8],[201,6,201,9],[201,11,201,13],[201,14,201,15],[201,16,201,19],[179,6,179,9],[179,11,179,13],[179,14,179,15],[179,16,179,19],[191,5,192,6],[191,7,191,10],[191,12,191,13],[191,15,191,19],[192,7,192,10],[192,12,192,13],[169,15,169,19],[170,7,170,8],[171,7,171,8],[178,6,178,9],[178,11,178,13],[178,14,178,15],[178,16,178,19],[156,6,156,9],[156,11,156,13],[156,14,156,15],[156,16,156,19],[168,5,169,6],[168,7,168,10],[168,12,168,13],[168,15,168,19],[169,7,169,10],[169,12,169,13],[146,15,146,19],[147,7,147,8],[148,7,148,8],[155,6,155,9],[155,11,155,13],[155,14,155,15],[155,16,155,19],[133,6,133,9],[133,11,133,13],[133,14,133,15],[133,16,133,19],[145,5,146,6],[145,7,145,10],[145,12,145,13],[145,15,145,19],[146,7,146,10],[146,12,146,13],[123,15,123,19],[124,7,124,8],[125,7,125,8],[132,6,132,9],[132,11,132,13],[132,14,132,15],[132,16,132,19],[110,6,110,9],[110,11,110,13],[110,14,110,15],[110,16,110,19],[122,5,123,6],[122,7,122,10],[122,12,122,13],[122,15,122,19],[123,7,123,10],[123,12,123,13],[100,15,100,19],[101,7,101,8],[102,7,102,8],[109,6,109,9],[109,11,109,13],[109,14,109,15],[109,16,109,19],[87,6,87,9],[87,11,87,13],[87,14,87,15],[87,16,87,19],[99,5,100,6],[99,7,99,10],[99,12,99,13],[99,15,99,19],[100,7,100,10],[100,12,100,13],[76,9,76,12],[76,13,76,15],[76,21,76,24],[76,25,76,26],[80,7,82,20],[86,6,86,9],[86,11,86,13],[86,14,86,15],[86,16,86,19],[74,9,74,12],[74,13,74,15],[74,21,74,24],[74,25,74,26],[75,9,75,12],[75,13,75,15],[75,21,75,24],[75,25,75,26],[72,9,72,12],[72,13,72,15],[72,21,72,24],[72,25,72,26],[73,9,73,12],[73,13,73,15],[73,21,73,24],[73,25,73,26],[70,9,70,12],[70,13,70,15],[70,21,70,24],[70,25,70,26],[71,9,71,12],[71,13,71,15],[71,21,71,24],[71,25,71,26],[68,9,68,12],[68,13,68,15],[68,21,68,24],[68,25,68,26],[69,9,69,12],[69,13,69,15],[69,21,69,24],[69,25,69,26],[66,9,66,12],[66,13,66,15],[66,21,66,24],[66,25,66,26],[67,9,67,12],[67,13,67,15],[67,21,67,24],[67,25,67,26],[64,9,64,12],[64,13,64,15],[64,21,64,24],[64,25,64,26],[65,9,65,12],[65,13,65,15],[65,21,65,24],[65,25,65,26],[62,9,62,12],[62,13,62,15],[62,21,62,24],[62,25,62,26],[63,9,63,12],[63,13,63,15],[63,21,63,24],[63,25,63,26],[60,9,60,12],[60,13,60,15],[60,21,60,24],[60,25,60,26],[61,9,61,12],[61,13,61,15],[61,21,61,24],[61,25,61,26],[58,9,58,12],[58,13,58,15],[58,21,58,24],[58,25,58,26],[59,9,59,12],[59,13,59,15],[59,21,59,24],[59,25,59,26],[56,9,56,12],[56,13,56,15],[56,21,56,24],[56,25,56,26],[57,9,57,12],[57,13,57,15],[57,21,57,24],[57,25,57,26],[54,9,54,12],[54,13,54,15],[54,21,54,24],[54,25,54,26],[55,9,55,12],[55,13,55,15],[55,21,55,24],[55,25,55,26],[52,9,52,12],[52,13,52,15],[52,21,52,24],[52,25,52,26],[53,9,53,12],[53,13,53,15],[53,21,53,24],[53,25,53,26],[1,6,1,9],[1,13,3,24],[2,6,2,9],[40,7,42,20],[50,9,50,12],[50,13,50,15],[50,21,50,24],[50,25,50,26],[51,9,51,12],[51,13,51,15],[51,21,51,24],[51,25,51,26],[48,9,48,12],[48,13,48,15],[48,21,48,24],[48,25,48,26],[49,9,49,12],[49,13,49,15],[49,21,49,24],[49,25,49,26],[44,2,44,4],[44,9,44,16],[44,21,44,27],[46,9,46,12],[46,13,46,15],[46,21,46,24],[46,25,46,26],[47,9,47,12],[47,13,47,15],[47,21,47,24],[47,25,47,26]]}
[]
[null,null,"Golf","G",null,"Slope","SSS",null,null,null,null,null,null,"CARTE DE SCORE"]
[null,null,"Date",null,null,133,68.599999999999994]
[]
[null,null,"Individuel Stableford BRUT/NET"]
[null,null,null,null,"Index","HCP trous",1,2,3,4,5,6,7,8,9,"Aller",10,11,12,13,14,15,16,17,18,"Retour","Total"]
[null,null,null,null,null,"PAR",4,4,5,4,3,5,3,5,3,{"$f":"SUM(G7:O7)","v":36},4,4,3,5,3,4,4,5,4,{"$f":"SUM(Q7:Y7)","v":36},{"$f":"SUM(P7+Z7)","v":72}]
[null,null,"Noms","Prénoms",null,"Trou",4,8,12,14,2,10,18,16,6,null,1,9,11,5,17,15,3,13,7,null,null,null,"NET","Classt","Rang","Points",null,"BRUT","Classt","Rang","Points",null,"STROKE","Classt","Rang","Points"]
[null,1,null,null,20,null,10,10,10,10,10,10,10,10,10,{"$f":"SUM(G9:O9)","v":90},10,10,10,10,10,10,10,10,10,{"$f":"SUM(Q9:Y9)","v":90},{"$f":"SUM(P9+Z9)","v":180},null,{"$f":"$AA$95","v":0},{"$f":"RANK(AC9,AC$9:AC$38,0)+COUNTIF(AC9:$AC$9,AC9)-1","v":1},{"$f":"RANK(AC9,AC$9:AC$38,0)","v":1},{"$f":"IF(ISBLANK($C9),0,1)*INDEX('Allocation Points'!$B$3:$AG$32,AE9,COUNTIF(AE$9:AE$38,AE9)+2)","v":0},null,{"$f":"AA96","v":0},{"$f":"RANK(AH9,AH$9:AH$38,0)+COUNTIF(AH9:$AH$9,AH9)-1","v":1},{"$f":"RANK(AH9,AH$9:AH$38,0)","v":1},{"$f":"IF(ISBLANK($C9),0,1)*INDEX('Allocation Points'!$B$3:$AG$32,AJ9,COUNTIF(AJ$9:AJ$38,AJ9)+2)","v":0},null,{"$f":"AA94","v":180},{"$f":"RANK(AM9,AM$9:AM$38,1)+COUNTIF(AM9:$AM$9,AM9)-1","v":1},{"$f":"RANK(AM9,AM$9:AM$38,1)","v":1},{"$f":"IF(ISBLANK($C9),0,1)*INDEX('Allocation Points'!$B$3:$AG$32,AO9,COUNTIF(AO$9:AO$38,AO9)+2)","v":0}]
[null,2,null,null,20,null,10,10,10,10,10,10,10,10,10,90,10,10,10,10,10,10,10,10,10,90,180,null,{"$f":"$AA$118","v":0},{"$f":"RANK(AC10,AC$9:AC$38,0)+COUNTIF(AC$9:$AC10,AC10)-1","v":2},{"$f":"RANK(AC10,AC$9:AC$38,0)","v":1},{"$f":"IF(ISBLANK($C10),0,1)*INDEX('Allocation Points'!$B$3:$AG$32,AE10,COUNTIF(AE$9:AE$38,AE10)+2)","v":0},null,{"$f":"AA119","v":0},{"$f":"RANK(AH10,AH$9:AH$38,0)+COUNTIF(AH$9:$AH10,AH10)-1","v":2},{"$f":"RANK(AH10,AH$9:AH$38,0)","v":1},{"$f":"IF(ISBLANK($C10),0,1)*INDEX('Allocation Points'!$B$3:$AG$32,AJ10,COUNTIF(AJ$9:AJ$38,AJ10)+2)","v":0},null,{"$f":"AA117","v":180},{"$f":"RANK(AM10,AM$9:AM$38,1)+COUNTIF(AM$9:$AM10,AM10)-1","v":2},{"$f":"RANK(AM10,AM$9:AM$38,1)","v":1},{"$f":"IF(ISBLANK($C10),0,1)*INDEX('Allocation Points'!$B$3:$AG$32,AO10,COUNTIF(AO$9:AO$38,AO10)+2)","v":0}]
[null,3,null,null,20,null,10,10,10,10,10,10,10,10,10,90,10,10,10,10,10,10,10,10,10,90,180,null,{"$f":"$AA$141","v":0},{"$f":"RANK(AC11,AC$9:AC$38,0)+COUNTIF(AC$9:$AC11,AC11)-1","v":3},1,{"$f":"IF(ISBLANK($C11),0,1)*INDEX('Allocation Points'!$B$3:$AG$32,AE11,COUNTIF(AE$9:AE$38,AE11)+2)","v":0},null,{"$f":"AA142","v":0},{"$f":"RANK(AH11,AH$9:AH$38,0)+COUNTIF(AH$9:$AH11,AH11)-1","v":3},1,{"$f":"IF(ISBLANK($C11),0,1)*INDEX('Allocation Points'!$B$3:$AG$32,AJ11,COUNTIF(AJ$9:AJ$38,AJ11)+2)","v":0},null,{"$f":"AA140","v":180},{"$f":"RANK(AM11,AM$9:AM$38,1)+COUNTIF(AM$9:$AM11,AM11)-1","v":3},1,{"$f":"IF(ISBLANK($C11),0,1)*INDEX('Allocation Points'!$B$3:$AG$32,AO11,COUNTIF(AO$9:AO$38,AO11)+2)","v":0}]
[null,4,null,null,20,null,10,10,10,10,10,10,10,10,10,90,10,10,10,10,10,10,10,10,10,90,180,null,{"$f":"$AA$164","v":0},{"$f":"RANK(AC12,AC$9:AC$38,0)+COUNTIF(AC$9:$AC12,AC12)-1","v":4},1,{"$f":"IF(ISBLANK($C12),0,1)*INDEX('Allocation Points'!$B$3:$AG$32,AE12,COUNTIF(AE$9:AE$38,AE12)+2)","v":0},null,{"$f":"AA165","v":0},{"$f":"RANK(AH12,AH$9:AH$38,0)+COUNTIF(AH$9:$AH12,AH12)-1","v":4},1,{"$f":"IF(ISBLANK($C12),0,1)*INDEX('Allocation Points'!$B$3:$AG$32,AJ12,COUNTIF(AJ$9:AJ$38,AJ12)+2)","v":0},null,{"$f":"AA163","v":180},{"$f":"RANK(AM12,AM$9:AM$38,1)+COUNTIF(AM$9:$AM12,AM12)-1","v":4},1,{"$f":"IF(ISBLANK($C12),0,1)*INDEX('Allocation Points'!$B$3:$AG$32,AO12,COUNTIF(AO$9:AO$38,AO12)+2)","v":0}]
[null,5,null,null,20,null,10,10,10,10,10,10,10,10,10,90,10,10,10,10,10,10,10,10,10,90,180,null,{"$f":"$AA$187","v":0},{"$f":"RANK(AC13,AC$9:AC$38,0)+COUNTIF(AC$9:$AC13,AC13)-1","v":5},1,{"$f":"IF(ISBLANK($C13),0,1)*INDEX('Allocation Points'!$B$3:$AG$32,AE13,COUNTIF(AE$9:AE$38,AE13)+2)","v":0},null,{"$f":"AA188","v":0},{"$f":"RANK(AH13,AH$9:AH$38,0)+COUNTIF(AH$9:$AH13,AH13)-1","v":5},1,{"$f":"IF(ISBLANK($C13),0,1)*INDEX('Allocation Points'!$B$3:$AG$32,AJ13,COUNTIF(AJ$9:AJ$38,AJ13)+2)","v":0},null,{"$f":"AA186","v":180},{"$f":"RANK(AM13,AM$9:AM$38,1)+COUNTIF(AM$9:$AM13,AM13)-1","v":5},1,{"$f":"IF(ISBLANK($C13),0,1)*INDEX('Allocation Points'!$B$3:$AG$32,AO13,COUNTIF(AO$9:AO$38,AO13)+2)","v":0}]
[null,6,null,null,20,null,10,10,10,10,10,10,10,10,10,90,10,10,10,10,10,10,10,10,10,90,180,null,{"$f":"$AA$210","v":0},{"$f":"RANK(AC14,AC$9:AC$38,0)+COUNTIF(AC$9:$AC14,AC14)-1","v":6},1,{"$f":"IF(ISBLANK($C14),0,1)*INDEX('Allocation Points'!$B$3:$AG$32,AE14,COUNTIF(AE$9:AE$38,AE14)+2)","v":0},null,{"$f":"AA211","v":0},{"$f":"RANK(AH14,AH$9:AH$38,0)+COUNTIF(AH$9:$AH14,AH14)-1","v":6},1,{"$f":"IF(ISBLANK($C14),0,1)*INDEX('Allocation Points'!$B$3:$AG$32,AJ14,COUNTIF(AJ$9:AJ$38,AJ14)+2)","v":0},null,{"$f":"AA209","v":180},{"$f":"RANK(AM14,AM$9:AM$38,1)+COUNTIF(AM$9:$AM14,AM14)-1","v":6},1,{"$f":"IF(ISBLANK($C14),0,1)*INDEX('Allocation Points'!$B$3:$AG$32,AO14,COUNTIF(AO$9:AO$38,AO14)+2)","v":0}]
[null,7,null,null,20,null,10,10,10,10,10,10,10,10,10,90,10,10,10,10,10,10,10,10,10,90,180,null,{"$f":"$AA$233","v":0},{"$f":"RANK(AC15,AC$9:AC$38,0)+COUNTIF(AC$9:$AC15,AC15)-1","v":7},1,{"$f":"IF(ISBLANK($C15),0,1)*INDEX('Allocation Points'!$B$3:$AG$32,AE15,COUNTIF(AE$9:AE$38,AE15)+2)","v":0},null,{"$f":"AA234","v":0},{"$f":"RANK(AH15,AH$9:AH$38,0)+COUNTIF(AH$9:$AH15,AH15)-1","v":7},1,{"$f":"IF(ISBLANK($C15),0,1)*INDEX('Allocation Points'!$B$3:$AG$32,AJ15,COUNTIF(AJ$9:AJ$38,AJ15)+2)","v":0},null,{"$f":"AA232","v":180},{"$f":"RANK(AM15,AM$9:AM$38,1)+COUNTIF(AM$9:$AM15,AM15)-1","v":7},1,{"$f":"IF(ISBLANK($C15),0,1)*INDEX('Allocation Points'!$B$3:$AG$32,AO15,COUNTIF(AO$9:AO$38,AO15)+2)","v":0}]
[null,8,null,null,20,null,10,10,10,10,10,10,10,10,10,90,10,10,10,10,10,10,10,10,10,90,180,null,{"$f":"$AA$256","v":0},{"$f":"RANK(AC16,AC$9:AC$38,0)+COUNTIF(AC$9:$AC16,AC16)-1","v":8},1,{"$f":"IF(ISBLANK($C16),0,1)*INDEX('Allocation Points'!$B$3:$AG$32,AE16,COUNTIF(AE$9:AE$38,AE16)+2)","v":0},null,{"$f":"AA257","v":0},{"$f":"RANK(AH16,AH$9:AH$38,0)+COUNTIF(AH$9:$AH16,AH16)-1","v":8},1,{"$f":"IF(ISBLANK($C16),0,1)*INDEX('Allocation Points'!$B$3:$AG$32,AJ16,COUNTIF(AJ$9:AJ$38,AJ16)+2)","v":0},null,{"$f":"AA255","v":180},{"$f":"RANK(AM16,AM$9:AM$38,1)+COUNTIF(AM$9:$AM16,AM16)-1","v":8},1,{"$f":"IF(ISBLANK($C16),0,1)*INDEX('Allocation Points'!$B$3:$AG$32,AO16,COUNTIF(AO$9:AO$38,AO16)+2)","v":0}]
[null,9,null,null,20,null,10,10,10,10,10,10,10,10,10,90,10,10,10,10,10,10,10,10,10,90,180,null,{"$f":"$AA$279","v":0},{"$f":"RANK(AC17,AC$9:AC$38,0)+COUNTIF(AC$9:$AC17,AC17)-1","v":9},1,{"$f":"IF(ISBLANK($C17),0,1)*INDEX('Allocation Points'!$B$3:$AG$32,AE17,COUNTIF(AE$9:AE$38,AE17)+2)","v":0},null,{"$f":"AA280","v":0},{"$f":"RANK(AH17,AH$9:AH$38,0)+COUNTIF(AH$9:$AH17,AH17)-1","v":9},1,{"$f":"IF(ISBLANK($C17),0,1)*INDEX('Allocation Points'!$B$3:$AG$32,AJ17,COUNTIF(AJ$9:AJ$38,AJ17)+2)","v":0},null,{"$f":"AA278","v":180},{"$f":"RANK(AM17,AM$9:AM$38,1)+COUNTIF(AM$9:$AM17,AM17)-1","v":9},1,{"$f":"IF(ISBLANK($C17),0,1)*INDEX('Allocation Points'!$B$3:$AG$32,AO17,COUNTIF(AO$9:AO$38,AO17)+2)","v":0}]
[null,10,null,null,20,null,10,10,10,10,10,10,10,10,10,90,10,10,10,10,10,10,10,10,10,90,180,null,{"$f":"$AA$302","v":0},{"$f":"RANK(AC18,AC$9:AC$38,0)+COUNTIF(AC$9:$AC18,AC18)-1","v":10},1,{"$f":"IF(ISBLANK($C18),0,1)*INDEX('Allocation Points'!$B$3:$AG$32,AE18,COUNTIF(AE$9:AE$38,AE18)+2)","v":0},null,{"$f":"AA303","v":0},{"$f":"RANK(AH18,AH$9:AH$38,0)+COUNTIF(AH$9:$AH18,AH18)-1","v":10},1,{"$f":"IF(ISBLANK($C18),0,1)*INDEX('Allocation Points'!$B$3:$AG$32,AJ18,COUNTIF(AJ$9:AJ$38,AJ18)+2)","v":0},null,{"$f":"AA301","v":180},{"$f":"RANK(AM18,AM$9:AM$38,1)+COUNTIF(AM$9:$AM18,AM18)-1","v":10},1,{"$f":"IF(ISBLANK($C18),0,1)*INDEX('Allocation Points'!$B$3:$AG$32,AO18,COUNTIF(AO$9:AO$38,AO18)+2)","v":0}]
[null,11,null,null,20,null,10,10,10,10,10,10,10,10,10,90,10,10,10,10,10,10,10,10,10,90,180,null,{"$f":"$AA$325","v":0},{"$f":"RANK(AC19,AC$9:AC$38,0)+COUNTIF(AC$9:$AC19,AC19)-1","v":11},1,{"$f":"IF(ISBLANK($C19),0,1)*INDEX('Allocation Points'!$B$3:$AG$32,AE19,COUNTIF(AE$9:AE$38,AE19)+2)","v":0},null,{"$f":"AA326","v":0},{"$f":"RANK(AH19,AH$9:AH$38,0)+COUNTIF(AH$9:$AH19,AH19)-1","v":11},1,{"$f":"IF(ISBLANK($C19),0,1)*INDEX('Allocation Points'!$B$3:$AG$32,AJ19,COUNTIF(AJ$9:AJ$38,AJ19)+2)","v":0},null,{"$f":"AA324","v":180},{"$f":"RANK(AM19,AM$9:AM$38,1)+COUNTIF(AM$9:$AM19,AM19)-1","v":11},1,{"$f":"IF(ISBLANK($C19),0,1)*INDEX('Allocation Points'!$B$3:$AG$32,AO19,COUNTIF(AO$9:AO$38,AO19)+2)","v":0}]
[null,12,null,null,20,null,10,10,10,10,10,10,10,10,10,90,10,10,10,10,10,10,10,10,10,90,180,null,{"$f":"$AA$348","v":0},{"$f":"RANK(AC20,AC$9:AC$38,0)+COUNTIF(AC$9:$AC20,AC20)-1","v":12},1,{"$f":"IF(ISBLANK($C20),0,1)*INDEX('Allocation Points'!$B$3:$AG$32,AE20,COUNTIF(AE$9:AE$38,AE20)+2)","v":0},null,{"$f":"AA349","v":0},{"$f":"RANK(AH20,AH$9:AH$38,0)+COUNTIF(AH$9:$AH20,AH20)-1","v":12},1,{"$f":"IF(ISBLANK($C20),0,1)*INDEX('Allocation Points'!$B$3:$AG$32,AJ20,COUNTIF(AJ$9:AJ$38,AJ20)+2)","v":0},null,{"$f":"AA347","v":180},{"$f":"RANK(AM20,AM$9:AM$38,1)+COUNTIF(AM$9:$AM20,AM20)-1","v":12},1,{"$f":"IF(ISBLANK($C20),0,1)*INDEX('Allocation Points'!$B$3:$AG$32,AO20,COUNTIF(AO$9:AO$38,AO20)+2)","v":0}]
[null,13,null,null,20,null,10,10,10,10,10,10,10,10,10,90,10,10,10,10,10,10,10,10,10,90,180,null,{"$f":"$AA$371","v":0},{"$f":"RANK(AC21,AC$9:AC$38,0)+COUNTIF(AC$9:$AC21,AC21)-1","v":13},1,{"$f":"IF(ISBLANK($C21),0,1)*INDEX('Allocation Points'!$B$3:$AG$32,AE21,COUNTIF(AE$9:AE$38,AE21)+2)","v":0},null,{"$f":"AA372","v":0},{"$f":"RANK(AH21,AH$9:AH$38,0)+COUNTIF(AH$9:$AH21,AH21)-1","v":13},1,{"$f":"IF(ISBLANK($C21),0,1)*INDEX('Allocation Points'!$B$3:$AG$32,AJ21,COUNTIF(AJ$9:AJ$38,AJ21)+2)","v":0},null,{"$f":"AA370","v":180},{"$f":"RANK(AM21,AM$9:AM$38,1)+COUNTIF(AM$9:$AM21,AM21)-1","v":13},1,{"$f":"IF(ISBLANK($C21),0,1)*INDEX('Allocation Points'!$B$3:$AG$32,AO21,COUNTIF(AO$9:AO$38,AO21)+2)","v":0}]
[null,14,null,null,20,null,10,10,10,10,10,10,10,10,10,90,10,10,10,10,10,10,10,10,10,90,180,null,{"$f":"$AA$394","v":0},{"$f":"RANK(AC22,AC$9:AC$38,0)+COUNTIF(AC$9:$AC22,AC22)-1","v":14},1,{"$f":"IF(ISBLANK($C22),0,1)*INDEX('Allocation Points'!$B$3:$AG$32,AE22,COUNTIF(AE$9:AE$38,AE22)+2)","v":0},null,{"$f":"AA395","v":0},{"$f":"RANK(AH22,AH$9:AH$38,0)+COUNTIF(AH$9:$AH22,AH22)-1","v":14},1,{"$f":"IF(ISBLANK($C22),0,1)*INDEX('Allocation Points'!$B$3:$AG$32,AJ22,COUNTIF(AJ$9:AJ$38,AJ22)+2)","v":0},null,{"$f":"AA393","v":180},{"$f":"RANK(AM22,AM$9:AM$38,1)+COUNTIF(AM$9:$AM22,AM22)-1","v":14},1,{"$f":"IF(ISBLANK($C22),0,1)*INDEX('Allocation Points'!$B$3:$AG$32,AO22,COUNTIF(AO$9:AO$38,AO22)+2)","v":0}]
[null,15,null,null,20,null,10,10,10,10,10,10,10,10,10,90,10,10,10,10,10,10,10,10,10,90,180,null,{"$f":"$AA$417","v":0},{"$f":"RANK(AC23,AC$9:AC$38,0)+COUNTIF(AC$9:$AC23,AC23)-1","v":15},1,{"$f":"IF(ISBLANK($C23),0,1)*INDEX('Allocation Points'!$B$3:$AG$32,AE23,COUNTIF(AE$9:AE$38,AE23)+2)","v":0},null,{"$f":"AA418","v":0},{"$f":"RANK(AH23,AH$9:AH$38,0)+COUNTIF(AH$9:$AH23,AH23)-1","v":15},1,{"$f":"IF(ISBLANK($C23),0,1)*INDEX('Allocation Points'!$B$3:$AG$32,AJ23,COUNTIF(AJ$9:AJ$38,AJ23)+2)","v":0},null,{"$f":"AA416","v":180},{"$f":"RANK(AM23,AM$9:AM$38,1)+COUNTIF(AM$9:$AM23,AM23)-1","v":15},1,{"$f":"IF(ISBLANK($C23),0,1)*INDEX('Allocation Points'!$B$3:$AG$32,AO23,COUNTIF(AO$9:AO$38,AO23)+2)","v":0}]
[null,16,null,null,20,null,10,10,10,10,10,10,10,10,10,90,10,10,10,10,10,10,10,10,10,90,180,null,{"$f":"$AA$440","v":0},{"$f":"RANK(AC24,AC$9:AC$38,0)+COUNTIF(AC$9:$AC24,AC24)-1","v":16},1,{"$f":"IF(ISBLANK($C24),0,1)*INDEX('Allocation Points'!$B$3:$AG$32,AE24,COUNTIF(AE$9:AE$38,AE24)+2)","v":0},null,{"$f":"AA441","v":0},{"$f":"RANK(AH24,AH$9:AH$38,0)+COUNTIF(AH$9:$AH24,AH24)-1","v":16},1,{"$f":"IF(ISBLANK($C24),0,1)*INDEX('Allocation Points'!$B$3:$AG$32,AJ24,COUNTIF(AJ$9:AJ$38,AJ24)+2)","v":0},null,{"$f":"AA439","v":180},{"$f":"RANK(AM24,AM$9:AM$38,1)+COUNTIF(AM$9:$AM24,AM24)-1","v":16},1,{"$f":"IF(ISBLANK($C24),0,1)*INDEX('Allocation Points'!$B$3:$AG$32,AO24,COUNTIF(AO$9:AO$38,AO24)+2)","v":0}]
[null,17,null,null,20,null,10,10,10,10,10,10,10,10,10,90,10,10,10,10,10,10,10,10,10,90,180,null,{"$f":"$AA$463","v":0},{"$f":"RANK(AC25,AC$9:AC$38,0)+COUNTIF(AC$9:$AC25,AC25)-1","v":17},1,{"$f":"IF(ISBLANK($C25),0,1)*INDEX('Allocation Points'!$B$3:$AG$32,AE25,COUNTIF(AE$9:AE$38,AE25)+2)","v":0},null,{"$f":"AA464","v":0},{"$f":"RANK(AH25,AH$9:AH$38,0)+COUNTIF(AH$9:$AH25,AH25)-1","v":17},1,{"$f":"IF(ISBLANK($C25),0,1)*INDEX('Allocation Points'!$B$3:$AG$32,AJ25,COUNTIF(AJ$9:AJ$38,AJ25)+2)","v":0},null,{"$f":"AA462","v":180},{"$f":"RANK(AM25,AM$9:AM$38,1)+COUNTIF(AM$9:$AM25,AM25)-1","v":17},1,{"$f":"IF(ISBLANK($C25),0,1)*INDEX('Allocation Points'!$B$3:$AG$32,AO25,COUNTIF(AO$9:AO$38,AO25)+2)","v":0}]
[null,18,null,null,20,null,10,10,10,10,10,10,10,10,10,90,10,10,10,10,10,10,10,10,10,90,180,null,{"$f":"$AA$486","v":0},{"$f":"RANK(AC26,AC$9:AC$38,0)+COUNTIF(AC$9:$AC26,AC26)-1","v":18},1,{"$f":"IF(ISBLANK($C26),0,1)*INDEX('Allocation Points'!$B$3:$AG$32,AE26,COUNTIF(AE$9:AE$38,AE26)+2)","v":0},null,{"$f":"AA487","v":0},{"$f":"RANK(AH26,AH$9:AH$38,0)+COUNTIF(AH$9:$AH26,AH26)-1","v":18},1,{"$f":"IF(ISBLANK($C26),0,1)*INDEX('Allocation Points'!$B$3:$AG$32,AJ26,COUNTIF(AJ$9:AJ$38,AJ26)+2)","v":0},null,{"$f":"AA485","v":180},{"$f":"RANK(AM26,AM$9:AM$38,1)+COUNTIF(AM$9:$AM26,AM26)-1","v":18},1,{"$f":"IF(ISBLANK($C26),0,1)*INDEX('Allocation Points'!$B$3:$AG$32,AO26,COUNTIF(AO$9:AO$38,AO26)+2)","v":0}]
[null,19,null,null,20,null,10,10,10,10,10,10,10,10,10,90,10,10,10,10,10,10,10,10,10,90,180,null,{"$f":"$AA$509","v":0},{"$f":"RANK(AC27,AC$9:AC$38,0)+COUNTIF(AC$9:$AC27,AC27)-1","v":19},1,{"$f":"IF(ISBLANK($C27),0,1)*INDEX('Allocation Points'!$B$3:$AG$32,AE27,COUNTIF(AE$9:AE$38,AE27)+2)","v":0},null,{"$f":"AA510","v":0},{"$f":"RANK(AH27,AH$9:AH$38,0)+COUNTIF(AH$9:$AH27,AH27)-1","v":19},1,{"$f":"IF(ISBLANK($C27),0,1)*INDEX('Allocation Points'!$B$3:$AG$32,AJ27,COUNTIF(AJ$9:AJ$38,AJ27)+2)","v":0},null,{"$f":"AA508","v":180},{"$f":"RANK(AM27,AM$9:AM$38,1)+COUNTIF(AM$9:$AM27,AM27)-1","v":19},1,{"$f":"IF(ISBLANK($C27),0,1)*INDEX('Allocation Points'!$B$3:$AG$32,AO27,COUNTIF(AO$9:AO$38,AO27)+2)","v":0}]
[null,20,null,null,20,null,10,10,10,10,10,10,10,10,10,90,10,10,10,10,10,10,10,10,10,90,180,null,{"$f":"$AA$532","v":0},{"$f":"RANK(AC28,AC$9:AC$38,0)+COUNTIF(AC$9:$AC28,AC28)-1","v":20},1,{"$f":"IF(ISBLANK($C28),0,1)*INDEX('Allocation Points'!$B$3:$AG$32,AE28,COUNTIF(AE$9:AE$38,AE28)+2)","v":0},null,{"$f":"AA533","v":0},{"$f":"RANK(AH28,AH$9:AH$38,0)+COUNTIF(AH$9:$AH28,AH28)-1","v":20},1,{"$f":"IF(ISBLANK($C28),0,1)*INDEX('Allocation Points'!$B$3:$AG$32,AJ28,COUNTIF(AJ$9:AJ$38,AJ28)+2)","v":0},null,{"$f":"AA531","v":180},{"$f":"RANK(AM28,AM$9:AM$38,1)+COUNTIF(AM$9:$AM28,AM28)-1","v":20},1,{"$f":"IF(ISBLANK($C28),0,1)*INDEX('Allocation Points'!$B$3:$AG$32,AO28,COUNTIF(AO$9:AO$38,AO28)+2)","v":0}]
[null,21,null,null,20,null,10,10,10,10,10,10,10,10,10,90,10,10,10,10,10,10,10,10,10,90,180,null,{"$f":"$AA$555","v":0},{"$f":"RANK(AC29,AC$9:AC$38,0)+COUNTIF(AC$9:$AC29,AC29)-1","v":21},1,{"$f":"IF(ISBLANK($C29),0,1)*INDEX('Allocation Points'!$B$3:$AG$32,AE29,COUNTIF(AE$9:AE$38,AE29)+2)","v":0},null,{"$f":"AA556","v":0},{"$f":"RANK(AH29,AH$9:AH$38,0)+COUNTIF(AH$9:$AH29,AH29)-1","v":21},1,{"$f":"IF(ISBLANK($C29),0,1)*INDEX('Allocation Points'!$B$3:$AG$32,AJ29,COUNTIF(AJ$9:AJ$38,AJ29)+2)","v":0},null,{"$f":"AA554","v":180},{"$f":"RANK(AM29,AM$9:AM$38,1)+COUNTIF(AM$9:$AM29,AM29)-1","v":21},1,{"$f":"IF(ISBLANK($C29),0,1)*INDEX('Allocation Points'!$B$3:$AG$32,AO29,COUNTIF(AO$9:AO$38,AO29)+2)","v":0}]
[null,22,null,null,20,null,10,10,10,10,10,10,10,10,10,90,10,10,10,10,10,10,10,10,10,90,180,null,{"$f":"$AA$578","v":0},{"$f":"RANK(AC30,AC$9:AC$38,0)+COUNTIF(AC$9:$AC30,AC30)-1","v":22},1,{"$f":"IF(ISBLANK($C30),0,1)*INDEX('Allocation Points'!$B$3:$AG$32,AE30,COUNTIF(AE$9:AE$38,AE30)+2)","v":0},null,{"$f":"AA579","v":0},{"$f":"RANK(AH30,AH$9:AH$38,0)+COUNTIF(AH$9:$AH30,AH30)-1","v":22},1,{"$f":"IF(ISBLANK($C30),0,1)*INDEX('Allocation Points'!$B$3:$AG$32,AJ30,COUNTIF(AJ$9:AJ$38,AJ30)+2)","v":0},null,{"$f":"AA577","v":180},{"$f":"RANK(AM30,AM$9:AM$38,1)+COUNTIF(AM$9:$AM30,AM30)-1","v":22},1,{"$f":"IF(ISBLANK($C30),0,1)*INDEX('Allocation Points'!$B$3:$AG$32,AO30,COUNTIF(AO$9:AO$38,AO30)+2)","v":0}]
[null,23,null,null,20,null,10,10,10,10,10,10,10,10,10,90,10,10,10,10,10,10,10,10,10,90,180,null,{"$f":"$AA$601","v":0},{"$f":"RANK(AC31,AC$9:AC$38,0)+COUNTIF(AC$9:$AC31,AC31)-1","v":23},1,{"$f":"IF(ISBLANK($C31),0,1)*INDEX('Allocation Points'!$B$3:$AG$32,AE31,COUNTIF(AE$9:AE$38,AE31)+2)","v":0},null,{"$f":"AA602","v":0},{"$f":"RANK(AH31,AH$9:AH$38,0)+COUNTIF(AH$9:$AH31,AH31)-1","v":23},1,{"$f":"IF(ISBLANK($C31),0,1)*INDEX('Allocation Points'!$B$3:$AG$32,AJ31,COUNTIF(AJ$9:AJ$38,AJ31)+2)","v":0},null,{"$f":"AA600","v":180},{"$f":"RANK(AM31,AM$9:AM$38,1)+COUNTIF(AM$9:$AM31,AM31)-1","v":23},1,{"$f":"IF(ISBLANK($C31),0,1)*INDEX('Allocation Points'!$B$3:$AG$32,AO31,COUNTIF(AO$9:AO$38,AO31)+2)","v":0}]
[null,24,null,null,20,null,10,10,10,10,10,10,10,10,10,90,10,10,10,10,10,10,10,10,10,90,180,null,{"$f":"$AA$624","v":0},{"$f":"RANK(AC32,AC$9:AC$38,0)+COUNTIF(AC$9:$AC32,AC32)-1","v":24},1,{"$f":"IF(ISBLANK($C32),0,1)*INDEX('Allocation Points'!$B$3:$AG$32,AE32,COUNTIF(AE$9:AE$38,AE32)+2)","v":0},null,{"$f":"AA625","v":0},{"$f":"RANK(AH32,AH$9:AH$38,0)+COUNTIF(AH$9:$AH32,AH32)-1","v":24},1,{"$f":"IF(ISBLANK($C32),0,1)*INDEX('Allocation Points'!$B$3:$AG$32,AJ32,COUNTIF(AJ$9:AJ$38,AJ32)+2)","v":0},null,{"$f":"AA623","v":180},{"$f":"RANK(AM32,AM$9:AM$38,1)+COUNTIF(AM$9:$AM32,AM32)-1","v":24},1,{"$f":"IF(ISBLANK($C32),0,1)*INDEX('Allocation Points'!$B$3:$AG$32,AO32,COUNTIF(AO$9:AO$38,AO32)+2)","v":0}]
[null,25,null,null,20,null,10,10,10,10,10,10,10,10,10,90,10,10,10,10,10,10,10,10,10,90,180,null,{"$f":"$AA$647","v":0},{"$f":"RANK(AC33,AC$9:AC$38,0)+COUNTIF(AC$9:$AC33,AC33)-1","v":25},1,{"$f":"IF(ISBLANK($C33),0,1)*INDEX('Allocation Points'!$B$3:$AG$32,AE33,COUNTIF(AE$9:AE$38,AE33)+2)","v":0},null,{"$f":"AA648","v":0},{"$f":"RANK(AH33,AH$9:AH$38,0)+COUNTIF(AH$9:$AH33,AH33)-1","v":25},1,{"$f":"IF(ISBLANK($C33),0,1)*INDEX('Allocation Points'!$B$3:$AG$32,AJ33,COUNTIF(AJ$9:AJ$38,AJ33)+2)","v":0},null,{"$f":"AA646","v":180},{"$f":"RANK(AM33,AM$9:AM$38,1)+COUNTIF(AM$9:$AM33,AM33)-1","v":25},1,{"$f":"IF(ISBLANK($C33),0,1)*INDEX('Allocation Points'!$B$3:$AG$32,AO33,COUNTIF(AO$9:AO$38,AO33)+2)","v":0}]
[null,26,null,null,20,null,10,10,10,10,10,10,10,10,10,90,10,10,10,10,10,10,10,10,10,90,180,null,{"$f":"$AA$670","v":0},{"$f":"RANK(AC34,AC$9:AC$38,0)+COUNTIF(AC$9:$AC34,AC34)-1","v":26},1,{"$f":"IF(ISBLANK($C34),0,1)*INDEX('Allocation Points'!$B$3:$AG$32,AE34,COUNTIF(AE$9:AE$38,AE34)+2)","v":0},null,{"$f":"AA671","v":0},{"$f":"RANK(AH34,AH$9:AH$38,0)+COUNTIF(AH$9:$AH34,AH34)-1","v":26},1,{"$f":"IF(ISBLANK($C34),0,1)*INDEX('Allocation Points'!$B$3:$AG$32,AJ34,COUNTIF(AJ$9:AJ$38,AJ34)+2)","v":0},null,{"$f":"AA669","v":180},{"$f":"RANK(AM34,AM$9:AM$38,1)+COUNTIF(AM$9:$AM34,AM34)-1","v":26},1,{"$f":"IF(ISBLANK($C34),0,1)*INDEX('Allocation Points'!$B$3:$AG$32,AO34,COUNTIF(AO$9:AO$38,AO34)+2)","v":0}]
[null,27,null,null,20,null,10,10,10,10,10,10,10,10,10,90,10,10,10,10,10,10,10,10,10,90,180,null,{"$f":"$AA$693","v":0},{"$f":"RANK(AC35,AC$9:AC$38,0)+COUNTIF(AC$9:$AC35,AC35)-1","v":27},1,{"$f":"IF(ISBLANK($C35),0,1)*INDEX('Allocation Points'!$B$3:$AG$32,AE35,COUNTIF(AE$9:AE$38,AE35)+2)","v":0},null,{"$f":"AA694","v":0},{"$f":"RANK(AH35,AH$9:AH$38,0)+COUNTIF(AH$9:$AH35,AH35)-1","v":27},1,{"$f":"IF(ISBLANK($C35),0,1)*INDEX('Allocation Points'!$B$3:$AG$32,AJ35,COUNTIF(AJ$9:AJ$38,AJ35)+2)","v":0},null,{"$f":"AA692","v":180},{"$f":"RANK(AM35,AM$9:AM$38,1)+COUNTIF(AM$9:$AM35,AM35)-1","v":27},1,{"$f":"IF(ISBLANK($C35),0,1)*INDEX('Allocation Points'!$B$3:$AG$32,AO35,COUNTIF(AO$9:AO$38,AO35)+2)","v":0}]
[null,28,null,null,20,null,10,10,10,10,10,10,10,10,10,90,10,10,10,10,10,10,10,10,10,90,180,null,{"$f":"$AA$716","v":0},{"$f":"RANK(AC36,AC$9:AC$38,0)+COUNTIF(AC$9:$AC36,AC36)-1","v":28},1,{"$f":"IF(ISBLANK($C36),0,1)*INDEX('Allocation Points'!$B$3:$AG$32,AE36,COUNTIF(AE$9:AE$38,AE36)+2)","v":0},null,{"$f":"AA717","v":0},{"$f":"RANK(AH36,AH$9:AH$38,0)+COUNTIF(AH$9:$AH36,AH36)-1","v":28},1,{"$f":"IF(ISBLANK($C36),0,1)*INDEX('Allocation Points'!$B$3:$AG$32,AJ36,COUNTIF(AJ$9:AJ$38,AJ36)+2)","v":0},null,{"$f":"AA715","v":180},{"$f":"RANK(AM36,AM$9:AM$38,1)+COUNTIF(AM$9:$AM36,AM36)-1","v":28},1,{"$f":"IF(ISBLANK($C36),0,1)*INDEX('Allocation Points'!$B$3:$AG$32,AO36,COUNTIF(AO$9:AO$38,AO36)+2)","v":0}]
[null,29,null,null,20,null,10,10,10,10,10,10,10,10,10,90,10,10,10,10,10,10,10,10,10,90,180,null,{"$f":"$AA$739","v":0},{"$f":"RANK(AC37,AC$9:AC$38,0)+COUNTIF(AC$9:$AC37,AC37)-1","v":29},1,{"$f":"IF(ISBLANK($C37),0,1)*INDEX('Allocation Points'!$B$3:$AG$32,AE37,COUNTIF(AE$9:AE$38,AE37)+2)","v":0},null,{"$f":"AA740","v":0},{"$f":"RANK(AH37,AH$9:AH$38,0)+COUNTIF(AH$9:$AH37,AH37)-1","v":29},1,{"$f":"IF(ISBLANK($C37),0,1)*INDEX('Allocation Points'!$B$3:$AG$32,AJ37,COUNTIF(AJ$9:AJ$38,AJ37)+2)","v":0},null,{"$f":"AA738","v":180},{"$f":"RANK(AM37,AM$9:AM$38,1)+COUNTIF(AM$9:$AM37,AM37)-1","v":29},1,{"$f":"IF(ISBLANK($C37),0,1)*INDEX('Allocation Points'!$B$3:$AG$32,AO37,COUNTIF(AO$9:AO$38,AO37)+2)","v":0}]
[null,30,null,null,20,null,10,10,10,10,10,10,10,10,10,90,10,10,10,10,10,10,10,10,10,90,180,null,{"$f":"$AA$762","v":0},{"$f":"RANK(AC38,AC$9:AC$38,0)+COUNTIF(AC$9:$AC38,AC38)-1","v":30},1,{"$f":"IF(ISBLANK($C38),0,1)*INDEX('Allocation Points'!$B$3:$AG$32,AE38,COUNTIF(AE$9:AE$38,AE38)+2)","v":0},null,{"$f":"AA763","v":0},{"$f":"RANK(AH38,AH$9:AH$38,0)+COUNTIF(AH$9:$AH38,AH38)-1","v":30},1,{"$f":"IF(ISBLANK($C38),0,1)*INDEX('Allocation Points'!$B$3:$AG$32,AJ38,COUNTIF(AJ$9:AJ$38,AJ38)+2)","v":0},null,{"$f":"AA761","v":180},{"$f":"RANK(AM38,AM$9:AM$38,1)+COUNTIF(AM$9:$AM38,AM38)-1","v":30},1,{"$f":"IF(ISBLANK($C38),0,1)*INDEX('Allocation Points'!$B$3:$AG$32,AO38,COUNTIF(AO$9:AO$38,AO38)+2)","v":0}]
[]
[]
[null,null,null,null,null,null,null,"CLASSEMENT"]
[]
[]
[]
[null,null,"NET",null,null,null,null,null,null,"BRUT",null,null,null,null,null,null,null,null,null,null,null,"STROKE"]
[]
[null,null,"Noms","Prénoms","NET",null,null,null,null,"Noms",null,null,null,"Prénoms",null,null,"BRUT",null,null,null,null,"Noms",null,null,null,"Prénoms",null,"STROKE"]
[null,1,{"$f":"INDEX($C$9:$AN$38,MATCH(B48,$AD$9:$AD$38,0),1)","v":0},{"$f":"INDEX($C$9:$AN$38,MATCH(B48,$AD$9:$AD$38,0),2)","v":0},{"$f":"INDEX($C$9:$AN$38,MATCH(B48,$AD$9:$AD$38,0),27)","v":0},null,null,null,1,{"$f":"INDEX($C$9:$AN$38,MATCH(I48,$AI$9:$AI$38,0),1)","v":0},null,null,null,{"$f":"INDEX($C$9:$AN$38,MATCH(I48,$AI$9:$AI$38,0),2)","v":0},null,null,{"$f":"INDEX($C$9:$AN$38,MATCH(I48,$AI$9:$AI$38,0),32)","v":0},null,null,null,1,{"$f":"INDEX($C$9:$AN$38,MATCH(U48,$AN$9:$AN$38,0),1)","v":0},null,null,null,{"$f":"INDEX($C$9:$AN$38,MATCH(U48,$AN$9:$AN$38,0),2)","v":0},null,{"$f":"INDEX($C$9:$AN$38,MATCH(U48,$AN$9:$AN$38,0),37)","v":180}]
[null,2,0,0,0,null,null,null,2,0,null,null,null,0,null,null,{"$f":"INDEX($C$9:$AN$38,MATCH(I49,$AI$9:$AI$38,0),32)","v":0},null,null,null,2,0,null,null,null,0,null,{"$f":"INDEX($C$9:$AN$38,MATCH(U49,$AN$9:$AN$38,0),37)","v":180}]
[null,3,0,0,0,null,null,null,3,0,null,null,null,0,null,null,0,null,null,null,3,0,null,null,null,0,null,180]
[null,4,0,0,0,null,null,null,4,0,null,null,null,0,null,null,0,null,null,null,4,0,null,null,null,0,null,180]
[null,5,0,0,0,null,null,null,5,0,null,null,null,0,null,null,0,null,null,null,5,0,null,null,null,0,null,180]
[null,6,0,0,0,null,null,null,6,0,null,null,null,0,null,null,0,null,null,null,6,0,null,null,null,0,null,180]
[null,7,0,0,0,null,null,null,7,0,null,null,null,0,null,null,0,null,null,null,7,0,null,null,null,0,null,180]
[null,8,0,0,0,null,null,null,8,0,null,null,null,0,null,null,0,null,null,null,8,0,null,null,null,0,null,180]
[null,9,0,0,0,null,null,null,9,0,null,null,null,0,null,null,0,null,null,null,9,0,null,null,null,0,null,180]
[null,10,0,0,0,null,null,null,10,0,null,null,null,0,null,null,0,null,null,null,10,0,null,null,null,0,null,180]
[null,11,0,0,0,null,null,null,11,0,null,null,null,0,null,null,0,null,null,null,11,0,null,null,null,0,null,180]
[null,12,0,0,0,null,null,null,12,0,null,null,null,0,null,null,0,null,null,null,12,0,null,null,null,0,null,180]
[null,13,0,0,0,null,null,null,13,0,null,null,null,0,null,null,0,null,null,null,13,0,null,null,null,0,null,180]
[null,14,0,0,0,null,null,null,14,0,null,null,null,0,null,null,0,null,null,null,14,0,null,null,null,0,null,180]
[null,15,0,0,0,null,null,null,15,0,null,null,null,0,null,null,0,null,null,null,15,0,null,null,null,0,null,180]
[null,16,0,0,0,null,null,null,16,0,null,null,null,0,null,null,0,null,null,null,16,0,null,null,null,0,null,180]
[null,17,0,0,0,null,null,null,17,0,null,null,null,0,null,null,0,null,null,null,17,0,null,null,null,0,null,180]
[null,18,0,0,0,null,null,null,18,0,null,null,null,0,null,null,0,null,null,null,18,0,null,null,null,0,null,180]
[null,19,0,0,0,null,null,null,19,0,null,null,null,0,null,null,0,null,null,null,19,0,null,null,null,0,null,180]
[null,20,0,0,0,null,null,null,20,0,null,null,null,0,null,null,0,null,null,null,20,0,null,null,null,0,null,180]
[null,21,0,0,0,null,null,null,21,0,null,null,null,0,null,null,0,null,null,null,21,0,null,null,null,0,null,180]
[null,22,0,0,0,null,null,null,22,0,null,null,null,0,null,null,0,null,null,null,22,0,null,null,null,0,null,180]
[null,23,0,0,0,null,null,null,23,0,null,null,null,0,null,null,0,null,null,null,23,0,null,null,null,0,null,180]
[null,24,0,0,0,null,null,null,24,0,null,null,null,0,null,null,0,null,null,null,24,0,null,null,null,0,null,180]
[null,25,0,0,0,null,null,null,25,0,null,null,null,0,null,null,0,null,null,null,25,0,null,null,null,0,null,180]
[null,26,0,0,0,null,null,null,26,0,null,null,null,0,null,null,0,null,null,null,26,0,null,null,null,0,null,180]
[null,27,0,0,0,null,null,null,27,0,null,null,null,0,null,null,0,null,null,null,27,0,null,null,null,0,null,180]
[null,28,0,0,0,null,null,null,28,0,null,null,null,0,null,null,0,null,null,null,28,0,null,null,null,0,null,180]
[null,29,0,0,0,null,null,null,29,0,null,null,null,0,null,null,0,null,null,null,29,0,null,null,null,0,null,180]
[null,30,0,0,0,null,null,null,30,0,null,null,null,0,null,null,0,null,null,null,30,0,null,null,null,0,null,180]
[]
[]
[]
[null,null,null,null,null,null,null,"STATISTIQUES INDIVIDUELLES"]
[]
[]
[]
[]
[]
[null,null,null,null,null,"Nom",{"$f":"C9","v":0},null,null,null,null,"Slope",null,null,"SSS",null,"Coups reçus",null,null,null,null,null,null,null,null,"Date",{"$f":"$D$3","v":"00:00:00"}]
[null,null,null,null,null,"Index",{"$f":"E9","v":20},null,null,null,null,{"$f":"$F$3","v":133},null,null,{"$f":"$G$3","v":68.599999999999994},null,{"$f":"ROUND((G88*(L88/113)+(O88-AA91)),0)","v":20}]
[]
[null,null,null,null,null,"Trou",1,2,3,4,5,6,7,8,9,"Aller",10,11,12,13,14,15,16,17,18,"Retour","Total"]
[null,null,null,null,null,"PAR",{"$f":"G$7","v":4},{"$f":"H$7","v":4},5,4,3,5,3,5,3,{"$f":"SUM(G91:O91)","v":36},{"$f":"Q$7","v":4},4,3,5,3,4,4,5,4,{"$f":"SUM(Q91:Y91)","v":36},{"$f":"SUM(P91+Z91)","v":72}]
[null,null,null,null,null,"HCP trous",{"$f":"G$8","v":4},{"$f":"H$8","v":8},12,14,2,10,18,16,6,null,{"$f":"Q$8","v":1},9,11,5,17,15,3,13,7]
[null,null,null,null,null,"Coups reçus",{"$f":"IF($Q88<=18,IF(G92<=$Q88,1,0),IF($Q88<=36,IF(G92<=($Q88-18),2,1),IF($Q88>36,IF(G92<=($Q88-36),3,2))))","v":1},{"$f":"IF($Q88<=18,IF(H92<=$Q88,1,0),IF($Q88<=36,IF(H92<=($Q88-18),2,1),IF($Q88>36,IF(H92<=($Q88-36),3,2))))","v":1},1,1,2,1,1,1,1,{"$f":"SUM(G93:O93)","v":10},{"$f":"IF($Q88<=18,IF(Q92<=$Q88,1,0),IF($Q88<=36,IF(Q92<=($Q88-18),2,1),IF($Q88>36,IF(Q92<=($Q88-36),3,2))))","v":2},1,1,1,1,1,1,1,1,{"$f":"SUM(Q93:Y93)","v":10},{"$f":"P93+Z93","v":20}]
[null,null,null,null,null,"Stroke play",{"$f":"G9","v":10},10,10,10,10,10,10,10,10,{"$f":"SUM(G94:O94)","v":90},{"$f":"Q9","v":10},10,10,10,10,10,10,10,10,{"$f":"SUM(Q94:Y94)","v":90},{"$f":"P94+Z94","v":180}]
[null,null,null,null,null,"Net Stableford",{"$f":"IF(G94-G91=-1,3+G93)+IF(G94-G91=0,2+G93)+IF(G94-G91=1,1+G93)+IF(G94-G91=2,G93)+IF(G94-G91=3,IF(G93-1>0,G93-1,0))+IF(G94-G91=4,IF(G93-2>0,G93-2,0))","v":0},{"$f":"IF(H94-H91=-1,3+H93)+IF(H94-H91=0,2+H93)+IF(H94-H91=1,1+H93)+IF(H94-H91=2,H93)+IF(H94-H91=3,IF(H93-1>0,H93-1,0))+IF(H94-H91=4,IF(H93-2>0,H93-2,0))","v":0},0,0,0,0,0,0,0,{"$f":"SUM(G95:O95)","v":0},{"$f":"IF(Q94-Q91=-1,3+Q93)+IF(Q94-Q91=0,2+Q93)+IF(Q94-Q91=1,1+Q93)+IF(Q94-Q91=2,Q93)+IF(Q94-Q91=3,IF(Q93-1>0,Q93-1,0))+IF(Q94-Q91=4,IF(Q93-2>0,Q93-2,0))","v":0},0,0,0,0,0,0,0,0,{"$f":"SUM(Q95:Y95)","v":0},{"$f":"P95+Z95","v":0}]
[null,null,null,null,null,"Score Brut",{"$f":"IF(G94-G91=-2,4)+IF(G94-G91=-1,3)+IF(G94-G91=0,2)+IF(G94-G91=1,1)+IF(G94-G91>2,0)","v":0},0,0,0,0,0,0,0,0,{"$f":"SUM(G96:O96)","v":0},{"$f":"IF(Q94-Q91=-2,4)+IF(Q94-Q91=-1,3)+IF(Q94-Q91=0,2)+IF(Q94-Q91=1,1)+IF(Q94-Q91>2,0)","v":0},0,0,0,0,0,0,0,0,{"$f":"SUM(Q96:Y96)","v":0},{"$f":"P96+Z96","v":0}]
[null,null,null,null,null,null,{"$f":"G94-G91","v":6},{"$f":"H94-H91","v":6},5,6,7,5,7,5,7,null,{"$f":"Q94-Q91","v":6},6,7,5,7,6,6,5,6]
[]
[]
[null,null,null,null,null,"Statistiques scores",null,"Eagle & moins",null,null,null,{"$f":"COUNTIF(G97:Y97,\"<=-2\")","v":0},"Par",null,{"$f":"COUNTIF(G97:Y97,\"=0\")","v":0},"Double bogey",null,null,null,null,{"$f":"COUNTIF(G97:Y97,\"=2\")","v":0}]
[null,null,null,null,null,null,null,"Birdie",null,null,null,{"$f":"COUNTIF(G97:Y97,\"=-1\")","v":0},"Bogey",null,{"$f":"COUNTIF(G97:Y97,\"=1\")","v":0},"Triple bogey & plus",null,null,null,null,{"$f":"COUNTIF(G97:Y97,\">=3\")","v":18}]
[null,null,null,null,null,null,null,{"$f":"M100","v":"Par"},null,null,null,{"$f":"O100","v":0}]
[null,null,null,null,null,null,null,{"$f":"M101","v":"Bogey"},null,null,null,{"$f":"O101","v":0}]
[null,null,null,null,null,null,null,{"$f":"P100","v":"Double bogey"},null,null,null,{"$f":"U100","v":0}]
[null,null,null,null,null,null,null,{"$f":"P101","v":"Triple bogey & plus"},null,null,null,{"$f":"U101","v":18}]
[]
[]
[]
[]
[null,null,null,null,null,"Nom",{"$f":"C10","v":0},null,null,null,null,"Slope",null,null,"SSS",null,"Coups reçus",null,null,null,null,null,null,null,null,"Date",{"$f":"$D$3","v":"00:00:00"}]
[null,null,null,null,null,"Index",{"$f":"E10","v":20},null,null,null,null,{"$f":"$F$3","v":133},null,null,{"$f":"$G$3","v":68.599999999999994},null,{"$f":"ROUND((G111*(L111/113)+(O111-AA114)),0)","v":20}]
[]
[null,null,null,null,null,"Trou",1,2,3,4,5,6,7,8,9,"Aller",10,11,12,13,14,15,16,17,18,"Retour","Total"]
[null,null,null,null,null,"PAR",{"$f":"G$7","v":4},{"$f":"H$7","v":4},5,4,3,5,3,5,3,{"$f":"SUM(G114:O114)","v":36},{"$f":"Q$7","v":4},4,3,5,3,4,4,5,4,{"$f":"SUM(Q114:Y114)","v":36},{"$f":"SUM(P114+Z114)","v":72}]
[null,null,null,null,null,"HCP trous",{"$f":"G$8","v":4},{"$f":"H$8","v":8},12,14,2,10,18,16,6,null,{"$f":"Q$8","v":1},9,11,5,17,15,3,13,7]
[null,null,null,null,null,"Coups reçus",{"$f":"IF($Q111<=18,IF(G115<=$Q111,1,0),IF($Q111<=36,IF(G115<=($Q111-18),2,1),IF($Q111>36,IF(G115<=($Q111-36),3,2))))","v":1},{"$f":"IF($Q111<=18,IF(H115<=$Q111,1,0),IF($Q111<=36,IF(H115<=($Q111-18),2,1),IF($Q111>36,IF(H115<=($Q111-36),3,2))))","v":1},1,1,2,1,1,1,1,{"$f":"SUM(G116:O116)","v":10},{"$f":"IF($Q111<=18,IF(Q115<=$Q111,1,0),IF($Q111<=36,IF(Q115<=($Q111-18),2,1),IF($Q111>36,IF(Q115<=($Q111-36),3,2))))","v":2},1,1,1,1,1,1,1,1,{"$f":"SUM(Q116:Y116)","v":10},{"$f":"P116+Z116","v":20}]
[null,null,null,null,null,"Stroke play",{"$f":"G10","v":10},10,10,10,10,10,10,10,10,{"$f":"SUM(G117:O117)","v":90},{"$f":"Q10","v":10},10,10,10,10,10,10,10,10,{"$f":"SUM(Q117:Y117)","v":90},{"$f":"P117+Z117","v":180}]
[null,null,null,null,null,"Net Stableford",{"$f":"IF(G117-G114=-1,3+G116)+IF(G117-G114=0,2+G116)+IF(G117-G114=1,1+G116)+IF(G117-G114=2,G116)+IF(G117-G114=3,IF(G116-1>0,G116-1,0))+IF(G117-G114=4,IF(G116-2>0,G116-2,0))","v":0},{"$f":"IF(H117-H114=-1,3+H116)+IF(H117-H114=0,2+H116)+IF(H117-H114=1,1+H116)+IF(H117-H114=2,H116)+IF(H117-H114=3,IF(H116-1>0,H116-1,0))+IF(H117-H114=4,IF(H116-2>0,H116-2,0))","v":0},0,0,0,0,0,0,0,{"$f":"SUM(G118:O118)","v":0},{"$f":"IF(Q117-Q114=-1,3+Q116)+IF(Q117-Q114=0,2+Q116)+IF(Q117-Q114=1,1+Q116)+IF(Q117-Q114=2,Q116)+IF(Q117-Q114=3,IF(Q116-1>0,Q116-1,0))+IF(Q117-Q114=4,IF(Q116-2>0,Q116-2,0))","v":0},0,0,0,0,0,0,0,0,{"$f":"SUM(Q118:Y118)","v":0},{"$f":"P118+Z118","v":0}]
[null,null,null,null,null,"Score Brut",{"$f":"IF(G117-G114=-2,4)+IF(G117-G114=-1,3)+IF(G117-G114=0,2)+IF(G117-G114=1,1)+IF(G117-G114>2,0)","v":0},0,0,0,0,0,0,0,0,{"$f":"SUM(G119:O119)","v":0},{"$f":"IF(Q117-Q114=-2,4)+IF(Q117-Q114=-1,3)+IF(Q117-Q114=0,2)+IF(Q117-Q114=1,1)+IF(Q117-Q114>2,0)","v":0},0,0,0,0,0,0,0,0,{"$f":"SUM(Q119:Y119)","v":0},{"$f":"P119+Z119","v":0}]
[null,null,null,null,null,null,{"$f":"G117-G114","v":6},{"$f":"H117-H114","v":6},5,6,7,5,7,5,7,null,{"$f":"Q117-Q114","v":6},6,7,5,7,6,6,5,6]
[]
[]
[null,null,null,null,null,"Statistiques scores",null,"Eagle & moins",null,null,null,{"$f":"COUNTIF(G120:Y120,\"<=-2\")","v":0},"Par",null,{"$f":"COUNTIF(G120:Y120,\"=0\")","v":0},"Double bogey",null,null,null,null,{"$f":"COUNTIF(G120:Y120,\"=2\")","v":0}]
[null,null,null,null,null,null,null,"Birdie",null,null,null,{"$f":"COUNTIF(G120:Y120,\"=-1\")","v":0},"Bogey",null,{"$f":"COUNTIF(G120:Y120,\"=1\")","v":0},"Triple bogey & plus",null,null,null,null,{"$f":"COUNTIF(G120:Y120,\">=3\")","v":18}]
[null,null,null,null,null,null,null,{"$f":"M123","v":"Par"},null,null,null,{"$f":"O123","v":0}]
[null,null,null,null,null,null,null,{"$f":"M124","v":"Bogey"},null,null,null,{"$f":"O124","v":0}]
[null,null,null,null,null,null,null,{"$f":"P123","v":"Double bogey"},null,null,null,{"$f":"U123","v":0}]
[null,null,null,null,null,null,null,{"$f":"P124","v":"Triple bogey & plus"},null,null,null,{"$f":"U124","v":18}]
[]
[]
[]
[]
[null,null,null,null,null,"Nom",{"$f":"C11","v":0},null,null,null,null,"Slope",null,null,"SSS",null,"Coups reçus",null,null,null,null,null,null,null,null,"Date",{"$f":"$D$3","v":"00:00:00"}]
[null,null,null,null,null,"Index",{"$f":"E11","v":20},null,null,null,null,{"$f":"$F$3","v":133},null,null,{"$f":"$G$3","v":68.599999999999994},null,{"$f":"ROUND((G134*(L134/113)+(O134-AA137)),0)","v":20}]
[]
[null,null,null,null,null,"Trou",1,2,3,4,5,6,7,8,9,"Aller",10,11,12,13,14,15,16,17,18,"Retour","Total"]
[null,null,null,null,null,"PAR",{"$f":"G$7","v":4},{"$f":"H$7","v":4},5,4,3,5,3,5,3,{"$f":"SUM(G137:O137)","v":36},{"$f":"Q$7","v":4},4,3,5,3,4,4,5,4,{"$f":"SUM(Q137:Y137)","v":36},{"$f":"SUM(P137+Z137)","v":72}]
[null,null,null,null,null,"HCP trous",{"$f":"G$8","v":4},{"$f":"H$8","v":8},12,14,2,10,18,16,6,null,{"$f":"Q$8","v":1},9,11,5,17,15,3,13,7]
[null,null,null,null,null,"Coups reçus",{"$f":"IF($Q134<=18,IF(G138<=$Q134,1,0),IF($Q134<=36,IF(G138<=($Q134-18),2,1),IF($Q134>36,IF(G138<=($Q134-36),3,2))))","v":1},{"$f":"IF($Q134<=18,IF(H138<=$Q134,1,0),IF($Q134<=36,IF(H138<=($Q134-18),2,1),IF($Q134>36,IF(H138<=($Q134-36),3,2))))","v":1},1,1,2,1,1,1,1,{"$f":"SUM(G139:O139)","v":10},{"$f":"IF($Q134<=18,IF(Q138<=$Q134,1,0),IF($Q134<=36,IF(Q138<=($Q134-18),2,1),IF($Q134>36,IF(Q138<=($Q134-36),3,2))))","v":2},1,1,1,1,1,1,1,1,{"$f":"SUM(Q139:Y139)","v":10},{"$f":"P139+Z139","v":20}]
[null,null,null,null,null,"Stroke play",{"$f":"G11","v":10},10,10,10,10,10,10,10,10,{"$f":"SUM(G140:O140)","v":90},{"$f":"Q11","v":10},10,10,10,10,10,10,10,10,{"$f":"SUM(Q140:Y140)","v":90},{"$f":"P140+Z140","v":180}]
[null,null,null,null,null,"Net Stableford",{"$f":"IF(G140-G137=-1,3+G139)+IF(G140-G137=0,2+G139)+IF(G140-G137=1,1+G139)+IF(G140-G137=2,G139)+IF(G140-G137=3,IF(G139-1>0,G139-1,0))+IF(G140-G137=4,IF(G139-2>0,G139-2,0))","v":0},{"$f":"IF(H140-H137=-1,3+H139)+IF(H140-H137=0,2+H139)+IF(H140-H137=1,1+H139)+IF(H140-H137=2,H139)+IF(H140-H137=3,IF(H139-1>0,H139-1,0))+IF(H140-H137=4,IF(H139-2>0,H139-2,0))","v":0},0,0,0,0,0,0,0,{"$f":"SUM(G141:O141)","v":0},{"$f":"IF(Q140-Q137=-1,3+Q139)+IF(Q140-Q137=0,2+Q139)+IF(Q140-Q137=1,1+Q139)+IF(Q140-Q137=2,Q139)+IF(Q140-Q137=3,IF(Q139-1>0,Q139-1,0))+IF(Q140-Q137=4,IF(Q139-2>0,Q139-2,0))","v":0},0,0,0,0,0,0,0,0,{"$f":"SUM(Q141:Y141)","v":0},{"$f":"P141+Z141","v":0}]
[null,null,null,null,null,"Score Brut",{"$f":"IF(G140-G137=-2,4)+IF(G140-G137=-1,3)+IF(G140-G137=0,2)+IF(G140-G137=1,1)+IF(G140-G137>2,0)","v":0},0,0,0,0,0,0,0,0,{"$f":"SUM(G142:O142)","v":0},{"$f":"IF(Q140-Q137=-2,4)+IF(Q140-Q137=-1,3)+IF(Q140-Q137=0,2)+IF(Q140-Q137=1,1)+IF(Q140-Q137>2,0)","v":0},0,0,0,0,0,0,0,0,{"$f":"SUM(Q142:Y142)","v":0},{"$f":"P142+Z142","v":0}]
[null,null,null,null,null,null,{"$f":"G140-G137","v":6},{"$f":"H140-H137","v":6},5,6,7,5,7,5,7,null,{"$f":"Q140-Q137","v":6},6,7,5,7,6,6,5,6]
[]
[]
[null,null,null,null,null,"Statistiques scores",null,"Eagle & moins",null,null,null,{"$f":"COUNTIF(G143:Y143,\"<=-2\")","v":0},"Par",null,{"$f":"COUNTIF(G143:Y143,\"=0\")","v":0},"Double bogey",null,null,null,null,{"$f":"COUNTIF(G143:Y143,\"=2\")","v":0}]
[null,null,null,null,null,null,null,"Birdie",null,null,null,{"$f":"COUNTIF(G143:Y143,\"=-1\")","v":0},"Bogey",null,{"$f":"COUNTIF(G143:Y143,\"=1\")","v":0},"Triple bogey & plus",null,null,null,null,{"$f":"COUNTIF(G143:Y143,\">=3\")","v":18}]
[null,null,null,null,null,null,null,{"$f":"M146","v":"Par"},null,null,null,{"$f":"O146","v":0}]
[null,null,null,null,null,null,null,{"$f":"M147","v":"Bogey"},null,null,null,{"$f":"O147","v":0}]
[null,null,null,null,null,null,null,{"$f":"P146","v":"Double bogey"},null,null,null,{"$f":"U146","v":0}]
[null,null,null,null,null,null,null,{"$f":"P147","v":"Triple bogey & plus"},null,null,null,{"$f":"U147","v":18}]
[]
[]
[]
[]
[null,null,null,null,null,"Nom",{"$f":"C12","v":0},null,null,null,null,"Slope",null,null,"SSS",null,"Coups reçus",null,null,null,null,null,null,null,null,"Date",{"$f":"$D$3","v":"00:00:00"}]
[null,null,null,null,null,"Index",{"$f":"E12","v":20},null,null,null,null,{"$f":"$F$3","v":133},null,null,{"$f":"$G$3","v":68.599999999999994},null,{"$f":"ROUND((G157*(L157/113)+(O157-AA160)),0)","v":20}]
[]
[null,null,null,null,null,"Trou",1,2,3,4,5,6,7,8,9,"Aller",10,11,12,13,14,15,16,17,18,"Retour","Total"]
[null,null,null,null,null,"PAR",{"$f":"G$7","v":4},{"$f":"H$7","v":4},5,4,3,5,3,5,3,{"$f":"SUM(G160:O160)","v":36},{"$f":"Q$7","v":4},4,3,5,3,4,4,5,4,{"$f":"SUM(Q160:Y160)","v":36},{"$f":"SUM(P160+Z160)","v":72}]
[null,null,null,null,null,"HCP trous",{"$f":"G$8","v":4},{"$f":"H$8","v":8},12,14,2,10,18,16,6,null,{"$f":"Q$8","v":1},9,11,5,17,15,3,13,7]
[null,null,null,null,null,"Coups reçus",{"$f":"IF($Q157<=18,IF(G161<=$Q157,1,0),IF($Q157<=36,IF(G161<=($Q157-18),2,1),IF($Q157>36,IF(G161<=($Q157-36),3,2))))","v":1},{"$f":"IF($Q157<=18,IF(H161<=$Q157,1,0),IF($Q157<=36,IF(H161<=($Q157-18),2,1),IF($Q157>36,IF(H161<=($Q157-36),3,2))))","v":1},1,1,2,1,1,1,1,{"$f":"SUM(G162:O162)","v":10},{"$f":"IF($Q157<=18,IF(Q161<=$Q157,1,0),IF($Q157<=36,IF(Q161<=($Q157-18),2,1),IF($Q157>36,IF(Q161<=($Q157-36),3,2))))","v":2},1,1,1,1,1,1,1,1,{"$f":"SUM(Q162:Y162)","v":10},{"$f":"P162+Z162","v":20}]
[null,null,null,null,null,"Stroke play",{"$f":"G12","v":10},10,10,10,10,10,10,10,10,{"$f":"SUM(G163:O163)","v":90},{"$f":"Q12","v":10},10,10,10,10,10,10,10,10,{"$f":"SUM(Q163:Y163)","v":90},{"$f":"P163+Z163","v":180}]
[null,null,null,null,null,"Net Stableford",{"$f":"IF(G163-G160=-1,3+G162)+IF(G163-G160=0,2+G162)+IF(G163-G160=1,1+G162)+IF(G163-G160=2,G162)+IF(G163-G160=3,IF(G162-1>0,G162-1,0))+IF(G163-G160=4,IF(G162-2>0,G162-2,0))","v":0},{"$f":"IF(H163-H160=-1,3+H162)+IF(H163-H160=0,2+H162)+IF(H163-H160=1,1+H162)+IF(H163-H160=2,H162)+IF(H163-H160=3,IF(H162-1>0,H162-1,0))+IF(H163-H160=4,IF(H162-2>0,H162-2,0))","v":0},0,0,0,0,0,0,0,{"$f":"SUM(G164:O164)","v":0},{"$f":"IF(Q163-Q160=-1,3+Q162)+IF(Q163-Q160=0,2+Q162)+IF(Q163-Q160=1,1+Q162)+IF(Q163-Q160=2,Q162)+IF(Q163-Q160=3,IF(Q162-1>0,Q162-1,0))+IF(Q163-Q160=4,IF(Q162-2>0,Q162-2,0))","v":0},0,0,0,0,0,0,0,0,{"$f":"SUM(Q164:Y164)","v":0},{"$f":"P164+Z164","v":0}]
[null,null,null,null,null,"Score Brut",{"$f":"IF(G163-G160=-2,4)+IF(G163-G160=-1,3)+IF(G163-G160=0,2)+IF(G163-G160=1,1)+IF(G163-G160>2,0)","v":0},0,0,0,0,0,0,0,0,{"$f":"SUM(G165:O165)","v":0},{"$f":"IF(Q163-Q160=-2,4)+IF(Q163-Q160=-1,3)+IF(Q163-Q160=0,2)+IF(Q163-Q160=1,1)+IF(Q163-Q160>2,0)","v":0},0,0,0,0,0,0,0,0,{"$f":"SUM(Q165:Y165)","v":0},{"$f":"P165+Z165","v":0}]
[null,null,null,null,null,null,{"$f":"G163-G160","v":6},{"$f":"H163-H160","v":6},5,6,7,5,7,5,7,null,{"$f":"Q163-Q160","v":6},6,7,5,7,6,6,5,6]
[]
[]
[null,null,null,null,null,"Statistiques scores",null,"Eagle & moins",null,null,null,{"$f":"COUNTIF(G166:Y166,\"<=-2\")","v":0},"Par",null,{"$f":"COUNTIF(G166:Y166,\"=0\")","v":0},"Double bogey",null,null,null,null,{"$f":"COUNTIF(G166:Y166,\"=2\")","v":0}]
[null,null,null,null,null,null,null,"Birdie",null,null,null,{"$f":"COUNTIF(G166:Y166,\"=-1\")","v":0},"Bogey",null,{"$f":"COUNTIF(G166:Y166,\"=1\")","v":0},"Triple bogey & plus",null,null,null,null,{"$f":"COUNTIF(G166:Y166,\">=3\")","v":18}]
[null,null,null,null,null,null,null,{"$f":"M169","v":"Par"},null,null,null,{"$f":"O169","v":0}]
[null,null,null,null,null,null,null,{"$f":"M170","v":"Bogey"},null,null,null,{"$f":"O170","v":0}]
[null,null,null,null,null,null,null,{"$f":"P169","v":"Double bogey"},null,null,null,{"$f":"U169","v":0}]
[null,null,null,null,null,null,null,{"$f":"P170","v":"Triple bogey & plus"},null,null,null,{"$f":"U170","v":18}]
[]
[]
[]
[]
[null,null,null,null,null,"Nom",{"$f":"C13","v":0},null,null,null,null,"Slope",null,null,"SSS",null,"Coups reçus",null,null,null,null,null,null,null,null,"Date",{"$f":"$D$3","v":"00:00:00"}]
[null,null,null,null,null,"Index",{"$f":"E13","v":20},null,null,null,null,{"$f":"$F$3","v":133},null,null,{"$f":"$G$3","v":68.599999999999994},null,{"$f":"ROUND((G180*(L180/113)+(O180-AA183)),0)","v":20}]
[]
[null,null,null,null,null,"Trou",1,2,3,4,5,6,7,8,9,"Aller",10,11,12,13,14,15,16,17,18,"Retour","Total"]
[null,null,null,null,null,"PAR",{"$f":"G$7","v":4},{"$f":"H$7","v":4},5,4,3,5,3,5,3,{"$f":"SUM(G183:O183)","v":36},{"$f":"Q$7","v":4},4,3,5,3,4,4,5,4,{"$f":"SUM(Q183:Y183)","v":36},{"$f":"SUM(P183+Z183)","v":72}]
[null,null,null,null,null,"HCP trous",{"$f":"G$8","v":4},{"$f":"H$8","v":8},12,14,2,10,18,16,6,null,{"$f":"Q$8","v":1},9,11,5,17,15,3,13,7]
[null,null,null,null,null,"Coups reçus",{"$f":"IF($Q180<=18,IF(G184<=$Q180,1,0),IF($Q180<=36,IF(G184<=($Q180-18),2,1),IF($Q180>36,IF(G184<=($Q180-36),3,2))))","v":1},{"$f":"IF($Q180<=18,IF(H184<=$Q180,1,0),IF($Q180<=36,IF(H184<=($Q180-18),2,1),IF($Q180>36,IF(H184<=($Q180-36),3,2))))","v":1},1,1,2,1,1,1,1,{"$f":"SUM(G185:O185)","v":10},{"$f":"IF($Q180<=18,IF(Q184<=$Q180,1,0),IF($Q180<=36,IF(Q184<=($Q180-18),2,1),IF($Q180>36,IF(Q184<=($Q180-36),3,2))))","v":2},1,1,1,1,1,1,1,1,{"$f":"SUM(Q185:Y185)","v":10},{"$f":"P185+Z185","v":20}]
[null,null,null,null,null,"Stroke play",{"$f":"G13","v":10},10,10,10,10,10,10,10,10,{"$f":"SUM(G186:O186)","v":90},{"$f":"Q13","v":10},10,10,10,10,10,10,10,10,{"$f":"SUM(Q186:Y186)","v":90},{"$f":"P186+Z186","v":180}]
[null,null,null,null,null,"Net Stableford",{"$f":"IF(G186-G183=-1,3+G185)+IF(G186-G183=0,2+G185)+IF(G186-G183=1,1+G185)+IF(G186-G183=2,G185)+IF(G186-G183=3,IF(G185-1>0,G185-1,0))+IF(G186-G183=4,IF(G185-2>0,G185-2,0))","v":0},{"$f":"IF(H186-H183=-1,3+H185)+IF(H186-H183=0,2+H185)+IF(H186-H183=1,1+H185)+IF(H186-H183=2,H185)+IF(H186-H183=3,IF(H185-1>0,H185-1,0))+IF(H186-H183=4,IF(H185-2>0,H185-2,0))","v":0},0,0,0,0,0,0,0,{"$f":"SUM(G187:O187)","v":0},{"$f":"IF(Q186-Q183=-1,3+Q185)+IF(Q186-Q183=0,2+Q185)+IF(Q186-Q183=1,1+Q185)+IF(Q186-Q183=2,Q185)+IF(Q186-Q183=3,IF(Q185-1>0,Q185-1,0))+IF(Q186-Q183=4,IF(Q185-2>0,Q185-2,0))","v":0},0,0,0,0,0,0,0,0,{"$f":"SUM(Q187:Y187)","v":0},{"$f":"P187+Z187","v":0}]
[null,null,null,null,null,"Score Brut",{"$f":"IF(G186-G183=-2,4)+IF(G186-G183=-1,3)+IF(G186-G183=0,2)+IF(G186-G183=1,1)+IF(G186-G183>2,0)","v":0},0,0,0,0,0,0,0,0,{"$f":"SUM(G188:O188)","v":0},{"$f":"IF(Q186-Q183=-2,4)+IF(Q186-Q183=-1,3)+IF(Q186-Q183=0,2)+IF(Q186-Q183=1,1)+IF(Q186-Q183>2,0)","v":0},0,0,0,0,0,0,0,0,{"$f":"SUM(Q188:Y188)","v":0},{"$f":"P188+Z188","v":0}]
[null,null,null,null,null,null,{"$f":"G186-G183","v":6},{"$f":"H186-H183","v":6},5,6,7,5,7,5,7,null,{"$f":"Q186-Q183","v":6},6,7,5,7,6,6,5,6]
[]
[]
[null,null,null,null,null,"Statistiques scores",null,"Eagle & moins",null,null,null,{"$f":"COUNTIF(G189:Y189,\"<=-2\")","v":0},"Par",null,{"$f":"COUNTIF(G189:Y189,\"=0\")","v":0},"Double bogey",null,null,null,null,{"$f":"COUNTIF(G189:Y189,\"=2\")","v":0}]
[null,null,null,null,null,null,null,"Birdie",null,null,null,{"$f":"COUNTIF(G189:Y189,\"=-1\")","v":0},"Bogey",null,{"$f":"COUNTIF(G189:Y189,\"=1\")","v":0},"Triple bogey & plus",null,null,null,null,{"$f":"COUNTIF(G189:Y189,\">=3\")","v":18}]
[null,null,null,null,null,null,null,{"$f":"M192","v":"Par"},null,null,null,{"$f":"O192","v":0}]
[null,null,null,null,null,null,null,{"$f":"M193","v":"Bogey"},null,null,null,{"$f":"O193","v":0}]
[null,null,null,null,null,null,null,{"$f":"P192","v":"Double bogey"},null,null,null,{"$f":"U192","v":0}]
[null,null,null,null,null,null,null,{"$f":"P193","v":"Triple bogey & plus"},null,null,null,{"$f":"U193","v":18}]
[]
[]
[]
[]
[null,null,null,null,null,"Nom",{"$f":"C14","v":0},null,null,null,null,"Slope",null,null,"SSS",null,"Coups reçus",null,null,null,null,null,null,null,null,"Date",{"$f":"$D$3","v":"00:00:00"}]
[null,null,null,null,null,"Index",{"$f":"E14","v":20},null,null,null,null,{"$f":"$F$3","v":133},null,null,{"$f":"$G$3","v":68.599999999999994},null,{"$f":"ROUND((G203*(L203/113)+(O203-AA206)),0)","v":20}]
[]
[null,null,null,null,null,"Trou",1,2,3,4,5,6,7,8,9,"Aller",10,11,12,13,14,15,16,17,18,"Retour","Total"]
[null,null,null,null,null,"PAR",{"$f":"G$7","v":4},{"$f":"H$7","v":4},5,4,3,5,3,5,3,{"$f":"SUM(G206:O206)","v":36},{"$f":"Q$7","v":4},4,3,5,3,4,4,5,4,{"$f":"SUM(Q206:Y206)","v":36},{"$f":"SUM(P206+Z206)","v":72}]
[null,null,null,null,null,"HCP trous",{"$f":"G$8","v":4},{"$f":"H$8","v":8},12,14,2,10,18,16,6,null,{"$f":"Q$8","v":1},9,11,5,17,15,3,13,7]
[null,null,null,null,null,"Coups reçus",{"$f":"IF($Q203<=18,IF(G207<=$Q203,1,0),IF($Q203<=36,IF(G207<=($Q203-18),2,1),IF($Q203>36,IF(G207<=($Q203-36),3,2))))","v":1},{"$f":"IF($Q203<=18,IF(H207<=$Q203,1,0),IF($Q203<=36,IF(H207<=($Q203-18),2,1),IF($Q203>36,IF(H207<=($Q203-36),3,2))))","v":1},1,1,2,1,1,1,1,{"$f":"SUM(G208:O208)","v":10},{"$f":"IF($Q203<=18,IF(Q207<=$Q203,1,0),IF($Q203<=36,IF(Q207<=($Q203-18),2,1),IF($Q203>36,IF(Q207<=($Q203-36),3,2))))","v":2},1,1,1,1,1,1,1,1,{"$f":"SUM(Q208:Y208)","v":10},{"$f":"P208+Z208","v":20}]
[null,null,null,null,null,"Stroke play",{"$f":"G14","v":10},10,10,10,10,10,10,10,10,{"$f":"SUM(G209:O209)","v":90},{"$f":"Q14","v":10},10,10,10,10,10,10,10,10,{"$f":"SUM(Q209:Y209)","v":90},{"$f":"P209+Z209","v":180}]
[null,null,null,null,null,"Net Stableford",{"$f":"IF(G209-G206=-1,3+G208)+IF(G209-G206=0,2+G208)+IF(G209-G206=1,1+G208)+IF(G209-G206=2,G208)+IF(G209-G206=3,IF(G208-1>0,G208-1,0))+IF(G209-G206=4,IF(G208-2>0,G208-2,0))","v":0},{"$f":"IF(H209-H206=-1,3+H208)+IF(H209-H206=0,2+H208)+IF(H209-H206=1,1+H208)+IF(H209-H206=2,H208)+IF(H209-H206=3,IF(H208-1>0,H208-1,0))+IF(H209-H206=4,IF(H208-2>0,H208-2,0))","v":0},0,0,0,0,0,0,0,{"$f":"SUM(G210:O210)","v":0},{"$f":"IF(Q209-Q206=-1,3+Q208)+IF(Q209-Q206=0,2+Q208)+IF(Q209-Q206=1,1+Q208)+IF(Q209-Q206=2,Q208)+IF(Q209-Q206=3,IF(Q208-1>0,Q208-1,0))+IF(Q209-Q206=4,IF(Q208-2>0,Q208-2,0))","v":0},0,0,0,0,0,0,0,0,{"$f":"SUM(Q210:Y210)","v":0},{"$f":"P210+Z210","v":0}]
[null,null,null,null,null,"Score Brut",{"$f":"IF(G209-G206=-2,4)+IF(G209-G206=-1,3)+IF(G209-G206=0,2)+IF(G209-G206=1,1)+IF(G209-G206>2,0)","v":0},0,0,0,0,0,0,0,0,{"$f":"SUM(G211:O211)","v":0},{"$f":"IF(Q209-Q206=-2,4)+IF(Q209-Q206=-1,3)+IF(Q209-Q206=0,2)+IF(Q209-Q206=1,1)+IF(Q209-Q206>2,0)","v":0},0,0,0,0,0,0,0,0,{"$f":"SUM(Q211:Y211)","v":0},{"$f":"P211+Z211","v":0}]
[null,null,null,null,null,null,{"$f":"G209-G206","v":6},{"$f":"H209-H206","v":6},5,6,7,5,7,5,7,null,{"$f":"Q209-Q206","v":6},6,7,5,7,6,6,5,6]
[]
[]
[null,null,null,null,null,"Statistiques scores",null,"Eagle & moins",null,null,null,{"$f":"COUNTIF(G212:Y212,\"<=-2\")","v":0},"Par",null,{"$f":"COUNTIF(G212:Y212,\"=0\")","v":0},"Double bogey",null,null,null,null,{"$f":"COUNTIF(G212:Y212,\"=2\")","v":0}]
[null,null,null,null,null,null,null,"Birdie",null,null,null,{"$f":"COUNTIF(G212:Y212,\"=-1\")","v":0},"Bogey",null,{"$f":"COUNTIF(G212:Y212,\"=1\")","v":0},"Triple bogey & plus",null,null,null,null,{"$f":"COUNTIF(G212:Y212,\">=3\")","v":18}]
[null,null,null,null,null,null,null,{"$f":"M215","v":"Par"},null,null,null,{"$f":"O215","v":0}]
[null,null,null,null,null,null,null,{"$f":"M216","v":"Bogey"},null,null,null,{"$f":"O216","v":0}]
[null,null,null,null,null,null,null,{"$f":"P215","v":"Double bogey"},null,null,null,{"$f":"U215","v":0}]
[null,null,null,null,null,null,null,{"$f":"P216","v":"Triple bogey & plus"},null,null,null,{"$f":"U216","v":18}]
[]
[]
[]
[]
[null,null,null,null,null,"Nom",{"$f":"C15","v":0},null,null,null,null,"Slope",null,null,"SSS",null,"Coups reçus",null,null,null,null,null,null,null,null,"Date",{"$f":"$D$3","v":"00:00:00"}]
[null,null,null,null,null,"Index",{"$f":"E15","v":20},null,null,null,null,{"$f":"$F$3","v":133},null,null,{"$f":"$G$3","v":68.599999999999994},null,{"$f":"ROUND((G226*(L226/113)+(O226-AA229)),0)","v":20}]
[]
[null,null,null,null,null,"Trou",1,2,3,4,5,6,7,8,9,"Aller",10,11,12,13,14,15,16,17,18,"Retour","Total"]
[null,null,null,null,null,"PAR",{"$f":"G$7","v":4},{"$f":"H$7","v":4},5,4,3,5,3,5,3,{"$f":"SUM(G229:O229)","v":36},{"$f":"Q$7","v":4},4,3,5,3,4,4,5,4,{"$f":"SUM(Q229:Y229)","v":36},{"$f":"SUM(P229+Z229)","v":72}]
[null,null,null,null,null,"HCP trous",{"$f":"G$8","v":4},{"$f":"H$8","v":8},12,14,2,10,18,16,6,null,{"$f":"Q$8","v":1},9,11,5,17,15,3,13,7]
[null,null,null,null,null,"Coups reçus",{"$f":"IF($Q226<=18,IF(G230<=$Q226,1,0),IF($Q226<=36,IF(G230<=($Q226-18),2,1),IF($Q226>36,IF(G230<=($Q226-36),3,2))))","v":1},{"$f":"IF($Q226<=18,IF(H230<=$Q226,1,0),IF($Q226<=36,IF(H230<=($Q226-18),2,1),IF($Q226>36,IF(H230<=($Q226-36),3,2))))","v":1},1,1,2,1,1,1,1,{"$f":"SUM(G231:O231)","v":10},{"$f":"IF($Q226<=18,IF(Q230<=$Q226,1,0),IF($Q226<=36,IF(Q230<=($Q226-18),2,1),IF($Q226>36,IF(Q230<=($Q226-36),3,2))))","v":2},1,1,1,1,1,1,1,1,{"$f":"SUM(Q231:Y231)","v":10},{"$f":"P231+Z231","v":20}]
[null,null,null,null,null,"Stroke play",{"$f":"G15","v":10},10,10,10,10,10,10,10,10,{"$f":"SUM(G232:O232)","v":90},{"$f":"Q15","v":10},10,10,10,10,10,10,10,10,{"$f":"SUM(Q232:Y232)","v":90},{"$f":"P232+Z232","v":180}]
[null,null,null,null,null,"Net Stableford",{"$f":"IF(G232-G229=-1,3+G231)+IF(G232-G229=0,2+G231)+IF(G232-G229=1,1+G231)+IF(G232-G229=2,G231)+IF(G232-G229=3,IF(G231-1>0,G231-1,0))+IF(G232-G229=4,IF(G231-2>0,G231-2,0))","v":0},{"$f":"IF(H232-H229=-1,3+H231)+IF(H232-H229=0,2+H231)+IF(H232-H229=1,1+H231)+IF(H232-H229=2,H231)+IF(H232-H229=3,IF(H231-1>0,H231-1,0))+IF(H232-H229=4,IF(H231-2>0,H231-2,0))","v":0},0,0,0,0,0,0,0,{"$f":"SUM(G233:O233)","v":0},{"$f":"IF(Q232-Q229=-1,3+Q231)+IF(Q232-Q229=0,2+Q231)+IF(Q232-Q229=1,1+Q231)+IF(Q232-Q229=2,Q231)+IF(Q232-Q229=3,IF(Q231-1>0,Q231-1,0))+IF(Q232-Q229=4,IF(Q231-2>0,Q231-2,0))","v":0},0,0,0,0,0,0,0,0,{"$f":"SUM(Q233:Y233)","v":0},{"$f":"P233+Z233","v":0}]
[null,null,null,null,null,"Score Brut",{"$f":"IF(G232-G229=-2,4)+IF(G232-G229=-1,3)+IF(G232-G229=0,2)+IF(G232-G229=1,1)+IF(G232-G229>2,0)","v":0},0,0,0,0,0,0,0,0,{"$f":"SUM(G234:O234)","v":0},{"$f":"IF(Q232-Q229=-2,4)+IF(Q232-Q229=-1,3)+IF(Q232-Q229=0,2)+IF(Q232-Q229=1,1)+IF(Q232-Q229>2,0)","v":0},0,0,0,0,0,0,0,0,{"$f":"SUM(Q234:Y234)","v":0},{"$f":"P234+Z234","v":0}]
[null,null,null,null,null,null,{"$f":"G232-G229","v":6},{"$f":"H232-H229","v":6},5,6,7,5,7,5,7,null,{"$f":"Q232-Q229","v":6},6,7,5,7,6,6,5,6]
[]
[]
[null,null,null,null,null,"Statistiques scores",null,"Eagle & moins",null,null,null,{"$f":"COUNTIF(G235:Y235,\"<=-2\")","v":0},"Par",null,{"$f":"COUNTIF(G235:Y235,\"=0\")","v":0},"Double bogey",null,null,null,null,{"$f":"COUNTIF(G235:Y235,\"=2\")","v":0}]
[null,null,null,null,null,null,null,"Birdie",null,null,null,{"$f":"COUNTIF(G235:Y235,\"=-1\")","v":0},"Bogey",null,{"$f":"COUNTIF(G235:Y235,\"=1\")","v":0},"Triple bogey & plus",null,null,null,null,{"$f":"COUNTIF(G235:Y235,\">=3\")","v":18}]
[null,null,null,null,null,null,null,{"$f":"M238","v":"Par"},null,null,null,{"$f":"O238","v":0}]
[null,null,null,null,null,null,null,{"$f":"M239","v":"Bogey"},null,null,null,{"$f":"O239","v":0}]
[null,null,null,null,null,null,null,{"$f":"P238","v":"Double bogey"},null,null,null,{"$f":"U238","v":0}]
[null,null,null,null,null,null,null,{"$f":"P239","v":"Triple bogey & plus"},null,null,null,{"$f":"U239","v":18}]
[]
[]
[]
[]
[null,null,null,null,null,"Nom",{"$f":"C16","v":0},null,null,null,null,"Slope",null,null,"SSS",null,"Coups reçus",null,null,null,null,null,null,null,null,"Date",{"$f":"$D$3","v":"00:00:00"}]
[null,null,null,null,null,"Index",{"$f":"E16","v":20},null,null,null,null,{"$f":"$F$3","v":133},null,null,{"$f":"$G$3","v":68.599999999999994},null,{"$f":"ROUND((G249*(L249/113)+(O249-AA252)),0)","v":20}]
[]
[null,null,null,null,null,"Trou",1,2,3,4,5,6,7,8,9,"Aller",10,11,12,13,14,15,16,17,18,"Retour","Total"]
[null,null,null,null,null,"PAR",{"$f":"G$7","v":4},{"$f":"H$7","v":4},5,4,3,5,3,5,3,{"$f":"SUM(G252:O252)","v":36},{"$f":"Q$7","v":4},4,3,5,3,4,4,5,4,{"$f":"SUM(Q252:Y252)","v":36},{"$f":"SUM(P252+Z252)","v":72}]
[null,null,null,null,null,"HCP trous",{"$f":"G$8","v":4},{"$f":"H$8","v":8},12,14,2,10,18,16,6,null,{"$f":"Q$8","v":1},9,11,5,17,15,3,13,7]
[null,null,null,null,null,"Coups reçus",{"$f":"IF($Q249<=18,IF(G253<=$Q249,1,0),IF($Q249<=36,IF(G253<=($Q249-18),2,1),IF($Q249>36,IF(G253<=($Q249-36),3,2))))","v":1},{"$f":"IF($Q249<=18,IF(H253<=$Q249,1,0),IF($Q249<=36,IF(H253<=($Q249-18),2,1),IF($Q249>36,IF(H253<=($Q249-36),3,2))))","v":1},1,1,2,1,1,1,1,{"$f":"SUM(G254:O254)","v":10},{"$f":"IF($Q249<=18,IF(Q253<=$Q249,1,0),IF($Q249<=36,IF(Q253<=($Q249-18),2,1),IF($Q249>36,IF(Q253<=($Q249-36),3,2))))","v":2},1,1,1,1,1,1,1,1,{"$f":"SUM(Q254:Y254)","v":10},{"$f":"P254+Z254","v":20}]
[null,null,null,null,null,"Stroke play",{"$f":"G16","v":10},10,10,10,10,10,10,10,10,{"$f":"SUM(G255:O255)","v":90},{"$f":"Q16","v":10},10,10,10,10,10,10,10,10,{"$f":"SUM(Q255:Y255)","v":90},{"$f":"P255+Z255","v":180}]
[null,null,null,null,null,"Net Stableford",{"$f":"IF(G255-G252=-1,3+G254)+IF(G255-G252=0,2+G254)+IF(G255-G252=1,1+G254)+IF(G255-G252=2,G254)+IF(G255-G252=3,IF(G254-1>0,G254-1,0))+IF(G255-G252=4,IF(G254-2>0,G254-2,0))","v":0},{"$f":"IF(H255-H252=-1,3+H254)+IF(H255-H252=0,2+H254)+IF(H255-H252=1,1+H254)+IF(H255-H252=2,H254)+IF(H255-H252=3,IF(H254-1>0,H254-1,0))+IF(H255-H252=4,IF(H254-2>0,H254-2,0))","v":0},0,0,0,0,0,0,0,{"$f":"SUM(G256:O256)","v":0},{"$f":"IF(Q255-Q252=-1,3+Q254)+IF(Q255-Q252=0,2+Q254)+IF(Q255-Q252=1,1+Q254)+IF(Q255-Q252=2,Q254)+IF(Q255-Q252=3,IF(Q254-1>0,Q254-1,0))+IF(Q255-Q252=4,IF(Q254-2>0,Q254-2,0))","v":0},0,0,0,0,0,0,0,0,{"$f":"SUM(Q256:Y256)","v":0},{"$f":"P256+Z256","v":0}]
[null,null,null,null,null,"Score Brut",{"$f":"IF(G255-G252=-2,4)+IF(G255-G252=-1,3)+IF(G255-G252=0,2)+IF(G255-G252=1,1)+IF(G255-G252>2,0)","v":0},0,0,0,0,0,0,0,0,{"$f":"SUM(G257:O257)","v":0},{"$f":"IF(Q255-Q252=-2,4)+IF(Q255-Q252=-1,3)+IF(Q255-Q252=0,2)+IF(Q255-Q252=1,1)+IF(Q255-Q252>2,0)","v":0},0,0,0,0,0,0,0,0,{"$f":"SUM(Q257:Y257)","v":0},{"$f":"P257+Z257","v":0}]
[null,null,null,null,null,null,{"$f":"G255-G252","v":6},{"$f":"H255-H252","v":6},5,6,7,5,7,5,7,null,{"$f":"Q255-Q252","v":6},6,7,5,7,6,6,5,6]
[]
[]
[null,null,null,null,null,"Statistiques scores",null,"Eagle & moins",null,null,null,{"$f":"COUNTIF(G258:Y258,\"<=-2\")","v":0},"Par",null,{"$f":"COUNTIF(G258:Y258,\"=0\")","v":0},"Double bogey",null,null,null,null,{"$f":"COUNTIF(G258:Y258,\"=2\")","v":0}]
[null,null,null,null,null,null,null,"Birdie",null,null,null,{"$f":"COUNTIF(G258:Y258,\"=-1\")","v":0},"Bogey",null,{"$f":"COUNTIF(G258:Y258,\"=1\")","v":0},"Triple bogey & plus",null,null,null,null,{"$f":"COUNTIF(G258:Y258,\">=3\")","v":18}]
[null,null,null,null,null,null,null,{"$f":"M261","v":"Par"},null,null,null,{"$f":"O261","v":0}]
[null,null,null,null,null,null,null,{"$f":"M262","v":"Bogey"},null,null,null,{"$f":"O262","v":0}]
[null,null,null,null,null,null,null,{"$f":"P261","v":"Double bogey"},null,null,null,{"$f":"U261","v":0}]
[null,null,null,null,null,null,null,{"$f":"P262","v":"Triple bogey & plus"},null,null,null,{"$f":"U262","v":18}]
[]
[]
[]
[]
[null,null,null,null,null,"Nom",{"$f":"C17","v":0},null,null,null,null,"Slope",null,null,"SSS",null,"Coups reçus",null,null,null,null,null,null,null,null,"Date",{"$f":"$D$3","v":"00:00:00"}]
[null,null,null,null,null,"Index",{"$f":"E17","v":20},null,null,null,null,{"$f":"$F$3","v":133},null,null,{"$f":"$G$3","v":68.599999999999994},null,{"$f":"ROUND((G272*(L272/113)+(O272-AA275)),0)","v":20}]
[]
[null,null,null,null,null,"Trou",1,2,3,4,5,6,7,8,9,"Aller",10,11,12,13,14,15,16,17,18,"Retour","Total"]
[null,null,null,null,null,"PAR",{"$f":"G$7","v":4},{"$f":"H$7","v":4},5,4,3,5,3,5,3,{"$f":"SUM(G275:O275)","v":36},{"$f":"Q$7","v":4},4,3,5,3,4,4,5,4,{"$f":"SUM(Q275:Y275)","v":36},{"$f":"SUM(P275+Z275)","v":72}]
[null,null,null,null,null,"HCP trous",{"$f":"G$8","v":4},{"$f":"H$8","v":8},12,14,2,10,18,16,6,null,{"$f":"Q$8","v":1},9,11,5,17,15,3,13,7]
[null,null,null,null,null,"Coups reçus",{"$f":"IF($Q272<=18,IF(G276<=$Q272,1,0),IF($Q272<=36,IF(G276<=($Q272-18),2,1),IF($Q272>36,IF(G276<=($Q272-36),3,2))))","v":1},{"$f":"IF($Q272<=18,IF(H276<=$Q272,1,0),IF($Q272<=36,IF(H276<=($Q272-18),2,1),IF($Q272>36,IF(H276<=($Q272-36),3,2))))","v":1},1,1,2,1,1,1,1,{"$f":"SUM(G277:O277)","v":10},{"$f":"IF($Q272<=18,IF(Q276<=$Q272,1,0),IF($Q272<=36,IF(Q276<=($Q272-18),2,1),IF($Q272>36,IF(Q276<=($Q272-36),3,2))))","v":2},1,1,1,1,1,1,1,1,{"$f":"SUM(Q277:Y277)","v":10},{"$f":"P277+Z277","v":20}]
[null,null,null,null,null,"Stroke play",{"$f":"G17","v":10},10,10,10,10,10,10,10,10,{"$f":"SUM(G278:O278)","v":90},{"$f":"Q17","v":10},10,10,10,10,10,10,10,10,{"$f":"SUM(Q278:Y278)","v":90},{"$f":"P278+Z278","v":180}]
[null,null,null,null,null,"Net Stableford",{"$f":"IF(G278-G275=-1,3+G277)+IF(G278-G275=0,2+G277)+IF(G278-G275=1,1+G277)+IF(G278-G275=2,G277)+IF(G278-G275=3,IF(G277-1>0,G277-1,0))+IF(G278-G275=4,IF(G277-2>0,G277-2,0))","v":0},{"$f":"IF(H278-H275=-1,3+H277)+IF(H278-H275=0,2+H277)+IF(H278-H275=1,1+H277)+IF(H278-H275=2,H277)+IF(H278-H275=3,IF(H277-1>0,H277-1,0))+IF(H278-H275=4,IF(H277-2>0,H277-2,0))","v":0},0,0,0,0,0,0,0,{"$f":"SUM(G279:O279)","v":0},{"$f":"IF(Q278-Q275=-1,3+Q277)+IF(Q278-Q275=0,2+Q277)+IF(Q278-Q275=1,1+Q277)+IF(Q278-Q275=2,Q277)+IF(Q278-Q275=3,IF(Q277-1>0,Q277-1,0))+IF(Q278-Q275=4,IF(Q277-2>0,Q277-2,0))","v":0},0,0,0,0,0,0,0,0,{"$f":"SUM(Q279:Y279)","v":0},{"$f":"P279+Z279","v":0}]
[null,null,null,null,null,"Score Brut",{"$f":"IF(G278-G275=-2,4)+IF(G278-G275=-1,3)+IF(G278-G275=0,2)+IF(G278-G275=1,1)+IF(G278-G275>2,0)","v":0},0,0,0,0,0,0,0,0,{"$f":"SUM(G280:O280)","v":0},{"$f":"IF(Q278-Q275=-2,4)+IF(Q278-Q275=-1,3)+IF(Q278-Q275=0,2)+IF(Q278-Q275=1,1)+IF(Q278-Q275>2,0)","v":0},0,0,0,0,0,0,0,0,{"$f":"SUM(Q280:Y280)","v":0},{"$f":"P280+Z280","v":0}]
[null,null,null,null,null,null,{"$f":"G278-G275","v":6},{"$f":"H278-H275","v":6},5,6,7,5,7,5,7,null,{"$f":"Q278-Q275","v":6},6,7,5,7,6,6,5,6]
[]
[]
[null,null,null,null,null,"Statistiques scores",null,"Eagle & moins",null,null,null,{"$f":"COUNTIF(G281:Y281,\"<=-2\")","v":0},"Par",null,{"$f":"COUNTIF(G281:Y281,\"=0\")","v":0},"Double bogey",null,null,null,null,{"$f":"COUNTIF(G281:Y281,\"=2\")","v":0}]
[null,null,null,null,null,null,null,"Birdie",null,null,null,{"$f":"COUNTIF(G281:Y281,\"=-1\")","v":0},"Bogey",null,{"$f":"COUNTIF(G281:Y281,\"=1\")","v":0},"Triple bogey & plus",null,null,null,null,{"$f":"COUNTIF(G281:Y281,\">=3\")","v":18}]
[null,null,null,null,null,null,null,{"$f":"M284","v":"Par"},null,null,null,{"$f":"O284","v":0}]
[null,null,null,null,null,null,null,{"$f":"M285","v":"Bogey"},null,null,null,{"$f":"O285","v":0}]
[null,null,null,null,null,null,null,{"$f":"P284","v":"Double bogey"},null,null,null,{"$f":"U284","v":0}]
[null,null,null,null,null,null,null,{"$f":"P285","v":"Triple bogey & plus"},null,null,null,{"$f":"U285","v":18}]
[]
[]
[]
[]
[null,null,null,null,null,"Nom",{"$f":"C18","v":0},null,null,null,null,"Slope",null,null,"SSS",null,"Coups reçus",null,null,null,null,null,null,null,null,"Date",{"$f":"$D$3","v":"00:00:00"}]
[null,null,null,null,null,"Index",{"$f":"E18","v":20},null,null,null,null,{"$f":"$F$3","v":133},null,null,{"$f":"$G$3","v":68.599999999999994},null,{"$f":"ROUND((G295*(L295/113)+(O295-AA298)),0)","v":20}]
[]
[null,null,null,null,null,"Trou",1,2,3,4,5,6,7,8,9,"Aller",10,11,12,13,14,15,16,17,18,"Retour","Total"]
[null,null,null,null,null,"PAR",{"$f":"G$7","v":4},{"$f":"H$7","v":4},5,4,3,5,3,5,3,{"$f":"SUM(G298:O298)","v":36},{"$f":"Q$7","v":4},4,3,5,3,4,4,5,4,{"$f":"SUM(Q298:Y298)","v":36},{"$f":"SUM(P298+Z298)","v":72}]
[null,null,null,null,null,"HCP trous",{"$f":"G$8","v":4},{"$f":"H$8","v":8},12,14,2,10,18,16,6,null,{"$f":"Q$8","v":1},9,11,5,17,15,3,13,7]
[null,null,null,null,null,"Coups reçus",{"$f":"IF($Q295<=18,IF(G299<=$Q295,1,0),IF($Q295<=36,IF(G299<=($Q295-18),2,1),IF($Q295>36,IF(G299<=($Q295-36),3,2))))","v":1},{"$f":"IF($Q295<=18,IF(H299<=$Q295,1,0),IF($Q295<=36,IF(H299<=($Q295-18),2,1),IF($Q295>36,IF(H299<=($Q295-36),3,2))))","v":1},1,1,2,1,1,1,1,{"$f":"SUM(G300:O300)","v":10},{"$f":"IF($Q295<=18,IF(Q299<=$Q295,1,0),IF($Q295<=36,IF(Q299<=($Q295-18),2,1),IF($Q295>36,IF(Q299<=($Q295-36),3,2))))","v":2},1,1,1,1,1,1,1,1,{"$f":"SUM(Q300:Y300)","v":10},{"$f":"P300+Z300","v":20}]
[null,null,null,null,null,"Stroke play",{"$f":"G18","v":10},10,10,10,10,10,10,10,10,{"$f":"SUM(G301:O301)","v":90},{"$f":"Q18","v":10},10,10,10,10,10,10,10,10,{"$f":"SUM(Q301:Y301)","v":90},{"$f":"P301+Z301","v":180}]
[null,null,null,null,null,"Net Stableford",{"$f":"IF(G301-G298=-1,3+G300)+IF(G301-G298=0,2+G300)+IF(G301-G298=1,1+G300)+IF(G301-G298=2,G300)+IF(G301-G298=3,IF(G300-1>0,G300-1,0))+IF(G301-G298=4,IF(G300-2>0,G300-2,0))","v":0},{"$f":"IF(H301-H298=-1,3+H300)+IF(H301-H298=0,2+H300)+IF(H301-H298=1,1+H300)+IF(H301-H298=2,H300)+IF(H301-H298=3,IF(H300-1>0,H300-1,0))+IF(H301-H298=4,IF(H300-2>0,H300-2,0))","v":0},0,0,0,0,0,0,0,{"$f":"SUM(G302:O302)","v":0},{"$f":"IF(Q301-Q298=-1,3+Q300)+IF(Q301-Q298=0,2+Q300)+IF(Q301-Q298=1,1+Q300)+IF(Q301-Q298=2,Q300)+IF(Q301-Q298=3,IF(Q300-1>0,Q300-1,0))+IF(Q301-Q298=4,IF(Q300-2>0,Q300-2,0))","v":0},0,0,0,0,0,0,0,0,{"$f":"SUM(Q302:Y302)","v":0},{"$f":"P302+Z302","v":0}]
[null,null,null,null,null,"Score Brut",{"$f":"IF(G301-G298=-2,4)+IF(G301-G298=-1,3)+IF(G301-G298=0,2)+IF(G301-G298=1,1)+IF(G301-G298>2,0)","v":0},0,0,0,0,0,0,0,0,{"$f":"SUM(G303:O303)","v":0},{"$f":"IF(Q301-Q298=-2,4)+IF(Q301-Q298=-1,3)+IF(Q301-Q298=0,2)+IF(Q301-Q298=1,1)+IF(Q301-Q298>2,0)","v":0},0,0,0,0,0,0,0,0,{"$f":"SUM(Q303:Y303)","v":0},{"$f":"P303+Z303","v":0}]
[null,null,null,null,null,null,{"$f":"G301-G298","v":6},{"$f":"H301-H298","v":6},5,6,7,5,7,5,7,null,{"$f":"Q301-Q298","v":6},6,7,5,7,6,6,5,6]
[]
[]
[null,null,null,null,null,"Statistiques scores",null,"Eagle & moins",null,null,null,{"$f":"COUNTIF(G304:Y304,\"<=-2\")","v":0},"Par",null,{"$f":"COUNTIF(G304:Y304,\"=0\")","v":0},"Double bogey",null,null,null,null,{"$f":"COUNTIF(G304:Y304,\"=2\")","v":0}]
[null,null,null,null,null,null,null,"Birdie",null,null,null,{"$f":"COUNTIF(G304:Y304,\"=-1\")","v":0},"Bogey",null,{"$f":"COUNTIF(G304:Y304,\"=1\")","v":0},"Triple bogey & plus",null,null,null,null,{"$f":"COUNTIF(G304:Y304,\">=3\")","v":18}]
[null,null,null,null,null,null,null,{"$f":"M307","v":"Par"},null,null,null,{"$f":"O307","v":0}]
[null,null,null,null,null,null,null,{"$f":"M308","v":"Bogey"},null,null,null,{"$f":"O308","v":0}]
[null,null,null,null,null,null,null,{"$f":"P307","v":"Double bogey"},null,null,null,{"$f":"U307","v":0}]
[null,null,null,null,null,null,null,{"$f":"P308","v":"Triple bogey & plus"},null,null,null,{"$f":"U308","v":18}]
[]
[]
[]
[]
[null,null,null,null,null,"Nom",{"$f":"C19","v":0},null,null,null,null,"Slope",null,null,"SSS",null,"Coups reçus",null,null,null,null,null,null,null,null,"Date",{"$f":"$D$3","v":"00:00:00"}]
[null,null,null,null,null,"Index",{"$f":"E19","v":20},null,null,null,null,{"$f":"$F$3","v":133},null,null,{"$f":"$G$3","v":68.599999999999994},null,{"$f":"ROUND((G318*(L318/113)+(O318-AA321)),0)","v":20}]
[]
[null,null,null,null,null,"Trou",1,2,3,4,5,6,7,8,9,"Aller",10,11,12,13,14,15,16,17,18,"Retour","Total"]
[null,null,null,null,null,"PAR",{"$f":"G$7","v":4},{"$f":"H$7","v":4},5,4,3,5,3,5,3,{"$f":"SUM(G321:O321)","v":36},{"$f":"Q$7","v":4},4,3,5,3,4,4,5,4,{"$f":"SUM(Q321:Y321)","v":36},{"$f":"SUM(P321+Z321)","v":72}]
[null,null,null,null,null,"HCP trous",{"$f":"G$8","v":4},{"$f":"H$8","v":8},12,14,2,10,18,16,6,null,{"$f":"Q$8","v":1},9,11,5,17,15,3,13,7]
[null,null,null,null,null,"Coups reçus",{"$f":"IF($Q318<=18,IF(G322<=$Q318,1,0),IF($Q318<=36,IF(G322<=($Q318-18),2,1),IF($Q318>36,IF(G322<=($Q318-36),3,2))))","v":1},{"$f":"IF($Q318<=18,IF(H322<=$Q318,1,0),IF($Q318<=36,IF(H322<=($Q318-18),2,1),IF($Q318>36,IF(H322<=($Q318-36),3,2))))","v":1},1,1,2,1,1,1,1,{"$f":"SUM(G323:O323)","v":10},{"$f":"IF($Q318<=18,IF(Q322<=$Q318,1,0),IF($Q318<=36,IF(Q322<=($Q318-18),2,1),IF($Q318>36,IF(Q322<=($Q318-36),3,2))))","v":2},1,1,1,1,1,1,1,1,{"$f":"SUM(Q323:Y323)","v":10},{"$f":"P323+Z323","v":20}]
[null,null,null,null,null,"Stroke play",{"$f":"G19","v":10},10,10,10,10,10,10,10,10,{"$f":"SUM(G324:O324)","v":90},{"$f":"Q19","v":10},10,10,10,10,10,10,10,10,{"$f":"SUM(Q324:Y324)","v":90},{"$f":"P324+Z324","v":180}]
[null,null,null,null,null,"Net Stableford",{"$f":"IF(G324-G321=-1,3+G323)+IF(G324-G321=0,2+G323)+IF(G324-G321=1,1+G323)+IF(G324-G321=2,G323)+IF(G324-G321=3,IF(G323-1>0,G323-1,0))+IF(G324-G321=4,IF(G323-2>0,G323-2,0))","v":0},{"$f":"IF(H324-H321=-1,3+H323)+IF(H324-H321=0,2+H323)+IF(H324-H321=1,1+H323)+IF(H324-H321=2,H323)+IF(H324-H321=3,IF(H323-1>0,H323-1,0))+IF(H324-H321=4,IF(H323-2>0,H323-2,0))","v":0},0,0,0,0,0,0,0,{"$f":"SUM(G325:O325)","v":0},{"$f":"IF(Q324-Q321=-1,3+Q323)+IF(Q324-Q321=0,2+Q323)+IF(Q324-Q321=1,1+Q323)+IF(Q324-Q321=2,Q323)+IF(Q324-Q321=3,IF(Q323-1>0,Q323-1,0))+IF(Q324-Q321=4,IF(Q323-2>0,Q323-2,0))","v":0},0,0,0,0,0,0,0,0,{"$f":"SUM(Q325:Y325)","v":0},{"$f":"P325+Z325","v":0}]
[null,null,null,null,null,"Score Brut",{"$f":"IF(G324-G321=-2,4)+IF(G324-G321=-1,3)+IF(G324-G321=0,2)+IF(G324-G321=1,1)+IF(G324-G321>2,0)","v":0},0,0,0,0,0,0,0,0,{"$f":"SUM(G326:O326)","v":0},{"$f":"IF(Q324-Q321=-2,4)+IF(Q324-Q321=-1,3)+IF(Q324-Q321=0,2)+IF(Q324-Q321=1,1)+IF(Q324-Q321>2,0)","v":0},0,0,0,0,0,0,0,0,{"$f":"SUM(Q326:Y326)","v":0},{"$f":"P326+Z326","v":0}]
[null,null,null,null,null,null,{"$f":"G324-G321","v":6},{"$f":"H324-H321","v":6},5,6,7,5,7,5,7,null,{"$f":"Q324-Q321","v":6},6,7,5,7,6,6,5,6]
[]
[]
[null,null,null,null,null,"Statistiques scores",null,"Eagle & moins",null,null,null,{"$f":"COUNTIF(G327:Y327,\"<=-2\")","v":0},"Par",null,{"$f":"COUNTIF(G327:Y327,\"=0\")","v":0},"Double bogey",null,null,null,null,{"$f":"COUNTIF(G327:Y327,\"=2\")","v":0}]
[null,null,null,null,null,null,null,"Birdie",null,null,null,{"$f":"COUNTIF(G327:Y327,\"=-1\")","v":0},"Bogey",null,{"$f":"COUNTIF(G327:Y327,\"=1\")","v":0},"Triple bogey & plus",null,null,null,null,{"$f":"COUNTIF(G327:Y327,\">=3\")","v":18}]
[null,null,null,null,null,null,null,{"$f":"M330","v":"Par"},null,null,null,{"$f":"O330","v":0}]
[null,null,null,null,null,null,null,{"$f":"M331","v":"Bogey"},null,null,null,{"$f":"O331","v":0}]
[null,null,null,null,null,null,null,{"$f":"P330","v":"Double bogey"},null,null,null,{"$f":"U330","v":0}]
[null,null,null,null,null,null,null,{"$f":"P331","v":"Triple bogey & plus"},null,null,null,{"$f":"U331","v":18}]
[]
[]
[]
[]
[null,null,null,null,null,"Nom",{"$f":"C20","v":0},null,null,null,null,"Slope",null,null,"SSS",null,"Coups reçus",null,null,null,null,null,null,null,null,"Date",{"$f":"$D$3","v":"00:00:00"}]
[null,null,null,null,null,"Index",{"$f":"E20","v":20},null,null,null,null,{"$f":"$F$3","v":133},null,null,{"$f":"$G$3","v":68.599999999999994},null,{"$f":"ROUND((G341*(L341/113)+(O341-AA344)),0)","v":20}]
[]
[null,null,null,null,null,"Trou",1,2,3,4,5,6,7,8,9,"Aller",10,11,12,13,14,15,16,17,18,"Retour","Total"]
[null,null,null,null,null,"PAR",{"$f":"G$7","v":4},{"$f":"H$7","v":4},5,4,3,5,3,5,3,{"$f":"SUM(G344:O344)","v":36},{"$f":"Q$7","v":4},4,3,5,3,4,4,5,4,{"$f":"SUM(Q344:Y344)","v":36},{"$f":"SUM(P344+Z344)","v":72}]
[null,null,null,null,null,"HCP trous",{"$f":"G$8","v":4},{"$f":"H$8","v":8},12,14,2,10,18,16,6,null,{"$f":"Q$8","v":1},9,11,5,17,15,3,13,7]
[null,null,null,null,null,"Coups reçus",{"$f":"IF($Q341<=18,IF(G345<=$Q341,1,0),IF($Q341<=36,IF(G345<=($Q341-18),2,1),IF($Q341>36,IF(G345<=($Q341-36),3,2))))","v":1},{"$f":"IF($Q341<=18,IF(H345<=$Q341,1,0),IF($Q341<=36,IF(H345<=($Q341-18),2,1),IF($Q341>36,IF(H345<=($Q341-36),3,2))))","v":1},1,1,2,1,1,1,1,{"$f":"SUM(G346:O346)","v":10},{"$f":"IF($Q341<=18,IF(Q345<=$Q341,1,0),IF($Q341<=36,IF(Q345<=($Q341-18),2,1),IF($Q341>36,IF(Q345<=($Q341-36),3,2))))","v":2},1,1,1,1,1,1,1,1,{"$f":"SUM(Q346:Y346)","v":10},{"$f":"P346+Z346","v":20}]
[null,null,null,null,null,"Stroke play",{"$f":"G20","v":10},10,10,10,10,10,10,10,10,{"$f":"SUM(G347:O347)","v":90},{"$f":"Q20","v":10},10,10,10,10,10,10,10,10,{"$f":"SUM(Q347:Y347)","v":90},{"$f":"P347+Z347","v":180}]
[null,null,null,null,null,"Net Stableford",{"$f":"IF(G347-G344=-1,3+G346)+IF(G347-G344=0,2+G346)+IF(G347-G344=1,1+G346)+IF(G347-G344=2,G346)+IF(G347-G344=3,IF(G346-1>0,G346-1,0))+IF(G347-G344=4,IF(G346-2>0,G346-2,0))","v":0},{"$f":"IF(H347-H344=-1,3+H346)+IF(H347-H344=0,2+H346)+IF(H347-H344=1,1+H346)+IF(H347-H344=2,H346)+IF(H347-H344=3,IF(H346-1>0,H346-1,0))+IF(H347-H344=4,IF(H346-2>0,H346-2,0))","v":0},0,0,0,0,0,0,0,{"$f":"SUM(G348:O348)","v":0},{"$f":"IF(Q347-Q344=-1,3+Q346)+IF(Q347-Q344=0,2+Q346)+IF(Q347-Q344=1,1+Q346)+IF(Q347-Q344=2,Q346)+IF(Q347-Q344=3,IF(Q346-1>0,Q346-1,0))+IF(Q347-Q344=4,IF(Q346-2>0,Q346-2,0))","v":0},0,0,0,0,0,0,0,0,{"$f":"SUM(Q348:Y348)","v":0},{"$f":"P348+Z348","v":0}]
[null,null,null,null,null,"Score Brut",{"$f":"IF(G347-G344=-2,4)+IF(G347-G344=-1,3)+IF(G347-G344=0,2)+IF(G347-G344=1,1)+IF(G347-G344>2,0)","v":0},0,0,0,0,0,0,0,0,{"$f":"SUM(G349:O349)","v":0},{"$f":"IF(Q347-Q344=-2,4)+IF(Q347-Q344=-1,3)+IF(Q347-Q344=0,2)+IF(Q347-Q344=1,1)+IF(Q347-Q344>2,0)","v":0},0,0,0,0,0,0,0,0,{"$f":"SUM(Q349:Y349)","v":0},{"$f":"P349+Z349","v":0}]
[null,null,null,null,null,null,{"$f":"G347-G344","v":6},{"$f":"H347-H344","v":6},5,6,7,5,7,5,7,null,{"$f":"Q347-Q344","v":6},6,7,5,7,6,6,5,6]
[]
[]
[null,null,null,null,null,"Statistiques scores",null,"Eagle & moins",null,null,null,{"$f":"COUNTIF(G350:Y350,\"<=-2\")","v":0},"Par",null,{"$f":"COUNTIF(G350:Y350,\"=0\")","v":0},"Double bogey",null,null,null,null,{"$f":"COUNTIF(G350:Y350,\"=2\")","v":0}]
[null,null,null,null,null,null,null,"Birdie",null,null,null,{"$f":"COUNTIF(G350:Y350,\"=-1\")","v":0},"Bogey",null,{"$f":"COUNTIF(G350:Y350,\"=1\")","v":0},"Triple bogey & plus",null,null,null,null,{"$f":"COUNTIF(G350:Y350,\">=3\")","v":18}]
[null,null,null,null,null,null,null,{"$f":"M353","v":"Par"},null,null,null,{"$f":"O353","v":0}]
[null,null,null,null,null,null,null,{"$f":"M354","v":"Bogey"},null,null,null,{"$f":"O354","v":0}]
[null,null,null,null,null,null,null,{"$f":"P353","v":"Double bogey"},null,null,null,{"$f":"U353","v":0}]
[null,null,null,null,null,null,null,{"$f":"P354","v":"Triple bogey & plus"},null,null,null,{"$f":"U354","v":18}]
[]
[]
[]
[]
[null,null,null,null,null,"Nom",{"$f":"C21","v":0},null,null,null,null,"Slope",null,null,"SSS",null,"Coups reçus",null,null,null,null,null,null,null,null,"Date",{"$f":"$D$3","v":"00:00:00"}]
[null,null,null,null,null,"Index",{"$f":"E21","v":20},null,null,null,null,{"$f":"$F$3","v":133},null,null,{"$f":"$G$3","v":68.599999999999994},null,{"$f":"ROUND((G364*(L364/113)+(O364-AA367)),0)","v":20}]
[]
[null,null,null,null,null,"Trou",1,2,3,4,5,6,7,8,9,"Aller",10,11,12,13,14,15,16,17,18,"Retour","Total"]
[null,null,null,null,null,"PAR",{"$f":"G$7","v":4},{"$f":"H$7","v":4},5,4,3,5,3,5,3,{"$f":"SUM(G367:O367)","v":36},{"$f":"Q$7","v":4},4,3,5,3,4,4,5,4,{"$f":"SUM(Q367:Y367)","v":36},{"$f":"SUM(P367+Z367)","v":72}]
[null,null,null,null,null,"HCP trous",{"$f":"G$8","v":4},{"$f":"H$8","v":8},12,14,2,10,18,16,6,null,{"$f":"Q$8","v":1},9,11,5,17,15,3,13,7]
[null,null,null,null,null,"Coups reçus",{"$f":"IF($Q364<=18,IF(G368<=$Q364,1,0),IF($Q364<=36,IF(G368<=($Q364-18),2,1),IF($Q364>36,IF(G368<=($Q364-36),3,2))))","v":1},{"$f":"IF($Q364<=18,IF(H368<=$Q364,1,0),IF($Q364<=36,IF(H368<=($Q364-18),2,1),IF($Q364>36,IF(H368<=($Q364-36),3,2))))","v":1},1,1,2,1,1,1,1,{"$f":"SUM(G369:O369)","v":10},{"$f":"IF($Q364<=18,IF(Q368<=$Q364,1,0),IF($Q364<=36,IF(Q368<=($Q364-18),2,1),IF($Q364>36,IF(Q368<=($Q364-36),3,2))))","v":2},1,1,1,1,1,1,1,1,{"$f":"SUM(Q369:Y369)","v":10},{"$f":"P369+Z369","v":20}]
[null,null,null,null,null,"Stroke play",{"$f":"G21","v":10},10,10,10,10,10,10,10,10,{"$f":"SUM(G370:O370)","v":90},{"$f":"Q21","v":10},10,10,10,10,10,10,10,10,{"$f":"SUM(Q370:Y370)","v":90},{"$f":"P370+Z370","v":180}]
[null,null,null,null,null,"Net Stableford",{"$f":"IF(G370-G367=-1,3+G369)+IF(G370-G367=0,2+G369)+IF(G370-G367=1,1+G369)+IF(G370-G367=2,G369)+IF(G370-G367=3,IF(G369-1>0,G369-1,0))+IF(G370-G367=4,IF(G369-2>0,G369-2,0))","v":0},{"$f":"IF(H370-H367=-1,3+H369)+IF(H370-H367=0,2+H369)+IF(H370-H367=1,1+H369)+IF(H370-H367=2,H369)+IF(H370-H367=3,IF(H369-1>0,H369-1,0))+IF(H370-H367=4,IF(H369-2>0,H369-2,0))","v":0},0,0,0,0,0,0,0,{"$f":"SUM(G371:O371)","v":0},{"$f":"IF(Q370-Q367=-1,3+Q369)+IF(Q370-Q367=0,2+Q369)+IF(Q370-Q367=1,1+Q369)+IF(Q370-Q367=2,Q369)+IF(Q370-Q367=3,IF(Q369-1>0,Q369-1,0))+IF(Q370-Q367=4,IF(Q369-2>0,Q369-2,0))","v":0},0,0,0,0,0,0,0,0,{"$f":"SUM(Q371:Y371)","v":0},{"$f":"P371+Z371","v":0}]
[null,null,null,null,null,"Score Brut",{"$f":"IF(G370-G367=-2,4)+IF(G370-G367=-1,3)+IF(G370-G367=0,2)+IF(G370-G367=1,1)+IF(G370-G367>2,0)","v":0},0,0,0,0,0,0,0,0,{"$f":"SUM(G372:O372)","v":0},{"$f":"IF(Q370-Q367=-2,4)+IF(Q370-Q367=-1,3)+IF(Q370-Q367=0,2)+IF(Q370-Q367=1,1)+IF(Q370-Q367>2,0)","v":0},0,0,0,0,0,0,0,0,{"$f":"SUM(Q372:Y372)","v":0},{"$f":"P372+Z372","v":0}]
[null,null,null,null,null,null,{"$f":"G370-G367","v":6},{"$f":"H370-H367","v":6},5,6,7,5,7,5,7,null,{"$f":"Q370-Q367","v":6},6,7,5,7,6,6,5,6]
[]
[]
[null,null,null,null,null,"Statistiques scores",null,"Eagle & moins",null,null,null,{"$f":"COUNTIF(G373:Y373,\"<=-2\")","v":0},"Par",null,{"$f":"COUNTIF(G373:Y373,\"=0\")","v":0},"Double bogey",null,null,null,null,{"$f":"COUNTIF(G373:Y373,\"=2\")","v":0}]
[null,null,null,null,null,null,null,"Birdie",null,null,null,{"$f":"COUNTIF(G373:Y373,\"=-1\")","v":0},"Bogey",null,{"$f":"COUNTIF(G373:Y373,\"=1\")","v":0},"Triple bogey & plus",null,null,null,null,{"$f":"COUNTIF(G373:Y373,\">=3\")","v":18}]
[null,null,null,null,null,null,null,{"$f":"M376","v":"Par"},null,null,null,{"$f":"O376","v":0}]
[null,null,null,null,null,null,null,{"$f":"M377","v":"Bogey"},null,null,null,{"$f":"O377","v":0}]
[null,null,null,null,null,null,null,{"$f":"P376","v":"Double bogey"},null,null,null,{"$f":"U376","v":0}]
[null,null,null,null,null,null,null,{"$f":"P377","v":"Triple bogey & plus"},null,null,null,{"$f":"U377","v":18}]
[]
[]
[]
[]
[null,null,null,null,null,"Nom",{"$f":"C22","v":0},null,null,null,null,"Slope",null,null,"SSS",null,"Coups reçus",null,null,null,null,null,null,null,null,"Date",{"$f":"$D$3","v":"00:00:00"}]
[null,null,null,null,null,"Index",{"$f":"E22","v":20},null,null,null,null,{"$f":"$F$3","v":133},null,null,{"$f":"$G$3","v":68.599999999999994},null,{"$f":"ROUND((G387*(L387/113)+(O387-AA390)),0)","v":20}]
[]
[null,null,null,null,null,"Trou",1,2,3,4,5,6,7,8,9,"Aller",10,11,12,13,14,15,16,17,18,"Retour","Total"]
[null,null,null,null,null,"PAR",{"$f":"G$7","v":4},{"$f":"H$7","v":4},5,4,3,5,3,5,3,{"$f":"SUM(G390:O390)","v":36},{"$f":"Q$7","v":4},4,3,5,3,4,4,5,4,{"$f":"SUM(Q390:Y390)","v":36},{"$f":"SUM(P390+Z390)","v":72}]
[null,null,null,null,null,"HCP trous",{"$f":"G$8","v":4},{"$f":"H$8","v":8},12,14,2,10,18,16,6,null,{"$f":"Q$8","v":1},9,11,5,17,15,3,13,7]
[null,null,null,null,null,"Coups reçus",{"$f":"IF($Q387<=18,IF(G391<=$Q387,1,0),IF($Q387<=36,IF(G391<=($Q387-18),2,1),IF($Q387>36,IF(G391<=($Q387-36),3,2))))","v":1},{"$f":"IF($Q387<=18,IF(H391<=$Q387,1,0),IF($Q387<=36,IF(H391<=($Q387-18),2,1),IF($Q387>36,IF(H391<=($Q387-36),3,2))))","v":1},1,1,2,1,1,1,1,{"$f":"SUM(G392:O392)","v":10},{"$f":"IF($Q387<=18,IF(Q391<=$Q387,1,0),IF($Q387<=36,IF(Q391<=($Q387-18),2,1),IF($Q387>36,IF(Q391<=($Q387-36),3,2))))","v":2},1,1,1,1,1,1,1,1,{"$f":"SUM(Q392:Y392)","v":10},{"$f":"P392+Z392","v":20}]
[null,null,null,null,null,"Stroke play",{"$f":"G22","v":10},10,10,10,10,10,10,10,10,{"$f":"SUM(G393:O393)","v":90},{"$f":"Q22","v":10},10,10,10,10,10,10,10,10,{"$f":"SUM(Q393:Y393)","v":90},{"$f":"P393+Z393","v":180}]
[null,null,null,null,null,"Net Stableford",{"$f":"IF(G393-G390=-1,3+G392)+IF(G393-G390=0,2+G392)+IF(G393-G390=1,1+G392)+IF(G393-G390=2,G392)+IF(G393-G390=3,IF(G392-1>0,G392-1,0))+IF(G393-G390=4,IF(G392-2>0,G392-2,0))","v":0},{"$f":"IF(H393-H390=-1,3+H392)+IF(H393-H390=0,2+H392)+IF(H393-H390=1,1+H392)+IF(H393-H390=2,H392)+IF(H393-H390=3,IF(H392-1>0,H392-1,0))+IF(H393-H390=4,IF(H392-2>0,H392-2,0))","v":0},0,0,0,0,0,0,0,{"$f":"SUM(G394:O394)","v":0},{"$f":"IF(Q393-Q390=-1,3+Q392)+IF(Q393-Q390=0,2+Q392)+IF(Q393-Q390=1,1+Q392)+IF(Q393-Q390=2,Q392)+IF(Q393-Q390=3,IF(Q392-1>0,Q392-1,0))+IF(Q393-Q390=4,IF(Q392-2>0,Q392-2,0))","v":0},0,0,0,0,0,0,0,0,{"$f":"SUM(Q394:Y394)","v":0},{"$f":"P394+Z394","v":0}]
[null,null,null,null,null,"Score Brut",{"$f":"IF(G393-G390=-2,4)+IF(G393-G390=-1,3)+IF(G393-G390=0,2)+IF(G393-G390=1,1)+IF(G393-G390>2,0)","v":0},0,0,0,0,0,0,0,0,{"$f":"SUM(G395:O395)","v":0},{"$f":"IF(Q393-Q390=-2,4)+IF(Q393-Q390=-1,3)+IF(Q393-Q390=0,2)+IF(Q393-Q390=1,1)+IF(Q393-Q390>2,0)","v":0},0,0,0,0,0,0,0,0,{"$f":"SUM(Q395:Y395)","v":0},{"$f":"P395+Z395","v":0}]
[null,null,null,null,null,null,{"$f":"G393-G390","v":6},{"$f":"H393-H390","v":6},5,6,7,5,7,5,7,null,{"$f":"Q393-Q390","v":6},6,7,5,7,6,6,5,6]
[]
[]
[null,null,null,null,null,"Statistiques scores",null,"Eagle & moins",null,null,null,{"$f":"COUNTIF(G396:Y396,\"<=-2\")","v":0},"Par",null,{"$f":"COUNTIF(G396:Y396,\"=0\")","v":0},"Double bogey",null,null,null,null,{"$f":"COUNTIF(G396:Y396,\"=2\")","v":0}]
[null,null,null,null,null,null,null,"Birdie",null,null,null,{"$f":"COUNTIF(G396:Y396,\"=-1\")","v":0},"Bogey",null,{"$f":"COUNTIF(G396:Y396,\"=1\")","v":0},"Triple bogey & plus",null,null,null,null,{"$f":"COUNTIF(G396:Y396,\">=3\")","v":18}]
[null,null,null,null,null,null,null,{"$f":"M399","v":"Par"},null,null,null,{"$f":"O399","v":0}]
[null,null,null,null,null,null,null,{"$f":"M400","v":"Bogey"},null,null,null,{"$f":"O400","v":0}]
[null,null,null,null,null,null,null,{"$f":"P399","v":"Double bogey"},null,null,null,{"$f":"U399","v":0}]
[null,null,null,null,null,null,null,{"$f":"P400","v":"Triple bogey & plus"},null,null,null,{"$f":"U400","v":18}]
[]
[]
[]
[]
[null,null,null,null,null,"Nom",{"$f":"C23","v":0},null,null,null,null,"Slope",null,null,"SSS",null,"Coups reçus",null,null,null,null,null,null,null,null,"Date",{"$f":"$D$3","v":"00:00:00"}]
[null,null,null,null,null,"Index",{"$f":"E23","v":20},null,null,null,null,{"$f":"$F$3","v":133},null,null,{"$f":"$G$3","v":68.599999999999994},null,{"$f":"ROUND((G410*(L410/113)+(O410-AA413)),0)","v":20}]
[]
[null,null,null,null,null,"Trou",1,2,3,4,5,6,7,8,9,"Aller",10,11,12,13,14,15,16,17,18,"Retour","Total"]
[null,null,null,null,null,"PAR",{"$f":"G$7","v":4},{"$f":"H$7","v":4},5,4,3,5,3,5,3,{"$f":"SUM(G413:O413)","v":36},{"$f":"Q$7","v":4},4,3,5,3,4,4,5,4,{"$f":"SUM(Q413:Y413)","v":36},{"$f":"SUM(P413+Z413)","v":72}]
[null,null,null,null,null,"HCP trous",{"$f":"G$8","v":4},{"$f":"H$8","v":8},12,14,2,10,18,16,6,null,{"$f":"Q$8","v":1},9,11,5,17,15,3,13,7]
[null,null,null,null,null,"Coups reçus",{"$f":"IF($Q410<=18,IF(G414<=$Q410,1,0),IF($Q410<=36,IF(G414<=($Q410-18),2,1),IF($Q410>36,IF(G414<=($Q410-36),3,2))))","v":1},{"$f":"IF($Q410<=18,IF(H414<=$Q410,1,0),IF($Q410<=36,IF(H414<=($Q410-18),2,1),IF($Q410>36,IF(H414<=($Q410-36),3,2))))","v":1},1,1,2,1,1,1,1,{"$f":"SUM(G415:O415)","v":10},{"$f":"IF($Q410<=18,IF(Q414<=$Q410,1,0),IF($Q410<=36,IF(Q414<=($Q410-18),2,1),IF($Q410>36,IF(Q414<=($Q410-36),3,2))))","v":2},1,1,1,1,1,1,1,1,{"$f":"SUM(Q415:Y415)","v":10},{"$f":"P415+Z415","v":20}]
[null,null,null,null,null,"Stroke play",{"$f":"G23","v":10},10,10,10,10,10,10,10,10,{"$f":"SUM(G416:O416)","v":90},{"$f":"Q23","v":10},10,10,10,10,10,10,10,10,{"$f":"SUM(Q416:Y416)","v":90},{"$f":"P416+Z416","v":180}]
[null,null,null,null,null,"Net Stableford",{"$f":"IF(G416-G413=-1,3+G415)+IF(G416-G413=0,2+G415)+IF(G416-G413=1,1+G415)+IF(G416-G413=2,G415)+IF(G416-G413=3,IF(G415-1>0,G415-1,0))+IF(G416-G413=4,IF(G415-2>0,G415-2,0))","v":0},{"$f":"IF(H416-H413=-1,3+H415)+IF(H416-H413=0,2+H415)+IF(H416-H413=1,1+H415)+IF(H416-H413=2,H415)+IF(H416-H413=3,IF(H415-1>0,H415-1,0))+IF(H416-H413=4,IF(H415-2>0,H415-2,0))","v":0},0,0,0,0,0,0,0,{"$f":"SUM(G417:O417)","v":0},{"$f":"IF(Q416-Q413=-1,3+Q415)+IF(Q416-Q413=0,2+Q415)+IF(Q416-Q413=1,1+Q415)+IF(Q416-Q413=2,Q415)+IF(Q416-Q413=3,IF(Q415-1>0,Q415-1,0))+IF(Q416-Q413=4,IF(Q415-2>0,Q415-2,0))","v":0},0,0,0,0,0,0,0,0,{"$f":"SUM(Q417:Y417)","v":0},{"$f":"P417+Z417","v":0}]
[null,null,null,null,null,"Score Brut",{"$f":"IF(G416-G413=-2,4)+IF(G416-G413=-1,3)+IF(G416-G413=0,2)+IF(G416-G413=1,1)+IF(G416-G413>2,0)","v":0},0,0,0,0,0,0,0,0,{"$f":"SUM(G418:O418)","v":0},{"$f":"IF(Q416-Q413=-2,4)+IF(Q416-Q413=-1,3)+IF(Q416-Q413=0,2)+IF(Q416-Q413=1,1)+IF(Q416-Q413>2,0)","v":0},0,0,0,0,0,0,0,0,{"$f":"SUM(Q418:Y418)","v":0},{"$f":"P418+Z418","v":0}]
[null,null,null,null,null,null,{"$f":"G416-G413","v":6},{"$f":"H416-H413","v":6},5,6,7,5,7,5,7,null,{"$f":"Q416-Q413","v":6},6,7,5,7,6,6,5,6]
[]
[]
[null,null,null,null,null,"Statistiques scores",null,"Eagle & moins",null,null,null,{"$f":"COUNTIF(G419:Y419,\"<=-2\")","v":0},"Par",null,{"$f":"COUNTIF(G419:Y419,\"=0\")","v":0},"Double bogey",null,null,null,null,{"$f":"COUNTIF(G419:Y419,\"=2\")","v":0}]
[null,null,null,null,null,null,null,"Birdie",null,null,null,{"$f":"COUNTIF(G419:Y419,\"=-1\")","v":0},"Bogey",null,{"$f":"COUNTIF(G419:Y419,\"=1\")","v":0},"Triple bogey & plus",null,null,null,null,{"$f":"COUNTIF(G419:Y419,\">=3\")","v":18}]
[null,null,null,null,null,null,null,{"$f":"M422","v":"Par"},null,null,null,{"$f":"O422","v":0}]
[null,null,null,null,null,null,null,{"$f":"M423","v":"Bogey"},null,null,null,{"$f":"O423","v":0}]
[null,null,null,null,null,null,null,{"$f":"P422","v":"Double bogey"},null,null,null,{"$f":"U422","v":0}]
[null,null,null,null,null,null,null,{"$f":"P423","v":"Triple bogey & plus"},null,null,null,{"$f":"U423","v":18}]
[]
[]
[]
[]
[null,null,null,null,null,"Nom",{"$f":"C24","v":0},null,null,null,null,"Slope",null,null,"SSS",null,"Coups reçus",null,null,null,null,null,null,null,null,"Date",{"$f":"$D$3","v":"00:00:00"}]
[null,null,null,null,null,"Index",{"$f":"E24","v":20},null,null,null,null,{"$f":"$F$3","v":133},null,null,{"$f":"$G$3","v":68.599999999999994},null,{"$f":"ROUND((G433*(L433/113)+(O433-AA436)),0)","v":20}]
[]
[null,null,null,null,null,"Trou",1,2,3,4,5,6,7,8,9,"Aller",10,11,12,13,14,15,16,17,18,"Retour","Total"]
[null,null,null,null,null,"PAR",{"$f":"G$7","v":4},{"$f":"H$7","v":4},5,4,3,5,3,5,3,{"$f":"SUM(G436:O436)","v":36},{"$f":"Q$7","v":4},4,3,5,3,4,4,5,4,{"$f":"SUM(Q436:Y436)","v":36},{"$f":"SUM(P436+Z436)","v":72}]
[null,null,null,null,null,"HCP trous",{"$f":"G$8","v":4},{"$f":"H$8","v":8},12,14,2,10,18,16,6,null,{"$f":"Q$8","v":1},9,11,5,17,15,3,13,7]
[null,null,null,null,null,"Coups reçus",{"$f":"IF($Q433<=18,IF(G437<=$Q433,1,0),IF($Q433<=36,IF(G437<=($Q433-18),2,1),IF($Q433>36,IF(G437<=($Q433-36),3,2))))","v":1},{"$f":"IF($Q433<=18,IF(H437<=$Q433,1,0),IF($Q433<=36,IF(H437<=($Q433-18),2,1),IF($Q433>36,IF(H437<=($Q433-36),3,2))))","v":1},1,1,2,1,1,1,1,{"$f":"SUM(G438:O438)","v":10},{"$f":"IF($Q433<=18,IF(Q437<=$Q433,1,0),IF($Q433<=36,IF(Q437<=($Q433-18),2,1),IF($Q433>36,IF(Q437<=($Q433-36),3,2))))","v":2},1,1,1,1,1,1,1,1,{"$f":"SUM(Q438:Y438)","v":10},{"$f":"P438+Z438","v":20}]
[null,null,null,null,null,"Stroke play",{"$f":"G24","v":10},10,10,10,10,10,10,10,10,{"$f":"SUM(G439:O439)","v":90},{"$f":"Q24","v":10},10,10,10,10,10,10,10,10,{"$f":"SUM(Q439:Y439)","v":90},{"$f":"P439+Z439","v":180}]
[null,null,null,null,null,"Net Stableford",{"$f":"IF(G439-G436=-1,3+G438)+IF(G439-G436=0,2+G438)+IF(G439-G436=1,1+G438)+IF(G439-G436=2,G438)+IF(G439-G436=3,IF(G438-1>0,G438-1,0))+IF(G439-G436=4,IF(G438-2>0,G438-2,0))","v":0},{"$f":"IF(H439-H436=-1,3+H438)+IF(H439-H436=0,2+H438)+IF(H439-H436=1,1+H438)+IF(H439-H436=2,H438)+IF(H439-H436=3,IF(H438-1>0,H438-1,0))+IF(H439-H436=4,IF(H438-2>0,H438-2,0))","v":0},0,0,0,0,0,0,0,{"$f":"SUM(G440:O440)","v":0},{"$f":"IF(Q439-Q436=-1,3+Q438)+IF(Q439-Q436=0,2+Q438)+IF(Q439-Q436=1,1+Q438)+IF(Q439-Q436=2,Q438)+IF(Q439-Q436=3,IF(Q438-1>0,Q438-1,0))+IF(Q439-Q436=4,IF(Q438-2>0,Q438-2,0))","v":0},0,0,0,0,0,0,0,0,{"$f":"SUM(Q440:Y440)","v":0},{"$f":"P440+Z440","v":0}]
[null,null,null,null,null,"Score Brut",{"$f":"IF(G439-G436=-2,4)+IF(G439-G436=-1,3)+IF(G439-G436=0,2)+IF(G439-G436=1,1)+IF(G439-G436>2,0)","v":0},0,0,0,0,0,0,0,0,{"$f":"SUM(G441:O441)","v":0},{"$f":"IF(Q439-Q436=-2,4)+IF(Q439-Q436=-1,3)+IF(Q439-Q436=0,2)+IF(Q439-Q436=1,1)+IF(Q439-Q436>2,0)","v":0},0,0,0,0,0,0,0,0,{"$f":"SUM(Q441:Y441)","v":0},{"$f":"P441+Z441","v":0}]
[null,null,null,null,null,null,{"$f":"G439-G436","v":6},{"$f":"H439-H436","v":6},5,6,7,5,7,5,7,null,{"$f":"Q439-Q436","v":6},6,7,5,7,6,6,5,6]
[]
[]
[null,null,null,null,null,"Statistiques scores",null,"Eagle & moins",null,null,null,{"$f":"COUNTIF(G442:Y442,\"<=-2\")","v":0},"Par",null,{"$f":"COUNTIF(G442:Y442,\"=0\")","v":0},"Double bogey",null,null,null,null,{"$f":"COUNTIF(G442:Y442,\"=2\")","v":0}]
[null,null,null,null,null,null,null,"Birdie",null,null,null,{"$f":"COUNTIF(G442:Y442,\"=-1\")","v":0},"Bogey",null,{"$f":"COUNTIF(G442:Y442,\"=1\")","v":0},"Triple bogey & plus",null,null,null,null,{"$f":"COUNTIF(G442:Y442,\">=3\")","v":18}]
[null,null,null,null,null,null,null,{"$f":"M445","v":"Par"},null,null,null,{"$f":"O445","v":0}]
[null,null,null,null,null,null,null,{"$f":"M446","v":"Bogey"},null,null,null,{"$f":"O446","v":0}]
[null,null,null,null,null,null,null,{"$f":"P445","v":"Double bogey"},null,null,null,{"$f":"U445","v":0}]
[null,null,null,null,null,null,null,{"$f":"P446","v":"Triple bogey & plus"},null,null,null,{"$f":"U446","v":18}]
[]
[]
[]
[]
[null,null,null,null,null,"Nom",{"$f":"C25","v":0},null,null,null,null,"Slope",null,null,"SSS",null,"Coups reçus",null,null,null,null,null,null,null,null,"Date",{"$f":"$D$3","v":"00:00:00"}]
[null,null,null,null,null,"Index",{"$f":"E25","v":20},null,null,null,null,{"$f":"$F$3","v":133},null,null,{"$f":"$G$3","v":68.599999999999994},null,{"$f":"ROUND((G456*(L456/113)+(O456-AA459)),0)","v":20}]
[]
[null,null,null,null,null,"Trou",1,2,3,4,5,6,7,8,9,"Aller",10,11,12,13,14,15,16,17,18,"Retour","Total"]
[null,null,null,null,null,"PAR",{"$f":"G$7","v":4},{"$f":"H$7","v":4},5,4,3,5,3,5,3,{"$f":"SUM(G459:O459)","v":36},{"$f":"Q$7","v":4},4,3,5,3,4,4,5,4,{"$f":"SUM(Q459:Y459)","v":36},{"$f":"SUM(P459+Z459)","v":72}]
[null,null,null,null,null,"HCP trous",{"$f":"G$8","v":4},{"$f":"H$8","v":8},12,14,2,10,18,16,6,null,{"$f":"Q$8","v":1},9,11,5,17,15,3,13,7]
[null,null,null,null,null,"Coups reçus",{"$f":"IF($Q456<=18,IF(G460<=$Q456,1,0),IF($Q456<=36,IF(G460<=($Q456-18),2,1),IF($Q456>36,IF(G460<=($Q456-36),3,2))))","v":1},{"$f":"IF($Q456<=18,IF(H460<=$Q456,1,0),IF($Q456<=36,IF(H460<=($Q456-18),2,1),IF($Q456>36,IF(H460<=($Q456-36),3,2))))","v":1},1,1,2,1,1,1,1,{"$f":"SUM(G461:O461)","v":10},{"$f":"IF($Q456<=18,IF(Q460<=$Q456,1,0),IF($Q456<=36,IF(Q460<=($Q456-18),2,1),IF($Q456>36,IF(Q460<=($Q456-36),3,2))))","v":2},1,1,1,1,1,1,1,1,{"$f":"SUM(Q461:Y461)","v":10},{"$f":"P461+Z461","v":20}]
[null,null,null,null,null,"Stroke play",{"$f":"G25","v":10},10,10,10,10,10,10,10,10,{"$f":"SUM(G462:O462)","v":90},{"$f":"Q25","v":10},10,10,10,10,10,10,10,10,{"$f":"SUM(Q462:Y462)","v":90},{"$f":"P462+Z462","v":180}]
[null,null,null,null,null,"Net Stableford",{"$f":"IF(G462-G459=-1,3+G461)+IF(G462-G459=0,2+G461)+IF(G462-G459=1,1+G461)+IF(G462-G459=2,G461)+IF(G462-G459=3,IF(G461-1>0,G461-1,0))+IF(G462-G459=4,IF(G461-2>0,G461-2,0))","v":0},{"$f":"IF(H462-H459=-1,3+H461)+IF(H462-H459=0,2+H461)+IF(H462-H459=1,1+H461)+IF(H462-H459=2,H461)+IF(H462-H459=3,IF(H461-1>0,H461-1,0))+IF(H462-H459=4,IF(H461-2>0,H461-2,0))","v":0},0,0,0,0,0,0,0,{"$f":"SUM(G463:O463)","v":0},{"$f":"IF(Q462-Q459=-1,3+Q461)+IF(Q462-Q459=0,2+Q461)+IF(Q462-Q459=1,1+Q461)+IF(Q462-Q459=2,Q461)+IF(Q462-Q459=3,IF(Q461-1>0,Q461-1,0))+IF(Q462-Q459=4,IF(Q461-2>0,Q461-2,0))","v":0},0,0,0,0,0,0,0,0,{"$f":"SUM(Q463:Y463)","v":0},{"$f":"P463+Z463","v":0}]
[null,null,null,null,null,"Score Brut",{"$f":"IF(G462-G459=-2,4)+IF(G462-G459=-1,3)+IF(G462-G459=0,2)+IF(G462-G459=1,1)+IF(G462-G459>2,0)","v":0},0,0,0,0,0,0,0,0,{"$f":"SUM(G464:O464)","v":0},{"$f":"IF(Q462-Q459=-2,4)+IF(Q462-Q459=-1,3)+IF(Q462-Q459=0,2)+IF(Q462-Q459=1,1)+IF(Q462-Q459>2,0)","v":0},0,0,0,0,0,0,0,0,{"$f":"SUM(Q464:Y464)","v":0},{"$f":"P464+Z464","v":0}]
[null,null,null,null,null,null,{"$f":"G462-G459","v":6},{"$f":"H462-H459","v":6},5,6,7,5,7,5,7,null,{"$f":"Q462-Q459","v":6},6,7,5,7,6,6,5,6]
[]
[]
[null,null,null,null,null,"Statistiques scores",null,"Eagle & moins",null,null,null,{"$f":"COUNTIF(G465:Y465,\"<=-2\")","v":0},"Par",null,{"$f":"COUNTIF(G465:Y465,\"=0\")","v":0},"Double bogey",null,null,null,null,{"$f":"COUNTIF(G465:Y465,\"=2\")","v":0}]
[null,null,null,null,null,null,null,"Birdie",null,null,null,{"$f":"COUNTIF(G465:Y465,\"=-1\")","v":0},"Bogey",null,{"$f":"COUNTIF(G465:Y465,\"=1\")","v":0},"Triple bogey & plus",null,null,null,null,{"$f":"COUNTIF(G465:Y465,\">=3\")","v":18}]
[null,null,null,null,null,null,null,{"$f":"M468","v":"Par"},null,null,null,{"$f":"O468","v":0}]
[null,null,null,null,null,null,null,{"$f":"M469","v":"Bogey"},null,null,null,{"$f":"O469","v":0}]
[null,null,null,null,null,null,null,{"$f":"P468","v":"Double bogey"},null,null,null,{"$f":"U468","v":0}]
[null,null,null,null,null,null,null,{"$f":"P469","v":"Triple bogey & plus"},null,null,null,{"$f":"U469","v":18}]
[]
[]
[]
[]
[null,null,null,null,null,"Nom",{"$f":"C26","v":0},null,null,null,null,"Slope",null,null,"SSS",null,"Coups reçus",null,null,null,null,null,null,null,null,"Date",{"$f":"$D$3","v":"00:00:00"}]
[null,null,null,null,null,"Index",{"$f":"E26","v":20},null,null,null,null,{"$f":"$F$3","v":133},null,null,{"$f":"$G$3","v":68.599999999999994},null,{"$f":"ROUND((G479*(L479/113)+(O479-AA482)),0)","v":20}]
[]
[null,null,null,null,null,"Trou",1,2,3,4,5,6,7,8,9,"Aller",10,11,12,13,14,15,16,17,18,"Retour","Total"]
[null,null,null,null,null,"PAR",{"$f":"G$7","v":4},{"$f":"H$7","v":4},5,4,3,5,3,5,3,{"$f":"SUM(G482:O482)","v":36},{"$f":"Q$7","v":4},4,3,5,3,4,4,5,4,{"$f":"SUM(Q482:Y482)","v":36},{"$f":"SUM(P482+Z482)","v":72}]
[null,null,null,null,null,"HCP trous",{"$f":"G$8","v":4},{"$f":"H$8","v":8},12,14,2,10,18,16,6,null,{"$f":"Q$8","v":1},9,11,5,17,15,3,13,7]
[null,null,null,null,null,"Coups reçus",{"$f":"IF($Q479<=18,IF(G483<=$Q479,1,0),IF($Q479<=36,IF(G483<=($Q479-18),2,1),IF($Q479>36,IF(G483<=($Q479-36),3,2))))","v":1},{"$f":"IF($Q479<=18,IF(H483<=$Q479,1,0),IF($Q479<=36,IF(H483<=($Q479-18),2,1),IF($Q479>36,IF(H483<=($Q479-36),3,2))))","v":1},1,1,2,1,1,1,1,{"$f":"SUM(G484:O484)","v":10},{"$f":"IF($Q479<=18,IF(Q483<=$Q479,1,0),IF($Q479<=36,IF(Q483<=($Q479-18),2,1),IF($Q479>36,IF(Q483<=($Q479-36),3,2))))","v":2},1,1,1,1,1,1,1,1,{"$f":"SUM(Q484:Y484)","v":10},{"$f":"P484+Z484","v":20}]
[null,null,null,null,null,"Stroke play",{"$f":"G26","v":10},10,10,10,10,10,10,10,10,{"$f":"SUM(G485:O485)","v":90},{"$f":"Q26","v":10},10,10,10,10,10,10,10,10,{"$f":"SUM(Q485:Y485)","v":90},{"$f":"P485+Z485","v":180}]
[null,null,null,null,null,"Net Stableford",{"$f":"IF(G485-G482=-1,3+G484)+IF(G485-G482=0,2+G484)+IF(G485-G482=1,1+G484)+IF(G485-G482=2,G484)+IF(G485-G482=3,IF(G484-1>0,G484-1,0))+IF(G485-G482=4,IF(G484-2>0,G484-2,0))","v":0},{"$f":"IF(H485-H482=-1,3+H484)+IF(H485-H482=0,2+H484)+IF(H485-H482=1,1+H484)+IF(H485-H482=2,H484)+IF(H485-H482=3,IF(H484-1>0,H484-1,0))+IF(H485-H482=4,IF(H484-2>0,H484-2,0))","v":0},0,0,0,0,0,0,0,{"$f":"SUM(G486:O486)","v":0},{"$f":"IF(Q485-Q482=-1,3+Q484)+IF(Q485-Q482=0,2+Q484)+IF(Q485-Q482=1,1+Q484)+IF(Q485-Q482=2,Q484)+IF(Q485-Q482=3,IF(Q484-1>0,Q484-1,0))+IF(Q485-Q482=4,IF(Q484-2>0,Q484-2,0))","v":0},0,0,0,0,0,0,0,0,{"$f":"SUM(Q486:Y486)","v":0},{"$f":"P486+Z486","v":0}]
[null,null,null,null,null,"Score Brut",{"$f":"IF(G485-G482=-2,4)+IF(G485-G482=-1,3)+IF(G485-G482=0,2)+IF(G485-G482=1,1)+IF(G485-G482>2,0)","v":0},0,0,0,0,0,0,0,0,{"$f":"SUM(G487:O487)","v":0},{"$f":"IF(Q485-Q482=-2,4)+IF(Q485-Q482=-1,3)+IF(Q485-Q482=0,2)+IF(Q485-Q482=1,1)+IF(Q485-Q482>2,0)","v":0},0,0,0,0,0,0,0,0,{"$f":"SUM(Q487:Y487)","v":0},{"$f":"P487+Z487","v":0}]
[null,null,null,null,null,null,{"$f":"G485-G482","v":6},{"$f":"H485-H482","v":6},5,6,7,5,7,5,7,null,{"$f":"Q485-Q482","v":6},6,7,5,7,6,6,5,6]
[]
[]
[null,null,null,null,null,"Statistiques scores",null,"Eagle & moins",null,null,null,{"$f":"COUNTIF(G488:Y488,\"<=-2\")","v":0},"Par",null,{"$f":"COUNTIF(G488:Y488,\"=0\")","v":0},"Double bogey",null,null,null,null,{"$f":"COUNTIF(G488:Y488,\"=2\")","v":0}]
[null,null,null,null,null,null,null,"Birdie",null,null,null,{"$f":"COUNTIF(G488:Y488,\"=-1\")","v":0},"Bogey",null,{"$f":"COUNTIF(G488:Y488,\"=1\")","v":0},"Triple bogey & plus",null,null,null,null,{"$f":"COUNTIF(G488:Y488,\">=3\")","v":18}]
[null,null,null,null,null,null,null,{"$f":"M491","v":"Par"},null,null,null,{"$f":"O491","v":0}]
[null,null,null,null,null,null,null,{"$f":"M492","v":"Bogey"},null,null,null,{"$f":"O492","v":0}]
[null,null,null,null,null,null,null,{"$f":"P491","v":"Double bogey"},null,null,null,{"$f":"U491","v":0}]
[null,null,null,null,null,null,null,{"$f":"P492","v":"Triple bogey & plus"},null,null,null,{"$f":"U492","v":18}]
[]
[]
[]
[]
[null,null,null,null,null,"Nom",{"$f":"C27","v":0},null,null,null,null,"Slope",null,null,"SSS",null,"Coups reçus",null,null,null,null,null,null,null,null,"Date",{"$f":"$D$3","v":"00:00:00"}]
[null,null,null,null,null,"Index",{"$f":"E27","v":20},null,null,null,null,{"$f":"$F$3","v":133},null,null,{"$f":"$G$3","v":68.599999999999994},null,{"$f":"ROUND((G502*(L502/113)+(O502-AA505)),0)","v":20}]
[]
[null,null,null,null,null,"Trou",1,2,3,4,5,6,7,8,9,"Aller",10,11,12,13,14,15,16,17,18,"Retour","Total"]
[null,null,null,null,null,"PAR",{"$f":"G$7","v":4},{"$f":"H$7","v":4},5,4,3,5,3,5,3,{"$f":"SUM(G505:O505)","v":36},{"$f":"Q$7","v":4},4,3,5,3,4,4,5,4,{"$f":"SUM(Q505:Y505)","v":36},{"$f":"SUM(P505+Z505)","v":72}]
[null,null,null,null,null,"HCP trous",{"$f":"G$8","v":4},{"$f":"H$8","v":8},12,14,2,10,18,16,6,null,{"$f":"Q$8","v":1},9,11,5,17,15,3,13,7]
[null,null,null,null,null,"Coups reçus",{"$f":"IF($Q502<=18,IF(G506<=$Q502,1,0),IF($Q502<=36,IF(G506<=($Q502-18),2,1),IF($Q502>36,IF(G506<=($Q502-36),3,2))))","v":1},{"$f":"IF($Q502<=18,IF(H506<=$Q502,1,0),IF($Q502<=36,IF(H506<=($Q502-18),2,1),IF($Q502>36,IF(H506<=($Q502-36),3,2))))","v":1},1,1,2,1,1,1,1,{"$f":"SUM(G507:O507)","v":10},{"$f":"IF($Q502<=18,IF(Q506<=$Q502,1,0),IF($Q502<=36,IF(Q506<=($Q502-18),2,1),IF($Q502>36,IF(Q506<=($Q502-36),3,2))))","v":2},1,1,1,1,1,1,1,1,{"$f":"SUM(Q507:Y507)","v":10},{"$f":"P507+Z507","v":20}]
[null,null,null,null,null,"Stroke play",{"$f":"G27","v":10},10,10,10,10,10,10,10,10,{"$f":"SUM(G508:O508)","v":90},{"$f":"Q27","v":10},10,10,10,10,10,10,10,10,{"$f":"SUM(Q508:Y508)","v":90},{"$f":"P508+Z508","v":180}]
[null,null,null,null,null,"Net Stableford",{"$f":"IF(G508-G505=-1,3+G507)+IF(G508-G505=0,2+G507)+IF(G508-G505=1,1+G507)+IF(G508-G505=2,G507)+IF(G508-G505=3,IF(G507-1>0,G507-1,0))+IF(G508-G505=4,IF(G507-2>0,G507-2,0))","v":0},{"$f":"IF(H508-H505=-1,3+H507)+IF(H508-H505=0,2+H507)+IF(H508-H505=1,1+H507)+IF(H508-H505=2,H507)+IF(H508-H505=3,IF(H507-1>0,H507-1,0))+IF(H508-H505=4,IF(H507-2>0,H507-2,0))","v":0},0,0,0,0,0,0,0,{"$f":"SUM(G509:O509)","v":0},{"$f":"IF(Q508-Q505=-1,3+Q507)+IF(Q508-Q505=0,2+Q507)+IF(Q508-Q505=1,1+Q507)+IF(Q508-Q505=2,Q507)+IF(Q508-Q505=3,IF(Q507-1>0,Q507-1,0))+IF(Q508-Q505=4,IF(Q507-2>0,Q507-2,0))","v":0},0,0,0,0,0,0,0,0,{"$f":"SUM(Q509:Y509)","v":0},{"$f":"P509+Z509","v":0}]
[null,null,null,null,null,"Score Brut",{"$f":"IF(G508-G505=-2,4)+IF(G508-G505=-1,3)+IF(G508-G505=0,2)+IF(G508-G505=1,1)+IF(G508-G505>2,0)","v":0},0,0,0,0,0,0,0,0,{"$f":"SUM(G510:O510)","v":0},{"$f":"IF(Q508-Q505=-2,4)+IF(Q508-Q505=-1,3)+IF(Q508-Q505=0,2)+IF(Q508-Q505=1,1)+IF(Q508-Q505>2,0)","v":0},0,0,0,0,0,0,0,0,{"$f":"SUM(Q510:Y510)","v":0},{"$f":"P510+Z510","v":0}]
[null,null,null,null,null,null,{"$f":"G508-G505","v":6},{"$f":"H508-H505","v":6},5,6,7,5,7,5,7,null,{"$f":"Q508-Q505","v":6},6,7,5,7,6,6,5,6]
[]
[]
[null,null,null,null,null,"Statistiques scores",null,"Eagle & moins",null,null,null,{"$f":"COUNTIF(G511:Y511,\"<=-2\")","v":0},"Par",null,{"$f":"COUNTIF(G511:Y511,\"=0\")","v":0},"Double bogey",null,null,null,null,{"$f":"COUNTIF(G511:Y511,\"=2\")","v":0}]
[null,null,null,null,null,null,null,"Birdie",null,null,null,{"$f":"COUNTIF(G511:Y511,\"=-1\")","v":0},"Bogey",null,{"$f":"COUNTIF(G511:Y511,\"=1\")","v":0},"Triple bogey & plus",null,null,null,null,{"$f":"COUNTIF(G511:Y511,\">=3\")","v":18}]
[null,null,null,null,null,null,null,{"$f":"M514","v":"Par"},null,null,null,{"$f":"O514","v":0}]
[null,null,null,null,null,null,null,{"$f":"M515","v":"Bogey"},null,null,null,{"$f":"O515","v":0}]
[null,null,null,null,null,null,null,{"$f":"P514","v":"Double bogey"},null,null,null,{"$f":"U514","v":0}]
[null,null,null,null,null,null,null,{"$f":"P515","v":"Triple bogey & plus"},null,null,null,{"$f":"U515","v":18}]
[]
[]
[]
[]
[null,null,null,null,null,"Nom",{"$f":"C28","v":0},null,null,null,null,"Slope",null,null,"SSS",null,"Coups reçus",null,null,null,null,null,null,null,null,"Date",{"$f":"$D$3","v":"00:00:00"}]
[null,null,null,null,null,"Index",{"$f":"E28","v":20},null,null,null,null,{"$f":"$F$3","v":133},null,null,{"$f":"$G$3","v":68.599999999999994},null,{"$f":"ROUND((G525*(L525/113)+(O525-AA528)),0)","v":20}]
[]
[null,null,null,null,null,"Trou",1,2,3,4,5,6,7,8,9,"Aller",10,11,12,13,14,15,16,17,18,"Retour","Total"]
[null,null,null,null,null,"PAR",{"$f":"G$7","v":4},{"$f":"H$7","v":4},5,4,3,5,3,5,3,{"$f":"SUM(G528:O528)","v":36},{"$f":"Q$7","v":4},4,3,5,3,4,4,5,4,{"$f":"SUM(Q528:Y528)","v":36},{"$f":"SUM(P528+Z528)","v":72}]
[null,null,null,null,null,"HCP trous",{"$f":"G$8","v":4},{"$f":"H$8","v":8},12,14,2,10,18,16,6,null,{"$f":"Q$8","v":1},9,11,5,17,15,3,13,7]
[null,null,null,null,null,"Coups reçus",{"$f":"IF($Q525<=18,IF(G529<=$Q525,1,0),IF($Q525<=36,IF(G529<=($Q525-18),2,1),IF($Q525>36,IF(G529<=($Q525-36),3,2))))","v":1},{"$f":"IF($Q525<=18,IF(H529<=$Q525,1,0),IF($Q525<=36,IF(H529<=($Q525-18),2,1),IF($Q525>36,IF(H529<=($Q525-36),3,2))))","v":1},1,1,2,1,1,1,1,{"$f":"SUM(G530:O530)","v":10},{"$f":"IF($Q525<=18,IF(Q529<=$Q525,1,0),IF($Q525<=36,IF(Q529<=($Q525-18),2,1),IF($Q525>36,IF(Q529<=($Q525-36),3,2))))","v":2},1,1,1,1,1,1,1,1,{"$f":"SUM(Q530:Y530)","v":10},{"$f":"P530+Z530","v":20}]
[null,null,null,null,null,"Stroke play",{"$f":"G28","v":10},10,10,10,10,10,10,10,10,{"$f":"SUM(G531:O531)","v":90},{"$f":"Q28","v":10},10,10,10,10,10,10,10,10,{"$f":"SUM(Q531:Y531)","v":90},{"$f":"P531+Z531","v":180}]
[null,null,null,null,null,"Net Stableford",{"$f":"IF(G531-G528=-1,3+G530)+IF(G531-G528=0,2+G530)+IF(G531-G528=1,1+G530)+IF(G531-G528=2,G530)+IF(G531-G528=3,IF(G530-1>0,G530-1,0))+IF(G531-G528=4,IF(G530-2>0,G530-2,0))","v":0},{"$f":"IF(H531-H528=-1,3+H530)+IF(H531-H528=0,2+H530)+IF(H531-H528=1,1+H530)+IF(H531-H528=2,H530)+IF(H531-H528=3,IF(H530-1>0,H530-1,0))+IF(H531-H528=4,IF(H530-2>0,H530-2,0))","v":0},0,0,0,0,0,0,0,{"$f":"SUM(G532:O532)","v":0},{"$f":"IF(Q531-Q528=-1,3+Q530)+IF(Q531-Q528=0,2+Q530)+IF(Q531-Q528=1,1+Q530)+IF(Q531-Q528=2,Q530)+IF(Q531-Q528=3,IF(Q530-1>0,Q530-1,0))+IF(Q531-Q528=4,IF(Q530-2>0,Q530-2,0))","v":0},0,0,0,0,0,0,0,0,{"$f":"SUM(Q532:Y532)","v":0},{"$f":"P532+Z532","v":0}]
[null,null,null,null,null,"Score Brut",{"$f":"IF(G531-G528=-2,4)+IF(G531-G528=-1,3)+IF(G531-G528=0,2)+IF(G531-G528=1,1)+IF(G531-G528>2,0)","v":0},0,0,0,0,0,0,0,0,{"$f":"SUM(G533:O533)","v":0},{"$f":"IF(Q531-Q528=-2,4)+IF(Q531-Q528=-1,3)+IF(Q531-Q528=0,2)+IF(Q531-Q528=1,1)+IF(Q531-Q528>2,0)","v":0},0,0,0,0,0,0,0,0,{"$f":"SUM(Q533:Y533)","v":0},{"$f":"P533+Z533","v":0}]
[null,null,null,null,null,null,{"$f":"G531-G528","v":6},{"$f":"H531-H528","v":6},5,6,7,5,7,5,7,null,{"$f":"Q531-Q528","v":6},6,7,5,7,6,6,5,6]
[]
[]
[null,null,null,null,null,"Statistiques scores",null,"Eagle & moins",null,null,null,{"$f":"COUNTIF(G534:Y534,\"<=-2\")","v":0},"Par",null,{"$f":"COUNTIF(G534:Y534,\"=0\")","v":0},"Double bogey",null,null,null,null,{"$f":"COUNTIF(G534:Y534,\"=2\")","v":0}]
[null,null,null,null,null,null,null,"Birdie",null,null,null,{"$f":"COUNTIF(G534:Y534,\"=-1\")","v":0},"Bogey",null,{"$f":"COUNTIF(G534:Y534,\"=1\")","v":0},"Triple bogey & plus",null,null,null,null,{"$f":"COUNTIF(G534:Y534,\">=3\")","v":18}]
[null,null,null,null,null,null,null,{"$f":"M537","v":"Par"},null,null,null,{"$f":"O537","v":0}]
[null,null,null,null,null,null,null,{"$f":"M538","v":"Bogey"},null,null,null,{"$f":"O538","v":0}]
[null,null,null,null,null,null,null,{"$f":"P537","v":"Double bogey"},null,null,null,{"$f":"U537","v":0}]
[null,null,null,null,null,null,null,{"$f":"P538","v":"Triple bogey & plus"},null,null,null,{"$f":"U538","v":18}]
[]
[]
[]
[]
[null,null,null,null,null,"Nom",{"$f":"C29","v":0},null,null,null,null,"Slope",null,null,"SSS",null,"Coups reçus",null,null,null,null,null,null,null,null,"Date",{"$f":"$D$3","v":"00:00:00"}]
[null,null,null,null,null,"Index",{"$f":"E29","v":20},null,null,null,null,{"$f":"$F$3","v":133},null,null,{"$f":"$G$3","v":68.599999999999994},null,{"$f":"ROUND((G548*(L548/113)+(O548-AA551)),0)","v":20}]
[]
[null,null,null,null,null,"Trou",1,2,3,4,5,6,7,8,9,"Aller",10,11,12,13,14,15,16,17,18,"Retour","Total"]
[null,null,null,null,null,"PAR",{"$f":"G$7","v":4},{"$f":"H$7","v":4},5,4,3,5,3,5,3,{"$f":"SUM(G551:O551)","v":36},{"$f":"Q$7","v":4},4,3,5,3,4,4,5,4,{"$f":"SUM(Q551:Y551)","v":36},{"$f":"SUM(P551+Z551)","v":72}]
[null,null,null,null,null,"HCP trous",{"$f":"G$8","v":4},{"$f":"H$8","v":8},12,14,2,10,18,16,6,null,{"$f":"Q$8","v":1},9,11,5,17,15,3,13,7]
[null,null,null,null,null,"Coups reçus",{"$f":"IF($Q548<=18,IF(G552<=$Q548,1,0),IF($Q548<=36,IF(G552<=($Q548-18),2,1),IF($Q548>36,IF(G552<=($Q548-36),3,2))))","v":1},{"$f":"IF($Q548<=18,IF(H552<=$Q548,1,0),IF($Q548<=36,IF(H552<=($Q548-18),2,1),IF($Q548>36,IF(H552<=($Q548-36),3,2))))","v":1},1,1,2,1,1,1,1,{"$f":"SUM(G553:O553)","v":10},{"$f":"IF($Q548<=18,IF(Q552<=$Q548,1,0),IF($Q548<=36,IF(Q552<=($Q548-18),2,1),IF($Q548>36,IF(Q552<=($Q548-36),3,2))))","v":2},1,1,1,1,1,1,1,1,{"$f":"SUM(Q553:Y553)","v":10},{"$f":"P553+Z553","v":20}]
[null,null,null,null,null,"Stroke play",{"$f":"G29","v":10},10,10,10,10,10,10,10,10,{"$f":"SUM(G554:O554)","v":90},{"$f":"Q29","v":10},10,10,10,10,10,10,10,10,{"$f":"SUM(Q554:Y554)","v":90},{"$f":"P554+Z554","v":180}]
[null,null,null,null,null,"Net Stableford",{"$f":"IF(G554-G551=-1,3+G553)+IF(G554-G551=0,2+G553)+IF(G554-G551=1,1+G553)+IF(G554-G551=2,G553)+IF(G554-G551=3,IF(G553-1>0,G553-1,0))+IF(G554-G551=4,IF(G553-2>0,G553-2,0))","v":0},{"$f":"IF(H554-H551=-1,3+H553)+IF(H554-H551=0,2+H553)+IF(H554-H551=1,1+H553)+IF(H554-H551=2,H553)+IF(H554-H551=3,IF(H553-1>0,H553-1,0))+IF(H554-H551=4,IF(H553-2>0,H553-2,0))","v":0},0,0,0,0,0,0,0,{"$f":"SUM(G555:O555)","v":0},{"$f":"IF(Q554-Q551=-1,3+Q553)+IF(Q554-Q551=0,2+Q553)+IF(Q554-Q551=1,1+Q553)+IF(Q554-Q551=2,Q553)+IF(Q554-Q551=3,IF(Q553-1>0,Q553-1,0))+IF(Q554-Q551=4,IF(Q553-2>0,Q553-2,0))","v":0},0,0,0,0,0,0,0,0,{"$f":"SUM(Q555:Y555)","v":0},{"$f":"P555+Z555","v":0}]
[null,null,null,null,null,"Score Brut",{"$f":"IF(G554-G551=-2,4)+IF(G554-G551=-1,3)+IF(G554-G551=0,2)+IF(G554-G551=1,1)+IF(G554-G551>2,0)","v":0},0,0,0,0,0,0,0,0,{"$f":"SUM(G556:O556)","v":0},{"$f":"IF(Q554-Q551=-2,4)+IF(Q554-Q551=-1,3)+IF(Q554-Q551=0,2)+IF(Q554-Q551=1,1)+IF(Q554-Q551>2,0)","v":0},0,0,0,0,0,0,0,0,{"$f":"SUM(Q556:Y556)","v":0},{"$f":"P556+Z556","v":0}]
[null,null,null,null,null,null,{"$f":"G554-G551","v":6},{"$f":"H554-H551","v":6},5,6,7,5,7,5,7,null,{"$f":"Q554-Q551","v":6},6,7,5,7,6,6,5,6]
[]
[]
[null,null,null,null,null,"Statistiques scores",null,"Eagle & moins",null,null,null,{"$f":"COUNTIF(G557:Y557,\"<=-2\")","v":0},"Par",null,{"$f":"COUNTIF(G557:Y557,\"=0\")","v":0},"Double bogey",null,null,null,null,{"$f":"COUNTIF(G557:Y557,\"=2\")","v":0}]
[null,null,null,null,null,null,null,"Birdie",null,null,null,{"$f":"COUNTIF(G557:Y557,\"=-1\")","v":0},"Bogey",null,{"$f":"COUNTIF(G557:Y557,\"=1\")","v":0},"Triple bogey & plus",null,null,null,null,{"$f":"COUNTIF(G557:Y557,\">=3\")","v":18}]
[null,null,null,null,null,null,null,{"$f":"M560","v":"Par"},null,null,null,{"$f":"O560","v":0}]
[null,null,null,null,null,null,null,{"$f":"M561","v":"Bogey"},null,null,null,{"$f":"O561","v":0}]
[null,null,null,null,null,null,null,{"$f":"P560","v":"Double bogey"},null,null,null,{"$f":"U560","v":0}]
[null,null,null,null,null,null,null,{"$f":"P561","v":"Triple bogey & plus"},null,null,null,{"$f":"U561","v":18}]
[]
[]
[]
[]
[null,null,null,null,null,"Nom",{"$f":"C30","v":0},null,null,null,null,"Slope",null,null,"SSS",null,"Coups reçus",null,null,null,null,null,null,null,null,"Date",{"$f":"$D$3","v":"00:00:00"}]
[null,null,null,null,null,"Index",{"$f":"E30","v":20},null,null,null,null,{"$f":"$F$3","v":133},null,null,{"$f":"$G$3","v":68.599999999999994},null,{"$f":"ROUND((G571*(L571/113)+(O571-AA574)),0)","v":20}]
[]
[null,null,null,null,null,"Trou",1,2,3,4,5,6,7,8,9,"Aller",10,11,12,13,14,15,16,17,18,"Retour","Total"]
[null,null,null,null,null,"PAR",{"$f":"G$7","v":4},{"$f":"H$7","v":4},5,4,3,5,3,5,3,{"$f":"SUM(G574:O574)","v":36},{"$f":"Q$7","v":4},4,3,5,3,4,4,5,4,{"$f":"SUM(Q574:Y574)","v":36},{"$f":"SUM(P574+Z574)","v":72}]
[null,null,null,null,null,"HCP trous",{"$f":"G$8","v":4},{"$f":"H$8","v":8},12,14,2,10,18,16,6,null,{"$f":"Q$8","v":1},9,11,5,17,15,3,13,7]
[null,null,null,null,null,"Coups reçus",{"$f":"IF($Q571<=18,IF(G575<=$Q571,1,0),IF($Q571<=36,IF(G575<=($Q571-18),2,1),IF($Q571>36,IF(G575<=($Q571-36),3,2))))","v":1},{"$f":"IF($Q571<=18,IF(H575<=$Q571,1,0),IF($Q571<=36,IF(H575<=($Q571-18),2,1),IF($Q571>36,IF(H575<=($Q571-36),3,2))))","v":1},1,1,2,1,1,1,1,{"$f":"SUM(G576:O576)","v":10},{"$f":"IF($Q571<=18,IF(Q575<=$Q571,1,0),IF($Q571<=36,IF(Q575<=($Q571-18),2,1),IF($Q571>36,IF(Q575<=($Q571-36),3,2))))","v":2},1,1,1,1,1,1,1,1,{"$f":"SUM(Q576:Y576)","v":10},{"$f":"P576+Z576","v":20}]
[null,null,null,null,null,"Stroke play",{"$f":"G30","v":10},10,10,10,10,10,10,10,10,{"$f":"SUM(G577:O577)","v":90},{"$f":"Q30","v":10},10,10,10,10,10,10,10,10,{"$f":"SUM(Q577:Y577)","v":90},{"$f":"P577+Z577","v":180}]
[null,null,null,null,null,"Net Stableford",{"$f":"IF(G577-G574=-1,3+G576)+IF(G577-G574=0,2+G576)+IF(G577-G574=1,1+G576)+IF(G577-G574=2,G576)+IF(G577-G574=3,IF(G576-1>0,G576-1,0))+IF(G577-G574=4,IF(G576-2>0,G576-2,0))","v":0},{"$f":"IF(H577-H574=-1,3+H576)+IF(H577-H574=0,2+H576)+IF(H577-H574=1,1+H576)+IF(H577-H574=2,H576)+IF(H577-H574=3,IF(H576-1>0,H576-1,0))+IF(H577-H574=4,IF(H576-2>0,H576-2,0))","v":0},0,0,0,0,0,0,0,{"$f":"SUM(G578:O578)","v":0},{"$f":"IF(Q577-Q574=-1,3+Q576)+IF(Q577-Q574=0,2+Q576)+IF(Q577-Q574=1,1+Q576)+IF(Q577-Q574=2,Q576)+IF(Q577-Q574=3,IF(Q576-1>0,Q576-1,0))+IF(Q577-Q574=4,IF(Q576-2>0,Q576-2,0))","v":0},0,0,0,0,0,0,0,0,{"$f":"SUM(Q578:Y578)","v":0},{"$f":"P578+Z578","v":0}]
[null,null,null,null,null,"Score Brut",{"$f":"IF(G577-G574=-2,4)+IF(G577-G574=-1,3)+IF(G577-G574=0,2)+IF(G577-G574=1,1)+IF(G577-G574>2,0)","v":0},0,0,0,0,0,0,0,0,{"$f":"SUM(G579:O579)","v":0},{"$f":"IF(Q577-Q574=-2,4)+IF(Q577-Q574=-1,3)+IF(Q577-Q574=0,2)+IF(Q577-Q574=1,1)+IF(Q577-Q574>2,0)","v":0},0,0,0,0,0,0,0,0,{"$f":"SUM(Q579:Y579)","v":0},{"$f":"P579+Z579","v":0}]
[null,null,null,null,null,null,{"$f":"G577-G574","v":6},{"$f":"H577-H574","v":6},5,6,7,5,7,5,7,null,{"$f":"Q577-Q574","v":6},6,7,5,7,6,6,5,6]
[]
[]
[null,null,null,null,null,"Statistiques scores",null,"Eagle & moins",null,null,null,{"$f":"COUNTIF(G580:Y580,\"<=-2\")","v":0},"Par",null,{"$f":"COUNTIF(G580:Y580,\"=0\")","v":0},"Double bogey",null,null,null,null,{"$f":"COUNTIF(G580:Y580,\"=2\")","v":0}]
[null,null,null,null,null,null,null,"Birdie",null,null,null,{"$f":"COUNTIF(G580:Y580,\"=-1\")","v":0},"Bogey",null,{"$f":"COUNTIF(G580:Y580,\"=1\")","v":0},"Triple bogey & plus",null,null,null,null,{"$f":"COUNTIF(G580:Y580,\">=3\")","v":18}]
[null,null,null,null,null,null,null,{"$f":"M583","v":"Par"},null,null,null,{"$f":"O583","v":0}]
[null,null,null,null,null,null,null,{"$f":"M584","v":"Bogey"},null,null,null,{"$f":"O584","v":0}]
[null,null,null,null,null,null,null,{"$f":"P583","v":"Double bogey"},null,null,null,{"$f":"U583","v":0}]
[null,null,null,null,null,null,null,{"$f":"P584","v":"Triple bogey & plus"},null,null,null,{"$f":"U584","v":18}]
[]
[]
[]
[]
[null,null,null,null,null,"Nom",{"$f":"C31","v":0},null,null,null,null,"Slope",null,null,"SSS",null,"Coups reçus",null,null,null,null,null,null,null,null,"Date",{"$f":"$D$3","v":"00:00:00"}]
[null,null,null,null,null,"Index",{"$f":"E31","v":20},null,null,null,null,{"$f":"$F$3","v":133},null,null,{"$f":"$G$3","v":68.599999999999994},null,{"$f":"ROUND((G594*(L594/113)+(O594-AA597)),0)","v":20}]
[]
[null,null,null,null,null,"Trou",1,2,3,4,5,6,7,8,9,"Aller",10,11,12,13,14,15,16,17,18,"Retour","Total"]
[null,null,null,null,null,"PAR",{"$f":"G$7","v":4},{"$f":"H$7","v":4},5,4,3,5,3,5,3,{"$f":"SUM(G597:O597)","v":36},{"$f":"Q$7","v":4},4,3,5,3,4,4,5,4,{"$f":"SUM(Q597:Y597)","v":36},{"$f":"SUM(P597+Z597)","v":72}]
[null,null,null,null,null,"HCP trous",{"$f":"G$8","v":4},{"$f":"H$8","v":8},12,14,2,10,18,16,6,null,{"$f":"Q$8","v":1},9,11,5,17,15,3,13,7]
[null,null,null,null,null,"Coups reçus",{"$f":"IF($Q594<=18,IF(G598<=$Q594,1,0),IF($Q594<=36,IF(G598<=($Q594-18),2,1),IF($Q594>36,IF(G598<=($Q594-36),3,2))))","v":1},{"$f":"IF($Q594<=18,IF(H598<=$Q594,1,0),IF($Q594<=36,IF(H598<=($Q594-18),2,1),IF($Q594>36,IF(H598<=($Q594-36),3,2))))","v":1},1,1,2,1,1,1,1,{"$f":"SUM(G599:O599)","v":10},{"$f":"IF($Q594<=18,IF(Q598<=$Q594,1,0),IF($Q594<=36,IF(Q598<=($Q594-18),2,1),IF($Q594>36,IF(Q598<=($Q594-36),3,2))))","v":2},1,1,1,1,1,1,1,1,{"$f":"SUM(Q599:Y599)","v":10},{"$f":"P599+Z599","v":20}]
[null,null,null,null,null,"Stroke play",{"$f":"G31","v":10},10,10,10,10,10,10,10,10,{"$f":"SUM(G600:O600)","v":90},{"$f":"Q31","v":10},10,10,10,10,10,10,10,10,{"$f":"SUM(Q600:Y600)","v":90},{"$f":"P600+Z600","v":180}]
[null,null,null,null,null,"Net Stableford",{"$f":"IF(G600-G597=-1,3+G599)+IF(G600-G597=0,2+G599)+IF(G600-G597=1,1+G599)+IF(G600-G597=2,G599)+IF(G600-G597=3,IF(G599-1>0,G599-1,0))+IF(G600-G597=4,IF(G599-2>0,G599-2,0))","v":0},{"$f":"IF(H600-H597=-1,3+H599)+IF(H600-H597=0,2+H599)+IF(H600-H597=1,1+H599)+IF(H600-H597=2,H599)+IF(H600-H597=3,IF(H599-1>0,H599-1,0))+IF(H600-H597=4,IF(H599-2>0,H599-2,0))","v":0},0,0,0,0,0,0,0,{"$f":"SUM(G601:O601)","v":0},{"$f":"IF(Q600-Q597=-1,3+Q599)+IF(Q600-Q597=0,2+Q599)+IF(Q600-Q597=1,1+Q599)+IF(Q600-Q597=2,Q599)+IF(Q600-Q597=3,IF(Q599-1>0,Q599-1,0))+IF(Q600-Q597=4,IF(Q599-2>0,Q599-2,0))","v":0},0,0,0,0,0,0,0,0,{"$f":"SUM(Q601:Y601)","v":0},{"$f":"P601+Z601","v":0}]
[null,null,null,null,null,"Score Brut",{"$f":"IF(G600-G597=-2,4)+IF(G600-G597=-1,3)+IF(G600-G597=0,2)+IF(G600-G597=1,1)+IF(G600-G597>2,0)","v":0},0,0,0,0,0,0,0,0,{"$f":"SUM(G602:O602)","v":0},{"$f":"IF(Q600-Q597=-2,4)+IF(Q600-Q597=-1,3)+IF(Q600-Q597=0,2)+IF(Q600-Q597=1,1)+IF(Q600-Q597>2,0)","v":0},0,0,0,0,0,0,0,0,{"$f":"SUM(Q602:Y602)","v":0},{"$f":"P602+Z602","v":0}]
[null,null,null,null,null,null,{"$f":"G600-G597","v":6},{"$f":"H600-H597","v":6},5,6,7,5,7,5,7,null,{"$f":"Q600-Q597","v":6},6,7,5,7,6,6,5,6]
[]
[]
[null,null,null,null,null,"Statistiques scores",null,"Eagle & moins",null,null,null,{"$f":"COUNTIF(G603:Y603,\"<=-2\")","v":0},"Par",null,{"$f":"COUNTIF(G603:Y603,\"=0\")","v":0},"Double bogey",null,null,null,null,{"$f":"COUNTIF(G603:Y603,\"=2\")","v":0}]
[null,null,null,null,null,null,null,"Birdie",null,null,null,{"$f":"COUNTIF(G603:Y603,\"=-1\")","v":0},"Bogey",null,{"$f":"COUNTIF(G603:Y603,\"=1\")","v":0},"Triple bogey & plus",null,null,null,null,{"$f":"COUNTIF(G603:Y603,\">=3\")","v":18}]
[null,null,null,null,null,null,null,{"$f":"M606","v":"Par"},null,null,null,{"$f":"O606","v":0}]
[null,null,null,null,null,null,null,{"$f":"M607","v":"Bogey"},null,null,null,{"$f":"O607","v":0}]
[null,null,null,null,null,null,null,{"$f":"P606","v":"Double bogey"},null,null,null,{"$f":"U606","v":0}]
[null,null,null,null,null,null,null,{"$f":"P607","v":"Triple bogey & plus"},null,null,null,{"$f":"U607","v":18}]
[]
[]
[]
[]
[null,null,null,null,null,"Nom",{"$f":"C32","v":0},null,null,null,null,"Slope",null,null,"SSS",null,"Coups reçus",null,null,null,null,null,null,null,null,"Date",{"$f":"$D$3","v":"00:00:00"}]
[null,null,null,null,null,"Index",{"$f":"E32","v":20},null,null,null,null,{"$f":"$F$3","v":133},null,null,{"$f":"$G$3","v":68.599999999999994},null,{"$f":"ROUND((G617*(L617/113)+(O617-AA620)),0)","v":20}]
[]
[null,null,null,null,null,"Trou",1,2,3,4,5,6,7,8,9,"Aller",10,11,12,13,14,15,16,17,18,"Retour","Total"]
[null,null,null,null,null,"PAR",{"$f":"G$7","v":4},{"$f":"H$7","v":4},5,4,3,5,3,5,3,{"$f":"SUM(G620:O620)","v":36},{"$f":"Q$7","v":4},4,3,5,3,4,4,5,4,{"$f":"SUM(Q620:Y620)","v":36},{"$f":"SUM(P620+Z620)","v":72}]
[null,null,null,null,null,"HCP trous",{"$f":"G$8","v":4},{"$f":"H$8","v":8},12,14,2,10,18,16,6,null,{"$f":"Q$8","v":1},9,11,5,17,15,3,13,7]
[null,null,null,null,null,"Coups reçus",{"$f":"IF($Q617<=18,IF(G621<=$Q617,1,0),IF($Q617<=36,IF(G621<=($Q617-18),2,1),IF($Q617>36,IF(G621<=($Q617-36),3,2))))","v":1},{"$f":"IF($Q617<=18,IF(H621<=$Q617,1,0),IF($Q617<=36,IF(H621<=($Q617-18),2,1),IF($Q617>36,IF(H621<=($Q617-36),3,2))))","v":1},1,1,2,1,1,1,1,{"$f":"SUM(G622:O622)","v":10},{"$f":"IF($Q617<=18,IF(Q621<=$Q617,1,0),IF($Q617<=36,IF(Q621<=($Q617-18),2,1),IF($Q617>36,IF(Q621<=($Q617-36),3,2))))","v":2},1,1,1,1,1,1,1,1,{"$f":"SUM(Q622:Y622)","v":10},{"$f":"P622+Z622","v":20}]
[null,null,null,null,null,"Stroke play",{"$f":"G32","v":10},10,10,10,10,10,10,10,10,{"$f":"SUM(G623:O623)","v":90},{"$f":"Q32","v":10},10,10,10,10,10,10,10,10,{"$f":"SUM(Q623:Y623)","v":90},{"$f":"P623+Z623","v":180}]
[null,null,null,null,null,"Net Stableford",{"$f":"IF(G623-G620=-1,3+G622)+IF(G623-G620=0,2+G622)+IF(G623-G620=1,1+G622)+IF(G623-G620=2,G622)+IF(G623-G620=3,IF(G622-1>0,G622-1,0))+IF(G623-G620=4,IF(G622-2>0,G622-2,0))","v":0},{"$f":"IF(H623-H620=-1,3+H622)+IF(H623-H620=0,2+H622)+IF(H623-H620=1,1+H622)+IF(H623-H620=2,H622)+IF(H623-H620=3,IF(H622-1>0,H622-1,0))+IF(H623-H620=4,IF(H622-2>0,H622-2,0))","v":0},0,0,0,0,0,0,0,{"$f":"SUM(G624:O624)","v":0},{"$f":"IF(Q623-Q620=-1,3+Q622)+IF(Q623-Q620=0,2+Q622)+IF(Q623-Q620=1,1+Q622)+IF(Q623-Q620=2,Q622)+IF(Q623-Q620=3,IF(Q622-1>0,Q622-1,0))+IF(Q623-Q620=4,IF(Q622-2>0,Q622-2,0))","v":0},0,0,0,0,0,0,0,0,{"$f":"SUM(Q624:Y624)","v":0},{"$f":"P624+Z624","v":0}]
[null,null,null,null,null,"Score Brut",{"$f":"IF(G623-G620=-2,4)+IF(G623-G620=-1,3)+IF(G623-G620=0,2)+IF(G623-G620=1,1)+IF(G623-G620>2,0)","v":0},0,0,0,0,0,0,0,0,{"$f":"SUM(G625:O625)","v":0},{"$f":"IF(Q623-Q620=-2,4)+IF(Q623-Q620=-1,3)+IF(Q623-Q620=0,2)+IF(Q623-Q620=1,1)+IF(Q623-Q620>2,0)","v":0},0,0,0,0,0,0,0,0,{"$f":"SUM(Q625:Y625)","v":0},{"$f":"P625+Z625","v":0}]
[null,null,null,null,null,null,{"$f":"G623-G620","v":6},{"$f":"H623-H620","v":6},5,6,7,5,7,5,7,null,{"$f":"Q623-Q620","v":6},6,7,5,7,6,6,5,6]
[]
[]
[null,null,null,null,null,"Statistiques scores",null,"Eagle & moins",null,null,null,{"$f":"COUNTIF(G626:Y626,\"<=-2\")","v":0},"Par",null,{"$f":"COUNTIF(G626:Y626,\"=0\")","v":0},"Double bogey",null,null,null,null,{"$f":"COUNTIF(G626:Y626,\"=2\")","v":0}]
[null,null,null,null,null,null,null,"Birdie",null,null,null,{"$f":"COUNTIF(G626:Y626,\"=-1\")","v":0},"Bogey",null,{"$f":"COUNTIF(G626:Y626,\"=1\")","v":0},"Triple bogey & plus",null,null,null,null,{"$f":"COUNTIF(G626:Y626,\">=3\")","v":18}]
[null,null,null,null,null,null,null,{"$f":"M629","v":"Par"},null,null,null,{"$f":"O629","v":0}]
[null,null,null,null,null,null,null,{"$f":"M630","v":"Bogey"},null,null,null,{"$f":"O630","v":0}]
[null,null,null,null,null,null,null,{"$f":"P629","v":"Double bogey"},null,null,null,{"$f":"U629","v":0}]
[null,null,null,null,null,null,null,{"$f":"P630","v":"Triple bogey & plus"},null,null,null,{"$f":"U630","v":18}]
[]
[]
[]
[]
[null,null,null,null,null,"Nom",{"$f":"C33","v":0},null,null,null,null,"Slope",null,null,"SSS",null,"Coups reçus",null,null,null,null,null,null,null,null,"Date",{"$f":"$D$3","v":"00:00:00"}]
[null,null,null,null,null,"Index",{"$f":"E33","v":20},null,null,null,null,{"$f":"$F$3","v":133},null,null,{"$f":"$G$3","v":68.599999999999994},null,{"$f":"ROUND((G640*(L640/113)+(O640-AA643)),0)","v":20}]
[]
[null,null,null,null,null,"Trou",1,2,3,4,5,6,7,8,9,"Aller",10,11,12,13,14,15,16,17,18,"Retour","Total"]
[null,null,null,null,null,"PAR",{"$f":"G$7","v":4},{"$f":"H$7","v":4},5,4,3,5,3,5,3,{"$f":"SUM(G643:O643)","v":36},{"$f":"Q$7","v":4},4,3,5,3,4,4,5,4,{"$f":"SUM(Q643:Y643)","v":36},{"$f":"SUM(P643+Z643)","v":72}]
[null,null,null,null,null,"HCP trous",{"$f":"G$8","v":4},{"$f":"H$8","v":8},12,14,2,10,18,16,6,null,{"$f":"Q$8","v":1},9,11,5,17,15,3,13,7]
[null,null,null,null,null,"Coups reçus",{"$f":"IF($Q640<=18,IF(G644<=$Q640,1,0),IF($Q640<=36,IF(G644<=($Q640-18),2,1),IF($Q640>36,IF(G644<=($Q640-36),3,2))))","v":1},{"$f":"IF($Q640<=18,IF(H644<=$Q640,1,0),IF($Q640<=36,IF(H644<=($Q640-18),2,1),IF($Q640>36,IF(H644<=($Q640-36),3,2))))","v":1},1,1,2,1,1,1,1,{"$f":"SUM(G645:O645)","v":10},{"$f":"IF($Q640<=18,IF(Q644<=$Q640,1,0),IF($Q640<=36,IF(Q644<=($Q640-18),2,1),IF($Q640>36,IF(Q644<=($Q640-36),3,2))))","v":2},1,1,1,1,1,1,1,1,{"$f":"SUM(Q645:Y645)","v":10},{"$f":"P645+Z645","v":20}]
[null,null,null,null,null,"Stroke play",{"$f":"G33","v":10},10,10,10,10,10,10,10,10,{"$f":"SUM(G646:O646)","v":90},{"$f":"Q33","v":10},10,10,10,10,10,10,10,10,{"$f":"SUM(Q646:Y646)","v":90},{"$f":"P646+Z646","v":180}]
[null,null,null,null,null,"Net Stableford",{"$f":"IF(G646-G643=-1,3+G645)+IF(G646-G643=0,2+G645)+IF(G646-G643=1,1+G645)+IF(G646-G643=2,G645)+IF(G646-G643=3,IF(G645-1>0,G645-1,0))+IF(G646-G643=4,IF(G645-2>0,G645-2,0))","v":0},{"$f":"IF(H646-H643=-1,3+H645)+IF(H646-H643=0,2+H645)+IF(H646-H643=1,1+H645)+IF(H646-H643=2,H645)+IF(H646-H643=3,IF(H645-1>0,H645-1,0))+IF(H646-H643=4,IF(H645-2>0,H645-2,0))","v":0},0,0,0,0,0,0,0,{"$f":"SUM(G647:O647)","v":0},{"$f":"IF(Q646-Q643=-1,3+Q645)+IF(Q646-Q643=0,2+Q645)+IF(Q646-Q643=1,1+Q645)+IF(Q646-Q643=2,Q645)+IF(Q646-Q643=3,IF(Q645-1>0,Q645-1,0))+IF(Q646-Q643=4,IF(Q645-2>0,Q645-2,0))","v":0},0,0,0,0,0,0,0,0,{"$f":"SUM(Q647:Y647)","v":0},{"$f":"P647+Z647","v":0}]
[null,null,null,null,null,"Score Brut",{"$f":"IF(G646-G643=-2,4)+IF(G646-G643=-1,3)+IF(G646-G643=0,2)+IF(G646-G643=1,1)+IF(G646-G643>2,0)","v":0},0,0,0,0,0,0,0,0,{"$f":"SUM(G648:O648)","v":0},{"$f":"IF(Q646-Q643=-2,4)+IF(Q646-Q643=-1,3)+IF(Q646-Q643=0,2)+IF(Q646-Q643=1,1)+IF(Q646-Q643>2,0)","v":0},0,0,0,0,0,0,0,0,{"$f":"SUM(Q648:Y648)","v":0},{"$f":"P648+Z648","v":0}]
[null,null,null,null,null,null,{"$f":"G646-G643","v":6},{"$f":"H646-H643","v":6},5,6,7,5,7,5,7,null,{"$f":"Q646-Q643","v":6},6,7,5,7,6,6,5,6]
[]
[]
[null,null,null,null,null,"Statistiques scores",null,"Eagle & moins",null,null,null,{"$f":"COUNTIF(G649:Y649,\"<=-2\")","v":0},"Par",null,{"$f":"COUNTIF(G649:Y649,\"=0\")","v":0},"Double bogey",null,null,null,null,{"$f":"COUNTIF(G649:Y649,\"=2\")","v":0}]
[null,null,null,null,null,null,null,"Birdie",null,null,null,{"$f":"COUNTIF(G649:Y649,\"=-1\")","v":0},"Bogey",null,{"$f":"COUNTIF(G649:Y649,\"=1\")","v":0},"Triple bogey & plus",null,null,null,null,{"$f":"COUNTIF(G649:Y649,\">=3\")","v":18}]
[null,null,null,null,null,null,null,{"$f":"M652","v":"Par"},null,null,null,{"$f":"O652","v":0}]
[null,null,null,null,null,null,null,{"$f":"M653","v":"Bogey"},null,null,null,{"$f":"O653","v":0}]
[null,null,null,null,null,null,null,{"$f":"P652","v":"Double bogey"},null,null,null,{"$f":"U652","v":0}]
[null,null,null,null,null,null,null,{"$f":"P653","v":"Triple bogey & plus"},null,null,null,{"$f":"U653","v":18}]
[]
[]
[]
[]
[null,null,null,null,null,"Nom",{"$f":"C34","v":0},null,null,null,null,"Slope",null,null,"SSS",null,"Coups reçus",null,null,null,null,null,null,null,null,"Date",{"$f":"$D$3","v":"00:00:00"}]
[null,null,null,null,null,"Index",{"$f":"E34","v":20},null,null,null,null,{"$f":"$F$3","v":133},null,null,{"$f":"$G$3","v":68.599999999999994},null,{"$f":"ROUND((G663*(L663/113)+(O663-AA666)),0)","v":20}]
[]
[null,null,null,null,null,"Trou",1,2,3,4,5,6,7,8,9,"Aller",10,11,12,13,14,15,16,17,18,"Retour","Total"]
[null,null,null,null,null,"PAR",{"$f":"G$7","v":4},{"$f":"H$7","v":4},5,4,3,5,3,5,3,{"$f":"SUM(G666:O666)","v":36},{"$f":"Q$7","v":4},4,3,5,3,4,4,5,4,{"$f":"SUM(Q666:Y666)","v":36},{"$f":"SUM(P666+Z666)","v":72}]
[null,null,null,null,null,"HCP trous",{"$f":"G$8","v":4},{"$f":"H$8","v":8},12,14,2,10,18,16,6,null,{"$f":"Q$8","v":1},9,11,5,17,15,3,13,7]
[null,null,null,null,null,"Coups reçus",{"$f":"IF($Q663<=18,IF(G667<=$Q663,1,0),IF($Q663<=36,IF(G667<=($Q663-18),2,1),IF($Q663>36,IF(G667<=($Q663-36),3,2))))","v":1},{"$f":"IF($Q663<=18,IF(H667<=$Q663,1,0),IF($Q663<=36,IF(H667<=($Q663-18),2,1),IF($Q663>36,IF(H667<=($Q663-36),3,2))))","v":1},1,1,2,1,1,1,1,{"$f":"SUM(G668:O668)","v":10},{"$f":"IF($Q663<=18,IF(Q667<=$Q663,1,0),IF($Q663<=36,IF(Q667<=($Q663-18),2,1),IF($Q663>36,IF(Q667<=($Q663-36),3,2))))","v":2},1,1,1,1,1,1,1,1,{"$f":"SUM(Q668:Y668)","v":10},{"$f":"P668+Z668","v":20}]
[null,null,null,null,null,"Stroke play",{"$f":"G34","v":10},10,10,10,10,10,10,10,10,{"$f":"SUM(G669:O669)","v":90},{"$f":"Q34","v":10},10,10,10,10,10,10,10,10,{"$f":"SUM(Q669:Y669)","v":90},{"$f":"P669+Z669","v":180}]
[null,null,null,null,null,"Net Stableford",{"$f":"IF(G669-G666=-1,3+G668)+IF(G669-G666=0,2+G668)+IF(G669-G666=1,1+G668)+IF(G669-G666=2,G668)+IF(G669-G666=3,IF(G668-1>0,G668-1,0))+IF(G669-G666=4,IF(G668-2>0,G668-2,0))","v":0},{"$f":"IF(H669-H666=-1,3+H668)+IF(H669-H666=0,2+H668)+IF(H669-H666=1,1+H668)+IF(H669-H666=2,H668)+IF(H669-H666=3,IF(H668-1>0,H668-1,0))+IF(H669-H666=4,IF(H668-2>0,H668-2,0))","v":0},0,0,0,0,0,0,0,{"$f":"SUM(G670:O670)","v":0},{"$f":"IF(Q669-Q666=-1,3+Q668)+IF(Q669-Q666=0,2+Q668)+IF(Q669-Q666=1,1+Q668)+IF(Q669-Q666=2,Q668)+IF(Q669-Q666=3,IF(Q668-1>0,Q668-1,0))+IF(Q669-Q666=4,IF(Q668-2>0,Q668-2,0))","v":0},0,0,0,0,0,0,0,0,{"$f":"SUM(Q670:Y670)","v":0},{"$f":"P670+Z670","v":0}]
[null,null,null,null,null,"Score Brut",{"$f":"IF(G669-G666=-2,4)+IF(G669-G666=-1,3)+IF(G669-G666=0,2)+IF(G669-G666=1,1)+IF(G669-G666>2,0)","v":0},0,0,0,0,0,0,0,0,{"$f":"SUM(G671:O671)","v":0},{"$f":"IF(Q669-Q666=-2,4)+IF(Q669-Q666=-1,3)+IF(Q669-Q666=0,2)+IF(Q669-Q666=1,1)+IF(Q669-Q666>2,0)","v":0},0,0,0,0,0,0,0,0,{"$f":"SUM(Q671:Y671)","v":0},{"$f":"P671+Z671","v":0}]
[null,null,null,null,null,null,{"$f":"G669-G666","v":6},{"$f":"H669-H666","v":6},5,6,7,5,7,5,7,null,{"$f":"Q669-Q666","v":6},6,7,5,7,6,6,5,6]
[]
[]
[null,null,null,null,null,"Statistiques scores",null,"Eagle & moins",null,null,null,{"$f":"COUNTIF(G672:Y672,\"<=-2\")","v":0},"Par",null,{"$f":"COUNTIF(G672:Y672,\"=0\")","v":0},"Double bogey",null,null,null,null,{"$f":"COUNTIF(G672:Y672,\"=2\")","v":0}]
[null,null,null,null,null,null,null,"Birdie",null,null,null,{"$f":"COUNTIF(G672:Y672,\"=-1\")","v":0},"Bogey",null,{"$f":"COUNTIF(G672:Y672,\"=1\")","v":0},"Triple bogey & plus",null,null,null,null,{"$f":"COUNTIF(G672:Y672,\">=3\")","v":18}]
[null,null,null,null,null,null,null,{"$f":"M675","v":"Par"},null,null,null,{"$f":"O675","v":0}]
[null,null,null,null,null,null,null,{"$f":"M676","v":"Bogey"},null,null,null,{"$f":"O676","v":0}]
[null,null,null,null,null,null,null,{"$f":"P675","v":"Double bogey"},null,null,null,{"$f":"U675","v":0}]
[null,null,null,null,null,null,null,{"$f":"P676","v":"Triple bogey & plus"},null,null,null,{"$f":"U676","v":18}]
[]
[]
[]
[]
[null,null,null,null,null,"Nom",{"$f":"C35","v":0},null,null,null,null,"Slope",null,null,"SSS",null,"Coups reçus",null,null,null,null,null,null,null,null,"Date",{"$f":"$D$3","v":"00:00:00"}]
[null,null,null,null,null,"Index",{"$f":"E35","v":20},null,null,null,null,{"$f":"$F$3","v":133},null,null,{"$f":"$G$3","v":68.599999999999994},null,{"$f":"ROUND((G686*(L686/113)+(O686-AA689)),0)","v":20}]
[]
[null,null,null,null,null,"Trou",1,2,3,4,5,6,7,8,9,"Aller",10,11,12,13,14,15,16,17,18,"Retour","Total"]
[null,null,null,null,null,"PAR",{"$f":"G$7","v":4},{"$f":"H$7","v":4},5,4,3,5,3,5,3,{"$f":"SUM(G689:O689)","v":36},{"$f":"Q$7","v":4},4,3,5,3,4,4,5,4,{"$f":"SUM(Q689:Y689)","v":36},{"$f":"SUM(P689+Z689)","v":72}]
[null,null,null,null,null,"HCP trous",{"$f":"G$8","v":4},{"$f":"H$8","v":8},12,14,2,10,18,16,6,null,{"$f":"Q$8","v":1},9,11,5,17,15,3,13,7]
[null,null,null,null,null,"Coups reçus",{"$f":"IF($Q686<=18,IF(G690<=$Q686,1,0),IF($Q686<=36,IF(G690<=($Q686-18),2,1),IF($Q686>36,IF(G690<=($Q686-36),3,2))))","v":1},{"$f":"IF($Q686<=18,IF(H690<=$Q686,1,0),IF($Q686<=36,IF(H690<=($Q686-18),2,1),IF($Q686>36,IF(H690<=($Q686-36),3,2))))","v":1},1,1,2,1,1,1,1,{"$f":"SUM(G691:O691)","v":10},{"$f":"IF($Q686<=18,IF(Q690<=$Q686,1,0),IF($Q686<=36,IF(Q690<=($Q686-18),2,1),IF($Q686>36,IF(Q690<=($Q686-36),3,2))))","v":2},1,1,1,1,1,1,1,1,{"$f":"SUM(Q691:Y691)","v":10},{"$f":"P691+Z691","v":20}]
[null,null,null,null,null,"Stroke play",{"$f":"G35","v":10},10,10,10,10,10,10,10,10,{"$f":"SUM(G692:O692)","v":90},{"$f":"Q35","v":10},10,10,10,10,10,10,10,10,{"$f":"SUM(Q692:Y692)","v":90},{"$f":"P692+Z692","v":180}]
[null,null,null,null,null,"Net Stableford",{"$f":"IF(G692-G689=-1,3+G691)+IF(G692-G689=0,2+G691)+IF(G692-G689=1,1+G691)+IF(G692-G689=2,G691)+IF(G692-G689=3,IF(G691-1>0,G691-1,0))+IF(G692-G689=4,IF(G691-2>0,G691-2,0))","v":0},{"$f":"IF(H692-H689=-1,3+H691)+IF(H692-H689=0,2+H691)+IF(H692-H689=1,1+H691)+IF(H692-H689=2,H691)+IF(H692-H689=3,IF(H691-1>0,H691-1,0))+IF(H692-H689=4,IF(H691-2>0,H691-2,0))","v":0},0,0,0,0,0,0,0,{"$f":"SUM(G693:O693)","v":0},{"$f":"IF(Q692-Q689=-1,3+Q691)+IF(Q692-Q689=0,2+Q691)+IF(Q692-Q689=1,1+Q691)+IF(Q692-Q689=2,Q691)+IF(Q692-Q689=3,IF(Q691-1>0,Q691-1,0))+IF(Q692-Q689=4,IF(Q691-2>0,Q691-2,0))","v":0},0,0,0,0,0,0,0,0,{"$f":"SUM(Q693:Y693)","v":0},{"$f":"P693+Z693","v":0}]
[null,null,null,null,null,"Score Brut",{"$f":"IF(G692-G689=-2,4)+IF(G692-G689=-1,3)+IF(G692-G689=0,2)+IF(G692-G689=1,1)+IF(G692-G689>2,0)","v":0},0,0,0,0,0,0,0,0,{"$f":"SUM(G694:O694)","v":0},{"$f":"IF(Q692-Q689=-2,4)+IF(Q692-Q689=-1,3)+IF(Q692-Q689=0,2)+IF(Q692-Q689=1,1)+IF(Q692-Q689>2,0)","v":0},0,0,0,0,0,0,0,0,{"$f":"SUM(Q694:Y694)","v":0},{"$f":"P694+Z694","v":0}]
[null,null,null,null,null,null,{"$f":"G692-G689","v":6},{"$f":"H692-H689","v":6},5,6,7,5,7,5,7,null,{"$f":"Q692-Q689","v":6},6,7,5,7,6,6,5,6]
[]
[]
[null,null,null,null,null,"Statistiques scores",null,"Eagle & moins",null,null,null,{"$f":"COUNTIF(G695:Y695,\"<=-2\")","v":0},"Par",null,{"$f":"COUNTIF(G695:Y695,\"=0\")","v":0},"Double bogey",null,null,null,null,{"$f":"COUNTIF(G695:Y695,\"=2\")","v":0}]
[null,null,null,null,null,null,null,"Birdie",null,null,null,{"$f":"COUNTIF(G695:Y695,\"=-1\")","v":0},"Bogey",null,{"$f":"COUNTIF(G695:Y695,\"=1\")","v":0},"Triple bogey & plus",null,null,null,null,{"$f":"COUNTIF(G695:Y695,\">=3\")","v":18}]
[null,null,null,null,null,null,null,{"$f":"M698","v":"Par"},null,null,null,{"$f":"O698","v":0}]
[null,null,null,null,null,null,null,{"$f":"M699","v":"Bogey"},null,null,null,{"$f":"O699","v":0}]
[null,null,null,null,null,null,null,{"$f":"P698","v":"Double bogey"},null,null,null,{"$f":"U698","v":0}]
[null,null,null,null,null,null,null,{"$f":"P699","v":"Triple bogey & plus"},null,null,null,{"$f":"U699","v":18}]
[]
[]
[]
[]
[null,null,null,null,null,"Nom",{"$f":"C36","v":0},null,null,null,null,"Slope",null,null,"SSS",null,"Coups reçus",null,null,null,null,null,null,null,null,"Date",{"$f":"$D$3","v":"00:00:00"}]
[null,null,null,null,null,"Index",{"$f":"E36","v":20},null,null,null,null,{"$f":"$F$3","v":133},null,null,{"$f":"$G$3","v":68.599999999999994},null,{"$f":"ROUND((G709*(L709/113)+(O709-AA712)),0)","v":20}]
[]
[null,null,null,null,null,"Trou",1,2,3,4,5,6,7,8,9,"Aller",10,11,12,13,14,15,16,17,18,"Retour","Total"]
[null,null,null,null,null,"PAR",{"$f":"G$7","v":4},{"$f":"H$7","v":4},5,4,3,5,3,5,3,{"$f":"SUM(G712:O712)","v":36},{"$f":"Q$7","v":4},4,3,5,3,4,4,5,4,{"$f":"SUM(Q712:Y712)","v":36},{"$f":"SUM(P712+Z712)","v":72}]
[null,null,null,null,null,"HCP trous",{"$f":"G$8","v":4},{"$f":"H$8","v":8},12,14,2,10,18,16,6,null,{"$f":"Q$8","v":1},9,11,5,17,15,3,13,7]
[null,null,null,null,null,"Coups reçus",{"$f":"IF($Q709<=18,IF(G713<=$Q709,1,0),IF($Q709<=36,IF(G713<=($Q709-18),2,1),IF($Q709>36,IF(G713<=($Q709-36),3,2))))","v":1},{"$f":"IF($Q709<=18,IF(H713<=$Q709,1,0),IF($Q709<=36,IF(H713<=($Q709-18),2,1),IF($Q709>36,IF(H713<=($Q709-36),3,2))))","v":1},1,1,2,1,1,1,1,{"$f":"SUM(G714:O714)","v":10},{"$f":"IF($Q709<=18,IF(Q713<=$Q709,1,0),IF($Q709<=36,IF(Q713<=($Q709-18),2,1),IF($Q709>36,IF(Q713<=($Q709-36),3,2))))","v":2},1,1,1,1,1,1,1,1,{"$f":"SUM(Q714:Y714)","v":10},{"$f":"P714+Z714","v":20}]
[null,null,null,null,null,"Stroke play",{"$f":"G36","v":10},10,10,10,10,10,10,10,10,{"$f":"SUM(G715:O715)","v":90},{"$f":"Q36","v":10},10,10,10,10,10,10,10,10,{"$f":"SUM(Q715:Y715)","v":90},{"$f":"P715+Z715","v":180}]
[null,null,null,null,null,"Net Stableford",{"$f":"IF(G715-G712=-1,3+G714)+IF(G715-G712=0,2+G714)+IF(G715-G712=1,1+G714)+IF(G715-G712=2,G714)+IF(G715-G712=3,IF(G714-1>0,G714-1,0))+IF(G715-G712=4,IF(G714-2>0,G714-2,0))","v":0},{"$f":"IF(H715-H712=-1,3+H714)+IF(H715-H712=0,2+H714)+IF(H715-H712=1,1+H714)+IF(H715-H712=2,H714)+IF(H715-H712=3,IF(H714-1>0,H714-1,0))+IF(H715-H712=4,IF(H714-2>0,H714-2,0))","v":0},0,0,0,0,0,0,0,{"$f":"SUM(G716:O716)","v":0},{"$f":"IF(Q715-Q712=-1,3+Q714)+IF(Q715-Q712=0,2+Q714)+IF(Q715-Q712=1,1+Q714)+IF(Q715-Q712=2,Q714)+IF(Q715-Q712=3,IF(Q714-1>0,Q714-1,0))+IF(Q715-Q712=4,IF(Q714-2>0,Q714-2,0))","v":0},0,0,0,0,0,0,0,0,{"$f":"SUM(Q716:Y716)","v":0},{"$f":"P716+Z716","v":0}]
[null,null,null,null,null,"Score Brut",{"$f":"IF(G715-G712=-2,4)+IF(G715-G712=-1,3)+IF(G715-G712=0,2)+IF(G715-G712=1,1)+IF(G715-G712>2,0)","v":0},0,0,0,0,0,0,0,0,{"$f":"SUM(G717:O717)","v":0},{"$f":"IF(Q715-Q712=-2,4)+IF(Q715-Q712=-1,3)+IF(Q715-Q712=0,2)+IF(Q715-Q712=1,1)+IF(Q715-Q712>2,0)","v":0},0,0,0,0,0,0,0,0,{"$f":"SUM(Q717:Y717)","v":0},{"$f":"P717+Z717","v":0}]
[null,null,null,null,null,null,{"$f":"G715-G712","v":6},{"$f":"H715-H712","v":6},5,6,7,5,7,5,7,null,{"$f":"Q715-Q712","v":6},6,7,5,7,6,6,5,6]
[]
[]
[null,null,null,null,null,"Statistiques scores",null,"Eagle & moins",null,null,null,{"$f":"COUNTIF(G718:Y718,\"<=-2\")","v":0},"Par",null,{"$f":"COUNTIF(G718:Y718,\"=0\")","v":0},"Double bogey",null,null,null,null,{"$f":"COUNTIF(G718:Y718,\"=2\")","v":0}]
[null,null,null,null,null,null,null,"Birdie",null,null,null,{"$f":"COUNTIF(G718:Y718,\"=-1\")","v":0},"Bogey",null,{"$f":"COUNTIF(G718:Y718,\"=1\")","v":0},"Triple bogey & plus",null,null,null,null,{"$f":"COUNTIF(G718:Y718,\">=3\")","v":18}]
[null,null,null,null,null,null,null,{"$f":"M721","v":"Par"},null,null,null,{"$f":"O721","v":0}]
[null,null,null,null,null,null,null,{"$f":"M722","v":"Bogey"},null,null,null,{"$f":"O722","v":0}]
[null,null,null,null,null,null,null,{"$f":"P721","v":"Double bogey"},null,null,null,{"$f":"U721","v":0}]
[null,null,null,null,null,null,null,{"$f":"P722","v":"Triple bogey & plus"},null,null,null,{"$f":"U722","v":18}]
[]
[]
[]
[]
[null,null,null,null,null,"Nom",{"$f":"C37","v":0},null,null,null,null,"Slope",null,null,"SSS",null,"Coups reçus",null,null,null,null,null,null,null,null,"Date",{"$f":"$D$3","v":"00:00:00"}]
[null,null,null,null,null,"Index",{"$f":"E37","v":20},null,null,null,null,{"$f":"$F$3","v":133},null,null,{"$f":"$G$3","v":68.599999999999994},null,{"$f":"ROUND((G732*(L732/113)+(O732-AA735)),0)","v":20}]
[]
[null,null,null,null,null,"Trou",1,2,3,4,5,6,7,8,9,"Aller",10,11,12,13,14,15,16,17,18,"Retour","Total"]
[null,null,null,null,null,"PAR",{"$f":"G$7","v":4},{"$f":"H$7","v":4},5,4,3,5,3,5,3,{"$f":"SUM(G735:O735)","v":36},{"$f":"Q$7","v":4},4,3,5,3,4,4,5,4,{"$f":"SUM(Q735:Y735)","v":36},{"$f":"SUM(P735+Z735)","v":72}]
[null,null,null,null,null,"HCP trous",{"$f":"G$8","v":4},{"$f":"H$8","v":8},12,14,2,10,18,16,6,null,{"$f":"Q$8","v":1},9,11,5,17,15,3,13,7]
[null,null,null,null,null,"Coups reçus",{"$f":"IF($Q732<=18,IF(G736<=$Q732,1,0),IF($Q732<=36,IF(G736<=($Q732-18),2,1),IF($Q732>36,IF(G736<=($Q732-36),3,2))))","v":1},{"$f":"IF($Q732<=18,IF(H736<=$Q732,1,0),IF($Q732<=36,IF(H736<=($Q732-18),2,1),IF($Q732>36,IF(H736<=($Q732-36),3,2))))","v":1},1,1,2,1,1,1,1,{"$f":"SUM(G737:O737)","v":10},{"$f":"IF($Q732<=18,IF(Q736<=$Q732,1,0),IF($Q732<=36,IF(Q736<=($Q732-18),2,1),IF($Q732>36,IF(Q736<=($Q732-36),3,2))))","v":2},1,1,1,1,1,1,1,1,{"$f":"SUM(Q737:Y737)","v":10},{"$f":"P737+Z737","v":20}]
[null,null,null,null,null,"Stroke play",{"$f":"G37","v":10},10,10,10,10,10,10,10,10,{"$f":"SUM(G738:O738)","v":90},{"$f":"Q37","v":10},10,10,10,10,10,10,10,10,{"$f":"SUM(Q738:Y738)","v":90},{"$f":"P738+Z738","v":180}]
[null,null,null,null,null,"Net Stableford",{"$f":"IF(G738-G735=-1,3+G737)+IF(G738-G735=0,2+G737)+IF(G738-G735=1,1+G737)+IF(G738-G735=2,G737)+IF(G738-G735=3,IF(G737-1>0,G737-1,0))+IF(G738-G735=4,IF(G737-2>0,G737-2,0))","v":0},{"$f":"IF(H738-H735=-1,3+H737)+IF(H738-H735=0,2+H737)+IF(H738-H735=1,1+H737)+IF(H738-H735=2,H737)+IF(H738-H735=3,IF(H737-1>0,H737-1,0))+IF(H738-H735=4,IF(H737-2>0,H737-2,0))","v":0},0,0,0,0,0,0,0,{"$f":"SUM(G739:O739)","v":0},{"$f":"IF(Q738-Q735=-1,3+Q737)+IF(Q738-Q735=0,2+Q737)+IF(Q738-Q735=1,1+Q737)+IF(Q738-Q735=2,Q737)+IF(Q738-Q735=3,IF(Q737-1>0,Q737-1,0))+IF(Q738-Q735=4,IF(Q737-2>0,Q737-2,0))","v":0},0,0,0,0,0,0,0,0,{"$f":"SUM(Q739:Y739)","v":0},{"$f":"P739+Z739","v":0}]
[null,null,null,null,null,"Score Brut",{"$f":"IF(G738-G735=-2,4)+IF(G738-G735=-1,3)+IF(G738-G735=0,2)+IF(G738-G735=1,1)+IF(G738-G735>2,0)","v":0},0,0,0,0,0,0,0,0,{"$f":"SUM(G740:O740)","v":0},{"$f":"IF(Q738-Q735=-2,4)+IF(Q738-Q735=-1,3)+IF(Q738-Q735=0,2)+IF(Q738-Q735=1,1)+IF(Q738-Q735>2,0)","v":0},0,0,0,0,0,0,0,0,{"$f":"SUM(Q740:Y740)","v":0},{"$f":"P740+Z740","v":0}]
[null,null,null,null,null,null,{"$f":"G738-G735","v":6},{"$f":"H738-H735","v":6},5,6,7,5,7,5,7,null,{"$f":"Q738-Q735","v":6},6,7,5,7,6,6,5,6]
[]
[]
[null,null,null,null,null,"Statistiques scores",null,"Eagle & moins",null,null,null,{"$f":"COUNTIF(G741:Y741,\"<=-2\")","v":0},"Par",null,{"$f":"COUNTIF(G741:Y741,\"=0\")","v":0},"Double bogey",null,null,null,null,{"$f":"COUNTIF(G741:Y741,\"=2\")","v":0}]
[null,null,null,null,null,null,null,"Birdie",null,null,null,{"$f":"COUNTIF(G741:Y741,\"=-1\")","v":0},"Bogey",null,{"$f":"COUNTIF(G741:Y741,\"=1\")","v":0},"Triple bogey & plus",null,null,null,null,{"$f":"COUNTIF(G741:Y741,\">=3\")","v":18}]
[null,null,null,null,null,null,null,{"$f":"M744","v":"Par"},null,null,null,{"$f":"O744","v":0}]
[null,null,null,null,null,null,null,{"$f":"M745","v":"Bogey"},null,null,null,{"$f":"O745","v":0}]
[null,null,null,null,null,null,null,{"$f":"P744","v":"Double bogey"},null,null,null,{"$f":"U744","v":0}]
[null,null,null,null,null,null,null,{"$f":"P745","v":"Triple bogey & plus"},null,null,null,{"$f":"U745","v":18}]
[]
[]
[]
[]
[null,null,null,null,null,"Nom",{"$f":"C38","v":0},null,null,null,null,"Slope",null,null,"SSS",null,"Coups reçus",null,null,null,null,null,null,null,null,"Date",{"$f":"$D$3","v":"00:00:00"}]
[null,null,null,null,null,"Index",{"$f":"E38","v":20},null,null,null,null,{"$f":"$F$3","v":133},null,null,{"$f":"$G$3","v":68.599999999999994},null,{"$f":"ROUND((G755*(L755/113)+(O755-AA758)),0)","v":20}]
[]
[null,null,null,null,null,"Trou",1,2,3,4,5,6,7,8,9,"Aller",10,11,12,13,14,15,16,17,18,"Retour","Total"]
[null,null,null,null,null,"PAR",{"$f":"G$7","v":4},{"$f":"H$7","v":4},5,4,3,5,3,5,3,{"$f":"SUM(G758:O758)","v":36},{"$f":"Q$7","v":4},4,3,5,3,4,4,5,4,{"$f":"SUM(Q758:Y758)","v":36},{"$f":"SUM(P758+Z758)","v":72}]
[null,null,null,null,null,"HCP trous",{"$f":"G$8","v":4},{"$f":"H$8","v":8},12,14,2,10,18,16,6,null,{"$f":"Q$8","v":1},9,11,5,17,15,3,13,7]
[null,null,null,null,null,"Coups reçus",{"$f":"IF($Q755<=18,IF(G759<=$Q755,1,0),IF($Q755<=36,IF(G759<=($Q755-18),2,1),IF($Q755>36,IF(G759<=($Q755-36),3,2))))","v":1},{"$f":"IF($Q755<=18,IF(H759<=$Q755,1,0),IF($Q755<=36,IF(H759<=($Q755-18),2,1),IF($Q755>36,IF(H759<=($Q755-36),3,2))))","v":1},1,1,2,1,1,1,1,{"$f":"SUM(G760:O760)","v":10},{"$f":"IF($Q755<=18,IF(Q759<=$Q755,1,0),IF($Q755<=36,IF(Q759<=($Q755-18),2,1),IF($Q755>36,IF(Q759<=($Q755-36),3,2))))","v":2},1,1,1,1,1,1,1,1,{"$f":"SUM(Q760:Y760)","v":10},{"$f":"P760+Z760","v":20}]
[null,null,null,null,null,"Stroke play",{"$f":"G38","v":10},10,10,10,10,10,10,10,10,{"$f":"SUM(G761:O761)","v":90},{"$f":"Q38","v":10},10,10,10,10,10,10,10,10,{"$f":"SUM(Q761:Y761)","v":90},{"$f":"P761+Z761","v":180}]
[null,null,null,null,null,"Net Stableford",{"$f":"IF(G761-G758=-1,3+G760)+IF(G761-G758=0,2+G760)+IF(G761-G758=1,1+G760)+IF(G761-G758=2,G760)+IF(G761-G758=3,IF(G760-1>0,G760-1,0))+IF(G761-G758=4,IF(G760-2>0,G760-2,0))","v":0},{"$f":"IF(H761-H758=-1,3+H760)+IF(H761-H758=0,2+H760)+IF(H761-H758=1,1+H760)+IF(H761-H758=2,H760)+IF(H761-H758=3,IF(H760-1>0,H760-1,0))+IF(H761-H758=4,IF(H760-2>0,H760-2,0))","v":0},0,0,0,0,0,0,0,{"$f":"SUM(G762:O762)","v":0},{"$f":"IF(Q761-Q758=-1,3+Q760)+IF(Q761-Q758=0,2+Q760)+IF(Q761-Q758=1,1+Q760)+IF(Q761-Q758=2,Q760)+IF(Q761-Q758=3,IF(Q760-1>0,Q760-1,0))+IF(Q761-Q758=4,IF(Q760-2>0,Q760-2,0))","v":0},0,0,0,0,0,0,0,0,{"$f":"SUM(Q762:Y762)","v":0},{"$f":"P762+Z762","v":0}]
[null,null,null,null,null,"Score Brut",{"$f":"IF(G761-G758=-2,4)+IF(G761-G758=-1,3)+IF(G761-G758=0,2)+IF(G761-G758=1,1)+IF(G761-G758>2,0)","v":0},0,0,0,0,0,0,0,0,{"$f":"SUM(G763:O763)","v":0},{"$f":"IF(Q761-Q758=-2,4)+IF(Q761-Q758=-1,3)+IF(Q761-Q758=0,2)+IF(Q761-Q758=1,1)+IF(Q761-Q758>2,0)","v":0},0,0,0,0,0,0,0,0,{"$f":"SUM(Q763:Y763)","v":0},{"$f":"P763+Z763","v":0}]
[null,null,null,null,null,null,{"$f":"G761-G758","v":6},{"$f":"H761-H758","v":6},5,6,7,5,7,5,7,null,{"$f":"Q761-Q758","v":6},6,7,5,7,6,6,5,6]
[]
[]
[null,null,null,null,null,"Statistiques scores",null,"Eagle & moins",null,null,null,{"$f":"COUNTIF(G764:Y764,\"<=-2\")","v":0},"Par",null,{"$f":"COUNTIF(G764:Y764,\"=0\")","v":0},"Double bogey",null,null,null,null,{"$f":"COUNTIF(G764:Y764,\"=2\")","v":0}]
[null,null,null,null,null,null,null,"Birdie",null,null,null,{"$f":"COUNTIF(G764:Y764,\"=-1\")","v":0},"Bogey",null,{"$f":"COUNTIF(G764:Y764,\"=1\")","v":0},"Triple bogey & plus",null,null,null,null,{"$f":"COUNTIF(G764:Y764,\">=3\")","v":18}]
[null,null,null,null,null,null,null,{"$f":"M767","v":"Par"},null,null,null,{"$f":"O767","v":0}]
[null,null,null,null,null,null,null,{"$f":"M768","v":"Bogey"},null,null,null,{"$f":"O768","v":0}]
[null,null,null,null,null,null,null,{"$f":"P767","v":"Double bogey"},null,null,null,{"$f":"U767","v":0}]
[null,null,null,null,null,null,null,{"$f":"P768","v":"Triple bogey & plus"},null,null,null,{"$f":"U768","v":18}]

{"sheet":"sortie (9)","index":10,"n_rows":772,"n_cols":42,"rows_kept":772,"cut":false,"hidden":false,"merged":[[767,15,767,19],[768,7,768,8],[769,7,769,8],[754,6,754,9],[754,11,754,13],[754,14,754,15],[754,16,754,19],[766,5,767,6],[766,7,766,10],[766,12,766,13],[766,15,766,19],[767,7,767,10],[767,12,767,13],[744,15,744,19],[745,7,745,8],[746,7,746,8],[753,6,753,9],[753,11,753,13],[753,14,753,15],[753,16,753,19],[731,6,731,9],[731,11,731,13],[731,14,731,15],[731,16,731,19],[743,5,744,6],[743,7,743,10],[743,12,743,13],[743,15,743,19],[744,7,744,10],[744,12,744,13],[721,15,721,19],[722,7,722,8],[723,7,723,8],[730,6,730,9],[730,11,730,13],[730,14,730,15],[730,16,730,19],[708,6,708,9],[708,11,708,13],[708,14,708,15],[708,16,708,19],[720,5,721,6],[720,7,720,10],[720,12,720,13],[720,15,720,19],[721,7,721,10],[721,12,721,13],[698,15,698,19],[699,7,699,8],[700,7,700,8],[707,6,707,9],[707,11,707,13],[707,14,707,15],[707,16,707,19],[685,6,685,9],[685,11,685,13],[685,14,685,15],[685,16,685,19],[697,5,698,6],[697,7,697,10],[697,12,697,13],[697,15,697,19],[698,7,698,10],[698,12,698,13],[675,15,675,19],[676,7,676,8],[677,7,677,8],[684,6,684,9],[684,11,684,13],[684,14,684,15],[684,16,684,19],[662,6,662,9],[662,11,662,13],[662,14,662,15],[662,16,662,19],[674,5,675,6],[674,7,674,10],[674,12,674,13],[674,15,674,19],[675,7,675,10],[675,12,675,13],[652,15,652,19],[653,7,653,8],[654,7,654,8],[661,6,661,9],[661,11,661,13],[661,14,661,15],[661,16,661,19],[639,6,639,9],[639,11,639,13],[639,14,639,15],[639,16,639,19],[651,5,652,6],[651,7,651,10],[651,12,651,13],[651,15,651,19],[652,7,652,10],[652,12,652,13],[629,15,629,19],[630,7,630,8],[631,7,631,8],[638,6,638,9],[638,11,638,13],[638,14,638,15],[638,16,638,19],[616,6,616,9],[616,11,616,13],[616,14,616,15],[616,16,616,19],[628,5,629,6],[628,7,628,10],[628,12,628,13],[628,15,628,19],[629,7,629,10],[629,12,629,13],[606,15,606,19],[607,7,607,8],[608,7,608,8],[615,6,615,9],[615,11,615,13],[615,14,615,15],[615,16,615,19],[593,6,593,9],[593,11,593,13],[593,14,593,15],[593,16,593,19],[605,5,606,6],[605,7,605,10],[605,12,605,13],[605,15,605,19],[606,7,606,10],[606,12,606,13],[583,15,583,19],[584,7,584,8],[585,7,585,8],[592,6,592,9],[592,11,592,13],[592,14,592,15],[592,16,592,19],[570,6,570,9],[570,11,570,13],[570,14,570,15],[570,16,570,19],[582,5,583,6],[582,7,582,10],[582,12,582,13],[582,15,582,19],[583,7,583,10],[583,12,583,13],[560,15,560,19],[561,7,561,8],[562,7,562,8],[569,6,569,9],[569,11,569,13],[569,14,569,15],[569,16,569,19],[547,6,547,9],[547,11,547,13],[547,14,547,15],[547,16,547,19],[559,5,560,6],[559,7,559,10],[559,12,559,13],[559,15,559,19],[560,7,560,10],[560,12,560,13],[537,15,537,19],[538,7,538,8],[539,7,539,8],[546,6,546,9],[546,11,546,13],[546,14,546,15],[546,16,546,19],[524,6,524,9],[524,11,524,13],[524,14,524,15],[524,16,524,19],[536,5,537,6],[536,7,536,10],[536,12,536,13],[536,15,536,19],[537,7,537,10],[537,12,537,13],[514,15,514,19],[515,7,515,8],[516,7,516,8],[523,6,523,9],[523,11,523,13],[523,14,523,15],[523,16,523,19],[501,6,501,9],[501,11,501,13],[501,14,501,15],[501,16,501,19],[513,5,514,6],[513,7,513,10],[513,12,513,13],[513,15,513,19],[514,7,514,10],[514,12,514,13],[491,15,491,19],[492,7,492,8],[493,7,493,8],[500,6,500,9],[500,11,500,13],[500,14,500,15],[500,16,500,19],[478,6,478,9],[478,11,478,13],[478,14,478,15],[478,16,478,19],[490,5,491,6],[490,7,490,10],[490,12,490,13],[490,15,490,19],[491,7,491,10],[491,12,491,13],[468,15,468,19],[469,7,469,8],[470,7,470,8],[477,6,477,9],[477,11,477,13],[477,14,477,15],[477,16,477,19],[455,6,455,9],[455,11,455,13],[455,14,455,15],[455,16,455,19],[467,5,468,6],[467,7,467,10],[467,12,467,13],[467,15,467,19],[468,7,468,10],[468,12,468,13],[445,15,445,19],[446,7,446,8],[447,7,447,8],[454,6,454,9],[454,11,454,13],[454,14,454,15],[454,16,454,19],[432,6,432,9],[432,11,432,13],[432,14,432,15],[432,16,432,19],[444,5,445,6],[444,7,444,10],[444,12,444,13],[444,15,444,19],[445,7,445,10],[445,12,445,13],[422,15,422,19],[423,7,423,8],[424,7,424,8],[431,6,431,9],[431,11,431,13],[431,14,431,15],[431,16,431,19],[409,6,409,9],[409,11,409,13],[409,14,409,15],[409,16,409,19],[421,5,422,6],[421,7,421,10],[421,12,421,13],[421,15,421,19],[422,7,422,10],[422,12,422,13],[399,15,399,19],[400,7,400,8],[401,7,401,8],[408,6,408,9],[408,11,408,13],[408,14,408,15],[408,16,408,19],[386,6,386,9],[386,11,386,13],[386,14,386,15],[386,16,386,19],[398,5,399,6],[398,7,398,10],[398,12,398,13],[398,15,398,19],[399,7,399,10],[399,12,399,13],[376,15,376,19],[377,7,377,8],[378,7,378,8],[385,6,385,9],[385,11,385,13],[385,14,385,15],[385,16,385,19],[363,6,363,9],[363,11,363,13],[363,14,363,15],[363,16,363,19],[375,5,376,6],[375,7,375,10],[375,12,375,13],[375,15,375,19],[376,7,376,10],[376,12,376,13],[353,15,353,19],[354,7,354,8],[355,7,355,8],[362,6,362,9],[362,11,362,13],[362,14,362,15],[362,16,362,19],[340,6,340,9],[340,11,340,13],[340,14,340,15],[340,16,340,19],[352,5,353,6],[352,7,352,10],[352,12,352,13],[352,15,352,19],[353,7,353,10],[353,12,353,13],[330,15,330,19],[331,7,331,8],[332,7,332,8],[339,6,339,9],[339,11,339,13],[339,14,339,15],[339,16,339,19],[317,6,317,9],[317,11,317,13],[317,14,317,15],[317,16,317,19],[329,5,330,6],[329,7,329,10],[329,12,329,13],[329,15,329,19],[330,7,330,10],[330,12,330,13],[307,15,307,19],[308,7,308,8],[309,7,309,8],[316,6,316,9],[316,11,316,13],[316,14,316,15],[316,16,316,19],[294,6,294,9],[294,11,294,13],[294,14,294,15],[294,16,294,19],[306,5,307,6],[306,7,306,10],[306,12,306,13],[306,15,306,19],[307,7,307,10],[307,12,307,13],[284,15,284,19],[285,7,285,8],[286,7,286,8],[293,6,293,9],[293,11,293,13],[293,14,293,15],[293,16,293,19],[271,6,271,9],[271,11,271,13],[271,14,271,15],[271,16,271,19],[283,5,284,6],[283,7,283,10],[283,12,283,13],[283,15,283,19],[284,7,284,10],[284,12,284,13],[261,15,261,19],[262,7,262,8],[263,7,263,8],[270,6,270,9],[270,11,270,13],[270,14,270,15],[270,16,270,19],[248,6,248,9],[248,11,248,13],[248,14,248,15],[248,16,248,19],[260,5,261,6],[260,7,260,10],[260,12,260,13],[260,15,260,19],[261,7,261,10],[261,12,261,13],[238,15,238,19],[239,7,239,8],[240,7,240,8],[247,6,247,9],[247,11,247,13],[247,14,247,15],[247,16,247,19],[225,6,225,9],[225,11,225,13],[225,14,225,15],[225,16,225,19],[237,5,238,6],[237,7,237,10],[237,12,237,13],[237,15,237,19],[238,7,238,10],[238,12,238,13],[215,15,215,19],[216,7,216,8],[217,7,217,8],[224,6,224,9],[224,11,224,13],[224,14,224,15],[224,16,224,19],[202,6,202,9],[202,11,202,13],[202,14,202,15],[202,16,202,19],[214,5,215,6],[214,7,214,10],[214,12,214,13],[214,15,214,19],[215,7,215,10],[215,12,215,13],[192,15,192,19],[193,7,193,8],[194,7,194,8],[201,6,201,9],[201,11,201,13],[201,14,201,15],[201,16,201,19],[179,6,179,9],[179,11,179,13],[179,14,179,15],[179,16,179,19],[191,5,192,6],[191,7,191,10],[191,12,191,13],[191,15,191,19],[192,7,192,10],[192,12,192,13],[169,15,169,19],[170,7,170,8],[171,7,171,8],[178,6,178,9],[178,11,178,13],[178,14,178,15],[178,16,178,19],[156,6,156,9],[156,11,156,13],[156,14,156,15],[156,16,156,19],[168,5,169,6],[168,7,168,10],[168,12,168,13],[168,15,168,19],[169,7,169,10],[169,12,169,13],[146,15,146,19],[147,7,147,8],[148,7,148,8],[155,6,155,9],[155,11,155,13],[155,14,155,15],[155,16,155,19],[133,6,133,9],[133,11,133,13],[133,14,133,15],[133,16,133,19],[145,5,146,6],[145,7,145,10],[145,12,145,13],[145,15,145,19],[146,7,146,10],[146,12,146,13],[123,15,123,19],[124,7,124,8],[125,7,125,8],[132,6,132,9],[132,11,132,13],[132,14,132,15],[132,16,132,19],[110,6,110,9],[110,11,110,13],[110,14,110,15],[110,16,110,19],[122,5,123,6],[122,7,122,10],[122,12,122,13],[122,15,122,19],[123,7,123,10],[123,12,123,13],[100,15,100,19],[101,7,101,8],[102,7,102,8],[109,6,109,9],[109,11,109,13],[109,14,109,15],[109,16,109,19],[87,6,87,9],[87,11,87,13],[87,14,87,15],[87,16,87,19],[99,5,100,6],[99,7,99,10],[99,12,99,13],[99,15,99,19],[100,7,100,10],[100,12,100,13],[76,9,76,12],[76,13,76,15],[76,21,76,24],[76,25,76,26],[80,7,82,20],[86,6,86,9],[86,11,86,13],[86,14,86,15],[86,16,86,19],[74,9,74,12],[74,13,74,15],[74,21,74,24],[74,25,74,26],[75,9,75,12],[75,13,75,15],[75,21,75,24],[75,25,75,26],[72,9,72,12],[72,13,72,15],[72,21,72,24],[72,25,72,26],[73,9,73,12],[73,13,73,15],[73,21,73,24],[73,25,73,26],[70,9,70,12],[70,13,70,15],[70,21,70,24],[70,25,70,26],[71,9,71,12],[71,13,71,15],[71,21,71,24],[71,25,71,26],[68,9,68,12],[68,13,68,15],[68,21,68,24],[68,25,68,26],[69,9,69,12],[69,13,69,15],[69,21,69,24],[69,25,69,26],[66,9,66,12],[66,13,66,15],[66,21,66,24],[66,25,66,26],[67,9,67,12],[67,13,67,15],[67,21,67,24],[67,25,67,26],[64,9,64,12],[64,13,64,15],[64,21,64,24],[64,25,64,26],[65,9,65,12],[65,13,65,15],[65,21,65,24],[65,25,65,26],[62,9,62,12],[62,13,62,15],[62,21,62,24],[62,25,62,26],[63,9,63,12],[63,13,63,15],[63,21,63,24],[63,25,63,26],[60,9,60,12],[60,13,60,15],[60,21,60,24],[60,25,60,26],[61,9,61,12],[61,13,61,15],[61,21,61,24],[61,25,61,26],[58,9,58,12],[58,13,58,15],[58,21,58,24],[58,25,58,26],[59,9,59,12],[59,13,59,15],[59,21,59,24],[59,25,59,26],[56,9,56,12],[56,13,56,15],[56,21,56,24],[56,25,56,26],[57,9,57,12],[57,13,57,15],[57,21,57,24],[57,25,57,26],[54,9,54,12],[54,13,54,15],[54,21,54,24],[54,25,54,26],[55,9,55,12],[55,13,55,15],[55,21,55,24],[55,25,55,26],[52,9,52,12],[52,13,52,15],[52,21,52,24],[52,25,52,26],[53,9,53,12],[53,13,53,15],[53,21,53,24],[53,25,53,26],[1,6,1,9],[1,13,3,24],[2,6,2,9],[40,7,42,20],[50,9,50,12],[50,13,50,15],[50,21,50,24],[50,25,50,26],[51,9,51,12],[51,13,51,15],[51,21,51,24],[51,25,51,26],[48,9,48,12],[48,13,48,15],[48,21,48,24],[48,25,48,26],[49,9,49,12],[49,13,49,15],[49,21,49,24],[49,25,49,26],[44,2,44,4],[44,9,44,16],[44,21,44,27],[46,9,46,12],[46,13,46,15],[46,21,46,24],[46,25,46,26],[47,9,47,12],[47,13,47,15],[47,21,47,24],[47,25,47,26]]}
[]
[null,null,"Golf","H",null,"Slope","SSS",null,null,null,null,null,null,"CARTE DE SCORE"]
[null,null,"Date",null,null,133,68.599999999999994]
[]
[null,null,"Individuel Stableford BRUT/NET"]
[null,null,null,null,"Index","HCP trous",1,2,3,4,5,6,7,8,9,"Aller",10,11,12,13,14,15,16,17,18,"Retour","Total"]
[null,null,null,null,null,"PAR",4,4,5,4,3,5,3,5,3,{"$f":"SUM(G7:O7)","v":36},4,4,3,5,3,4,4,5,4,{"$f":"SUM(Q7:Y7)","v":36},{"$f":"SUM(P7+Z7)","v":72}]
[null,null,"Noms","Prénoms",null,"Trou",4,8,12,14,2,10,18,16,6,null,1,9,11,5,17,15,3,13,7,null,null,null,"NET","Classt","Rang","Points",null,"BRUT","Classt","Rang","Points",null,"STROKE","Classt","Rang","Points"]
[null,1,null,null,20,null,10,10,10,10,10,10,10,10,10,{"$f":"SUM(G9:O9)","v":90},10,10,10,10,10,10,10,10,10,{"$f":"SUM(Q9:Y9)","v":90},{"$f":"SUM(P9+Z9)","v":180},null,{"$f":"$AA$95","v":0},{"$f":"RANK(AC9,AC$9:AC$38,0)+COUNTIF(AC9:$AC$9,AC9)-1","v":1},{"$f":"RANK(AC9,AC$9:AC$38,0)","v":1},{"$f":"IF(ISBLANK($C9),0,1)*INDEX('Allocation Points'!$B$3:$AG$32,AE9,COUNTIF(AE$9:AE$38,AE9)+2)","v":0},null,{"$f":"AA96","v":0},{"$f":"RANK(AH9,AH$9:AH$38,0)+COUNTIF(AH9:$AH$9,AH9)-1","v":1},{"$f":"RANK(AH9,AH$9:AH$38,0)","v":1},{"$f":"IF(ISBLANK($C9),0,1)*INDEX('Allocation Points'!$B$3:$AG$32,AJ9,COUNTIF(AJ$9:AJ$38,AJ9)+2)","v":0},null,{"$f":"AA94","v":180},{"$f":"RANK(AM9,AM$9:AM$38,1)+COUNTIF(AM9:$AM$9,AM9)-1","v":1},{"$f":"RANK(AM9,AM$9:AM$38,1)","v":1},{"$f":"IF(ISBLANK($C9),0,1)*INDEX('Allocation Points'!$B$3:$AG$32,AO9,COUNTIF(AO$9:AO$38,AO9)+2)","v":0}]
[null,2,null,null,20,null,10,10,10,10,10,10,10,10,10,90,10,10,10,10,10,10,10,10,10,90,180,null,{"$f":"$AA$118","v":0},{"$f":"RANK(AC10,AC$9:AC$38,0)+COUNTIF(AC$9:$AC10,AC10)-1","v":2},{"$f":"RANK(AC10,AC$9:AC$38,0)","v":1},{"$f":"IF(ISBLANK($C10),0,1)*INDEX('Allocation Points'!$B$3:$AG$32,AE10,COUNTIF(AE$9:AE$38,AE10)+2)","v":0},null,{"$f":"AA119","v":0},{"$f":"RANK(AH10,AH$9:AH$38,0)+COUNTIF(AH$9:$AH10,AH10)-1","v":2},{"$f":"RANK(AH10,AH$9:AH$38,0)","v":1},{"$f":"IF(ISBLANK($C10),0,1)*INDEX('Allocation Points'!$B$3:$AG$32,AJ10,COUNTIF(AJ$9:AJ$38,AJ10)+2)","v":0},null,{"$f":"AA117","v":180},{"$f":"RANK(AM10,AM$9:AM$38,1)+COUNTIF(AM$9:$AM10,AM10)-1","v":2},{"$f":"RANK(AM10,AM$9:AM$38,1)","v":1},{"$f":"IF(ISBLANK($C10),0,1)*INDEX('Allocation Points'!$B$3:$AG$32,AO10,COUNTIF(AO$9:AO$38,AO10)+2)","v":0}]
[null,3,null,null,20,null,10,10,10,10,10,10,10,10,10,90,10,10,10,10,10,10,10,10,10,90,180,null,{"$f":"$AA$141","v":0},{"$f":"RANK(AC11,AC$9:AC$38,0)+COUNTIF(AC$9:$AC11,AC11)-1","v":3},1,{"$f":"IF(ISBLANK($C11),0,1)*INDEX('Allocation Points'!$B$3:$AG$32,AE11,COUNTIF(AE$9:AE$38,AE11)+2)","v":0},null,{"$f":"AA142","v":0},{"$f":"RANK(AH11,AH$9:AH$38,0)+COUNTIF(AH$9:$AH11,AH11)-1","v":3},1,{"$f":"IF(ISBLANK($C11),0,1)*INDEX('Allocation Points'!$B$3:$AG$32,AJ11,COUNTIF(AJ$9:AJ$38,AJ11)+2)","v":0},null,{"$f":"AA140","v":180},{"$f":"RANK(AM11,AM$9:AM$38,1)+COUNTIF(AM$9:$AM11,AM11)-1","v":3},1,{"$f":"IF(ISBLANK($C11),0,1)*INDEX('Allocation Points'!$B$3:$AG$32,AO11,COUNTIF(AO$9:AO$38,AO11)+2)","v":0}]
[null,4,null,null,20,null,10,10,10,10,10,10,10,10,10,90,10,10,10,10,10,10,10,10,10,90,180,null,{"$f":"$AA$164","v":0},{"$f":"RANK(AC12,AC$9:AC$38,0)+COUNTIF(AC$9:$AC12,AC12)-1","v":4},1,{"$f":"IF(ISBLANK($C12),0,1)*INDEX('Allocation Points'!$B$3:$AG$32,AE12,COUNTIF(AE$9:AE$38,AE12)+2)","v":0},null,{"$f":"AA165","v":0},{"$f":"RANK(AH12,AH$9:AH$38,0)+COUNTIF(AH$9:$AH12,AH12)-1","v":4},1,{"$f":"IF(ISBLANK($C12),0,1)*INDEX('Allocation Points'!$B$3:$AG$32,AJ12,COUNTIF(AJ$9:AJ$38,AJ12)+2)","v":0},null,{"$f":"AA163","v":180},{"$f":"RANK(AM12,AM$9:AM$38,1)+COUNTIF(AM$9:$AM12,AM12)-1","v":4},1,{"$f":"IF(ISBLANK($C12),0,1)*INDEX('Allocation Points'!$B$3:$AG$32,AO12,COUNTIF(AO$9:AO$38,AO12)+2)","v":0}]
[null,5,null,null,20,null,10,10,10,10,10,10,10,10,10,90,10,10,10,10,10,10,10,10,10,90,180,null,{"$f":"$AA$187","v":0},{"$f":"RANK(AC13,AC$9:AC$38,0)+COUNTIF(AC$9:$AC13,AC13)-1","v":5},1,{"$f":"IF(ISBLANK($C13),0,1)*INDEX('Allocation Points'!$B$3:$AG$32,AE13,COUNTIF(AE$9:AE$38,AE13)+2)","v":0},null,{"$f":"AA188","v":0},{"$f":"RANK(AH13,AH$9:AH$38,0)+COUNTIF(AH$9:$AH13,AH13)-1","v":5},1,{"$f":"IF(ISBLANK($C13),0,1)*INDEX('Allocation Points'!$B$3:$AG$32,AJ13,COUNTIF(AJ$9:AJ$38,AJ13)+2)","v":0},null,{"$f":"AA186","v":180},{"$f":"RANK(AM13,AM$9:AM$38,1)+COUNTIF(AM$9:$AM13,AM13)-1","v":5},1,{"$f":"IF(ISBLANK($C13),0,1)*INDEX('Allocation Points'!$B$3:$AG$32,AO13,COUNTIF(AO$9:AO$38,AO13)+2)","v":0}]
[null,6,null,null,20,null,10,10,10,10,10,10,10,10,10,90,10,10,10,10,10,10,10,10,10,90,180,null,{"$f":"$AA$210","v":0},{"$f":"RANK(AC14,AC$9:AC$38,0)+COUNTIF(AC$9:$AC14,AC14)-1","v":6},1,{"$f":"IF(ISBLANK($C14),0,1)*INDEX('Allocation Points'!$B$3:$AG$32,AE14,COUNTIF(AE$9:AE$38,AE14)+2)","v":0},null,{"$f":"AA211","v":0},{"$f":"RANK(AH14,AH$9:AH$38,0)+COUNTIF(AH$9:$AH14,AH14)-1","v":6},1,{"$f":"IF(ISBLANK($C14),0,1)*INDEX('Allocation Points'!$B$3:$AG$32,AJ14,COUNTIF(AJ$9:AJ$38,AJ14)+2)","v":0},null,{"$f":"AA209","v":180},{"$f":"RANK(AM14,AM$9:AM$38,1)+COUNTIF(AM$9:$AM14,AM14)-1","v":6},1,{"$f":"IF(ISBLANK($C14),0,1)*INDEX('Allocation Points'!$B$3:$AG$32,AO14,COUNTIF(AO$9:AO$38,AO14)+2)","v":0}]
[null,7,null,null,20,null,10,10,10,10,10,10,10,10,10,90,10,10,10,10,10,10,10,10,10,90,180,null,{"$f":"$AA$233","v":0},{"$f":"RANK(AC15,AC$9:AC$38,0)+COUNTIF(AC$9:$AC15,AC15)-1","v":7},1,{"$f":"IF(ISBLANK($C15),0,1)*INDEX('Allocation Points'!$B$3:$AG$32,AE15,COUNTIF(AE$9:AE$38,AE15)+2)","v":0},null,{"$f":"AA234","v":0},{"$f":"RANK(AH15,AH$9:AH$38,0)+COUNTIF(AH$9:$AH15,AH15)-1","v":7},1,{"$f":"IF(ISBLANK($C15),0,1)*INDEX('Allocation Points'!$B$3:$AG$32,AJ15,COUNTIF(AJ$9:AJ$38,AJ15)+2)","v":0},null,{"$f":"AA232","v":180},{"$f":"RANK(AM15,AM$9:AM$38,1)+COUNTIF(AM$9:$AM15,AM15)-1","v":7},1,{"$f":"IF(ISBLANK($C15),0,1)*INDEX('Allocation Points'!$B$3:$AG$32,AO15,COUNTIF(AO$9:AO$38,AO15)+2)","v":0}]
[null,8,null,null,20,null,10,10,10,10,10,10,10,10,10,90,10,10,10,10,10,10,10,10,10,90,180,null,{"$f":"$AA$256","v":0},{"$f":"RANK(AC16,AC$9:AC$38,0)+COUNTIF(AC$9:$AC16,AC16)-1","v":8},1,{"$f":"IF(ISBLANK($C16),0,1)*INDEX('Allocation Points'!$B$3:$AG$32,AE16,COUNTIF(AE$9:AE$38,AE16)+2)","v":0},null,{"$f":"AA257","v":0},{"$f":"RANK(AH16,AH$9:AH$38,0)+COUNTIF(AH$9:$AH16,AH16)-1","v":8},1,{"$f":"IF(ISBLANK($C16),0,1)*INDEX('Allocation Points'!$B$3:$AG$32,AJ16,COUNTIF(AJ$9:AJ$38,AJ16)+2)","v":0},null,{"$f":"AA255","v":180},{"$f":"RANK(AM16,AM$9:AM$38,1)+COUNTIF(AM$9:$AM16,AM16)-1","v":8},1,{"$f":"IF(ISBLANK($C16),0,1)*INDEX('Allocation Points'!$B$3:$AG$32,AO16,COUNTIF(AO$9:AO$38,AO16)+2)","v":0}]
[null,9,null,null,20,null,10,10,10,10,10,10,10,10,10,90,10,10,10,10,10,10,10,10,10,90,180,null,{"$f":"$AA$279","v":0},{"$f":"RANK(AC17,AC$9:AC$38,0)+COUNTIF(AC$9:$AC17,AC17)-1","v":9},1,{"$f":"IF(ISBLANK($C17),0,1)*INDEX('Allocation Points'!$B$3:$AG$32,AE17,COUNTIF(AE$9:AE$38,AE17)+2)","v":0},null,{"$f":"AA280","v":0},{"$f":"RANK(AH17,AH$9:AH$38,0)+COUNTIF(AH$9:$AH17,AH17)-1","v":9},1,{"$f":"IF(ISBLANK($C17),0,1)*INDEX('Allocation Points'!$B$3:$AG$32,AJ17,COUNTIF(AJ$9:AJ$38,AJ17)+2)","v":0},null,{"$f":"AA278","v":180},{"$f":"RANK(AM17,AM$9:AM$38,1)+COUNTIF(AM$9:$AM17,AM17)-1","v":9},1,{"$f":"IF(ISBLANK($C17),0,1)*INDEX('Allocation Points'!$B$3:$AG$32,AO17,COUNTIF(AO$9:AO$38,AO17)+2)","v":0}]
[null,10,null,null,20,null,10,10,10,10,10,10,10,10,10,90,10,10,10,10,10,10,10,10,10,90,180,null,{"$f":"$AA$302","v":0},{"$f":"RANK(AC18,AC$9:AC$38,0)+COUNTIF(AC$9:$AC18,AC18)-1","v":10},1,{"$f":"IF(ISBLANK($C18),0,1)*INDEX('Allocation Points'!$B$3:$AG$32,AE18,COUNTIF(AE$9:AE$38,AE18)+2)","v":0},null,{"$f":"AA303","v":0},{"$f":"RANK(AH18,AH$9:AH$38,0)+COUNTIF(AH$9:$AH18,AH18)-1","v":10},1,{"$f":"IF(ISBLANK($C18),0,1)*INDEX('Allocation Points'!$B$3:$AG$32,AJ18,COUNTIF(AJ$9:AJ$38,AJ18)+2)","v":0},null,{"$f":"AA301","v":180},{"$f":"RANK(AM18,AM$9:AM$38,1)+COUNTIF(AM$9:$AM18,AM18)-1","v":10},1,{"$f":"IF(ISBLANK($C18),0,1)*INDEX('Allocation Points'!$B$3:$AG$32,AO18,COUNTIF(AO$9:AO$38,AO18)+2)","v":0}]
[null,11,null,null,20,null,10,10,10,10,10,10,10,10,10,90,10,10,10,10,10,10,10,10,10,90,180,null,{"$f":"$AA$325","v":0},{"$f":"RANK(AC19,AC$9:AC$38,0)+COUNTIF(AC$9:$AC19,AC19)-1","v":11},1,{"$f":"IF(ISBLANK($C19),0,1)*INDEX('Allocation Points'!$B$3:$AG$32,AE19,COUNTIF(AE$9:AE$38,AE19)+2)","v":0},null,{"$f":"AA326","v":0},{"$f":"RANK(AH19,AH$9:AH$38,0)+COUNTIF(AH$9:$AH19,AH19)-1","v":11},1,{"$f":"IF(ISBLANK($C19),0,1)*INDEX('Allocation Points'!$B$3:$AG$32,AJ19,COUNTIF(AJ$9:AJ$38,AJ19)+2)","v":0},null,{"$f":"AA324","v":180},{"$f":"RANK(AM19,AM$9:AM$38,1)+COUNTIF(AM$9:$AM19,AM19)-1","v":11},1,{"$f":"IF(ISBLANK($C19),0,1)*INDEX('Allocation Points'!$B$3:$AG$32,AO19,COUNTIF(AO$9:AO$38,AO19)+2)","v":0}]
[null,12,null,null,20,null,10,10,10,10,10,10,10,10,10,90,10,10,10,10,10,10,10,10,10,90,180,null,{"$f":"$AA$348","v":0},{"$f":"RANK(AC20,AC$9:AC$38,0)+COUNTIF(AC$9:$AC20,AC20)-1","v":12},1,{"$f":"IF(ISBLANK($C20),0,1)*INDEX('Allocation Points'!$B$3:$AG$32,AE20,COUNTIF(AE$9:AE$38,AE20)+2)","v":0},null,{"$f":"AA349","v":0},{"$f":"RANK(AH20,AH$9:AH$38,0)+COUNTIF(AH$9:$AH20,AH20)-1","v":12},1,{"$f":"IF(ISBLANK($C20),0,1)*INDEX('Allocation Points'!$B$3:$AG$32,AJ20,COUNTIF(AJ$9:AJ$38,AJ20)+2)","v":0},null,{"$f":"AA347","v":180},{"$f":"RANK(AM20,AM$9:AM$38,1)+COUNTIF(AM$9:$AM20,AM20)-1","v":12},1,{"$f":"IF(ISBLANK($C20),0,1)*INDEX('Allocation Points'!$B$3:$AG$32,AO20,COUNTIF(AO$9:AO$38,AO20)+2)","v":0}]
[null,13,null,null,20,null,10,10,10,10,10,10,10,10,10,90,10,10,10,10,10,10,10,10,10,90,180,null,{"$f":"$AA$371","v":0},{"$f":"RANK(AC21,AC$9:AC$38,0)+COUNTIF(AC$9:$AC21,AC21)-1","v":13},1,{"$f":"IF(ISBLANK($C21),0,1)*INDEX('Allocation Points'!$B$3:$AG$32,AE21,COUNTIF(AE$9:AE$38,AE21)+2)","v":0},null,{"$f":"AA372","v":0},{"$f":"RANK(AH21,AH$9:AH$38,0)+COUNTIF(AH$9:$AH21,AH21)-1","v":13},1,{"$f":"IF(ISBLANK($C21),0,1)*INDEX('Allocation Points'!$B$3:$AG$32,AJ21,COUNTIF(AJ$9:AJ$38,AJ21)+2)","v":0},null,{"$f":"AA370","v":180},{"$f":"RANK(AM21,AM$9:AM$38,1)+COUNTIF(AM$9:$AM21,AM21)-1","v":13},1,{"$f":"IF(ISBLANK($C21),0,1)*INDEX('Allocation Points'!$B$3:$AG$32,AO21,COUNTIF(AO$9:AO$38,AO21)+2)","v":0}]
[null,14,null,null,20,null,10,10,10,10,10,10,10,10,10,90,10,10,10,10,10,10,10,10,10,90,180,null,{"$f":"$AA$394","v":0},{"$f":"RANK(AC22,AC$9:AC$38,0)+COUNTIF(AC$9:$AC22,AC22)-1","v":14},1,{"$f":"IF(ISBLANK($C22),0,1)*INDEX('Allocation Points'!$B$3:$AG$32,AE22,COUNTIF(AE$9:AE$38,AE22)+2)","v":0},null,{"$f":"AA395","v":0},{"$f":"RANK(AH22,AH$9:AH$38,0)+COUNTIF(AH$9:$AH22,AH22)-1","v":14},1,{"$f":"IF(ISBLANK($C22),0,1)*INDEX('Allocation Points'!$B$3:$AG$32,AJ22,COUNTIF(AJ$9:AJ$38,AJ22)+2)","v":0},null,{"$f":"AA393","v":180},{"$f":"RANK(AM22,AM$9:AM$38,1)+COUNTIF(AM$9:$AM22,AM22)-1","v":14},1,{"$f":"IF(ISBLANK($C22),0,1)*INDEX('Allocation Points'!$B$3:$AG$32,AO22,COUNTIF(AO$9:AO$38,AO22)+2)","v":0}]
[null,15,null,null,20,null,10,10,10,10,10,10,10,10,10,90,10,10,10,10,10,10,10,10,10,90,180,null,{"$f":"$AA$417","v":0},{"$f":"RANK(AC23,AC$9:AC$38,0)+COUNTIF(AC$9:$AC23,AC23)-1","v":15},1,{"$f":"IF(ISBLANK($C23),0,1)*INDEX('Allocation Points'!$B$3:$AG$32,AE23,COUNTIF(AE$9:AE$38,AE23)+2)","v":0},null,{"$f":"AA418","v":0},{"$f":"RANK(AH23,AH$9:AH$38,0)+COUNTIF(AH$9:$AH23,AH23)-1","v":15},1,{"$f":"IF(ISBLANK($C23),0,1)*INDEX('Allocation Points'!$B$3:$AG$32,AJ23,COUNTIF(AJ$9:AJ$38,AJ23)+2)","v":0},null,{"$f":"AA416","v":180},{"$f":"RANK(AM23,AM$9:AM$38,1)+COUNTIF(AM$9:$AM23,AM23)-1","v":15},1,{"$f":"IF(ISBLANK($C23),0,1)*INDEX('Allocation Points'!$B$3:$AG$32,AO23,COUNTIF(AO$9:AO$38,AO23)+2)","v":0}]
[null,16,null,null,20,null,10,10,10,10,10,10,10,10,10,90,10,10,10,10,10,10,10,10,10,90,180,null,{"$f":"$AA$440","v":0},{"$f":"RANK(AC24,AC$9:AC$38,0)+COUNTIF(AC$9:$AC24,AC24)-1","v":16},1,{"$f":"IF(ISBLANK($C24),0,1)*INDEX('Allocation Points'!$B$3:$AG$32,AE24,COUNTIF(AE$9:AE$38,AE24)+2)","v":0},null,{"$f":"AA441","v":0},{"$f":"RANK(AH24,AH$9:AH$38,0)+COUNTIF(AH$9:$AH24,AH24)-1","v":16},1,{"$f":"IF(ISBLANK($C24),0,1)*INDEX('Allocation Points'!$B$3:$AG$32,AJ24,COUNTIF(AJ$9:AJ$38,AJ24)+2)","v":0},null,{"$f":"AA439","v":180},{"$f":"RANK(AM24,AM$9:AM$38,1)+COUNTIF(AM$9:$AM24,AM24)-1","v":16},1,{"$f":"IF(ISBLANK($C24),0,1)*INDEX('Allocation Points'!$B$3:$AG$32,AO24,COUNTIF(AO$9:AO$38,AO24)+2)","v":0}]
[null,17,null,null,20,null,10,10,10,10,10,10,10,10,10,90,10,10,10,10,10,10,10,10,10,90,180,null,{"$f":"$AA$463","v":0},{"$f":"RANK(AC25,AC$9:AC$38,0)+COUNTIF(AC$9:$AC25,AC25)-1","v":17},1,{"$f":"IF(ISBLANK($C25),0,1)*INDEX('Allocation Points'!$B$3:$AG$32,AE25,COUNTIF(AE$9:AE$38,AE25)+2)","v":0},null,{"$f":"AA464","v":0},{"$f":"RANK(AH25,AH$9:AH$38,0)+COUNTIF(AH$9:$AH25,AH25)-1","v":17},1,{"$f":"IF(ISBLANK($C25),0,1)*INDEX('Allocation Points'!$B$3:$AG$32,AJ25,COUNTIF(AJ$9:AJ$38,AJ25)+2)","v":0},null,{"$f":"AA462","v":180},{"$f":"RANK(AM25,AM$9:AM$38,1)+COUNTIF(AM$9:$AM25,AM25)-1","v":17},1,{"$f":"IF(ISBLANK($C25),0,1)*INDEX('Allocation Points'!$B$3:$AG$32,AO25,COUNTIF(AO$9:AO$38,AO25)+2)","v":0}]
[null,18,null,null,20,null,10,10,10,10,10,10,10,10,10,90,10,10,10,10,10,10,10,10,10,90,180,null,{"$f":"$AA$486","v":0},{"$f":"RANK(AC26,AC$9:AC$38,0)+COUNTIF(AC$9:$AC26,AC26)-1","v":18},1,{"$f":"IF(ISBLANK($C26),0,1)*INDEX('Allocation Points'!$B$3:$AG$32,AE26,COUNTIF(AE$9:AE$38,AE26)+2)","v":0},null,{"$f":"AA487","v":0},{"$f":"RANK(AH26,AH$9:AH$38,0)+COUNTIF(AH$9:$AH26,AH26)-1","v":18},1,{"$f":"IF(ISBLANK($C26),0,1)*INDEX('Allocation Points'!$B$3:$AG$32,AJ26,COUNTIF(AJ$9:AJ$38,AJ26)+2)","v":0},null,{"$f":"AA485","v":180},{"$f":"RANK(AM26,AM$9:AM$38,1)+COUNTIF(AM$9:$AM26,AM26)-1","v":18},1,{"$f":"IF(ISBLANK($C26),0,1)*INDEX('Allocation Points'!$B$3:$AG$32,AO26,COUNTIF(AO$9:AO$38,AO26)+2)","v":0}]
[null,19,null,null,20,null,10,10,10,10,10,10,10,10,10,90,10,10,10,10,10,10,10,10,10,90,180,null,{"$f":"$AA$509","v":0},{"$f":"RANK(AC27,AC$9:AC$38,0)+COUNTIF(AC$9:$AC27,AC27)-1","v":19},1,{"$f":"IF(ISBLANK($C27),0,1)*INDEX('Allocation Points'!$B$3:$AG$32,AE27,COUNTIF(AE$9:AE$38,AE27)+2)","v":0},null,{"$f":"AA510","v":0},{"$f":"RANK(AH27,AH$9:AH$38,0)+COUNTIF(AH$9:$AH27,AH27)-1","v":19},1,{"$f":"IF(ISBLANK($C27),0,1)*INDEX('Allocation Points'!$B$3:$AG$32,AJ27,COUNTIF(AJ$9:AJ$38,AJ27)+2)","v":0},null,{"$f":"AA508","v":180},{"$f":"RANK(AM27,AM$9:AM$38,1)+COUNTIF(AM$9:$AM27,AM27)-1","v":19},1,{"$f":"IF(ISBLANK($C27),0,1)*INDEX('Allocation Points'!$B$3:$AG$32,AO27,COUNTIF(AO$9:AO$38,AO27)+2)","v":0}]
[null,20,null,null,20,null,10,10,10,10,10,10,10,10,10,90,10,10,10,10,10,10,10,10,10,90,180,null,{"$f":"$AA$532","v":0},{"$f":"RANK(AC28,AC$9:AC$38,0)+COUNTIF(AC$9:$AC28,AC28)-1","v":20},1,{"$f":"IF(ISBLANK($C28),0,1)*INDEX('Allocation Points'!$B$3:$AG$32,AE28,COUNTIF(AE$9:AE$38,AE28)+2)","v":0},null,{"$f":"AA533","v":0},{"$f":"RANK(AH28,AH$9:AH$38,0)+COUNTIF(AH$9:$AH28,AH28)-1","v":20},1,{"$f":"IF(ISBLANK($C28),0,1)*INDEX('Allocation Points'!$B$3:$AG$32,AJ28,COUNTIF(AJ$9:AJ$38,AJ28)+2)","v":0},null,{"$f":"AA531","v":180},{"$f":"RANK(AM28,AM$9:AM$38,1)+COUNTIF(AM$9:$AM28,AM28)-1","v":20},1,{"$f":"IF(ISBLANK($C28),0,1)*INDEX('Allocation Points'!$B$3:$AG$32,AO28,COUNTIF(AO$9:AO$38,AO28)+2)","v":0}]
[null,21,null,null,20,null,10,10,10,10,10,10,10,10,10,90,10,10,10,10,10,10,10,10,10,90,180,null,{"$f":"$AA$555","v":0},{"$f":"RANK(AC29,AC$9:AC$38,0)+COUNTIF(AC$9:$AC29,AC29)-1","v":21},1,{"$f":"IF(ISBLANK($C29),0,1)*INDEX('Allocation Points'!$B$3:$AG$32,AE29,COUNTIF(AE$9:AE$38,AE29)+2)","v":0},null,{"$f":"AA556","v":0},{"$f":"RANK(AH29,AH$9:AH$38,0)+COUNTIF(AH$9:$AH29,AH29)-1","v":21},1,{"$f":"IF(ISBLANK($C29),0,1)*INDEX('Allocation Points'!$B$3:$AG$32,AJ29,COUNTIF(AJ$9:AJ$38,AJ29)+2)","v":0},null,{"$f":"AA554","v":180},{"$f":"RANK(AM29,AM$9:AM$38,1)+COUNTIF(AM$9:$AM29,AM29)-1","v":21},1,{"$f":"IF(ISBLANK($C29),0,1)*INDEX('Allocation Points'!$B$3:$AG$32,AO29,COUNTIF(AO$9:AO$38,AO29)+2)","v":0}]
[null,22,null,null,20,null,10,10,10,10,10,10,10,10,10,90,10,10,10,10,10,10,10,10,10,90,180,null,{"$f":"$AA$578","v":0},{"$f":"RANK(AC30,AC$9:AC$38,0)+COUNTIF(AC$9:$AC30,AC30)-1","v":22},1,{"$f":"IF(ISBLANK($C30),0,1)*INDEX('Allocation Points'!$B$3:$AG$32,AE30,COUNTIF(AE$9:AE$38,AE30)+2)","v":0},null,{"$f":"AA579","v":0},{"$f":"RANK(AH30,AH$9:AH$38,0)+COUNTIF(AH$9:$AH30,AH30)-1","v":22},1,{"$f":"IF(ISBLANK($C30),0,1)*INDEX('Allocation Points'!$B$3:$AG$32,AJ30,COUNTIF(AJ$9:AJ$38,AJ30)+2)","v":0},null,{"$f":"AA577","v":180},{"$f":"RANK(AM30,AM$9:AM$38,1)+COUNTIF(AM$9:$AM30,AM30)-1","v":22},1,{"$f":"IF(ISBLANK($C30),0,1)*INDEX('Allocation Points'!$B$3:$AG$32,AO30,COUNTIF(AO$9:AO$38,AO30)+2)","v":0}]
[null,23,null,null,20,null,10,10,10,10,10,10,10,10,10,90,10,10,10,10,10,10,10,10,10,90,180,null,{"$f":"$AA$601","v":0},{"$f":"RANK(AC31,AC$9:AC$38,0)+COUNTIF(AC$9:$AC31,AC31)-1","v":23},1,{"$f":"IF(ISBLANK($C31),0,1)*INDEX('Allocation Points'!$B$3:$AG$32,AE31,COUNTIF(AE$9:AE$38,AE31)+2)","v":0},null,{"$f":"AA602","v":0},{"$f":"RANK(AH31,AH$9:AH$38,0)+COUNTIF(AH$9:$AH31,AH31)-1","v":23},1,{"$f":"IF(ISBLANK($C31),0,1)*INDEX('Allocation Points'!$B$3:$AG$32,AJ31,COUNTIF(AJ$9:AJ$38,AJ31)+2)","v":0},null,{"$f":"AA600","v":180},{"$f":"RANK(AM31,AM$9:AM$38,1)+COUNTIF(AM$9:$AM31,AM31)-1","v":23},1,{"$f":"IF(ISBLANK($C31),0,1)*INDEX('Allocation Points'!$B$3:$AG$32,AO31,COUNTIF(AO$9:AO$38,AO31)+2)","v":0}]
[null,24,null,null,20,null,10,10,10,10,10,10,10,10,10,90,10,10,10,10,10,10,10,10,10,90,180,null,{"$f":"$AA$624","v":0},{"$f":"RANK(AC32,AC$9:AC$38,0)+COUNTIF(AC$9:$AC32,AC32)-1","v":24},1,{"$f":"IF(ISBLANK($C32),0,1)*INDEX('Allocation Points'!$B$3:$AG$32,AE32,COUNTIF(AE$9:AE$38,AE32)+2)","v":0},null,{"$f":"AA625","v":0},{"$f":"RANK(AH32,AH$9:AH$38,0)+COUNTIF(AH$9:$AH32,AH32)-1","v":24},1,{"$f":"IF(ISBLANK($C32),0,1)*INDEX('Allocation Points'!$B$3:$AG$32,AJ32,COUNTIF(AJ$9:AJ$38,AJ32)+2)","v":0},null,{"$f":"AA623","v":180},{"$f":"RANK(AM32,AM$9:AM$38,1)+COUNTIF(AM$9:$AM32,AM32)-1","v":24},1,{"$f":"IF(ISBLANK($C32),0,1)*INDEX('Allocation Points'!$B$3:$AG$32,AO32,COUNTIF(AO$9:AO$38,AO32)+2)","v":0}]
[null,25,null,null,20,null,10,10,10,10,10,10,10,10,10,90,10,10,10,10,10,10,10,10,10,90,180,null,{"$f":"$AA$647","v":0},{"$f":"RANK(AC33,AC$9:AC$38,0)+COUNTIF(AC$9:$AC33,AC33)-1","v":25},1,{"$f":"IF(ISBLANK($C33),0,1)*INDEX('Allocation Points'!$B$3:$AG$32,AE33,COUNTIF(AE$9:AE$38,AE33)+2)","v":0},null,{"$f":"AA648","v":0},{"$f":"RANK(AH33,AH$9:AH$38,0)+COUNTIF(AH$9:$AH33,AH33)-1","v":25},1,{"$f":"IF(ISBLANK($C33),0,1)*INDEX('Allocation Points'!$B$3:$AG$32,AJ33,COUNTIF(AJ$9:AJ$38,AJ33)+2)","v":0},null,{"$f":"AA646","v":180},{"$f":"RANK(AM33,AM$9:AM$38,1)+COUNTIF(AM$9:$AM33,AM33)-1","v":25},1,{"$f":"IF(ISBLANK($C33),0,1)*INDEX('Allocation Points'!$B$3:$AG$32,AO33,COUNTIF(AO$9:AO$38,AO33)+2)","v":0}]
[null,26,null,null,20,null,10,10,10,10,10,10,10,10,10,90,10,10,10,10,10,10,10,10,10,90,180,null,{"$f":"$AA$670","v":0},{"$f":"RANK(AC34,AC$9:AC$38,0)+COUNTIF(AC$9:$AC34,AC34)-1","v":26},1,{"$f":"IF(ISBLANK($C34),0,1)*INDEX('Allocation Points'!$B$3:$AG$32,AE34,COUNTIF(AE$9:AE$38,AE34)+2)","v":0},null,{"$f":"AA671","v":0},{"$f":"RANK(AH34,AH$9:AH$38,0)+COUNTIF(AH$9:$AH34,AH34)-1","v":26},1,{"$f":"IF(ISBLANK($C34),0,1)*INDEX('Allocation Points'!$B$3:$AG$32,AJ34,COUNTIF(AJ$9:AJ$38,AJ34)+2)","v":0},null,{"$f":"AA669","v":180},{"$f":"RANK(AM34,AM$9:AM$38,1)+COUNTIF(AM$9:$AM34,AM34)-1","v":26},1,{"$f":"IF(ISBLANK($C34),0,1)*INDEX('Allocation Points'!$B$3:$AG$32,AO34,COUNTIF(AO$9:AO$38,AO34)+2)","v":0}]
[null,27,null,null,20,null,10,10,10,10,10,10,10,10,10,90,10,10,10,10,10,10,10,10,10,90,180,null,{"$f":"$AA$693","v":0},{"$f":"RANK(AC35,AC$9:AC$38,0)+COUNTIF(AC$9:$AC35,AC35)-1","v":27},1,{"$f":"IF(ISBLANK($C35),0,1)*INDEX('Allocation Points'!$B$3:$AG$32,AE35,COUNTIF(AE$9:AE$38,AE35)+2)","v":0},null,{"$f":"AA694","v":0},{"$f":"RANK(AH35,AH$9:AH$38,0)+COUNTIF(AH$9:$AH35,AH35)-1","v":27},1,{"$f":"IF(ISBLANK($C35),0,1)*INDEX('Allocation Points'!$B$3:$AG$32,AJ35,COUNTIF(AJ$9:AJ$38,AJ35)+2)","v":0},null,{"$f":"AA692","v":180},{"$f":"RANK(AM35,AM$9:AM$38,1)+COUNTIF(AM$9:$AM35,AM35)-1","v":27},1,{"$f":"IF(ISBLANK($C35),0,1)*INDEX('Allocation Points'!$B$3:$AG$32,AO35,COUNTIF(AO$9:AO$38,AO35)+2)","v":0}]
[null,28,null,null,20,null,10,10,10,10,10,10,10,10,10,90,10,10,10,10,10,10,10,10,10,90,180,null,{"$f":"$AA$716","v":0},{"$f":"RANK(AC36,AC$9:AC$38,0)+COUNTIF(AC$9:$AC36,AC36)-1","v":28},1,{"$f":"IF(ISBLANK($C36),0,1)*INDEX('Allocation Points'!$B$3:$AG$32,AE36,COUNTIF(AE$9:AE$38,AE36)+2)","v":0},null,{"$f":"AA717","v":0},{"$f":"RANK(AH36,AH$9:AH$38,0)+COUNTIF(AH$9:$AH36,AH36)-1","v":28},1,{"$f":"IF(ISBLANK($C36),0,1)*INDEX('Allocation Points'!$B$3:$AG$32,AJ36,COUNTIF(AJ$9:AJ$38,AJ36)+2)","v":0},null,{"$f":"AA715","v":180},{"$f":"RANK(AM36,AM$9:AM$38,1)+COUNTIF(AM$9:$AM36,AM36)-1","v":28},1,{"$f":"IF(ISBLANK($C36),0,1)*INDEX('Allocation Points'!$B$3:$AG$32,AO36,COUNTIF(AO$9:AO$38,AO36)+2)","v":0}]
[null,29,null,null,20,null,10,10,10,10,10,10,10,10,10,90,10,10,10,10,10,10,10,10,10,90,180,null,{"$f":"$AA$739","v":0},{"$f":"RANK(AC37,AC$9:AC$38,0)+COUNTIF(AC$9:$AC37,AC37)-1","v":29},1,{"$f":"IF(ISBLANK($C37),0,1)*INDEX('Allocation Points'!$B$3:$AG$32,AE37,COUNTIF(AE$9:AE$38,AE37)+2)","v":0},null,{"$f":"AA740","v":0},{"$f":"RANK(AH37,AH$9:AH$38,0)+COUNTIF(AH$9:$AH37,AH37)-1","v":29},1,{"$f":"IF(ISBLANK($C37),0,1)*INDEX('Allocation Points'!$B$3:$AG$32,AJ37,COUNTIF(AJ$9:AJ$38,AJ37)+2)","v":0},null,{"$f":"AA738","v":180},{"$f":"RANK(AM37,AM$9:AM$38,1)+COUNTIF(AM$9:$AM37,AM37)-1","v":29},1,{"$f":"IF(ISBLANK($C37),0,1)*INDEX('Allocation Points'!$B$3:$AG$32,AO37,COUNTIF(AO$9:AO$38,AO37)+2)","v":0}]
[null,30,null,null,20,null,10,10,10,10,10,10,10,10,10,90,10,10,10,10,10,10,10,10,10,90,180,null,{"$f":"$AA$762","v":0},{"$f":"RANK(AC38,AC$9:AC$38,0)+COUNTIF(AC$9:$AC38,AC38)-1","v":30},1,{"$f":"IF(ISBLANK($C38),0,1)*INDEX('Allocation Points'!$B$3:$AG$32,AE38,COUNTIF(AE$9:AE$38,AE38)+2)","v":0},null,{"$f":"AA763","v":0},{"$f":"RANK(AH38,AH$9:AH$38,0)+COUNTIF(AH$9:$AH38,AH38)-1","v":30},1,{"$f":"IF(ISBLANK($C38),0,1)*INDEX('Allocation Points'!$B$3:$AG$32,AJ38,COUNTIF(AJ$9:AJ$38,AJ38)+2)","v":0},null,{"$f":"AA761","v":180},{"$f":"RANK(AM38,AM$9:AM$38,1)+COUNTIF(AM$9:$AM38,AM38)-1","v":30},1,{"$f":"IF(ISBLANK($C38),0,1)*INDEX('Allocation Points'!$B$3:$AG$32,AO38,COUNTIF(AO$9:AO$38,AO38)+2)","v":0}]
[]
[]
[null,null,null,null,null,null,null,"CLASSEMENT"]
[]
[]
[]
[null,null,"NET",null,null,null,null,null,null,"BRUT",null,null,null,null,null,null,null,null,null,null,null,"STROKE"]
[]
[null,null,"Noms","Prénoms","NET",null,null,null,null,"Noms",null,null,null,"Prénoms",null,null,"BRUT",null,null,null,null,"Noms",null,null,null,"Prénoms",null,"STROKE"]
[null,1,{"$f":"INDEX($C$9:$AN$38,MATCH(B48,$AD$9:$AD$38,0),1)","v":0},{"$f":"INDEX($C$9:$AN$38,MATCH(B48,$AD$9:$AD$38,0),2)","v":0},{"$f":"INDEX($C$9:$AN$38,MATCH(B48,$AD$9:$AD$38,0),27)","v":0},null,null,null,1,{"$f":"INDEX($C$9:$AN$38,MATCH(I48,$AI$9:$AI$38,0),1)","v":0},null,null,null,{"$f":"INDEX($C$9:$AN$38,MATCH(I48,$AI$9:$AI$38,0),2)","v":0},null,null,{"$f":"INDEX($C$9:$AN$38,MATCH(I48,$AI$9:$AI$38,0),32)","v":0},null,null,null,1,{"$f":"INDEX($C$9:$AN$38,MATCH(U48,$AN$9:$AN$38,0),1)","v":0},null,null,null,{"$f":"INDEX($C$9:$AN$38,MATCH(U48,$AN$9:$AN$38,0),2)","v":0},null,{"$f":"INDEX($C$9:$AN$38,MATCH(U48,$AN$9:$AN$38,0),37)","v":180}]
[null,2,0,0,0,null,null,null,2,0,null,null,null,0,null,null,{"$f":"INDEX($C$9:$AN$38,MATCH(I49,$AI$9:$AI$38,0),32)","v":0},null,null,null,2,0,null,null,null,0,null,{"$f":"INDEX($C$9:$AN$38,MATCH(U49,$AN$9:$AN$38,0),37)","v":180}]
[null,3,0,0,0,null,null,null,3,0,null,null,null,0,null,null,0,null,null,null,3,0,null,null,null,0,null,180]
[null,4,0,0,0,null,null,null,4,0,null,null,null,0,null,null,0,null,null,null,4,0,null,null,null,0,null,180]
[null,5,0,0,0,null,null,null,5,0,null,null,null,0,null,null,0,null,null,null,5,0,null,null,null,0,null,180]
[null,6,0,0,0,null,null,null,6,0,null,null,null,0,null,null,0,null,null,null,6,0,null,null,null,0,null,180]
[null,7,0,0,0,null,null,null,7,0,null,null,null,0,null,null,0,null,null,null,7,0,null,null,null,0,null,180]
[null,8,0,0,0,null,null,null,8,0,null,null,null,0,null,null,0,null,null,null,8,0,null,null,null,0,null,180]
[null,9,0,0,0,null,null,null,9,0,null,null,null,0,null,null,0,null,null,null,9,0,null,null,null,0,null,180]
[null,10,0,0,0,null,null,null,10,0,null,null,null,0,null,null,0,null,null,null,10,0,null,null,null,0,null,180]
[null,11,0,0,0,null,null,null,11,0,null,null,null,0,null,null,0,null,null,null,11,0,null,null,null,0,null,180]
[null,12,0,0,0,null,null,null,12,0,null,null,null,0,null,null,0,null,null,null,12,0,null,null,null,0,null,180]
[null,13,0,0,0,null,null,null,13,0,null,null,null,0,null,null,0,null,null,null,13,0,null,null,null,0,null,180]
[null,14,0,0,0,null,null,null,14,0,null,null,null,0,null,null,0,null,null,null,14,0,null,null,null,0,null,180]
[null,15,0,0,0,null,null,null,15,0,null,null,null,0,null,null,0,null,null,null,15,0,null,null,null,0,null,180]
[null,16,0,0,0,null,null,null,16,0,null,null,null,0,null,null,0,null,null,null,16,0,null,null,null,0,null,180]
[null,17,0,0,0,null,null,null,17,0,null,null,null,0,null,null,0,null,null,null,17,0,null,null,null,0,null,180]
[null,18,0,0,0,null,null,null,18,0,null,null,null,0,null,null,0,null,null,null,18,0,null,null,null,0,null,180]
[null,19,0,0,0,null,null,null,19,0,null,null,null,0,null,null,0,null,null,null,19,0,null,null,null,0,null,180]
[null,20,0,0,0,null,null,null,20,0,null,null,null,0,null,null,0,null,null,null,20,0,null,null,null,0,null,180]
[null,21,0,0,0,null,null,null,21,0,null,null,null,0,null,null,0,null,null,null,21,0,null,null,null,0,null,180]
[null,22,0,0,0,null,null,null,22,0,null,null,null,0,null,null,0,null,null,null,22,0,null,null,null,0,null,180]
[null,23,0,0,0,null,null,null,23,0,null,null,null,0,null,null,0,null,null,null,23,0,null,null,null,0,null,180]
[null,24,0,0,0,null,null,null,24,0,null,null,null,0,null,null,0,null,null,null,24,0,null,null,null,0,null,180]
[null,25,0,0,0,null,null,null,25,0,null,null,null,0,null,null,0,null,null,null,25,0,null,null,null,0,null,180]
[null,26,0,0,0,null,null,null,26,0,null,null,null,0,null,null,0,null,null,null,26,0,null,null,null,0,null,180]
[null,27,0,0,0,null,null,null,27,0,null,null,null,0,null,null,0,null,null,null,27,0,null,null,null,0,null,180]
[null,28,0,0,0,null,null,null,28,0,null,null,null,0,null,null,0,null,null,null,28,0,null,null,null,0,null,180]
[null,29,0,0,0,null,null,null,29,0,null,null,null,0,null,null,0,null,null,null,29,0,null,null,null,0,null,180]
[null,30,0,0,0,null,null,null,30,0,null,null,null,0,null,null,0,null,null,null,30,0,null,null,null,0,null,180]
[]
[]
[]
[null,null,null,null,null,null,null,"STATISTIQUES INDIVIDUELLES"]
[]
[]
[]
[]
[]
[null,null,null,null,null,"Nom",{"$f":"C9","v":0},null,null,null,null,"Slope",null,null,"SSS",null,"Coups reçus",null,null,null,null,null,null,null,null,"Date",{"$f":"$D$3","v":"00:00:00"}]
[null,null,null,null,null,"Index",{"$f":"E9","v":20},null,null,null,null,{"$f":"$F$3","v":133},null,null,{"$f":"$G$3","v":68.599999999999994},null,{"$f":"ROUND((G88*(L88/113)+(O88-AA91)),0)","v":20}]
[]
[null,null,null,null,null,"Trou",1,2,3,4,5,6,7,8,9,"Aller",10,11,12,13,14,15,16,17,18,"Retour","Total"]
[null,null,null,null,null,"PAR",{"$f":"G$7","v":4},{"$f":"H$7","v":4},5,4,3,5,3,5,3,{"$f":"SUM(G91:O91)","v":36},{"$f":"Q$7","v":4},4,3,5,3,4,4,5,4,{"$f":"SUM(Q91:Y91)","v":36},{"$f":"SUM(P91+Z91)","v":72}]
[null,null,null,null,null,"HCP trous",{"$f":"G$8","v":4},{"$f":"H$8","v":8},12,14,2,10,18,16,6,null,{"$f":"Q$8","v":1},9,11,5,17,15,3,13,7]
[null,null,null,null,null,"Coups reçus",{"$f":"IF($Q88<=18,IF(G92<=$Q88,1,0),IF($Q88<=36,IF(G92<=($Q88-18),2,1),IF($Q88>36,IF(G92<=($Q88-36),3,2))))","v":1},{"$f":"IF($Q88<=18,IF(H92<=$Q88,1,0),IF($Q88<=36,IF(H92<=($Q88-18),2,1),IF($Q88>36,IF(H92<=($Q88-36),3,2))))","v":1},1,1,2,1,1,1,1,{"$f":"SUM(G93:O93)","v":10},{"$f":"IF($Q88<=18,IF(Q92<=$Q88,1,0),IF($Q88<=36,IF(Q92<=($Q88-18),2,1),IF($Q88>36,IF(Q92<=($Q88-36),3,2))))","v":2},1,1,1,1,1,1,1,1,{"$f":"SUM(Q93:Y93)","v":10},{"$f":"P93+Z93","v":20}]
[null,null,null,null,null,"Stroke play",{"$f":"G9","v":10},10,10,10,10,10,10,10,10,{"$f":"SUM(G94:O94)","v":90},{"$f":"Q9","v":10},10,10,10,10,10,10,10,10,{"$f":"SUM(Q94:Y94)","v":90},{"$f":"P94+Z94","v":180}]
[null,null,null,null,null,"Net Stableford",{"$f":"IF(G94-G91=-1,3+G93)+IF(G94-G91=0,2+G93)+IF(G94-G91=1,1+G93)+IF(G94-G91=2,G93)+IF(G94-G91=3,IF(G93-1>0,G93-1,0))+IF(G94-G91=4,IF(G93-2>0,G93-2,0))","v":0},{"$f":"IF(H94-H91=-1,3+H93)+IF(H94-H91=0,2+H93)+IF(H94-H91=1,1+H93)+IF(H94-H91=2,H93)+IF(H94-H91=3,IF(H93-1>0,H93-1,0))+IF(H94-H91=4,IF(H93-2>0,H93-2,0))","v":0},0,0,0,0,0,0,0,{"$f":"SUM(G95:O95)","v":0},{"$f":"IF(Q94-Q91=-1,3+Q93)+IF(Q94-Q91=0,2+Q93)+IF(Q94-Q91=1,1+Q93)+IF(Q94-Q91=2,Q93)+IF(Q94-Q91=3,IF(Q93-1>0,Q93-1,0))+IF(Q94-Q91=4,IF(Q93-2>0,Q93-2,0))","v":0},0,0,0,0,0,0,0,0,{"$f":"SUM(Q95:Y95)","v":0},{"$f":"P95+Z95","v":0}]
[null,null,null,null,null,"Score Brut",{"$f":"IF(G94-G91=-2,4)+IF(G94-G91=-1,3)+IF(G94-G91=0,2)+IF(G94-G91=1,1)+IF(G94-G91>2,0)","v":0},0,0,0,0,0,0,0,0,{"$f":"SUM(G96:O96)","v":0},{"$f":"IF(Q94-Q91=-2,4)+IF(Q94-Q91=-1,3)+IF(Q94-Q91=0,2)+IF(Q94-Q91=1,1)+IF(Q94-Q91>2,0)","v":0},0,0,0,0,0,0,0,0,{"$f":"SUM(Q96:Y96)","v":0},{"$f":"P96+Z96","v":0}]
[null,null,null,null,null,null,{"$f":"G94-G91","v":6},{"$f":"H94-H91","v":6},5,6,7,5,7,5,7,null,{"$f":"Q94-Q91","v":6},6,7,5,7,6,6,5,6]
[]
[]
[null,null,null,null,null,"Statistiques scores",null,"Eagle & moins",null,null,null,{"$f":"COUNTIF(G97:Y97,\"<=-2\")","v":0},"Par",null,{"$f":"COUNTIF(G97:Y97,\"=0\")","v":0},"Double bogey",null,null,null,null,{"$f":"COUNTIF(G97:Y97,\"=2\")","v":0}]
[null,null,null,null,null,null,null,"Birdie",null,null,null,{"$f":"COUNTIF(G97:Y97,\"=-1\")","v":0},"Bogey",null,{"$f":"COUNTIF(G97:Y97,\"=1\")","v":0},"Triple bogey & plus",null,null,null,null,{"$f":"COUNTIF(G97:Y97,\">=3\")","v":18}]
[null,null,null,null,null,null,null,{"$f":"M100","v":"Par"},null,null,null,{"$f":"O100","v":0}]
[null,null,null,null,null,null,null,{"$f":"M101","v":"Bogey"},null,null,null,{"$f":"O101","v":0}]
[null,null,null,null,null,null,null,{"$f":"P100","v":"Double bogey"},null,null,null,{"$f":"U100","v":0}]
[null,null,null,null,null,null,null,{"$f":"P101","v":"Triple bogey & plus"},null,null,null,{"$f":"U101","v":18}]
[]
[]
[]
[]
[null,null,null,null,null,"Nom",{"$f":"C10","v":0},null,null,null,null,"Slope",null,null,"SSS",null,"Coups reçus",null,null,null,null,null,null,null,null,"Date",{"$f":"$D$3","v":"00:00:00"}]
[null,null,null,null,null,"Index",{"$f":"E10","v":20},null,null,null,null,{"$f":"$F$3","v":133},null,null,{"$f":"$G$3","v":68.599999999999994},null,{"$f":"ROUND((G111*(L111/113)+(O111-AA114)),0)","v":20}]
[]
[null,null,null,null,null,"Trou",1,2,3,4,5,6,7,8,9,"Aller",10,11,12,13,14,15,16,17,18,"Retour","Total"]
[null,null,null,null,null,"PAR",{"$f":"G$7","v":4},{"$f":"H$7","v":4},5,4,3,5,3,5,3,{"$f":"SUM(G114:O114)","v":36},{"$f":"Q$7","v":4},4,3,5,3,4,4,5,4,{"$f":"SUM(Q114:Y114)","v":36},{"$f":"SUM(P114+Z114)","v":72}]
[null,null,null,null,null,"HCP trous",{"$f":"G$8","v":4},{"$f":"H$8","v":8},12,14,2,10,18,16,6,null,{"$f":"Q$8","v":1},9,11,5,17,15,3,13,7]
[null,null,null,null,null,"Coups reçus",{"$f":"IF($Q111<=18,IF(G115<=$Q111,1,0),IF($Q111<=36,IF(G115<=($Q111-18),2,1),IF($Q111>36,IF(G115<=($Q111-36),3,2))))","v":1},{"$f":"IF($Q111<=18,IF(H115<=$Q111,1,0),IF($Q111<=36,IF(H115<=($Q111-18),2,1),IF($Q111>36,IF(H115<=($Q111-36),3,2))))","v":1},1,1,2,1,1,1,1,{"$f":"SUM(G116:O116)","v":10},{"$f":"IF($Q111<=18,IF(Q115<=$Q111,1,0),IF($Q111<=36,IF(Q115<=($Q111-18),2,1),IF($Q111>36,IF(Q115<=($Q111-36),3,2))))","v":2},1,1,1,1,1,1,1,1,{"$f":"SUM(Q116:Y116)","v":10},{"$f":"P116+Z116","v":20}]
[null,null,null,null,null,"Stroke play",{"$f":"G10","v":10},10,10,10,10,10,10,10,10,{"$f":"SUM(G117:O117)","v":90},{"$f":"Q10","v":10},10,10,10,10,10,10,10,10,{"$f":"SUM(Q117:Y117)","v":90},{"$f":"P117+Z117","v":180}]
[null,null,null,null,null,"Net Stableford",{"$f":"IF(G117-G114=-1,3+G116)+IF(G117-G114=0,2+G116)+IF(G117-G114=1,1+G116)+IF(G117-G114=2,G116)+IF(G117-G114=3,IF(G116-1>0,G116-1,0))+IF(G117-G114=4,IF(G116-2>0,G116-2,0))","v":0},{"$f":"IF(H117-H114=-1,3+H116)+IF(H117-H114=0,2+H116)+IF(H117-H114=1,1+H116)+IF(H117-H114=2,H116)+IF(H117-H114=3,IF(H116-1>0,H116-1,0))+IF(H117-H114=4,IF(H116-2>0,H116-2,0))","v":0},0,0,0,0,0,0,0,{"$f":"SUM(G118:O118)","v":0},{"$f":"IF(Q117-Q114=-1,3+Q116)+IF(Q117-Q114=0,2+Q116)+IF(Q117-Q114=1,1+Q116)+IF(Q117-Q114=2,Q116)+IF(Q117-Q114=3,IF(Q116-1>0,Q116-1,0))+IF(Q117-Q114=4,IF(Q116-2>0,Q116-2,0))","v":0},0,0,0,0,0,0,0,0,{"$f":"SUM(Q118:Y118)","v":0},{"$f":"P118+Z118","v":0}]
[null,null,null,null,null,"Score Brut",{"$f":"IF(G117-G114=-2,4)+IF(G117-G114=-1,3)+IF(G117-G114=0,2)+IF(G117-G114=1,1)+IF(G117-G114>2,0)","v":0},0,0,0,0,0,0,0,0,{"$f":"SUM(G119:O119)","v":0},{"$f":"IF(Q117-Q114=-2,4)+IF(Q117-Q114=-1,3)+IF(Q117-Q114=0,2)+IF(Q117-Q114=1,1)+IF(Q117-Q114>2,0)","v":0},0,0,0,0,0,0,0,0,{"$f":"SUM(Q119:Y119)","v":0},{"$f":"P119+Z119","v":0}]
[null,null,null,null,null,null,{"$f":"G117-G114","v":6},{"$f":"H117-H114","v":6},5,6,7,5,7,5,7,null,{"$f":"Q117-Q114","v":6},6,7,5,7,6,6,5,6]
[]
[]
[null,null,null,null,null,"Statistiques scores",null,"Eagle & moins",null,null,null,{"$f":"COUNTIF(G120:Y120,\"<=-2\")","v":0},"Par",null,{"$f":"COUNTIF(G120:Y120,\"=0\")","v":0},"Double bogey",null,null,null,null,{"$f":"COUNTIF(G120:Y120,\"=2\")","v":0}]
[null,null,null,null,null,null,null,"Birdie",null,null,null,{"$f":"COUNTIF(G120:Y120,\"=-1\")","v":0},"Bogey",null,{"$f":"COUNTIF(G120:Y120,\"=1\")","v":0},"Triple bogey & plus",null,null,null,null,{"$f":"COUNTIF(G120:Y120,\">=3\")","v":18}]
[null,null,null,null,null,null,null,{"$f":"M123","v":"Par"},null,null,null,{"$f":"O123","v":0}]
[null,null,null,null,null,null,null,{"$f":"M124","v":"Bogey"},null,null,null,{"$f":"O124","v":0}]
[null,null,null,null,null,null,null,{"$f":"P123","v":"Double bogey"},null,null,null,{"$f":"U123","v":0}]
[null,null,null,null,null,null,null,{"$f":"P124","v":"Triple bogey & plus"},null,null,null,{"$f":"U124","v":18}]
[]
[]
[]
[]
[null,null,null,null,null,"Nom",{"$f":"C11","v":0},null,null,null,null,"Slope",null,null,"SSS",null,"Coups reçus",null,null,null,null,null,null,null,null,"Date",{"$f":"$D$3","v":"00:00:00"}]
[null,null,null,null,null,"Index",{"$f":"E11","v":20},null,null,null,null,{"$f":"$F$3","v":133},null,null,{"$f":"$G$3","v":68.599999999999994},null,{"$f":"ROUND((G134*(L134/113)+(O134-AA137)),0)","v":20}]
[]
[null,null,null,null,null,"Trou",1,2,3,4,5,6,7,8,9,"Aller",10,11,12,13,14,15,16,17,18,"Retour","Total"]
[null,null,null,null,null,"PAR",{"$f":"G$7","v":4},{"$f":"H$7","v":4},5,4,3,5,3,5,3,{"$f":"SUM(G137:O137)","v":36},{"$f":"Q$7","v":4},4,3,5,3,4,4,5,4,{"$f":"SUM(Q137:Y137)","v":36},{"$f":"SUM(P137+Z137)","v":72}]
[null,null,null,null,null,"HCP trous",{"$f":"G$8","v":4},{"$f":"H$8","v":8},12,14,2,10,18,16,6,null,{"$f":"Q$8","v":1},9,11,5,17,15,3,13,7]
[null,null,null,null,null,"Coups reçus",{"$f":"IF($Q134<=18,IF(G138<=$Q134,1,0),IF($Q134<=36,IF(G138<=($Q134-18),2,1),IF($Q134>36,IF(G138<=($Q134-36),3,2))))","v":1},{"$f":"IF($Q134<=18,IF(H138<=$Q134,1,0),IF($Q134<=36,IF(H138<=($Q134-18),2,1),IF($Q134>36,IF(H138<=($Q134-36),3,2))))","v":1},1,1,2,1,1,1,1,{"$f":"SUM(G139:O139)","v":10},{"$f":"IF($Q134<=18,IF(Q138<=$Q134,1,0),IF($Q134<=36,IF(Q138<=($Q134-18),2,1),IF($Q134>36,IF(Q138<=($Q134-36),3,2))))","v":2},1,1,1,1,1,1,1,1,{"$f":"SUM(Q139:Y139)","v":10},{"$f":"P139+Z139","v":20}]
[null,null,null,null,null,"Stroke play",{"$f":"G11","v":10},10,10,10,10,10,10,10,10,{"$f":"SUM(G140:O140)","v":90},{"$f":"Q11","v":10},10,10,10,10,10,10,10,10,{"$f":"SUM(Q140:Y140)","v":90},{"$f":"P140+Z140","v":180}]
[null,null,null,null,null,"Net Stableford",{"$f":"IF(G140-G137=-1,3+G139)+IF(G140-G137=0,2+G139)+IF(G140-G137=1,1+G139)+IF(G140-G137=2,G139)+IF(G140-G137=3,IF(G139-1>0,G139-1,0))+IF(G140-G137=4,IF(G139-2>0,G139-2,0))","v":0},{"$f":"IF(H140-H137=-1,3+H139)+IF(H140-H137=0,2+H139)+IF(H140-H137=1,1+H139)+IF(H140-H137=2,H139)+IF(H140-H137=3,IF(H139-1>0,H139-1,0))+IF(H140-H137=4,IF(H139-2>0,H139-2,0))","v":0},0,0,0,0,0,0,0,{"$f":"SUM(G141:O141)","v":0},{"$f":"IF(Q140-Q137=-1,3+Q139)+IF(Q140-Q137=0,2+Q139)+IF(Q140-Q137=1,1+Q139)+IF(Q140-Q137=2,Q139)+IF(Q140-Q137=3,IF(Q139-1>0,Q139-1,0))+IF(Q140-Q137=4,IF(Q139-2>0,Q139-2,0))","v":0},0,0,0,0,0,0,0,0,{"$f":"SUM(Q141:Y141)","v":0},{"$f":"P141+Z141","v":0}]
[null,null,null,null,null,"Score Brut",{"$f":"IF(G140-G137=-2,4)+IF(G140-G137=-1,3)+IF(G140-G137=0,2)+IF(G140-G137=1,1)+IF(G140-G137>2,0)","v":0},0,0,0,0,0,0,0,0,{"$f":"SUM(G142:O142)","v":0},{"$f":"IF(Q140-Q137=-2,4)+IF(Q140-Q137=-1,3)+IF(Q140-Q137=0,2)+IF(Q140-Q137=1,1)+IF(Q140-Q137>2,0)","v":0},0,0,0,0,0,0,0,0,{"$f":"SUM(Q142:Y142)","v":0},{"$f":"P142+Z142","v":0}]
[null,null,null,null,null,null,{"$f":"G140-G137","v":6},{"$f":"H140-H137","v":6},5,6,7,5,7,5,7,null,{"$f":"Q140-Q137","v":6},6,7,5,7,6,6,5,6]
[]
[]
[null,null,null,null,null,"Statistiques scores",null,"Eagle & moins",null,null,null,{"$f":"COUNTIF(G143:Y143,\"<=-2\")","v":0},"Par",null,{"$f":"COUNTIF(G143:Y143,\"=0\")","v":0},"Double bogey",null,null,null,null,{"$f":"COUNTIF(G143:Y143,\"=2\")","v":0}]
[null,null,null,null,null,null,null,"Birdie",null,null,null,{"$f":"COUNTIF(G143:Y143,\"=-1\")","v":0},"Bogey",null,{"$f":"COUNTIF(G143:Y143,\"=1\")","v":0},"Triple bogey & plus",null,null,null,null,{"$f":"COUNTIF(G143:Y143,\">=3\")","v":18}]
[null,null,null,null,null,null,null,{"$f":"M146","v":"Par"},null,null,null,{"$f":"O146","v":0}]
[null,null,null,null,null,null,null,{"$f":"M147","v":"Bogey"},null,null,null,{"$f":"O147","v":0}]
[null,null,null,null,null,null,null,{"$f":"P146","v":"Double bogey"},null,null,null,{"$f":"U146","v":0}]
[null,null,null,null,null,null,null,{"$f":"P147","v":"Triple bogey & plus"},null,null,null,{"$f":"U147","v":18}]
[]
[]
[]
[]
[null,null,null,null,null,"Nom",{"$f":"C12","v":0},null,null,null,null,"Slope",null,null,"SSS",null,"Coups reçus",null,null,null,null,null,null,null,null,"Date",{"$f":"$D$3","v":"00:00:00"}]
[null,null,null,null,null,"Index",{"$f":"E12","v":20},null,null,null,null,{"$f":"$F$3","v":133},null,null,{"$f":"$G$3","v":68.599999999999994},null,{"$f":"ROUND((G157*(L157/113)+(O157-AA160)),0)","v":20}]
[]
[null,null,null,null,null,"Trou",1,2,3,4,5,6,7,8,9,"Aller",10,11,12,13,14,15,16,17,18,"Retour","Total"]
[null,null,null,null,null,"PAR",{"$f":"G$7","v":4},{"$f":"H$7","v":4},5,4,3,5,3,5,3,{"$f":"SUM(G160:O160)","v":36},{"$f":"Q$7","v":4},4,3,5,3,4,4,5,4,{"$f":"SUM(Q160:Y160)","v":36},{"$f":"SUM(P160+Z160)","v":72}]
[null,null,null,null,null,"HCP trous",{"$f":"G$8","v":4},{"$f":"H$8","v":8},12,14,2,10,18,16,6,null,{"$f":"Q$8","v":1},9,11,5,17,15,3,13,7]
[null,null,null,null,null,"Coups reçus",{"$f":"IF($Q157<=18,IF(G161<=$Q157,1,0),IF($Q157<=36,IF(G161<=($Q157-18),2,1),IF($Q157>36,IF(G161<=($Q157-36),3,2))))","v":1},{"$f":"IF($Q157<=18,IF(H161<=$Q157,1,0),IF($Q157<=36,IF(H161<=($Q157-18),2,1),IF($Q157>36,IF(H161<=($Q157-36),3,2))))","v":1},1,1,2,1,1,1,1,{"$f":"SUM(G162:O162)","v":10},{"$f":"IF($Q157<=18,IF(Q161<=$Q157,1,0),IF($Q157<=36,IF(Q161<=($Q157-18),2,1),IF($Q157>36,IF(Q161<=($Q157-36),3,2))))","v":2},1,1,1,1,1,1,1,1,{"$f":"SUM(Q162:Y162)","v":10},{"$f":"P162+Z162","v":20}]
[null,null,null,null,null,"Stroke play",{"$f":"G12","v":10},10,10,10,10,10,10,10,10,{"$f":"SUM(G163:O163)","v":90},{"$f":"Q12","v":10},10,10,10,10,10,10,10,10,{"$f":"SUM(Q163:Y163)","v":90},{"$f":"P163+Z163","v":180}]
[null,null,null,null,null,"Net Stableford",{"$f":"IF(G163-G160=-1,3+G162)+IF(G163-G160=0,2+G162)+IF(G163-G160=1,1+G162)+IF(G163-G160=2,G162)+IF(G163-G160=3,IF(G162-1>0,G162-1,0))+IF(G163-G160=4,IF(G162-2>0,G162-2,0))","v":0},{"$f":"IF(H163-H160=-1,3+H162)+IF(H163-H160=0,2+H162)+IF(H163-H160=1,1+H162)+IF(H163-H160=2,H162)+IF(H163-H160=3,IF(H162-1>0,H162-1,0))+IF(H163-H160=4,IF(H162-2>0,H162-2,0))","v":0},0,0,0,0,0,0,0,{"$f":"SUM(G164:O164)","v":0},{"$f":"IF(Q163-Q160=-1,3+Q162)+IF(Q163-Q160=0,2+Q162)+IF(Q163-Q160=1,1+Q162)+IF(Q163-Q160=2,Q162)+IF(Q163-Q160=3,IF(Q162-1>0,Q162-1,0))+IF(Q163-Q160=4,IF(Q162-2>0,Q162-2,0))","v":0},0,0,0,0,0,0,0,0,{"$f":"SUM(Q164:Y164)","v":0},{"$f":"P164+Z164","v":0}]
[null,null,null,null,null,"Score Brut",{"$f":"IF(G163-G160=-2,4)+IF(G163-G160=-1,3)+IF(G163-G160=0,2)+IF(G163-G160=1,1)+IF(G163-G160>2,0)","v":0},0,0,0,0,0,0,0,0,{"$f":"SUM(G165:O165)","v":0},{"$f":"IF(Q163-Q160=-2,4)+IF(Q163-Q160=-1,3)+IF(Q163-Q160=0,2)+IF(Q163-Q160=1,1)+IF(Q163-Q160>2,0)","v":0},0,0,0,0,0,0,0,0,{"$f":"SUM(Q165:Y165)","v":0},{"$f":"P165+Z165","v":0}]
[null,null,null,null,null,null,{"$f":"G163-G160","v":6},{"$f":"H163-H160","v":6},5,6,7,5,7,5,7,null,{"$f":"Q163-Q160","v":6},6,7,5,7,6,6,5,6]
[]
[]
[null,null,null,null,null,"Statistiques scores",null,"Eagle & moins",null,null,null,{"$f":"COUNTIF(G166:Y166,\"<=-2\")","v":0},"Par",null,{"$f":"COUNTIF(G166:Y166,\"=0\")","v":0},"Double bogey",null,null,null,null,{"$f":"COUNTIF(G166:Y166,\"=2\")","v":0}]
[null,null,null,null,null,null,null,"Birdie",null,null,null,{"$f":"COUNTIF(G166:Y166,\"=-1\")","v":0},"Bogey",null,{"$f":"COUNTIF(G166:Y166,\"=1\")","v":0},"Triple bogey & plus",null,null,null,null,{"$f":"COUNTIF(G166:Y166,\">=3\")","v":18}]
[null,null,null,null,null,null,null,{"$f":"M169","v":"Par"},null,null,null,{"$f":"O169","v":0}]
[null,null,null,null,null,null,null,{"$f":"M170","v":"Bogey"},null,null,null,{"$f":"O170","v":0}]
[null,null,null,null,null,null,null,{"$f":"P169","v":"Double bogey"},null,null,null,{"$f":"U169","v":0}]
[null,null,null,null,null,null,null,{"$f":"P170","v":"Triple bogey & plus"},null,null,null,{"$f":"U170","v":18}]
[]
[]
[]
[]
[null,null,null,null,null,"Nom",{"$f":"C13","v":0},null,null,null,null,"Slope",null,null,"SSS",null,"Coups reçus",null,null,null,null,null,null,null,null,"Date",{"$f":"$D$3","v":"00:00:00"}]
[null,null,null,null,null,"Index",{"$f":"E13","v":20},null,null,null,null,{"$f":"$F$3","v":133},null,null,{"$f":"$G$3","v":68.599999999999994},null,{"$f":"ROUND((G180*(L180/113)+(O180-AA183)),0)","v":20}]
[]
[null,null,null,null,null,"Trou",1,2,3,4,5,6,7,8,9,"Aller",10,11,12,13,14,15,16,17,18,"Retour","Total"]
[null,null,null,null,null,"PAR",{"$f":"G$7","v":4},{"$f":"H$7","v":4},5,4,3,5,3,5,3,{"$f":"SUM(G183:O183)","v":36},{"$f":"Q$7","v":4},4,3,5,3,4,4,5,4,{"$f":"SUM(Q183:Y183)","v":36},{"$f":"SUM(P183+Z183)","v":72}]
[null,null,null,null,null,"HCP trous",{"$f":"G$8","v":4},{"$f":"H$8","v":8},12,14,2,10,18,16,6,null,{"$f":"Q$8","v":1},9,11,5,17,15,3,13,7]
[null,null,null,null,null,"Coups reçus",{"$f":"IF($Q180<=18,IF(G184<=$Q180,1,0),IF($Q180<=36,IF(G184<=($Q180-18),2,1),IF($Q180>36,IF(G184<=($Q180-36),3,2))))","v":1},{"$f":"IF($Q180<=18,IF(H184<=$Q180,1,0),IF($Q180<=36,IF(H184<=($Q180-18),2,1),IF($Q180>36,IF(H184<=($Q180-36),3,2))))","v":1},1,1,2,1,1,1,1,{"$f":"SUM(G185:O185)","v":10},{"$f":"IF($Q180<=18,IF(Q184<=$Q180,1,0),IF($Q180<=36,IF(Q184<=($Q180-18),2,1),IF($Q180>36,IF(Q184<=($Q180-36),3,2))))","v":2},1,1,1,1,1,1,1,1,{"$f":"SUM(Q185:Y185)","v":10},{"$f":"P185+Z185","v":20}]
[null,null,null,null,null,"Stroke play",{"$f":"G13","v":10},10,10,10,10,10,10,10,10,{"$f":"SUM(G186:O186)","v":90},{"$f":"Q13","v":10},10,10,10,10,10,10,10,10,{"$f":"SUM(Q186:Y186)","v":90},{"$f":"P186+Z186","v":180}]
[null,null,null,null,null,"Net Stableford",{"$f":"IF(G186-G183=-1,3+G185)+IF(G186-G183=0,2+G185)+IF(G186-G183=1,1+G185)+IF(G186-G183=2,G185)+IF(G186-G183=3,IF(G185-1>0,G185-1,0))+IF(G186-G183=4,IF(G185-2>0,G185-2,0))","v":0},{"$f":"IF(H186-H183=-1,3+H185)+IF(H186-H183=0,2+H185)+IF(H186-H183=1,1+H185)+IF(H186-H183=2,H185)+IF(H186-H183=3,IF(H185-1>0,H185-1,0))+IF(H186-H183=4,IF(H185-2>0,H185-2,0))","v":0},0,0,0,0,0,0,0,{"$f":"SUM(G187:O187)","v":0},{"$f":"IF(Q186-Q183=-1,3+Q185)+IF(Q186-Q183=0,2+Q185)+IF(Q186-Q183=1,1+Q185)+IF(Q186-Q183=2,Q185)+IF(Q186-Q183=3,IF(Q185-1>0,Q185-1,0))+IF(Q186-Q183=4,IF(Q185-2>0,Q185-2,0))","v":0},0,0,0,0,0,0,0,0,{"$f":"SUM(Q187:Y187)","v":0},{"$f":"P187+Z187","v":0}]
[null,null,null,null,null,"Score Brut",{"$f":"IF(G186-G183=-2,4)+IF(G186-G183=-1,3)+IF(G186-G183=0,2)+IF(G186-G183=1,1)+IF(G186-G183>2,0)","v":0},0,0,0,0,0,0,0,0,{"$f":"SUM(G188:O188)","v":0},{"$f":"IF(Q186-Q183=-2,4)+IF(Q186-Q183=-1,3)+IF(Q186-Q183=0,2)+IF(Q186-Q183=1,1)+IF(Q186-Q183>2,0)","v":0},0,0,0,0,0,0,0,0,{"$f":"SUM(Q188:Y188)","v":0},{"$f":"P188+Z188","v":0}]
[null,null,null,null,null,null,{"$f":"G186-G183","v":6},{"$f":"H186-H183","v":6},5,6,7,5,7,5,7,null,{"$f":"Q186-Q183","v":6},6,7,5,7,6,6,5,6]
[]
[]
[null,null,null,null,null,"Statistiques scores",null,"Eagle & moins",null,null,null,{"$f":"COUNTIF(G189:Y189,\"<=-2\")","v":0},"Par",null,{"$f":"COUNTIF(G189:Y189,\"=0\")","v":0},"Double bogey",null,null,null,null,{"$f":"COUNTIF(G189:Y189,\"=2\")","v":0}]
[null,null,null,null,null,null,null,"Birdie",null,null,null,{"$f":"COUNTIF(G189:Y189,\"=-1\")","v":0},"Bogey",null,{"$f":"COUNTIF(G189:Y189,\"=1\")","v":0},"Triple bogey & plus",null,null,null,null,{"$f":"COUNTIF(G189:Y189,\">=3\")","v":18}]
[null,null,null,null,null,null,null,{"$f":"M192","v":"Par"},null,null,null,{"$f":"O192","v":0}]
[null,null,null,null,null,null,null,{"$f":"M193","v":"Bogey"},null,null,null,{"$f":"O193","v":0}]
[null,null,null,null,null,null,null,{"$f":"P192","v":"Double bogey"},null,null,null,{"$f":"U192","v":0}]
[null,null,null,null,null,null,null,{"$f":"P193","v":"Triple bogey & plus"},null,null,null,{"$f":"U193","v":18}]
[]
[]
[]
[]
[null,null,null,null,null,"Nom",{"$f":"C14","v":0},null,null,null,null,"Slope",null,null,"SSS",null,"Coups reçus",null,null,null,null,null,null,null,null,"Date",{"$f":"$D$3","v":"00:00:00"}]
[null,null,null,null,null,"Index",{"$f":"E14","v":20},null,null,null,null,{"$f":"$F$3","v":133},null,null,{"$f":"$G$3","v":68.599999999999994},null,{"$f":"ROUND((G203*(L203/113)+(O203-AA206)),0)","v":20}]
[]
[null,null,null,null,null,"Trou",1,2,3,4,5,6,7,8,9,"Aller",10,11,12,13,14,15,16,17,18,"Retour","Total"]
[null,null,null,null,null,"PAR",{"$f":"G$7","v":4},{"$f":"H$7","v":4},5,4,3,5,3,5,3,{"$f":"SUM(G206:O206)","v":36},{"$f":"Q$7","v":4},4,3,5,3,4,4,5,4,{"$f":"SUM(Q206:Y206)","v":36},{"$f":"SUM(P206+Z206)","v":72}]
[null,null,null,null,null,"HCP trous",{"$f":"G$8","v":4},{"$f":"H$8","v":8},12,14,2,10,18,16,6,null,{"$f":"Q$8","v":1},9,11,5,17,15,3,13,7]
[null,null,null,null,null,"Coups reçus",{"$f":"IF($Q203<=18,IF(G207<=$Q203,1,0),IF($Q203<=36,IF(G207<=($Q203-18),2,1),IF($Q203>36,IF(G207<=($Q203-36),3,2))))","v":1},{"$f":"IF($Q203<=18,IF(H207<=$Q203,1,0),IF($Q203<=36,IF(H207<=($Q203-18),2,1),IF($Q203>36,IF(H207<=($Q203-36),3,2))))","v":1},1,1,2,1,1,1,1,{"$f":"SUM(G208:O208)","v":10},{"$f":"IF($Q203<=18,IF(Q207<=$Q203,1,0),IF($Q203<=36,IF(Q207<=($Q203-18),2,1),IF($Q203>36,IF(Q207<=($Q203-36),3,2))))","v":2},1,1,1,1,1,1,1,1,{"$f":"SUM(Q208:Y208)","v":10},{"$f":"P208+Z208","v":20}]
[null,null,null,null,null,"Stroke play",{"$f":"G14","v":10},10,10,10,10,10,10,10,10,{"$f":"SUM(G209:O209)","v":90},{"$f":"Q14","v":10},10,10,10,10,10,10,10,10,{"$f":"SUM(Q209:Y209)","v":90},{"$f":"P209+Z209","v":180}]
[null,null,null,null,null,"Net Stableford",{"$f":"IF(G209-G206=-1,3+G208)+IF(G209-G206=0,2+G208)+IF(G209-G206=1,1+G208)+IF(G209-G206=2,G208)+IF(G209-G206=3,IF(G208-1>0,G208-1,0))+IF(G209-G206=4,IF(G208-2>0,G208-2,0))","v":0},{"$f":"IF(H209-H206=-1,3+H208)+IF(H209-H206=0,2+H208)+IF(H209-H206=1,1+H208)+IF(H209-H206=2,H208)+IF(H209-H206=3,IF(H208-1>0,H208-1,0))+IF(H209-H206=4,IF(H208-2>0,H208-2,0))","v":0},0,0,0,0,0,0,0,{"$f":"SUM(G210:O210)","v":0},{"$f":"IF(Q209-Q206=-1,3+Q208)+IF(Q209-Q206=0,2+Q208)+IF(Q209-Q206=1,1+Q208)+IF(Q209-Q206=2,Q208)+IF(Q209-Q206=3,IF(Q208-1>0,Q208-1,0))+IF(Q209-Q206=4,IF(Q208-2>0,Q208-2,0))","v":0},0,0,0,0,0,0,0,0,{"$f":"SUM(Q210:Y210)","v":0},{"$f":"P210+Z210","v":0}]
[null,null,null,null,null,"Score Brut",{"$f":"IF(G209-G206=-2,4)+IF(G209-G206=-1,3)+IF(G209-G206=0,2)+IF(G209-G206=1,1)+IF(G209-G206>2,0)","v":0},0,0,0,0,0,0,0,0,{"$f":"SUM(G211:O211)","v":0},{"$f":"IF(Q209-Q206=-2,4)+IF(Q209-Q206=-1,3)+IF(Q209-Q206=0,2)+IF(Q209-Q206=1,1)+IF(Q209-Q206>2,0)","v":0},0,0,0,0,0,0,0,0,{"$f":"SUM(Q211:Y211)","v":0},{"$f":"P211+Z211","v":0}]
[null,null,null,null,null,null,{"$f":"G209-G206","v":6},{"$f":"H209-H206","v":6},5,6,7,5,7,5,7,null,{"$f":"Q209-Q206","v":6},6,7,5,7,6,6,5,6]
[]
[]
[null,null,null,null,null,"Statistiques scores",null,"Eagle & moins",null,null,null,{"$f":"COUNTIF(G212:Y212,\"<=-2\")","v":0},"Par",null,{"$f":"COUNTIF(G212:Y212,\"=0\")","v":0},"Double bogey",null,null,null,null,{"$f":"COUNTIF(G212:Y212,\"=2\")","v":0}]
[null,null,null,null,null,null,null,"Birdie",null,null,null,{"$f":"COUNTIF(G212:Y212,\"=-1\")","v":0},"Bogey",null,{"$f":"COUNTIF(G212:Y212,\"=1\")","v":0},"Triple bogey & plus",null,null,null,null,{"$f":"COUNTIF(G212:Y212,\">=3\")","v":18}]
[null,null,null,null,null,null,null,{"$f":"M215","v":"Par"},null,null,null,{"$f":"O215","v":0}]
[null,null,null,null,null,null,null,{"$f":"M216","v":"Bogey"},null,null,null,{"$f":"O216","v":0}]
[null,null,null,null,null,null,null,{"$f":"P215","v":"Double bogey"},null,null,null,{"$f":"U215","v":0}]
[null,null,null,null,null,null,null,{"$f":"P216","v":"Triple bogey & plus"},null,null,null,{"$f":"U216","v":18}]
[]
[]
[]
[]
[null,null,null,null,null,"Nom",{"$f":"C15","v":0},null,null,null,null,"Slope",null,null,"SSS",null,"Coups reçus",null,null,null,null,null,null,null,null,"Date",{"$f":"$D$3","v":"00:00:00"}]
[null,null,null,null,null,"Index",{"$f":"E15","v":20},null,null,null,null,{"$f":"$F$3","v":133},null,null,{"$f":"$G$3","v":68.599999999999994},null,{"$f":"ROUND((G226*(L226/113)+(O226-AA229)),0)","v":20}]
[]
[null,null,null,null,null,"Trou",1,2,3,4,5,6,7,8,9,"Aller",10,11,12,13,14,15,16,17,18,"Retour","Total"]
[null,null,null,null,null,"PAR",{"$f":"G$7","v":4},{"$f":"H$7","v":4},5,4,3,5,3,5,3,{"$f":"SUM(G229:O229)","v":36},{"$f":"Q$7","v":4},4,3,5,3,4,4,5,4,{"$f":"SUM(Q229:Y229)","v":36},{"$f":"SUM(P229+Z229)","v":72}]
[null,null,null,null,null,"HCP trous",{"$f":"G$8","v":4},{"$f":"H$8","v":8},12,14,2,10,18,16,6,null,{"$f":"Q$8","v":1},9,11,5,17,15,3,13,7]
[null,null,null,null,null,"Coups reçus",{"$f":"IF($Q226<=18,IF(G230<=$Q226,1,0),IF($Q226<=36,IF(G230<=($Q226-18),2,1),IF($Q226>36,IF(G230<=($Q226-36),3,2))))","v":1},{"$f":"IF($Q226<=18,IF(H230<=$Q226,1,0),IF($Q226<=36,IF(H230<=($Q226-18),2,1),IF($Q226>36,IF(H230<=($Q226-36),3,2))))","v":1},1,1,2,1,1,1,1,{"$f":"SUM(G231:O231)","v":10},{"$f":"IF($Q226<=18,IF(Q230<=$Q226,1,0),IF($Q226<=36,IF(Q230<=($Q226-18),2,1),IF($Q226>36,IF(Q230<=($Q226-36),3,2))))","v":2},1,1,1,1,1,1,1,1,{"$f":"SUM(Q231:Y231)","v":10},{"$f":"P231+Z231","v":20}]
[null,null,null,null,null,"Stroke play",{"$f":"G15","v":10},10,10,10,10,10,10,10,10,{"$f":"SUM(G232:O232)","v":90},{"$f":"Q15","v":10},10,10,10,10,10,10,10,10,{"$f":"SUM(Q232:Y232)","v":90},{"$f":"P232+Z232","v":180}]
[null,null,null,null,null,"Net Stableford",{"$f":"IF(G232-G229=-1,3+G231)+IF(G232-G229=0,2+G231)+IF(G232-G229=1,1+G231)+IF(G232-G229=2,G231)+IF(G232-G229=3,IF(G231-1>0,G231-1,0))+IF(G232-G229=4,IF(G231-2>0,G231-2,0))","v":0},{"$f":"IF(H232-H229=-1,3+H231)+IF(H232-H229=0,2+H231)+IF(H232-H229=1,1+H231)+IF(H232-H229=2,H231)+IF(H232-H229=3,IF(H231-1>0,H231-1,0))+IF(H232-H229=4,IF(H231-2>0,H231-2,0))","v":0},0,0,0,0,0,0,0,{"$f":"SUM(G233:O233)","v":0},{"$f":"IF(Q232-Q229=-1,3+Q231)+IF(Q232-Q229=0,2+Q231)+IF(Q232-Q229=1,1+Q231)+IF(Q232-Q229=2,Q231)+IF(Q232-Q229=3,IF(Q231-1>0,Q231-1,0))+IF(Q232-Q229=4,IF(Q231-2>0,Q231-2,0))","v":0},0,0,0,0,0,0,0,0,{"$f":"SUM(Q233:Y233)","v":0},{"$f":"P233+Z233","v":0}]
[null,null,null,null,null,"Score Brut",{"$f":"IF(G232-G229=-2,4)+IF(G232-G229=-1,3)+IF(G232-G229=0,2)+IF(G232-G229=1,1)+IF(G232-G229>2,0)","v":0},0,0,0,0,0,0,0,0,{"$f":"SUM(G234:O234)","v":0},{"$f":"IF(Q232-Q229=-2,4)+IF(Q232-Q229=-1,3)+IF(Q232-Q229=0,2)+IF(Q232-Q229=1,1)+IF(Q232-Q229>2,0)","v":0},0,0,0,0,0,0,0,0,{"$f":"SUM(Q234:Y234)","v":0},{"$f":"P234+Z234","v":0}]
[null,null,null,null,null,null,{"$f":"G232-G229","v":6},{"$f":"H232-H229","v":6},5,6,7,5,7,5,7,null,{"$f":"Q232-Q229","v":6},6,7,5,7,6,6,5,6]
[]
[]
[null,null,null,null,null,"Statistiques scores",null,"Eagle & moins",null,null,null,{"$f":"COUNTIF(G235:Y235,\"<=-2\")","v":0},"Par",null,{"$f":"COUNTIF(G235:Y235,\"=0\")","v":0},"Double bogey",null,null,null,null,{"$f":"COUNTIF(G235:Y235,\"=2\")","v":0}]
[null,null,null,null,null,null,null,"Birdie",null,null,null,{"$f":"COUNTIF(G235:Y235,\"=-1\")","v":0},"Bogey",null,{"$f":"COUNTIF(G235:Y235,\"=1\")","v":0},"Triple bogey & plus",null,null,null,null,{"$f":"COUNTIF(G235:Y235,\">=3\")","v":18}]
[null,null,null,null,null,null,null,{"$f":"M238","v":"Par"},null,null,null,{"$f":"O238","v":0}]
[null,null,null,null,null,null,null,{"$f":"M239","v":"Bogey"},null,null,null,{"$f":"O239","v":0}]
[null,null,null,null,null,null,null,{"$f":"P238","v":"Double bogey"},null,null,null,{"$f":"U238","v":0}]
[null,null,null,null,null,null,null,{"$f":"P239","v":"Triple bogey & plus"},null,null,null,{"$f":"U239","v":18}]
[]
[]
[]
[]
[null,null,null,null,null,"Nom",{"$f":"C16","v":0},null,null,null,null,"Slope",null,null,"SSS",null,"Coups reçus",null,null,null,null,null,null,null,null,"Date",{"$f":"$D$3","v":"00:00:00"}]
[null,null,null,null,null,"Index",{"$f":"E16","v":20},null,null,null,null,{"$f":"$F$3","v":133},null,null,{"$f":"$G$3","v":68.599999999999994},null,{"$f":"ROUND((G249*(L249/113)+(O249-AA252)),0)","v":20}]
[]
[null,null,null,null,null,"Trou",1,2,3,4,5,6,7,8,9,"Aller",10,11,12,13,14,15,16,17,18,"Retour","Total"]
[null,null,null,null,null,"PAR",{"$f":"G$7","v":4},{"$f":"H$7","v":4},5,4,3,5,3,5,3,{"$f":"SUM(G252:O252)","v":36},{"$f":"Q$7","v":4},4,3,5,3,4,4,5,4,{"$f":"SUM(Q252:Y252)","v":36},{"$f":"SUM(P252+Z252)","v":72}]
[null,null,null,null,null,"HCP trous",{"$f":"G$8","v":4},{"$f":"H$8","v":8},12,14,2,10,18,16,6,null,{"$f":"Q$8","v":1},9,11,5,17,15,3,13,7]
[null,null,null,null,null,"Coups reçus",{"$f":"IF($Q249<=18,IF(G253<=$Q249,1,0),IF($Q249<=36,IF(G253<=($Q249-18),2,1),IF($Q249>36,IF(G253<=($Q249-36),3,2))))","v":1},{"$f":"IF($Q249<=18,IF(H253<=$Q249,1,0),IF($Q249<=36,IF(H253<=($Q249-18),2,1),IF($Q249>36,IF(H253<=($Q249-36),3,2))))","v":1},1,1,2,1,1,1,1,{"$f":"SUM(G254:O254)","v":10},{"$f":"IF($Q249<=18,IF(Q253<=$Q249,1,0),IF($Q249<=36,IF(Q253<=($Q249-18),2,1),IF($Q249>36,IF(Q253<=($Q249-36),3,2))))","v":2},1,1,1,1,1,1,1,1,{"$f":"SUM(Q254:Y254)","v":10},{"$f":"P254+Z254","v":20}]
[null,null,null,null,null,"Stroke play",{"$f":"G16","v":10},10,10,10,10,10,10,10,10,{"$f":"SUM(G255:O255)","v":90},{"$f":"Q16","v":10},10,10,10,10,10,10,10,10,{"$f":"SUM(Q255:Y255)","v":90},{"$f":"P255+Z255","v":180}]
[null,null,null,null,null,"Net Stableford",{"$f":"IF(G255-G252=-1,3+G254)+IF(G255-G252=0,2+G254)+IF(G255-G252=1,1+G254)+IF(G255-G252=2,G254)+IF(G255-G252=3,IF(G254-1>0,G254-1,0))+IF(G255-G252=4,IF(G254-2>0,G254-2,0))","v":0},{"$f":"IF(H255-H252=-1,3+H254)+IF(H255-H252=0,2+H254)+IF(H255-H252=1,1+H254)+IF(H255-H252=2,H254)+IF(H255-H252=3,IF(H254-1>0,H254-1,0))+IF(H255-H252=4,IF(H254-2>0,H254-2,0))","v":0},0,0,0,0,0,0,0,{"$f":"SUM(G256:O256)","v":0},{"$f":"IF(Q255-Q252=-1,3+Q254)+IF(Q255-Q252=0,2+Q254)+IF(Q255-Q252=1,1+Q254)+IF(Q255-Q252=2,Q254)+IF(Q255-Q252=3,IF(Q254-1>0,Q254-1,0))+IF(Q255-Q252=4,IF(Q254-2>0,Q254-2,0))","v":0},0,0,0,0,0,0,0,0,{"$f":"SUM(Q256:Y256)","v":0},{"$f":"P256+Z256","v":0}]
[null,null,null,null,null,"Score Brut",{"$f":"IF(G255-G252=-2,4)+IF(G255-G252=-1,3)+IF(G255-G252=0,2)+IF(G255-G252=1,1)+IF(G255-G252>2,0)","v":0},0,0,0,0,0,0,0,0,{"$f":"SUM(G257:O257)","v":0},{"$f":"IF(Q255-Q252=-2,4)+IF(Q255-Q252=-1,3)+IF(Q255-Q252=0,2)+IF(Q255-Q252=1,1)+IF(Q255-Q252>2,0)","v":0},0,0,0,0,0,0,0,0,{"$f":"SUM(Q257:Y257)","v":0},{"$f":"P257+Z257","v":0}]
[null,null,null,null,null,null,{"$f":"G255-G252","v":6},{"$f":"H255-H252","v":6},5,6,7,5,7,5,7,null,{"$f":"Q255-Q252","v":6},6,7,5,7,6,6,5,6]
[]
[]
[null,null,null,null,null,"Statistiques scores",null,"Eagle & moins",null,null,null,{"$f":"COUNTIF(G258:Y258,\"<=-2\")","v":0},"Par",null,{"$f":"COUNTIF(G258:Y258,\"=0\")","v":0},"Double bogey",null,null,null,null,{"$f":"COUNTIF(G258:Y258,\"=2\")","v":0}]
[null,null,null,null,null,null,null,"Birdie",null,null,null,{"$f":"COUNTIF(G258:Y258,\"=-1\")","v":0},"Bogey",null,{"$f":"COUNTIF(G258:Y258,\"=1\")","v":0},"Triple bogey & plus",null,null,null,null,{"$f":"COUNTIF(G258:Y258,\">=3\")","v":18}]
[null,null,null,null,null,null,null,{"$f":"M261","v":"Par"},null,null,null,{"$f":"O261","v":0}]
[null,null,null,null,null,null,null,{"$f":"M262","v":"Bogey"},null,null,null,{"$f":"O262","v":0}]
[null,null,null,null,null,null,null,{"$f":"P261","v":"Double bogey"},null,null,null,{"$f":"U261","v":0}]
[null,null,null,null,null,null,null,{"$f":"P262","v":"Triple bogey & plus"},null,null,null,{"$f":"U262","v":18}]
[]
[]
[]
[]
[null,null,null,null,null,"Nom",{"$f":"C17","v":0},null,null,null,null,"Slope",null,null,"SSS",null,"Coups reçus",null,null,null,null,null,null,null,null,"Date",{"$f":"$D$3","v":"00:00:00"}]
[null,null,null,null,null,"Index",{"$f":"E17","v":20},null,null,null,null,{"$f":"$F$3","v":133},null,null,{"$f":"$G$3","v":68.599999999999994},null,{"$f":"ROUND((G272*(L272/113)+(O272-AA275)),0)","v":20}]
[]
[null,null,null,null,null,"Trou",1,2,3,4,5,6,7,8,9,"Aller",10,11,12,13,14,15,16,17,18,"Retour","Total"]
[null,null,null,null,null,"PAR",{"$f":"G$7","v":4},{"$f":"H$7","v":4},5,4,3,5,3,5,3,{"$f":"SUM(G275:O275)","v":36},{"$f":"Q$7","v":4},4,3,5,3,4,4,5,4,{"$f":"SUM(Q275:Y275)","v":36},{"$f":"SUM(P275+Z275)","v":72}]
[null,null,null,null,null,"HCP trous",{"$f":"G$8","v":4},{"$f":"H$8","v":8},12,14,2,10,18,16,6,null,{"$f":"Q$8","v":1},9,11,5,17,15,3,13,7]
[null,null,null,null,null,"Coups reçus",{"$f":"IF($Q272<=18,IF(G276<=$Q272,1,0),IF($Q272<=36,IF(G276<=($Q272-18),2,1),IF($Q272>36,IF(G276<=($Q272-36),3,2))))","v":1},{"$f":"IF($Q272<=18,IF(H276<=$Q272,1,0),IF($Q272<=36,IF(H276<=($Q272-18),2,1),IF($Q272>36,IF(H276<=($Q272-36),3,2))))","v":1},1,1,2,1,1,1,1,{"$f":"SUM(G277:O277)","v":10},{"$f":"IF($Q272<=18,IF(Q276<=$Q272,1,0),IF($Q272<=36,IF(Q276<=($Q272-18),2,1),IF($Q272>36,IF(Q276<=($Q272-36),3,2))))","v":2},1,1,1,1,1,1,1,1,{"$f":"SUM(Q277:Y277)","v":10},{"$f":"P277+Z277","v":20}]
[null,null,null,null,null,"Stroke play",{"$f":"G17","v":10},10,10,10,10,10,10,10,10,{"$f":"SUM(G278:O278)","v":90},{"$f":"Q17","v":10},10,10,10,10,10,10,10,10,{"$f":"SUM(Q278:Y278)","v":90},{"$f":"P278+Z278","v":180}]
[null,null,null,null,null,"Net Stableford",{"$f":"IF(G278-G275=-1,3+G277)+IF(G278-G275=0,2+G277)+IF(G278-G275=1,1+G277)+IF(G278-G275=2,G277)+IF(G278-G275=3,IF(G277-1>0,G277-1,0))+IF(G278-G275=4,IF(G277-2>0,G277-2,0))","v":0},{"$f":"IF(H278-H275=-1,3+H277)+IF(H278-H275=0,2+H277)+IF(H278-H275=1,1+H277)+IF(H278-H275=2,H277)+IF(H278-H275=3,IF(H277-1>0,H277-1,0))+IF(H278-H275=4,IF(H277-2>0,H277-2,0))","v":0},0,0,0,0,0,0,0,{"$f":"SUM(G279:O279)","v":0},{"$f":"IF(Q278-Q275=-1,3+Q277)+IF(Q278-Q275=0,2+Q277)+IF(Q278-Q275=1,1+Q277)+IF(Q278-Q275=2,Q277)+IF(Q278-Q275=3,IF(Q277-1>0,Q277-1,0))+IF(Q278-Q275=4,IF(Q277-2>0,Q277-2,0))","v":0},0,0,0,0,0,0,0,0,{"$f":"SUM(Q279:Y279)","v":0},{"$f":"P279+Z279","v":0}]
[null,null,null,null,null,"Score Brut",{"$f":"IF(G278-G275=-2,4)+IF(G278-G275=-1,3)+IF(G278-G275=0,2)+IF(G278-G275=1,1)+IF(G278-G275>2,0)","v":0},0,0,0,0,0,0,0,0,{"$f":"SUM(G280:O280)","v":0},{"$f":"IF(Q278-Q275=-2,4)+IF(Q278-Q275=-1,3)+IF(Q278-Q275=0,2)+IF(Q278-Q275=1,1)+IF(Q278-Q275>2,0)","v":0},0,0,0,0,0,0,0,0,{"$f":"SUM(Q280:Y280)","v":0},{"$f":"P280+Z280","v":0}]
[null,null,null,null,null,null,{"$f":"G278-G275","v":6},{"$f":"H278-H275","v":6},5,6,7,5,7,5,7,null,{"$f":"Q278-Q275","v":6},6,7,5,7,6,6,5,6]
[]
[]
[null,null,null,null,null,"Statistiques scores",null,"Eagle & moins",null,null,null,{"$f":"COUNTIF(G281:Y281,\"<=-2\")","v":0},"Par",null,{"$f":"COUNTIF(G281:Y281,\"=0\")","v":0},"Double bogey",null,null,null,null,{"$f":"COUNTIF(G281:Y281,\"=2\")","v":0}]
[null,null,null,null,null,null,null,"Birdie",null,null,null,{"$f":"COUNTIF(G281:Y281,\"=-1\")","v":0},"Bogey",null,{"$f":"COUNTIF(G281:Y281,\"=1\")","v":0},"Triple bogey & plus",null,null,null,null,{"$f":"COUNTIF(G281:Y281,\">=3\")","v":18}]
[null,null,null,null,null,null,null,{"$f":"M284","v":"Par"},null,null,null,{"$f":"O284","v":0}]
[null,null,null,null,null,null,null,{"$f":"M285","v":"Bogey"},null,null,null,{"$f":"O285","v":0}]
[null,null,null,null,null,null,null,{"$f":"P284","v":"Double bogey"},null,null,null,{"$f":"U284","v":0}]
[null,null,null,null,null,null,null,{"$f":"P285","v":"Triple bogey & plus"},null,null,null,{"$f":"U285","v":18}]
[]
[]
[]
[]
[null,null,null,null,null,"Nom",{"$f":"C18","v":0},null,null,null,null,"Slope",null,null,"SSS",null,"Coups reçus",null,null,null,null,null,null,null,null,"Date",{"$f":"$D$3","v":"00:00:00"}]
[null,null,null,null,null,"Index",{"$f":"E18","v":20},null,null,null,null,{"$f":"$F$3","v":133},null,null,{"$f":"$G$3","v":68.599999999999994},null,{"$f":"ROUND((G295*(L295/113)+(O295-AA298)),0)","v":20}]
[]
[null,null,null,null,null,"Trou",1,2,3,4,5,6,7,8,9,"Aller",10,11,12,13,14,15,16,17,18,"Retour","Total"]
[null,null,null,null,null,"PAR",{"$f":"G$7","v":4},{"$f":"H$7","v":4},5,4,3,5,3,5,3,{"$f":"SUM(G298:O298)","v":36},{"$f":"Q$7","v":4},4,3,5,3,4,4,5,4,{"$f":"SUM(Q298:Y298)","v":36},{"$f":"SUM(P298+Z298)","v":72}]
[null,null,null,null,null,"HCP trous",{"$f":"G$8","v":4},{"$f":"H$8","v":8},12,14,2,10,18,16,6,null,{"$f":"Q$8","v":1},9,11,5,17,15,3,13,7]
[null,null,null,null,null,"Coups reçus",{"$f":"IF($Q295<=18,IF(G299<=$Q295,1,0),IF($Q295<=36,IF(G299<=($Q295-18),2,1),IF($Q295>36,IF(G299<=($Q295-36),3,2))))","v":1},{"$f":"IF($Q295<=18,IF(H299<=$Q295,1,0),IF($Q295<=36,IF(H299<=($Q295-18),2,1),IF($Q295>36,IF(H299<=($Q295-36),3,2))))","v":1},1,1,2,1,1,1,1,{"$f":"SUM(G300:O300)","v":10},{"$f":"IF($Q295<=18,IF(Q299<=$Q295,1,0),IF($Q295<=36,IF(Q299<=($Q295-18),2,1),IF($Q295>36,IF(Q299<=($Q295-36),3,2))))","v":2},1,1,1,1,1,1,1,1,{"$f":"SUM(Q300:Y300)","v":10},{"$f":"P300+Z300","v":20}]
[null,null,null,null,null,"Stroke play",{"$f":"G18","v":10},10,10,10,10,10,10,10,10,{"$f":"SUM(G301:O301)","v":90},{"$f":"Q18","v":10},10,10,10,10,10,10,10,10,{"$f":"SUM(Q301:Y301)","v":90},{"$f":"P301+Z301","v":180}]
[null,null,null,null,null,"Net Stableford",{"$f":"IF(G301-G298=-1,3+G300)+IF(G301-G298=0,2+G300)+IF(G301-G298=1,1+G300)+IF(G301-G298=2,G300)+IF(G301-G298=3,IF(G300-1>0,G300-1,0))+IF(G301-G298=4,IF(G300-2>0,G300-2,0))","v":0},{"$f":"IF(H301-H298=-1,3+H300)+IF(H301-H298=0,2+H300)+IF(H301-H298=1,1+H300)+IF(H301-H298=2,H300)+IF(H301-H298=3,IF(H300-1>0,H300-1,0))+IF(H301-H298=4,IF(H300-2>0,H300-2,0))","v":0},0,0,0,0,0,0,0,{"$f":"SUM(G302:O302)","v":0},{"$f":"IF(Q301-Q298=-1,3+Q300)+IF(Q301-Q298=0,2+Q300)+IF(Q301-Q298=1,1+Q300)+IF(Q301-Q298=2,Q300)+IF(Q301-Q298=3,IF(Q300-1>0,Q300-1,0))+IF(Q301-Q298=4,IF(Q300-2>0,Q300-2,0))","v":0},0,0,0,0,0,0,0,0,{"$f":"SUM(Q302:Y302)","v":0},{"$f":"P302+Z302","v":0}]
[null,null,null,null,null,"Score Brut",{"$f":"IF(G301-G298=-2,4)+IF(G301-G298=-1,3)+IF(G301-G298=0,2)+IF(G301-G298=1,1)+IF(G301-G298>2,0)","v":0},0,0,0,0,0,0,0,0,{"$f":"SUM(G303:O303)","v":0},{"$f":"IF(Q301-Q298=-2,4)+IF(Q301-Q298=-1,3)+IF(Q301-Q298=0,2)+IF(Q301-Q298=1,1)+IF(Q301-Q298>2,0)","v":0},0,0,0,0,0,0,0,0,{"$f":"SUM(Q303:Y303)","v":0},{"$f":"P303+Z303","v":0}]
[null,null,null,null,null,null,{"$f":"G301-G298","v":6},{"$f":"H301-H298","v":6},5,6,7,5,7,5,7,null,{"$f":"Q301-Q298","v":6},6,7,5,7,6,6,5,6]
[]
[]
[null,null,null,null,null,"Statistiques scores",null,"Eagle & moins",null,null,null,{"$f":"COUNTIF(G304:Y304,\"<=-2\")","v":0},"Par",null,{"$f":"COUNTIF(G304:Y304,\"=0\")","v":0},"Double bogey",null,null,null,null,{"$f":"COUNTIF(G304:Y304,\"=2\")","v":0}]
[null,null,null,null,null,null,null,"Birdie",null,null,null,{"$f":"COUNTIF(G304:Y304,\"=-1\")","v":0},"Bogey",null,{"$f":"COUNTIF(G304:Y304,\"=1\")","v":0},"Triple bogey & plus",null,null,null,null,{"$f":"COUNTIF(G304:Y304,\">=3\")","v":18}]
[null,null,null,null,null,null,null,{"$f":"M307","v":"Par"},null,null,null,{"$f":"O307","v":0}]
[null,null,null,null,null,null,null,{"$f":"M308","v":"Bogey"},null,null,null,{"$f":"O308","v":0}]
[null,null,null,null,null,null,null,{"$f":"P307","v":"Double bogey"},null,null,null,{"$f":"U307","v":0}]
[null,null,null,null,null,null,null,{"$f":"P308","v":"Triple bogey & plus"},null,null,null,{"$f":"U308","v":18}]
[]
[]
[]
[]
[null,null,null,null,null,"Nom",{"$f":"C19","v":0},null,null,null,null,"Slope",null,null,"SSS",null,"Coups reçus",null,null,null,null,null,null,null,null,"Date",{"$f":"$D$3","v":"00:00:00"}]
[null,null,null,null,null,"Index",{"$f":"E19","v":20},null,null,null,null,{"$f":"$F$3","v":133},null,null,{"$f":"$G$3","v":68.599999999999994},null,{"$f":"ROUND((G318*(L318/113)+(O318-AA321)),0)","v":20}]
[]
[null,null,null,null,null,"Trou",1,2,3,4,5,6,7,8,9,"Aller",10,11,12,13,14,15,16,17,18,"Retour","Total"]
[null,null,null,null,null,"PAR",{"$f":"G$7","v":4},{"$f":"H$7","v":4},5,4,3,5,3,5,3,{"$f":"SUM(G321:O321)","v":36},{"$f":"Q$7","v":4},4,3,5,3,4,4,5,4,{"$f":"SUM(Q321:Y321)","v":36},{"$f":"SUM(P321+Z321)","v":72}]
[null,null,null,null,null,"HCP trous",{"$f":"G$8","v":4},{"$f":"H$8","v":8},12,14,2,10,18,16,6,null,{"$f":"Q$8","v":1},9,11,5,17,15,3,13,7]
[null,null,null,null,null,"Coups reçus",{"$f":"IF($Q318<=18,IF(G322<=$Q318,1,0),IF($Q318<=36,IF(G322<=($Q318-18),2,1),IF($Q318>36,IF(G322<=($Q318-36),3,2))))","v":1},{"$f":"IF($Q318<=18,IF(H322<=$Q318,1,0),IF($Q318<=36,IF(H322<=($Q318-18),2,1),IF($Q318>36,IF(H322<=($Q318-36),3,2))))","v":1},1,1,2,1,1,1,1,{"$f":"SUM(G323:O323)","v":10},{"$f":"IF($Q318<=18,IF(Q322<=$Q318,1,0),IF($Q318<=36,IF(Q322<=($Q318-18),2,1),IF($Q318>36,IF(Q322<=($Q318-36),3,2))))","v":2},1,1,1,1,1,1,1,1,{"$f":"SUM(Q323:Y323)","v":10},{"$f":"P323+Z323","v":20}]
[null,null,null,null,null,"Stroke play",{"$f":"G19","v":10},10,10,10,10,10,10,10,10,{"$f":"SUM(G324:O324)","v":90},{"$f":"Q19","v":10},10,10,10,10,10,10,10,10,{"$f":"SUM(Q324:Y324)","v":90},{"$f":"P324+Z324","v":180}]
[null,null,null,null,null,"Net Stableford",{"$f":"IF(G324-G321=-1,3+G323)+IF(G324-G321=0,2+G323)+IF(G324-G321=1,1+G323)+IF(G324-G321=2,G323)+IF(G324-G321=3,IF(G323-1>0,G323-1,0))+IF(G324-G321=4,IF(G323-2>0,G323-2,0))","v":0},{"$f":"IF(H324-H321=-1,3+H323)+IF(H324-H321=0,2+H323)+IF(H324-H321=1,1+H323)+IF(H324-H321=2,H323)+IF(H324-H321=3,IF(H323-1>0,H323-1,0))+IF(H324-H321=4,IF(H323-2>0,H323-2,0))","v":0},0,0,0,0,0,0,0,{"$f":"SUM(G325:O325)","v":0},{"$f":"IF(Q324-Q321=-1,3+Q323)+IF(Q324-Q321=0,2+Q323)+IF(Q324-Q321=1,1+Q323)+IF(Q324-Q321=2,Q323)+IF(Q324-Q321=3,IF(Q323-1>0,Q323-1,0))+IF(Q324-Q321=4,IF(Q323-2>0,Q323-2,0))","v":0},0,0,0,0,0,0,0,0,{"$f":"SUM(Q325:Y325)","v":0},{"$f":"P325+Z325","v":0}]
[null,null,null,null,null,"Score Brut",{"$f":"IF(G324-G321=-2,4)+IF(G324-G321=-1,3)+IF(G324-G321=0,2)+IF(G324-G321=1,1)+IF(G324-G321>2,0)","v":0},0,0,0,0,0,0,0,0,{"$f":"SUM(G326:O326)","v":0},{"$f":"IF(Q324-Q321=-2,4)+IF(Q324-Q321=-1,3)+IF(Q324-Q321=0,2)+IF(Q324-Q321=1,1)+IF(Q324-Q321>2,0)","v":0},0,0,0,0,0,0,0,0,{"$f":"SUM(Q326:Y326)","v":0},{"$f":"P326+Z326","v":0}]
[null,null,null,null,null,null,{"$f":"G324-G321","v":6},{"$f":"H324-H321","v":6},5,6,7,5,7,5,7,null,{"$f":"Q324-Q321","v":6},6,7,5,7,6,6,5,6]
[]
[]
[null,null,null,null,null,"Statistiques scores",null,"Eagle & moins",null,null,null,{"$f":"COUNTIF(G327:Y327,\"<=-2\")","v":0},"Par",null,{"$f":"COUNTIF(G327:Y327,\"=0\")","v":0},"Double bogey",null,null,null,null,{"$f":"COUNTIF(G327:Y327,\"=2\")","v":0}]
[null,null,null,null,null,null,null,"Birdie",null,null,null,{"$f":"COUNTIF(G327:Y327,\"=-1\")","v":0},"Bogey",null,{"$f":"COUNTIF(G327:Y327,\"=1\")","v":0},"Triple bogey & plus",null,null,null,null,{"$f":"COUNTIF(G327:Y327,\">=3\")","v":18}]
[null,null,null,null,null,null,null,{"$f":"M330","v":"Par"},null,null,null,{"$f":"O330","v":0}]
[null,null,null,null,null,null,null,{"$f":"M331","v":"Bogey"},null,null,null,{"$f":"O331","v":0}]
[null,null,null,null,null,null,null,{"$f":"P330","v":"Double bogey"},null,null,null,{"$f":"U330","v":0}]
[null,null,null,null,null,null,null,{"$f":"P331","v":"Triple bogey & plus"},null,null,null,{"$f":"U331","v":18}]
[]
[]
[]
[]
[null,null,null,null,null,"Nom",{"$f":"C20","v":0},null,null,null,null,"Slope",null,null,"SSS",null,"Coups reçus",null,null,null,null,null,null,null,null,"Date",{"$f":"$D$3","v":"00:00:00"}]
[null,null,null,null,null,"Index",{"$f":"E20","v":20},null,null,null,null,{"$f":"$F$3","v":133},null,null,{"$f":"$G$3","v":68.599999999999994},null,{"$f":"ROUND((G341*(L341/113)+(O341-AA344)),0)","v":20}]
[]
[null,null,null,null,null,"Trou",1,2,3,4,5,6,7,8,9,"Aller",10,11,12,13,14,15,16,17,18,"Retour","Total"]
[null,null,null,null,null,"PAR",{"$f":"G$7","v":4},{"$f":"H$7","v":4},5,4,3,5,3,5,3,{"$f":"SUM(G344:O344)","v":36},{"$f":"Q$7","v":4},4,3,5,3,4,4,5,4,{"$f":"SUM(Q344:Y344)","v":36},{"$f":"SUM(P344+Z344)","v":72}]
[null,null,null,null,null,"HCP trous",{"$f":"G$8","v":4},{"$f":"H$8","v":8},12,14,2,10,18,16,6,null,{"$f":"Q$8","v":1},9,11,5,17,15,3,13,7]
[null,null,null,null,null,"Coups reçus",{"$f":"IF($Q341<=18,IF(G345<=$Q341,1,0),IF($Q341<=36,IF(G345<=($Q341-18),2,1),IF($Q341>36,IF(G345<=($Q341-36),3,2))))","v":1},{"$f":"IF($Q341<=18,IF(H345<=$Q341,1,0),IF($Q341<=36,IF(H345<=($Q341-18),2,1),IF($Q341>36,IF(H345<=($Q341-36),3,2))))","v":1},1,1,2,1,1,1,1,{"$f":"SUM(G346:O346)","v":10},{"$f":"IF($Q341<=18,IF(Q345<=$Q341,1,0),IF($Q341<=36,IF(Q345<=($Q341-18),2,1),IF($Q341>36,IF(Q345<=($Q341-36),3,2))))","v":2},1,1,1,1,1,1,1,1,{"$f":"SUM(Q346:Y346)","v":10},{"$f":"P346+Z346","v":20}]
[null,null,null,null,null,"Stroke play",{"$f":"G20","v":10},10,10,10,10,10,10,10,10,{"$f":"SUM(G347:O347)","v":90},{"$f":"Q20","v":10},10,10,10,10,10,10,10,10,{"$f":"SUM(Q347:Y347)","v":90},{"$f":"P347+Z347","v":180}]
[null,null,null,null,null,"Net Stableford",{"$f":"IF(G347-G344=-1,3+G346)+IF(G347-G344=0,2+G346)+IF(G347-G344=1,1+G346)+IF(G347-G344=2,G346)+IF(G347-G344=3,IF(G346-1>0,G346-1,0))+IF(G347-G344=4,IF(G346-2>0,G346-2,0))","v":0},{"$f":"IF(H347-H344=-1,3+H346)+IF(H347-H344=0,2+H346)+IF(H347-H344=1,1+H346)+IF(H347-H344=2,H346)+IF(H347-H344=3,IF(H346-1>0,H346-1,0))+IF(H347-H344=4,IF(H346-2>0,H346-2,0))","v":0},0,0,0,0,0,0,0,{"$f":"SUM(G348:O348)","v":0},{"$f":"IF(Q347-Q344=-1,3+Q346)+IF(Q347-Q344=0,2+Q346)+IF(Q347-Q344=1,1+Q346)+IF(Q347-Q344=2,Q346)+IF(Q347-Q344=3,IF(Q346-1>0,Q346-1,0))+IF(Q347-Q344=4,IF(Q346-2>0,Q346-2,0))","v":0},0,0,0,0,0,0,0,0,{"$f":"SUM(Q348:Y348)","v":0},{"$f":"P348+Z348","v":0}]
[null,null,null,null,null,"Score Brut",{"$f":"IF(G347-G344=-2,4)+IF(G347-G344=-1,3)+IF(G347-G344=0,2)+IF(G347-G344=1,1)+IF(G347-G344>2,0)","v":0},0,0,0,0,0,0,0,0,{"$f":"SUM(G349:O349)","v":0},{"$f":"IF(Q347-Q344=-2,4)+IF(Q347-Q344=-1,3)+IF(Q347-Q344=0,2)+IF(Q347-Q344=1,1)+IF(Q347-Q344>2,0)","v":0},0,0,0,0,0,0,0,0,{"$f":"SUM(Q349:Y349)","v":0},{"$f":"P349+Z349","v":0}]
[null,null,null,null,null,null,{"$f":"G347-G344","v":6},{"$f":"H347-H344","v":6},5,6,7,5,7,5,7,null,{"$f":"Q347-Q344","v":6},6,7,5,7,6,6,5,6]
[]
[]
[null,null,null,null,null,"Statistiques scores",null,"Eagle & moins",null,null,null,{"$f":"COUNTIF(G350:Y350,\"<=-2\")","v":0},"Par",null,{"$f":"COUNTIF(G350:Y350,\"=0\")","v":0},"Double bogey",null,null,null,null,{"$f":"COUNTIF(G350:Y350,\"=2\")","v":0}]
[null,null,null,null,null,null,null,"Birdie",null,null,null,{"$f":"COUNTIF(G350:Y350,\"=-1\")","v":0},"Bogey",null,{"$f":"COUNTIF(G350:Y350,\"=1\")","v":0},"Triple bogey & plus",null,null,null,null,{"$f":"COUNTIF(G350:Y350,\">=3\")","v":18}]
[null,null,null,null,null,null,null,{"$f":"M353","v":"Par"},null,null,null,{"$f":"O353","v":0}]
[null,null,null,null,null,null,null,{"$f":"M354","v":"Bogey"},null,null,null,{"$f":"O354","v":0}]
[null,null,null,null,null,null,null,{"$f":"P353","v":"Double bogey"},null,null,null,{"$f":"U353","v":0}]
[null,null,null,null,null,null,null,{"$f":"P354","v":"Triple bogey & plus"},null,null,null,{"$f":"U354","v":18}]
[]
[]
[]
[]
[null,null,null,null,null,"Nom",{"$f":"C21","v":0},null,null,null,null,"Slope",null,null,"SSS",null,"Coups reçus",null,null,null,null,null,null,null,null,"Date",{"$f":"$D$3","v":"00:00:00"}]
[null,null,null,null,null,"Index",{"$f":"E21","v":20},null,null,null,null,{"$f":"$F$3","v":133},null,null,{"$f":"$G$3","v":68.599999999999994},null,{"$f":"ROUND((G364*(L364/113)+(O364-AA367)),0)","v":20}]
[]
[null,null,null,null,null,"Trou",1,2,3,4,5,6,7,8,9,"Aller",10,11,12,13,14,15,16,17,18,"Retour","Total"]
[null,null,null,null,null,"PAR",{"$f":"G$7","v":4},{"$f":"H$7","v":4},5,4,3,5,3,5,3,{"$f":"SUM(G367:O367)","v":36},{"$f":"Q$7","v":4},4,3,5,3,4,4,5,4,{"$f":"SUM(Q367:Y367)","v":36},{"$f":"SUM(P367+Z367)","v":72}]
[null,null,null,null,null,"HCP trous",{"$f":"G$8","v":4},{"$f":"H$8","v":8},12,14,2,10,18,16,6,null,{"$f":"Q$8","v":1},9,11,5,17,15,3,13,7]
[null,null,null,null,null,"Coups reçus",{"$f":"IF($Q364<=18,IF(G368<=$Q364,1,0),IF($Q364<=36,IF(G368<=($Q364-18),2,1),IF($Q364>36,IF(G368<=($Q364-36),3,2))))","v":1},{"$f":"IF($Q364<=18,IF(H368<=$Q364,1,0),IF($Q364<=36,IF(H368<=($Q364-18),2,1),IF($Q364>36,IF(H368<=($Q364-36),3,2))))","v":1},1,1,2,1,1,1,1,{"$f":"SUM(G369:O369)","v":10},{"$f":"IF($Q364<=18,IF(Q368<=$Q364,1,0),IF($Q364<=36,IF(Q368<=($Q364-18),2,1),IF($Q364>36,IF(Q368<=($Q364-36),3,2))))","v":2},1,1,1,1,1,1,1,1,{"$f":"SUM(Q369:Y369)","v":10},{"$f":"P369+Z369","v":20}]
[null,null,null,null,null,"Stroke play",{"$f":"G21","v":10},10,10,10,10,10,10,10,10,{"$f":"SUM(G370:O370)","v":90},{"$f":"Q21","v":10},10,10,10,10,10,10,10,10,{"$f":"SUM(Q370:Y370)","v":90},{"$f":"P370+Z370","v":180}]
[null,null,null,null,null,"Net Stableford",{"$f":"IF(G370-G367=-1,3+G369)+IF(G370-G367=0,2+G369)+IF(G370-G367=1,1+G369)+IF(G370-G367=2,G369)+IF(G370-G367=3,IF(G369-1>0,G369-1,0))+IF(G370-G367=4,IF(G369-2>0,G369-2,0))","v":0},{"$f":"IF(H370-H367=-1,3+H369)+IF(H370-H367=0,2+H369)+IF(H370-H367=1,1+H369)+IF(H370-H367=2,H369)+IF(H370-H367=3,IF(H369-1>0,H369-1,0))+IF(H370-H367=4,IF(H369-2>0,H369-2,0))","v":0},0,0,0,0,0,0,0,{"$f":"SUM(G371:O371)","v":0},{"$f":"IF(Q370-Q367=-1,3+Q369)+IF(Q370-Q367=0,2+Q369)+IF(Q370-Q367=1,1+Q369)+IF(Q370-Q367=2,Q369)+IF(Q370-Q367=3,IF(Q369-1>0,Q369-1,0))+IF(Q370-Q367=4,IF(Q369-2>0,Q369-2,0))","v":0},0,0,0,0,0,0,0,0,{"$f":"SUM(Q371:Y371)","v":0},{"$f":"P371+Z371","v":0}]
[null,null,null,null,null,"Score Brut",{"$f":"IF(G370-G367=-2,4)+IF(G370-G367=-1,3)+IF(G370-G367=0,2)+IF(G370-G367=1,1)+IF(G370-G367>2,0)","v":0},0,0,0,0,0,0,0,0,{"$f":"SUM(G372:O372)","v":0},{"$f":"IF(Q370-Q367=-2,4)+IF(Q370-Q367=-1,3)+IF(Q370-Q367=0,2)+IF(Q370-Q367=1,1)+IF(Q370-Q367>2,0)","v":0},0,0,0,0,0,0,0,0,{"$f":"SUM(Q372:Y372)","v":0},{"$f":"P372+Z372","v":0}]
[null,null,null,null,null,null,{"$f":"G370-G367","v":6},{"$f":"H370-H367","v":6},5,6,7,5,7,5,7,null,{"$f":"Q370-Q367","v":6},6,7,5,7,6,6,5,6]
[]
[]
[null,null,null,null,null,"Statistiques scores",null,"Eagle & moins",null,null,null,{"$f":"COUNTIF(G373:Y373,\"<=-2\")","v":0},"Par",null,{"$f":"COUNTIF(G373:Y373,\"=0\")","v":0},"Double bogey",null,null,null,null,{"$f":"COUNTIF(G373:Y373,\"=2\")","v":0}]
[null,null,null,null,null,null,null,"Birdie",null,null,null,{"$f":"COUNTIF(G373:Y373,\"=-1\")","v":0},"Bogey",null,{"$f":"COUNTIF(G373:Y373,\"=1\")","v":0},"Triple bogey & plus",null,null,null,null,{"$f":"COUNTIF(G373:Y373,\">=3\")","v":18}]
[null,null,null,null,null,null,null,{"$f":"M376","v":"Par"},null,null,null,{"$f":"O376","v":0}]
[null,null,null,null,null,null,null,{"$f":"M377","v":"Bogey"},null,null,null,{"$f":"O377","v":0}]
[null,null,null,null,null,null,null,{"$f":"P376","v":"Double bogey"},null,null,null,{"$f":"U376","v":0}]
[null,null,null,null,null,null,null,{"$f":"P377","v":"Triple bogey & plus"},null,null,null,{"$f":"U377","v":18}]
[]
[]
[]
[]
[null,null,null,null,null,"Nom",{"$f":"C22","v":0},null,null,null,null,"Slope",null,null,"SSS",null,"Coups reçus",null,null,null,null,null,null,null,null,"Date",{"$f":"$D$3","v":"00:00:00"}]
[null,null,null,null,null,"Index",{"$f":"E22","v":20},null,null,null,null,{"$f":"$F$3","v":133},null,null,{"$f":"$G$3","v":68.599999999999994},null,{"$f":"ROUND((G387*(L387/113)+(O387-AA390)),0)","v":20}]
[]
[null,null,null,null,null,"Trou",1,2,3,4,5,6,7,8,9,"Aller",10,11,12,13,14,15,16,17,18,"Retour","Total"]
[null,null,null,null,null,"PAR",{"$f":"G$7","v":4},{"$f":"H$7","v":4},5,4,3,5,3,5,3,{"$f":"SUM(G390:O390)","v":36},{"$f":"Q$7","v":4},4,3,5,3,4,4,5,4,{"$f":"SUM(Q390:Y390)","v":36},{"$f":"SUM(P390+Z390)","v":72}]
[null,null,null,null,null,"HCP trous",{"$f":"G$8","v":4},{"$f":"H$8","v":8},12,14,2,10,18,16,6,null,{"$f":"Q$8","v":1},9,11,5,17,15,3,13,7]
[null,null,null,null,null,"Coups reçus",{"$f":"IF($Q387<=18,IF(G391<=$Q387,1,0),IF($Q387<=36,IF(G391<=($Q387-18),2,1),IF($Q387>36,IF(G391<=($Q387-36),3,2))))","v":1},{"$f":"IF($Q387<=18,IF(H391<=$Q387,1,0),IF($Q387<=36,IF(H391<=($Q387-18),2,1),IF($Q387>36,IF(H391<=($Q387-36),3,2))))","v":1},1,1,2,1,1,1,1,{"$f":"SUM(G392:O392)","v":10},{"$f":"IF($Q387<=18,IF(Q391<=$Q387,1,0),IF($Q387<=36,IF(Q391<=($Q387-18),2,1),IF($Q387>36,IF(Q391<=($Q387-36),3,2))))","v":2},1,1,1,1,1,1,1,1,{"$f":"SUM(Q392:Y392)","v":10},{"$f":"P392+Z392","v":20}]
[null,null,null,null,null,"Stroke play",{"$f":"G22","v":10},10,10,10,10,10,10,10,10,{"$f":"SUM(G393:O393)","v":90},{"$f":"Q22","v":10},10,10,10,10,10,10,10,10,{"$f":"SUM(Q393:Y393)","v":90},{"$f":"P393+Z393","v":180}]
[null,null,null,null,null,"Net Stableford",{"$f":"IF(G393-G390=-1,3+G392)+IF(G393-G390=0,2+G392)+IF(G393-G390=1,1+G392)+IF(G393-G390=2,G392)+IF(G393-G390=3,IF(G392-1>0,G392-1,0))+IF(G393-G390=4,IF(G392-2>0,G392-2,0))","v":0},{"$f":"IF(H393-H390=-1,3+H392)+IF(H393-H390=0,2+H392)+IF(H393-H390=1,1+H392)+IF(H393-H390=2,H392)+IF(H393-H390=3,IF(H392-1>0,H392-1,0))+IF(H393-H390=4,IF(H392-2>0,H392-2,0))","v":0},0,0,0,0,0,0,0,{"$f":"SUM(G394:O394)","v":0},{"$f":"IF(Q393-Q390=-1,3+Q392)+IF(Q393-Q390=0,2+Q392)+IF(Q393-Q390=1,1+Q392)+IF(Q393-Q390=2,Q392)+IF(Q393-Q390=3,IF(Q392-1>0,Q392-1,0))+IF(Q393-Q390=4,IF(Q392-2>0,Q392-2,0))","v":0},0,0,0,0,0,0,0,0,{"$f":"SUM(Q394:Y394)","v":0},{"$f":"P394+Z394","v":0}]
[null,null,null,null,null,"Score Brut",{"$f":"IF(G393-G390=-2,4)+IF(G393-G390=-1,3)+IF(G393-G390=0,2)+IF(G393-G390=1,1)+IF(G393-G390>2,0)","v":0},0,0,0,0,0,0,0,0,{"$f":"SUM(G395:O395)","v":0},{"$f":"IF(Q393-Q390=-2,4)+IF(Q393-Q390=-1,3)+IF(Q393-Q390=0,2)+IF(Q393-Q390=1,1)+IF(Q393-Q390>2,0)","v":0},0,0,0,0,0,0,0,0,{"$f":"SUM(Q395:Y395)","v":0},{"$f":"P395+Z395","v":0}]
[null,null,null,null,null,null,{"$f":"G393-G390","v":6},{"$f":"H393-H390","v":6},5,6,7,5,7,5,7,null,{"$f":"Q393-Q390","v":6},6,7,5,7,6,6,5,6]
[]
[]
[null,null,null,null,null,"Statistiques scores",null,"Eagle & moins",null,null,null,{"$f":"COUNTIF(G396:Y396,\"<=-2\")","v":0},"Par",null,{"$f":"COUNTIF(G396:Y396,\"=0\")","v":0},"Double bogey",null,null,null,null,{"$f":"COUNTIF(G396:Y396,\"=2\")","v":0}]
[null,null,null,null,null,null,null,"Birdie",null,null,null,{"$f":"COUNTIF(G396:Y396,\"=-1\")","v":0},"Bogey",null,{"$f":"COUNTIF(G396:Y396,\"=1\")","v":0},"Triple bogey & plus",null,null,null,null,{"$f":"COUNTIF(G396:Y396,\">=3\")","v":18}]
[null,null,null,null,null,null,null,{"$f":"M399","v":"Par"},null,null,null,{"$f":"O399","v":0}]
[null,null,null,null,null,null,null,{"$f":"M400","v":"Bogey"},null,null,null,{"$f":"O400","v":0}]
[null,null,null,null,null,null,null,{"$f":"P399","v":"Double bogey"},null,null,null,{"$f":"U399","v":0}]
[null,null,null,null,null,null,null,{"$f":"P400","v":"Triple bogey & plus"},null,null,null,{"$f":"U400","v":18}]
[]
[]
[]
[]
[null,null,null,null,null,"Nom",{"$f":"C23","v":0},null,null,null,null,"Slope",null,null,"SSS",null,"Coups reçus",null,null,null,null,null,null,null,null,"Date",{"$f":"$D$3","v":"00:00:00"}]
[null,null,null,null,null,"Index",{"$f":"E23","v":20},null,null,null,null,{"$f":"$F$3","v":133},null,null,{"$f":"$G$3","v":68.599999999999994},null,{"$f":"ROUND((G410*(L410/113)+(O410-AA413)),0)","v":20}]
[]
[null,null,null,null,null,"Trou",1,2,3,4,5,6,7,8,9,"Aller",10,11,12,13,14,15,16,17,18,"Retour","Total"]
[null,null,null,null,null,"PAR",{"$f":"G$7","v":4},{"$f":"H$7","v":4},5,4,3,5,3,5,3,{"$f":"SUM(G413:O413)","v":36},{"$f":"Q$7","v":4},4,3,5,3,4,4,5,4,{"$f":"SUM(Q413:Y413)","v":36},{"$f":"SUM(P413+Z413)","v":72}]
[null,null,null,null,null,"HCP trous",{"$f":"G$8","v":4},{"$f":"H$8","v":8},12,14,2,10,18,16,6,null,{"$f":"Q$8","v":1},9,11,5,17,15,3,13,7]
[null,null,null,null,null,"Coups reçus",{"$f":"IF($Q410<=18,IF(G414<=$Q410,1,0),IF($Q410<=36,IF(G414<=($Q410-18),2,1),IF($Q410>36,IF(G414<=($Q410-36),3,2))))","v":1},{"$f":"IF($Q410<=18,IF(H414<=$Q410,1,0),IF($Q410<=36,IF(H414<=($Q410-18),2,1),IF($Q410>36,IF(H414<=($Q410-36),3,2))))","v":1},1,1,2,1,1,1,1,{"$f":"SUM(G415:O415)","v":10},{"$f":"IF($Q410<=18,IF(Q414<=$Q410,1,0),IF($Q410<=36,IF(Q414<=($Q410-18),2,1),IF($Q410>36,IF(Q414<=($Q410-36),3,2))))","v":2},1,1,1,1,1,1,1,1,{"$f":"SUM(Q415:Y415)","v":10},{"$f":"P415+Z415","v":20}]
[null,null,null,null,null,"Stroke play",{"$f":"G23","v":10},10,10,10,10,10,10,10,10,{"$f":"SUM(G416:O416)","v":90},{"$f":"Q23","v":10},10,10,10,10,10,10,10,10,{"$f":"SUM(Q416:Y416)","v":90},{"$f":"P416+Z416","v":180}]
[null,null,null,null,null,"Net Stableford",{"$f":"IF(G416-G413=-1,3+G415)+IF(G416-G413=0,2+G415)+IF(G416-G413=1,1+G415)+IF(G416-G413=2,G415)+IF(G416-G413=3,IF(G415-1>0,G415-1,0))+IF(G416-G413=4,IF(G415-2>0,G415-2,0))","v":0},{"$f":"IF(H416-H413=-1,3+H415)+IF(H416-H413=0,2+H415)+IF(H416-H413=1,1+H415)+IF(H416-H413=2,H415)+IF(H416-H413=3,IF(H415-1>0,H415-1,0))+IF(H416-H413=4,IF(H415-2>0,H415-2,0))","v":0},0,0,0,0,0,0,0,{"$f":"SUM(G417:O417)","v":0},{"$f":"IF(Q416-Q413=-1,3+Q415)+IF(Q416-Q413=0,2+Q415)+IF(Q416-Q413=1,1+Q415)+IF(Q416-Q413=2,Q415)+IF(Q416-Q413=3,IF(Q415-1>0,Q415-1,0))+IF(Q416-Q413=4,IF(Q415-2>0,Q415-2,0))","v":0},0,0,0,0,0,0,0,0,{"$f":"SUM(Q417:Y417)","v":0},{"$f":"P417+Z417","v":0}]
[null,null,null,null,null,"Score Brut",{"$f":"IF(G416-G413=-2,4)+IF(G416-G413=-1,3)+IF(G416-G413=0,2)+IF(G416-G413=1,1)+IF(G416-G413>2,0)","v":0},0,0,0,0,0,0,0,0,{"$f":"SUM(G418:O418)","v":0},{"$f":"IF(Q416-Q413=-2,4)+IF(Q416-Q413=-1,3)+IF(Q416-Q413=0,2)+IF(Q416-Q413=1,1)+IF(Q416-Q413>2,0)","v":0},0,0,0,0,0,0,0,0,{"$f":"SUM(Q418:Y418)","v":0},{"$f":"P418+Z418","v":0}]
[null,null,null,null,null,null,{"$f":"G416-G413","v":6},{"$f":"H416-H413","v":6},5,6,7,5,7,5,7,null,{"$f":"Q416-Q413","v":6},6,7,5,7,6,6,5,6]
[]
[]
[null,null,null,null,null,"Statistiques scores",null,"Eagle & moins",null,null,null,{"$f":"COUNTIF(G419:Y419,\"<=-2\")","v":0},"Par",null,{"$f":"COUNTIF(G419:Y419,\"=0\")","v":0},"Double bogey",null,null,null,null,{"$f":"COUNTIF(G419:Y419,\"=2\")","v":0}]
[null,null,null,null,null,null,null,"Birdie",null,null,null,{"$f":"COUNTIF(G419:Y419,\"=-1\")","v":0},"Bogey",null,{"$f":"COUNTIF(G419:Y419,\"=1\")","v":0},"Triple bogey & plus",null,null,null,null,{"$f":"COUNTIF(G419:Y419,\">=3\")","v":18}]
[null,null,null,null,null,null,null,{"$f":"M422","v":"Par"},null,null,null,{"$f":"O422","v":0}]
[null,null,null,null,null,null,null,{"$f":"M423","v":"Bogey"},null,null,null,{"$f":"O423","v":0}]
[null,null,null,null,null,null,null,{"$f":"P422","v":"Double bogey"},null,null,null,{"$f":"U422","v":0}]
[null,null,null,null,null,null,null,{"$f":"P423","v":"Triple bogey & plus"},null,null,null,{"$f":"U423","v":18}]
[]
[]
[]
[]
[null,null,null,null,null,"Nom",{"$f":"C24","v":0},null,null,null,null,"Slope",null,null,"SSS",null,"Coups reçus",null,null,null,null,null,null,null,null,"Date",{"$f":"$D$3","v":"00:00:00"}]
[null,null,null,null,null,"Index",{"$f":"E24","v":20},null,null,null,null,{"$f":"$F$3","v":133},null,null,{"$f":"$G$3","v":68.599999999999994},null,{"$f":"ROUND((G433*(L433/113)+(O433-AA436)),0)","v":20}]
[]
[null,null,null,null,null,"Trou",1,2,3,4,5,6,7,8,9,"Aller",10,11,12,13,14,15,16,17,18,"Retour","Total"]
[null,null,null,null,null,"PAR",{"$f":"G$7","v":4},{"$f":"H$7","v":4},5,4,3,5,3,5,3,{"$f":"SUM(G436:O436)","v":36},{"$f":"Q$7","v":4},4,3,5,3,4,4,5,4,{"$f":"SUM(Q436:Y436)","v":36},{"$f":"SUM(P436+Z436)","v":72}]
[null,null,null,null,null,"HCP trous",{"$f":"G$8","v":4},{"$f":"H$8","v":8},12,14,2,10,18,16,6,null,{"$f":"Q$8","v":1},9,11,5,17,15,3,13,7]
[null,null,null,null,null,"Coups reçus",{"$f":"IF($Q433<=18,IF(G437<=$Q433,1,0),IF($Q433<=36,IF(G437<=($Q433-18),2,1),IF($Q433>36,IF(G437<=($Q433-36),3,2))))","v":1},{"$f":"IF($Q433<=18,IF(H437<=$Q433,1,0),IF($Q433<=36,IF(H437<=($Q433-18),2,1),IF($Q433>36,IF(H437<=($Q433-36),3,2))))","v":1},1,1,2,1,1,1,1,{"$f":"SUM(G438:O438)","v":10},{"$f":"IF($Q433<=18,IF(Q437<=$Q433,1,0),IF($Q433<=36,IF(Q437<=($Q433-18),2,1),IF($Q433>36,IF(Q437<=($Q433-36),3,2))))","v":2},1,1,1,1,1,1,1,1,{"$f":"SUM(Q438:Y438)","v":10},{"$f":"P438+Z438","v":20}]
[null,null,null,null,null,"Stroke play",{"$f":"G24","v":10},10,10,10,10,10,10,10,10,{"$f":"SUM(G439:O439)","v":90},{"$f":"Q24","v":10},10,10,10,10,10,10,10,10,{"$f":"SUM(Q439:Y439)","v":90},{"$f":"P439+Z439","v":180}]
[null,null,null,null,null,"Net Stableford",{"$f":"IF(G439-G436=-1,3+G438)+IF(G439-G436=0,2+G438)+IF(G439-G436=1,1+G438)+IF(G439-G436=2,G438)+IF(G439-G436=3,IF(G438-1>0,G438-1,0))+IF(G439-G436=4,IF(G438-2>0,G438-2,0))","v":0},{"$f":"IF(H439-H436=-1,3+H438)+IF(H439-H436=0,2+H438)+IF(H439-H436=1,1+H438)+IF(H439-H436=2,H438)+IF(H439-H436=3,IF(H438-1>0,H438-1,0))+IF(H439-H436=4,IF(H438-2>0,H438-2,0))","v":0},0,0,0,0,0,0,0,{"$f":"SUM(G440:O440)","v":0},{"$f":"IF(Q439-Q436=-1,3+Q438)+IF(Q439-Q436=0,2+Q438)+IF(Q439-Q436=1,1+Q438)+IF(Q439-Q436=2,Q438)+IF(Q439-Q436=3,IF(Q438-1>0,Q438-1,0))+IF(Q439-Q436=4,IF(Q438-2>0,Q438-2,0))","v":0},0,0,0,0,0,0,0,0,{"$f":"SUM(Q440:Y440)","v":0},{"$f":"P440+Z440","v":0}]
[null,null,null,null,null,"Score Brut",{"$f":"IF(G439-G436=-2,4)+IF(G439-G436=-1,3)+IF(G439-G436=0,2)+IF(G439-G436=1,1)+IF(G439-G436>2,0)","v":0},0,0,0,0,0,0,0,0,{"$f":"SUM(G441:O441)","v":0},{"$f":"IF(Q439-Q436=-2,4)+IF(Q439-Q436=-1,3)+IF(Q439-Q436=0,2)+IF(Q439-Q436=1,1)+IF(Q439-Q436>2,0)","v":0},0,0,0,0,0,0,0,0,{"$f":"SUM(Q441:Y441)","v":0},{"$f":"P441+Z441","v":0}]
[null,null,null,null,null,null,{"$f":"G439-G436","v":6},{"$f":"H439-H436","v":6},5,6,7,5,7,5,7,null,{"$f":"Q439-Q436","v":6},6,7,5,7,6,6,5,6]
[]
[]
[null,null,null,null,null,"Statistiques scores",null,"Eagle & moins",null,null,null,{"$f":"COUNTIF(G442:Y442,\"<=-2\")","v":0},"Par",null,{"$f":"COUNTIF(G442:Y442,\"=0\")","v":0},"Double bogey",null,null,null,null,{"$f":"COUNTIF(G442:Y442,\"=2\")","v":0}]
[null,null,null,null,null,null,null,"Birdie",null,null,null,{"$f":"COUNTIF(G442:Y442,\"=-1\")","v":0},"Bogey",null,{"$f":"COUNTIF(G442:Y442,\"=1\")","v":0},"Triple bogey & plus",null,null,null,null,{"$f":"COUNTIF(G442:Y442,\">=3\")","v":18}]
[null,null,null,null,null,null,null,{"$f":"M445","v":"Par"},null,null,null,{"$f":"O445","v":0}]
[null,null,null,null,null,null,null,{"$f":"M446","v":"Bogey"},null,null,null,{"$f":"O446","v":0}]
[null,null,null,null,null,null,null,{"$f":"P445","v":"Double bogey"},null,null,null,{"$f":"U445","v":0}]
[null,null,null,null,null,null,null,{"$f":"P446","v":"Triple bogey & plus"},null,null,null,{"$f":"U446","v":18}]
[]
[]
[]
[]
[null,null,null,null,null,"Nom",{"$f":"C25","v":0},null,null,null,null,"Slope",null,null,"SSS",null,"Coups reçus",null,null,null,null,null,null,null,null,"Date",{"$f":"$D$3","v":"00:00:00"}]
[null,null,null,null,null,"Index",{"$f":"E25","v":20},null,null,null,null,{"$f":"$F$3","v":133},null,null,{"$f":"$G$3","v":68.599999999999994},null,{"$f":"ROUND((G456*(L456/113)+(O456-AA459)),0)","v":20}]
[]
[null,null,null,null,null,"Trou",1,2,3,4,5,6,7,8,9,"Aller",10,11,12,13,14,15,16,17,18,"Retour","Total"]
[null,null,null,null,null,"PAR",{"$f":"G$7","v":4},{"$f":"H$7","v":4},5,4,3,5,3,5,3,{"$f":"SUM(G459:O459)","v":36},{"$f":"Q$7","v":4},4,3,5,3,4,4,5,4,{"$f":"SUM(Q459:Y459)","v":36},{"$f":"SUM(P459+Z459)","v":72}]
[null,null,null,null,null,"HCP trous",{"$f":"G$8","v":4},{"$f":"H$8","v":8},12,14,2,10,18,16,6,null,{"$f":"Q$8","v":1},9,11,5,17,15,3,13,7]
[null,null,null,null,null,"Coups reçus",{"$f":"IF($Q456<=18,IF(G460<=$Q456,1,0),IF($Q456<=36,IF(G460<=($Q456-18),2,1),IF($Q456>36,IF(G460<=($Q456-36),3,2))))","v":1},{"$f":"IF($Q456<=18,IF(H460<=$Q456,1,0),IF($Q456<=36,IF(H460<=($Q456-18),2,1),IF($Q456>36,IF(H460<=($Q456-36),3,2))))","v":1},1,1,2,1,1,1,1,{"$f":"SUM(G461:O461)","v":10},{"$f":"IF($Q456<=18,IF(Q460<=$Q456,1,0),IF($Q456<=36,IF(Q460<=($Q456-18),2,1),IF($Q456>36,IF(Q460<=($Q456-36),3,2))))","v":2},1,1,1,1,1,1,1,1,{"$f":"SUM(Q461:Y461)","v":10},{"$f":"P461+Z461","v":20}]
[null,null,null,null,null,"Stroke play",{"$f":"G25","v":10},10,10,10,10,10,10,10,10,{"$f":"SUM(G462:O462)","v":90},{"$f":"Q25","v":10},10,10,10,10,10,10,10,10,{"$f":"SUM(Q462:Y462)","v":90},{"$f":"P462+Z462","v":180}]
[null,null,null,null,null,"Net Stableford",{"$f":"IF(G462-G459=-1,3+G461)+IF(G462-G459=0,2+G461)+IF(G462-G459=1,1+G461)+IF(G462-G459=2,G461)+IF(G462-G459=3,IF(G461-1>0,G461-1,0))+IF(G462-G459=4,IF(G461-2>0,G461-2,0))","v":0},{"$f":"IF(H462-H459=-1,3+H461)+IF(H462-H459=0,2+H461)+IF(H462-H459=1,1+H461)+IF(H462-H459=2,H461)+IF(H462-H459=3,IF(H461-1>0,H461-1,0))+IF(H462-H459=4,IF(H461-2>0,H461-2,0))","v":0},0,0,0,0,0,0,0,{"$f":"SUM(G463:O463)","v":0},{"$f":"IF(Q462-Q459=-1,3+Q461)+IF(Q462-Q459=0,2+Q461)+IF(Q462-Q459=1,1+Q461)+IF(Q462-Q459=2,Q461)+IF(Q462-Q459=3,IF(Q461-1>0,Q461-1,0))+IF(Q462-Q459=4,IF(Q461-2>0,Q461-2,0))","v":0},0,0,0,0,0,0,0,0,{"$f":"SUM(Q463:Y463)","v":0},{"$f":"P463+Z463","v":0}]
[null,null,null,null,null,"Score Brut",{"$f":"IF(G462-G459=-2,4)+IF(G462-G459=-1,3)+IF(G462-G459=0,2)+IF(G462-G459=1,1)+IF(G462-G459>2,0)","v":0},0,0,0,0,0,0,0,0,{"$f":"SUM(G464:O464)","v":0},{"$f":"IF(Q462-Q459=-2,4)+IF(Q462-Q459=-1,3)+IF(Q462-Q459=0,2)+IF(Q462-Q459=1,1)+IF(Q462-Q459>2,0)","v":0},0,0,0,0,0,0,0,0,{"$f":"SUM(Q464:Y464)","v":0},{"$f":"P464+Z464","v":0}]
[null,null,null,null,null,null,{"$f":"G462-G459","v":6},{"$f":"H462-H459","v":6},5,6,7,5,7,5,7,null,{"$f":"Q462-Q459","v":6},6,7,5,7,6,6,5,6]
[]
[]
[null,null,null,null,null,"Statistiques scores",null,"Eagle & moins",null,null,null,{"$f":"COUNTIF(G465:Y465,\"<=-2\")","v":0},"Par",null,{"$f":"COUNTIF(G465:Y465,\"=0\")","v":0},"Double bogey",null,null,null,null,{"$f":"COUNTIF(G465:Y465,\"=2\")","v":0}]
[null,null,null,null,null,null,null,"Birdie",null,null,null,{"$f":"COUNTIF(G465:Y465,\"=-1\")","v":0},"Bogey",null,{"$f":"COUNTIF(G465:Y465,\"=1\")","v":0},"Triple bogey & plus",null,null,null,null,{"$f":"COUNTIF(G465:Y465,\">=3\")","v":18}]
[null,null,null,null,null,null,null,{"$f":"M468","v":"Par"},null,null,null,{"$f":"O468","v":0}]
[null,null,null,null,null,null,null,{"$f":"M469","v":"Bogey"},null,null,null,{"$f":"O469","v":0}]
[null,null,null,null,null,null,null,{"$f":"P468","v":"Double bogey"},null,null,null,{"$f":"U468","v":0}]
[null,null,null,null,null,null,null,{"$f":"P469","v":"Triple bogey & plus"},null,null,null,{"$f":"U469","v":18}]
[]
[]
[]
[]
[null,null,null,null,null,"Nom",{"$f":"C26","v":0},null,null,null,null,"Slope",null,null,"SSS",null,"Coups reçus",null,null,null,null,null,null,null,null,"Date",{"$f":"$D$3","v":"00:00:00"}]
[null,null,null,null,null,"Index",{"$f":"E26","v":20},null,null,null,null,{"$f":"$F$3","v":133},null,null,{"$f":"$G$3","v":68.599999999999994},null,{"$f":"ROUND((G479*(L479/113)+(O479-AA482)),0)","v":20}]
[]
[null,null,null,null,null,"Trou",1,2,3,4,5,6,7,8,9,"Aller",10,11,12,13,14,15,16,17,18,"Retour","Total"]
[null,null,null,null,null,"PAR",{"$f":"G$7","v":4},{"$f":"H$7","v":4},5,4,3,5,3,5,3,{"$f":"SUM(G482:O482)","v":36},{"$f":"Q$7","v":4},4,3,5,3,4,4,5,4,{"$f":"SUM(Q482:Y482)","v":36},{"$f":"SUM(P482+Z482)","v":72}]
[null,null,null,null,null,"HCP trous",{"$f":"G$8","v":4},{"$f":"H$8","v":8},12,14,2,10,18,16,6,null,{"$f":"Q$8","v":1},9,11,5,17,15,3,13,7]
[null,null,null,null,null,"Coups reçus",{"$f":"IF($Q479<=18,IF(G483<=$Q479,1,0),IF($Q479<=36,IF(G483<=($Q479-18),2,1),IF($Q479>36,IF(G483<=($Q479-36),3,2))))","v":1},{"$f":"IF($Q479<=18,IF(H483<=$Q479,1,0),IF($Q479<=36,IF(H483<=($Q479-18),2,1),IF($Q479>36,IF(H483<=($Q479-36),3,2))))","v":1},1,1,2,1,1,1,1,{"$f":"SUM(G484:O484)","v":10},{"$f":"IF($Q479<=18,IF(Q483<=$Q479,1,0),IF($Q479<=36,IF(Q483<=($Q479-18),2,1),IF($Q479>36,IF(Q483<=($Q479-36),3,2))))","v":2},1,1,1,1,1,1,1,1,{"$f":"SUM(Q484:Y484)","v":10},{"$f":"P484+Z484","v":20}]
[null,null,null,null,null,"Stroke play",{"$f":"G26","v":10},10,10,10,10,10,10,10,10,{"$f":"SUM(G485:O485)","v":90},{"$f":"Q26","v":10},10,10,10,10,10,10,10,10,{"$f":"SUM(Q485:Y485)","v":90},{"$f":"P485+Z485","v":180}]
[null,null,null,null,null,"Net Stableford",{"$f":"IF(G485-G482=-1,3+G484)+IF(G485-G482=0,2+G484)+IF(G485-G482=1,1+G484)+IF(G485-G482=2,G484)+IF(G485-G482=3,IF(G484-1>0,G484-1,0))+IF(G485-G482=4,IF(G484-2>0,G484-2,0))","v":0},{"$f":"IF(H485-H482=-1,3+H484)+IF(H485-H482=0,2+H484)+IF(H485-H482=1,1+H484)+IF(H485-H482=2,H484)+IF(H485-H482=3,IF(H484-1>0,H484-1,0))+IF(H485-H482=4,IF(H484-2>0,H484-2,0))","v":0},0,0,0,0,0,0,0,{"$f":"SUM(G486:O486)","v":0},{"$f":"IF(Q485-Q482=-1,3+Q484)+IF(Q485-Q482=0,2+Q484)+IF(Q485-Q482=1,1+Q484)+IF(Q485-Q482=2,Q484)+IF(Q485-Q482=3,IF(Q484-1>0,Q484-1,0))+IF(Q485-Q482=4,IF(Q484-2>0,Q484-2,0))","v":0},0,0,0,0,0,0,0,0,{"$f":"SUM(Q486:Y486)","v":0},{"$f":"P486+Z486","v":0}]
[null,null,null,null,null,"Score Brut",{"$f":"IF(G485-G482=-2,4)+IF(G485-G482=-1,3)+IF(G485-G482=0,2)+IF(G485-G482=1,1)+IF(G485-G482>2,0)","v":0},0,0,0,0,0,0,0,0,{"$f":"SUM(G487:O487)","v":0},{"$f":"IF(Q485-Q482=-2,4)+IF(Q485-Q482=-1,3)+IF(Q485-Q482=0,2)+IF(Q485-Q482=1,1)+IF(Q485-Q482>2,0)","v":0},0,0,0,0,0,0,0,0,{"$f":"SUM(Q487:Y487)","v":0},{"$f":"P487+Z487","v":0}]
[null,null,null,null,null,null,{"$f":"G485-G482","v":6},{"$f":"H485-H482","v":6},5,6,7,5,7,5,7,null,{"$f":"Q485-Q482","v":6},6,7,5,7,6,6,5,6]
[]
[]
[null,null,null,null,null,"Statistiques scores",null,"Eagle & moins",null,null,null,{"$f":"COUNTIF(G488:Y488,\"<=-2\")","v":0},"Par",null,{"$f":"COUNTIF(G488:Y488,\"=0\")","v":0},"Double bogey",null,null,null,null,{"$f":"COUNTIF(G488:Y488,\"=2\")","v":0}]
[null,null,null,null,null,null,null,"Birdie",null,null,null,{"$f":"COUNTIF(G488:Y488,\"=-1\")","v":0},"Bogey",null,{"$f":"COUNTIF(G488:Y488,\"=1\")","v":0},"Triple bogey & plus",null,null,null,null,{"$f":"COUNTIF(G488:Y488,\">=3\")","v":18}]
[null,null,null,null,null,null,null,{"$f":"M491","v":"Par"},null,null,null,{"$f":"O491","v":0}]
[null,null,null,null,null,null,null,{"$f":"M492","v":"Bogey"},null,null,null,{"$f":"O492","v":0}]
[null,null,null,null,null,null,null,{"$f":"P491","v":"Double bogey"},null,null,null,{"$f":"U491","v":0}]
[null,null,null,null,null,null,null,{"$f":"P492","v":"Triple bogey & plus"},null,null,null,{"$f":"U492","v":18}]
[]
[]
[]
[]
[null,null,null,null,null,"Nom",{"$f":"C27","v":0},null,null,null,null,"Slope",null,null,"SSS",null,"Coups reçus",null,null,null,null,null,null,null,null,"Date",{"$f":"$D$3","v":"00:00:00"}]
[null,null,null,null,null,"Index",{"$f":"E27","v":20},null,null,null,null,{"$f":"$F$3","v":133},null,null,{"$f":"$G$3","v":68.599999999999994},null,{"$f":"ROUND((G502*(L502/113)+(O502-AA505)),0)","v":20}]
[]
[null,null,null,null,null,"Trou",1,2,3,4,5,6,7,8,9,"Aller",10,11,12,13,14,15,16,17,18,"Retour","Total"]
[null,null,null,null,null,"PAR",{"$f":"G$7","v":4},{"$f":"H$7","v":4},5,4,3,5,3,5,3,{"$f":"SUM(G505:O505)","v":36},{"$f":"Q$7","v":4},4,3,5,3,4,4,5,4,{"$f":"SUM(Q505:Y505)","v":36},{"$f":"SUM(P505+Z505)","v":72}]
[null,null,null,null,null,"HCP trous",{"$f":"G$8","v":4},{"$f":"H$8","v":8},12,14,2,10,18,16,6,null,{"$f":"Q$8","v":1},9,11,5,17,15,3,13,7]
[null,null,null,null,null,"Coups reçus",{"$f":"IF($Q502<=18,IF(G506<=$Q502,1,0),IF($Q502<=36,IF(G506<=($Q502-18),2,1),IF($Q502>36,IF(G506<=($Q502-36),3,2))))","v":1},{"$f":"IF($Q502<=18,IF(H506<=$Q502,1,0),IF($Q502<=36,IF(H506<=($Q502-18),2,1),IF($Q502>36,IF(H506<=($Q502-36),3,2))))","v":1},1,1,2,1,1,1,1,{"$f":"SUM(G507:O507)","v":10},{"$f":"IF($Q502<=18,IF(Q506<=$Q502,1,0),IF($Q502<=36,IF(Q506<=($Q502-18),2,1),IF($Q502>36,IF(Q506<=($Q502-36),3,2))))","v":2},1,1,1,1,1,1,1,1,{"$f":"SUM(Q507:Y507)","v":10},{"$f":"P507+Z507","v":20}]
[null,null,null,null,null,"Stroke play",{"$f":"G27","v":10},10,10,10,10,10,10,10,10,{"$f":"SUM(G508:O508)","v":90},{"$f":"Q27","v":10},10,10,10,10,10,10,10,10,{"$f":"SUM(Q508:Y508)","v":90},{"$f":"P508+Z508","v":180}]
[null,null,null,null,null,"Net Stableford",{"$f":"IF(G508-G505=-1,3+G507)+IF(G508-G505=0,2+G507)+IF(G508-G505=1,1+G507)+IF(G508-G505=2,G507)+IF(G508-G505=3,IF(G507-1>0,G507-1,0))+IF(G508-G505=4,IF(G507-2>0,G507-2,0))","v":0},{"$f":"IF(H508-H505=-1,3+H507)+IF(H508-H505=0,2+H507)+IF(H508-H505=1,1+H507)+IF(H508-H505=2,H507)+IF(H508-H505=3,IF(H507-1>0,H507-1,0))+IF(H508-H505=4,IF(H507-2>0,H507-2,0))","v":0},0,0,0,0,0,0,0,{"$f":"SUM(G509:O509)","v":0},{"$f":"IF(Q508-Q505=-1,3+Q507)+IF(Q508-Q505=0,2+Q507)+IF(Q508-Q505=1,1+Q507)+IF(Q508-Q505=2,Q507)+IF(Q508-Q505=3,IF(Q507-1>0,Q507-1,0))+IF(Q508-Q505=4,IF(Q507-2>0,Q507-2,0))","v":0},0,0,0,0,0,0,0,0,{"$f":"SUM(Q509:Y509)","v":0},{"$f":"P509+Z509","v":0}]
[null,null,null,null,null,"Score Brut",{"$f":"IF(G508-G505=-2,4)+IF(G508-G505=-1,3)+IF(G508-G505=0,2)+IF(G508-G505=1,1)+IF(G508-G505>2,0)","v":0},0,0,0,0,0,0,0,0,{"$f":"SUM(G510:O510)","v":0},{"$f":"IF(Q508-Q505=-2,4)+IF(Q508-Q505=-1,3)+IF(Q508-Q505=0,2)+IF(Q508-Q505=1,1)+IF(Q508-Q505>2,0)","v":0},0,0,0,0,0,0,0,0,{"$f":"SUM(Q510:Y510)","v":0},{"$f":"P510+Z510","v":0}]
[null,null,null,null,null,null,{"$f":"G508-G505","v":6},{"$f":"H508-H505","v":6},5,6,7,5,7,5,7,null,{"$f":"Q508-Q505","v":6},6,7,5,7,6,6,5,6]
[]
[]
[null,null,null,null,null,"Statistiques scores",null,"Eagle & moins",null,null,null,{"$f":"COUNTIF(G511:Y511,\"<=-2\")","v":0},"Par",null,{"$f":"COUNTIF(G511:Y511,\"=0\")","v":0},"Double bogey",null,null,null,null,{"$f":"COUNTIF(G511:Y511,\"=2\")","v":0}]
[null,null,null,null,null,null,null,"Birdie",null,null,null,{"$f":"COUNTIF(G511:Y511,\"=-1\")","v":0},"Bogey",null,{"$f":"COUNTIF(G511:Y511,\"=1\")","v":0},"Triple bogey & plus",null,null,null,null,{"$f":"COUNTIF(G511:Y511,\">=3\")","v":18}]
[null,null,null,null,null,null,null,{"$f":"M514","v":"Par"},null,null,null,{"$f":"O514","v":0}]
[null,null,null,null,null,null,null,{"$f":"M515","v":"Bogey"},null,null,null,{"$f":"O515","v":0}]
[null,null,null,null,null,null,null,{"$f":"P514","v":"Double bogey"},null,null,null,{"$f":"U514","v":0}]
[null,null,null,null,null,null,null,{"$f":"P515","v":"Triple bogey & plus"},null,null,null,{"$f":"U515","v":18}]
[]
[]
[]
[]
[null,null,null,null,null,"Nom",{"$f":"C28","v":0},null,null,null,null,"Slope",null,null,"SSS",null,"Coups reçus",null,null,null,null,null,null,null,null,"Date",{"$f":"$D$3","v":"00:00:00"}]
[null,null,null,null,null,"Index",{"$f":"E28","v":20},null,null,null,null,{"$f":"$F$3","v":133},null,null,{"$f":"$G$3","v":68.599999999999994},null,{"$f":"ROUND((G525*(L525/113)+(O525-AA528)),0)","v":20}]
[]
[null,null,null,null,null,"Trou",1,2,3,4,5,6,7,8,9,"Aller",10,11,12,13,14,15,16,17,18,"Retour","Total"]
[null,null,null,null,null,"PAR",{"$f":"G$7","v":4},{"$f":"H$7","v":4},5,4,3,5,3,5,3,{"$f":"SUM(G528:O528)","v":36},{"$f":"Q$7","v":4},4,3,5,3,4,4,5,4,{"$f":"SUM(Q528:Y528)","v":36},{"$f":"SUM(P528+Z528)","v":72}]
[null,null,null,null,null,"HCP trous",{"$f":"G$8","v":4},{"$f":"H$8","v":8},12,14,2,10,18,16,6,null,{"$f":"Q$8","v":1},9,11,5,17,15,3,13,7]
[null,null,null,null,null,"Coups reçus",{"$f":"IF($Q525<=18,IF(G529<=$Q525,1,0),IF($Q525<=36,IF(G529<=($Q525-18),2,1),IF($Q525>36,IF(G529<=($Q525-36),3,2))))","v":1},{"$f":"IF($Q525<=18,IF(H529<=$Q525,1,0),IF($Q525<=36,IF(H529<=($Q525-18),2,1),IF($Q525>36,IF(H529<=($Q525-36),3,2))))","v":1},1,1,2,1,1,1,1,{"$f":"SUM(G530:O530)","v":10},{"$f":"IF($Q525<=18,IF(Q529<=$Q525,1,0),IF($Q525<=36,IF(Q529<=($Q525-18),2,1),IF($Q525>36,IF(Q529<=($Q525-36),3,2))))","v":2},1,1,1,1,1,1,1,1,{"$f":"SUM(Q530:Y530)","v":10},{"$f":"P530+Z530","v":20}]
[null,null,null,null,null,"Stroke play",{"$f":"G28","v":10},10,10,10,10,10,10,10,10,{"$f":"SUM(G531:O531)","v":90},{"$f":"Q28","v":10},10,10,10,10,10,10,10,10,{"$f":"SUM(Q531:Y531)","v":90},{"$f":"P531+Z531","v":180}]
[null,null,null,null,null,"Net Stableford",{"$f":"IF(G531-G528=-1,3+G530)+IF(G531-G528=0,2+G530)+IF(G531-G528=1,1+G530)+IF(G531-G528=2,G530)+IF(G531-G528=3,IF(G530-1>0,G530-1,0))+IF(G531-G528=4,IF(G530-2>0,G530-2,0))","v":0},{"$f":"IF(H531-H528=-1,3+H530)+IF(H531-H528=0,2+H530)+IF(H531-H528=1,1+H530)+IF(H531-H528=2,H530)+IF(H531-H528=3,IF(H530-1>0,H530-1,0))+IF(H531-H528=4,IF(H530-2>0,H530-2,0))","v":0},0,0,0,0,0,0,0,{"$f":"SUM(G532:O532)","v":0},{"$f":"IF(Q531-Q528=-1,3+Q530)+IF(Q531-Q528=0,2+Q530)+IF(Q531-Q528=1,1+Q530)+IF(Q531-Q528=2,Q530)+IF(Q531-Q528=3,IF(Q530-1>0,Q530-1,0))+IF(Q531-Q528=4,IF(Q530-2>0,Q530-2,0))","v":0},0,0,0,0,0,0,0,0,{"$f":"SUM(Q532:Y532)","v":0},{"$f":"P532+Z532","v":0}]
[null,null,null,null,null,"Score Brut",{"$f":"IF(G531-G528=-2,4)+IF(G531-G528=-1,3)+IF(G531-G528=0,2)+IF(G531-G528=1,1)+IF(G531-G528>2,0)","v":0},0,0,0,0,0,0,0,0,{"$f":"SUM(G533:O533)","v":0},{"$f":"IF(Q531-Q528=-2,4)+IF(Q531-Q528=-1,3)+IF(Q531-Q528=0,2)+IF(Q531-Q528=1,1)+IF(Q531-Q528>2,0)","v":0},0,0,0,0,0,0,0,0,{"$f":"SUM(Q533:Y533)","v":0},{"$f":"P533+Z533","v":0}]
[null,null,null,null,null,null,{"$f":"G531-G528","v":6},{"$f":"H531-H528","v":6},5,6,7,5,7,5,7,null,{"$f":"Q531-Q528","v":6},6,7,5,7,6,6,5,6]
[]
[]
[null,null,null,null,null,"Statistiques scores",null,"Eagle & moins",null,null,null,{"$f":"COUNTIF(G534:Y534,\"<=-2\")","v":0},"Par",null,{"$f":"COUNTIF(G534:Y534,\"=0\")","v":0},"Double bogey",null,null,null,null,{"$f":"COUNTIF(G534:Y534,\"=2\")","v":0}]
[null,null,null,null,null,null,null,"Birdie",null,null,null,{"$f":"COUNTIF(G534:Y534,\"=-1\")","v":0},"Bogey",null,{"$f":"COUNTIF(G534:Y534,\"=1\")","v":0},"Triple bogey & plus",null,null,null,null,{"$f":"COUNTIF(G534:Y534,\">=3\")","v":18}]
[null,null,null,null,null,null,null,{"$f":"M537","v":"Par"},null,null,null,{"$f":"O537","v":0}]
[null,null,null,null,null,null,null,{"$f":"M538","v":"Bogey"},null,null,null,{"$f":"O538","v":0}]
[null,null,null,null,null,null,null,{"$f":"P537","v":"Double bogey"},null,null,null,{"$f":"U537","v":0}]
[null,null,null,null,null,null,null,{"$f":"P538","v":"Triple bogey & plus"},null,null,null,{"$f":"U538","v":18}]
[]
[]
[]
[]
[null,null,null,null,null,"Nom",{"$f":"C29","v":0},null,null,null,null,"Slope",null,null,"SSS",null,"Coups reçus",null,null,null,null,null,null,null,null,"Date",{"$f":"$D$3","v":"00:00:00"}]
[null,null,null,null,null,"Index",{"$f":"E29","v":20},null,null,null,null,{"$f":"$F$3","v":133},null,null,{"$f":"$G$3","v":68.599999999999994},null,{"$f":"ROUND((G548*(L548/113)+(O548-AA551)),0)","v":20}]
[]
[null,null,null,null,null,"Trou",1,2,3,4,5,6,7,8,9,"Aller",10,11,12,13,14,15,16,17,18,"Retour","Total"]
[null,null,null,null,null,"PAR",{"$f":"G$7","v":4},{"$f":"H$7","v":4},5,4,3,5,3,5,3,{"$f":"SUM(G551:O551)","v":36},{"$f":"Q$7","v":4},4,3,5,3,4,4,5,4,{"$f":"SUM(Q551:Y551)","v":36},{"$f":"SUM(P551+Z551)","v":72}]
[null,null,null,null,null,"HCP trous",{"$f":"G$8","v":4},{"$f":"H$8","v":8},12,14,2,10,18,16,6,null,{"$f":"Q$8","v":1},9,11,5,17,15,3,13,7]
[null,null,null,null,null,"Coups reçus",{"$f":"IF($Q548<=18,IF(G552<=$Q548,1,0),IF($Q548<=36,IF(G552<=($Q548-18),2,1),IF($Q548>36,IF(G552<=($Q548-36),3,2))))","v":1},{"$f":"IF($Q548<=18,IF(H552<=$Q548,1,0),IF($Q548<=36,IF(H552<=($Q548-18),2,1),IF($Q548>36,IF(H552<=($Q548-36),3,2))))","v":1},1,1,2,1,1,1,1,{"$f":"SUM(G553:O553)","v":10},{"$f":"IF($Q548<=18,IF(Q552<=$Q548,1,0),IF($Q548<=36,IF(Q552<=($Q548-18),2,1),IF($Q548>36,IF(Q552<=($Q548-36),3,2))))","v":2},1,1,1,1,1,1,1,1,{"$f":"SUM(Q553:Y553)","v":10},{"$f":"P553+Z553","v":20}]
[null,null,null,null,null,"Stroke play",{"$f":"G29","v":10},10,10,10,10,10,10,10,10,{"$f":"SUM(G554:O554)","v":90},{"$f":"Q29","v":10},10,10,10,10,10,10,10,10,{"$f":"SUM(Q554:Y554)","v":90},{"$f":"P554+Z554","v":180}]
[null,null,null,null,null,"Net Stableford",{"$f":"IF(G554-G551=-1,3+G553)+IF(G554-G551=0,2+G553)+IF(G554-G551=1,1+G553)+IF(G554-G551=2,G553)+IF(G554-G551=3,IF(G553-1>0,G553-1,0))+IF(G554-G551=4,IF(G553-2>0,G553-2,0))","v":0},{"$f":"IF(H554-H551=-1,3+H553)+IF(H554-H551=0,2+H553)+IF(H554-H551=1,1+H553)+IF(H554-H551=2,H553)+IF(H554-H551=3,IF(H553-1>0,H553-1,0))+IF(H554-H551=4,IF(H553-2>0,H553-2,0))","v":0},0,0,0,0,0,0,0,{"$f":"SUM(G555:O555)","v":0},{"$f":"IF(Q554-Q551=-1,3+Q553)+IF(Q554-Q551=0,2+Q553)+IF(Q554-Q551=1,1+Q553)+IF(Q554-Q551=2,Q553)+IF(Q554-Q551=3,IF(Q553-1>0,Q553-1,0))+IF(Q554-Q551=4,IF(Q553-2>0,Q553-2,0))","v":0},0,0,0,0,0,0,0,0,{"$f":"SUM(Q555:Y555)","v":0},{"$f":"P555+Z555","v":0}]
[null,null,null,null,null,"Score Brut",{"$f":"IF(G554-G551=-2,4)+IF(G554-G551=-1,3)+IF(G554-G551=0,2)+IF(G554-G551=1,1)+IF(G554-G551>2,0)","v":0},0,0,0,0,0,0,0,0,{"$f":"SUM(G556:O556)","v":0},{"$f":"IF(Q554-Q551=-2,4)+IF(Q554-Q551=-1,3)+IF(Q554-Q551=0,2)+IF(Q554-Q551=1,1)+IF(Q554-Q551>2,0)","v":0},0,0,0,0,0,0,0,0,{"$f":"SUM(Q556:Y556)","v":0},{"$f":"P556+Z556","v":0}]
[null,null,null,null,null,null,{"$f":"G554-G551","v":6},{"$f":"H554-H551","v":6},5,6,7,5,7,5,7,null,{"$f":"Q554-Q551","v":6},6,7,5,7,6,6,5,6]
[]
[]
[null,null,null,null,null,"Statistiques scores",null,"Eagle & moins",null,null,null,{"$f":"COUNTIF(G557:Y557,\"<=-2\")","v":0},"Par",null,{"$f":"COUNTIF(G557:Y557,\"=0\")","v":0},"Double bogey",null,null,null,null,{"$f":"COUNTIF(G557:Y557,\"=2\")","v":0}]
[null,null,null,null,null,null,null,"Birdie",null,null,null,{"$f":"COUNTIF(G557:Y557,\"=-1\")","v":0},"Bogey",null,{"$f":"COUNTIF(G557:Y557,\"=1\")","v":0},"Triple bogey & plus",null,null,null,null,{"$f":"COUNTIF(G557:Y557,\">=3\")","v":18}]
[null,null,null,null,null,null,null,{"$f":"M560","v":"Par"},null,null,null,{"$f":"O560","v":0}]
[null,null,null,null,null,null,null,{"$f":"M561","v":"Bogey"},null,null,null,{"$f":"O561","v":0}]
[null,null,null,null,null,null,null,{"$f":"P560","v":"Double bogey"},null,null,null,{"$f":"U560","v":0}]
[null,null,null,null,null,null,null,{"$f":"P561","v":"Triple bogey & plus"},null,null,null,{"$f":"U561","v":18}]
[]
[]
[]
[]
[null,null,null,null,null,"Nom",{"$f":"C30","v":0},null,null,null,null,"Slope",null,null,"SSS",null,"Coups reçus",null,null,null,null,null,null,null,null,"Date",{"$f":"$D$3","v":"00:00:00"}]
[null,null,null,null,null,"Index",{"$f":"E30","v":20},null,null,null,null,{"$f":"$F$3","v":133},null,null,{"$f":"$G$3","v":68.599999999999994},null,{"$f":"ROUND((G571*(L571/113)+(O571-AA574)),0)","v":20}]
[]
[null,null,null,null,null,"Trou",1,2,3,4,5,6,7,8,9,"Aller",10,11,12,13,14,15,16,17,18,"Retour","Total"]
[null,null,null,null,null,"PAR",{"$f":"G$7","v":4},{"$f":"H$7","v":4},5,4,3,5,3,5,3,{"$f":"SUM(G574:O574)","v":36},{"$f":"Q$7","v":4},4,3,5,3,4,4,5,4,{"$f":"SUM(Q574:Y574)","v":36},{"$f":"SUM(P574+Z574)","v":72}]
[null,null,null,null,null,"HCP trous",{"$f":"G$8","v":4},{"$f":"H$8","v":8},12,14,2,10,18,16,6,null,{"$f":"Q$8","v":1},9,11,5,17,15,3,13,7]
[null,null,null,null,null,"Coups reçus",{"$f":"IF($Q571<=18,IF(G575<=$Q571,1,0),IF($Q571<=36,IF(G575<=($Q571-18),2,1),IF($Q571>36,IF(G575<=($Q571-36),3,2))))","v":1},{"$f":"IF($Q571<=18,IF(H575<=$Q571,1,0),IF($Q571<=36,IF(H575<=($Q571-18),2,1),IF($Q571>36,IF(H575<=($Q571-36),3,2))))","v":1},1,1,2,1,1,1,1,{"$f":"SUM(G576:O576)","v":10},{"$f":"IF($Q571<=18,IF(Q575<=$Q571,1,0),IF($Q571<=36,IF(Q575<=($Q571-18),2,1),IF($Q571>36,IF(Q575<=($Q571-36),3,2))))","v":2},1,1,1,1,1,1,1,1,{"$f":"SUM(Q576:Y576)","v":10},{"$f":"P576+Z576","v":20}]
[null,null,null,null,null,"Stroke play",{"$f":"G30","v":10},10,10,10,10,10,10,10,10,{"$f":"SUM(G577:O577)","v":90},{"$f":"Q30","v":10},10,10,10,10,10,10,10,10,{"$f":"SUM(Q577:Y577)","v":90},{"$f":"P577+Z577","v":180}]
[null,null,null,null,null,"Net Stableford",{"$f":"IF(G577-G574=-1,3+G576)+IF(G577-G574=0,2+G576)+IF(G577-G574=1,1+G576)+IF(G577-G574=2,G576)+IF(G577-G574=3,IF(G576-1>0,G576-1,0))+IF(G577-G574=4,IF(G576-2>0,G576-2,0))","v":0},{"$f":"IF(H577-H574=-1,3+H576)+IF(H577-H574=0,2+H576)+IF(H577-H574=1,1+H576)+IF(H577-H574=2,H576)+IF(H577-H574=3,IF(H576-1>0,H576-1,0))+IF(H577-H574=4,IF(H576-2>0,H576-2,0))","v":0},0,0,0,0,0,0,0,{"$f":"SUM(G578:O578)","v":0},{"$f":"IF(Q577-Q574=-1,3+Q576)+IF(Q577-Q574=0,2+Q576)+IF(Q577-Q574=1,1+Q576)+IF(Q577-Q574=2,Q576)+IF(Q577-Q574=3,IF(Q576-1>0,Q576-1,0))+IF(Q577-Q574=4,IF(Q576-2>0,Q576-2,0))","v":0},0,0,0,0,0,0,0,0,{"$f":"SUM(Q578:Y578)","v":0},{"$f":"P578+Z578","v":0}]
[null,null,null,null,null,"Score Brut",{"$f":"IF(G577-G574=-2,4)+IF(G577-G574=-1,3)+IF(G577-G574=0,2)+IF(G577-G574=1,1)+IF(G577-G574>2,0)","v":0},0,0,0,0,0,0,0,0,{"$f":"SUM(G579:O579)","v":0},{"$f":"IF(Q577-Q574=-2,4)+IF(Q577-Q574=-1,3)+IF(Q577-Q574=0,2)+IF(Q577-Q574=1,1)+IF(Q577-Q574>2,0)","v":0},0,0,0,0,0,0,0,0,{"$f":"SUM(Q579:Y579)","v":0},{"$f":"P579+Z579","v":0}]
[null,null,null,null,null,null,{"$f":"G577-G574","v":6},{"$f":"H577-H574","v":6},5,6,7,5,7,5,7,null,{"$f":"Q577-Q574","v":6},6,7,5,7,6,6,5,6]
[]
[]
[null,null,null,null,null,"Statistiques scores",null,"Eagle & moins",null,null,null,{"$f":"COUNTIF(G580:Y580,\"<=-2\")","v":0},"Par",null,{"$f":"COUNTIF(G580:Y580,\"=0\")","v":0},"Double bogey",null,null,null,null,{"$f":"COUNTIF(G580:Y580,\"=2\")","v":0}]
[null,null,null,null,null,null,null,"Birdie",null,null,null,{"$f":"COUNTIF(G580:Y580,\"=-1\")","v":0},"Bogey",null,{"$f":"COUNTIF(G580:Y580,\"=1\")","v":0},"Triple bogey & plus",null,null,null,null,{"$f":"COUNTIF(G580:Y580,\">=3\")","v":18}]
[null,null,null,null,null,null,null,{"$f":"M583","v":"Par"},null,null,null,{"$f":"O583","v":0}]
[null,null,null,null,null,null,null,{"$f":"M584","v":"Bogey"},null,null,null,{"$f":"O584","v":0}]
[null,null,null,null,null,null,null,{"$f":"P583","v":"Double bogey"},null,null,null,{"$f":"U583","v":0}]
[null,null,null,null,null,null,null,{"$f":"P584","v":"Triple bogey & plus"},null,null,null,{"$f":"U584","v":18}]
[]
[]
[]
[]
[null,null,null,null,null,"Nom",{"$f":"C31","v":0},null,null,null,null,"Slope",null,null,"SSS",null,"Coups reçus",null,null,null,null,null,null,null,null,"Date",{"$f":"$D$3","v":"00:00:00"}]
[null,null,null,null,null,"Index",{"$f":"E31","v":20},null,null,null,null,{"$f":"$F$3","v":133},null,null,{"$f":"$G$3","v":68.599999999999994},null,{"$f":"ROUND((G594*(L594/113)+(O594-AA597)),0)","v":20}]
[]
[null,null,null,null,null,"Trou",1,2,3,4,5,6,7,8,9,"Aller",10,11,12,13,14,15,16,17,18,"Retour","Total"]
[null,null,null,null,null,"PAR",{"$f":"G$7","v":4},{"$f":"H$7","v":4},5,4,3,5,3,5,3,{"$f":"SUM(G597:O597)","v":36},{"$f":"Q$7","v":4},4,3,5,3,4,4,5,4,{"$f":"SUM(Q597:Y597)","v":36},{"$f":"SUM(P597+Z597)","v":72}]
[null,null,null,null,null,"HCP trous",{"$f":"G$8","v":4},{"$f":"H$8","v":8},12,14,2,10,18,16,6,null,{"$f":"Q$8","v":1},9,11,5,17,15,3,13,7]
[null,null,null,null,null,"Coups reçus",{"$f":"IF($Q594<=18,IF(G598<=$Q594,1,0),IF($Q594<=36,IF(G598<=($Q594-18),2,1),IF($Q594>36,IF(G598<=($Q594-36),3,2))))","v":1},{"$f":"IF($Q594<=18,IF(H598<=$Q594,1,0),IF($Q594<=36,IF(H598<=($Q594-18),2,1),IF($Q594>36,IF(H598<=($Q594-36),3,2))))","v":1},1,1,2,1,1,1,1,{"$f":"SUM(G599:O599)","v":10},{"$f":"IF($Q594<=18,IF(Q598<=$Q594,1,0),IF($Q594<=36,IF(Q598<=($Q594-18),2,1),IF($Q594>36,IF(Q598<=($Q594-36),3,2))))","v":2},1,1,1,1,1,1,1,1,{"$f":"SUM(Q599:Y599)","v":10},{"$f":"P599+Z599","v":20}]
[null,null,null,null,null,"Stroke play",{"$f":"G31","v":10},10,10,10,10,10,10,10,10,{"$f":"SUM(G600:O600)","v":90},{"$f":"Q31","v":10},10,10,10,10,10,10,10,10,{"$f":"SUM(Q600:Y600)","v":90},{"$f":"P600+Z600","v":180}]
[null,null,null,null,null,"Net Stableford",{"$f":"IF(G600-G597=-1,3+G599)+IF(G600-G597=0,2+G599)+IF(G600-G597=1,1+G599)+IF(G600-G597=2,G599)+IF(G600-G597=3,IF(G599-1>0,G599-1,0))+IF(G600-G597=4,IF(G599-2>0,G599-2,0))","v":0},{"$f":"IF(H600-H597=-1,3+H599)+IF(H600-H597=0,2+H599)+IF(H600-H597=1,1+H599)+IF(H600-H597=2,H599)+IF(H600-H597=3,IF(H599-1>0,H599-1,0))+IF(H600-H597=4,IF(H599-2>0,H599-2,0))","v":0},0,0,0,0,0,0,0,{"$f":"SUM(G601:O601)","v":0},{"$f":"IF(Q600-Q597=-1,3+Q599)+IF(Q600-Q597=0,2+Q599)+IF(Q600-Q597=1,1+Q599)+IF(Q600-Q597=2,Q599)+IF(Q600-Q597=3,IF(Q599-1>0,Q599-1,0))+IF(Q600-Q597=4,IF(Q599-2>0,Q599-2,0))","v":0},0,0,0,0,0,0,0,0,{"$f":"SUM(Q601:Y601)","v":0},{"$f":"P601+Z601","v":0}]
[null,null,null,null,null,"Score Brut",{"$f":"IF(G600-G597=-2,4)+IF(G600-G597=-1,3)+IF(G600-G597=0,2)+IF(G600-G597=1,1)+IF(G600-G597>2,0)","v":0},0,0,0,0,0,0,0,0,{"$f":"SUM(G602:O602)","v":0},{"$f":"IF(Q600-Q597=-2,4)+IF(Q600-Q597=-1,3)+IF(Q600-Q597=0,2)+IF(Q600-Q597=1,1)+IF(Q600-Q597>2,0)","v":0},0,0,0,0,0,0,0,0,{"$f":"SUM(Q602:Y602)","v":0},{"$f":"P602+Z602","v":0}]
[null,null,null,null,null,null,{"$f":"G600-G597","v":6},{"$f":"H600-H597","v":6},5,6,7,5,7,5,7,null,{"$f":"Q600-Q597","v":6},6,7,5,7,6,6,5,6]
[]
[]
[null,null,null,null,null,"Statistiques scores",null,"Eagle & moins",null,null,null,{"$f":"COUNTIF(G603:Y603,\"<=-2\")","v":0},"Par",null,{"$f":"COUNTIF(G603:Y603,\"=0\")","v":0},"Double bogey",null,null,null,null,{"$f":"COUNTIF(G603:Y603,\"=2\")","v":0}]
[null,null,null,null,null,null,null,"Birdie",null,null,null,{"$f":"COUNTIF(G603:Y603,\"=-1\")","v":0},"Bogey",null,{"$f":"COUNTIF(G603:Y603,\"=1\")","v":0},"Triple bogey & plus",null,null,null,null,{"$f":"COUNTIF(G603:Y603,\">=3\")","v":18}]
[null,null,null,null,null,null,null,{"$f":"M606","v":"Par"},null,null,null,{"$f":"O606","v":0}]
[null,null,null,null,null,null,null,{"$f":"M607","v":"Bogey"},null,null,null,{"$f":"O607","v":0}]
[null,null,null,null,null,null,null,{"$f":"P606","v":"Double bogey"},null,null,null,{"$f":"U606","v":0}]
[null,null,null,null,null,null,null,{"$f":"P607","v":"Triple bogey & plus"},null,null,null,{"$f":"U607","v":18}]
[]
[]
[]
[]
[null,null,null,null,null,"Nom",{"$f":"C32","v":0},null,null,null,null,"Slope",null,null,"SSS",null,"Coups reçus",null,null,null,null,null,null,null,null,"Date",{"$f":"$D$3","v":"00:00:00"}]
[null,null,null,null,null,"Index",{"$f":"E32","v":20},null,null,null,null,{"$f":"$F$3","v":133},null,null,{"$f":"$G$3","v":68.599999999999994},null,{"$f":"ROUND((G617*(L617/113)+(O617-AA620)),0)","v":20}]
[]
[null,null,null,null,null,"Trou",1,2,3,4,5,6,7,8,9,"Aller",10,11,12,13,14,15,16,17,18,"Retour","Total"]
[null,null,null,null,null,"PAR",{"$f":"G$7","v":4},{"$f":"H$7","v":4},5,4,3,5,3,5,3,{"$f":"SUM(G620:O620)","v":36},{"$f":"Q$7","v":4},4,3,5,3,4,4,5,4,{"$f":"SUM(Q620:Y620)","v":36},{"$f":"SUM(P620+Z620)","v":72}]
[null,null,null,null,null,"HCP trous",{"$f":"G$8","v":4},{"$f":"H$8","v":8},12,14,2,10,18,16,6,null,{"$f":"Q$8","v":1},9,11,5,17,15,3,13,7]
[null,null,null,null,null,"Coups reçus",{"$f":"IF($Q617<=18,IF(G621<=$Q617,1,0),IF($Q617<=36,IF(G621<=($Q617-18),2,1),IF($Q617>36,IF(G621<=($Q617-36),3,2))))","v":1},{"$f":"IF($Q617<=18,IF(H621<=$Q617,1,0),IF($Q617<=36,IF(H621<=($Q617-18),2,1),IF($Q617>36,IF(H621<=($Q617-36),3,2))))","v":1},1,1,2,1,1,1,1,{"$f":"SUM(G622:O622)","v":10},{"$f":"IF($Q617<=18,IF(Q621<=$Q617,1,0),IF($Q617<=36,IF(Q621<=($Q617-18),2,1),IF($Q617>36,IF(Q621<=($Q617-36),3,2))))","v":2},1,1,1,1,1,1,1,1,{"$f":"SUM(Q622:Y622)","v":10},{"$f":"P622+Z622","v":20}]
[null,null,null,null,null,"Stroke play",{"$f":"G32","v":10},10,10,10,10,10,10,10,10,{"$f":"SUM(G623:O623)","v":90},{"$f":"Q32","v":10},10,10,10,10,10,10,10,10,{"$f":"SUM(Q623:Y623)","v":90},{"$f":"P623+Z623","v":180}]
[null,null,null,null,null,"Net Stableford",{"$f":"IF(G623-G620=-1,3+G622)+IF(G623-G620=0,2+G622)+IF(G623-G620=1,1+G622)+IF(G623-G620=2,G622)+IF(G623-G620=3,IF(G622-1>0,G622-1,0))+IF(G623-G620=4,IF(G622-2>0,G622-2,0))","v":0},{"$f":"IF(H623-H620=-1,3+H622)+IF(H623-H620=0,2+H622)+IF(H623-H620=1,1+H622)+IF(H623-H620=2,H622)+IF(H623-H620=3,IF(H622-1>0,H622-1,0))+IF(H623-H620=4,IF(H622-2>0,H622-2,0))","v":0},0,0,0,0,0,0,0,{"$f":"SUM(G624:O624)","v":0},{"$f":"IF(Q623-Q620=-1,3+Q622)+IF(Q623-Q620=0,2+Q622)+IF(Q623-Q620=1,1+Q622)+IF(Q623-Q620=2,Q622)+IF(Q623-Q620=3,IF(Q622-1>0,Q622-1,0))+IF(Q623-Q620=4,IF(Q622-2>0,Q622-2,0))","v":0},0,0,0,0,0,0,0,0,{"$f":"SUM(Q624:Y624)","v":0},{"$f":"P624+Z624","v":0}]
[null,null,null,null,null,"Score Brut",{"$f":"IF(G623-G620=-2,4)+IF(G623-G620=-1,3)+IF(G623-G620=0,2)+IF(G623-G620=1,1)+IF(G623-G620>2,0)","v":0},0,0,0,0,0,0,0,0,{"$f":"SUM(G625:O625)","v":0},{"$f":"IF(Q623-Q620=-2,4)+IF(Q623-Q620=-1,3)+IF(Q623-Q620=0,2)+IF(Q623-Q620=1,1)+IF(Q623-Q620>2,0)","v":0},0,0,0,0,0,0,0,0,{"$f":"SUM(Q625:Y625)","v":0},{"$f":"P625+Z625","v":0}]
[null,null,null,null,null,null,{"$f":"G623-G620","v":6},{"$f":"H623-H620","v":6},5,6,7,5,7,5,7,null,{"$f":"Q623-Q620","v":6},6,7,5,7,6,6,5,6]
[]
[]
[null,null,null,null,null,"Statistiques scores",null,"Eagle & moins",null,null,null,{"$f":"COUNTIF(G626:Y626,\"<=-2\")","v":0},"Par",null,{"$f":"COUNTIF(G626:Y626,\"=0\")","v":0},"Double bogey",null,null,null,null,{"$f":"COUNTIF(G626:Y626,\"=2\")","v":0}]
[null,null,null,null,null,null,null,"Birdie",null,null,null,{"$f":"COUNTIF(G626:Y626,\"=-1\")","v":0},"Bogey",null,{"$f":"COUNTIF(G626:Y626,\"=1\")","v":0},"Triple bogey & plus",null,null,null,null,{"$f":"COUNTIF(G626:Y626,\">=3\")","v":18}]
[null,null,null,null,null,null,null,{"$f":"M629","v":"Par"},null,null,null,{"$f":"O629","v":0}]
[null,null,null,null,null,null,null,{"$f":"M630","v":"Bogey"},null,null,null,{"$f":"O630","v":0}]
[null,null,null,null,null,null,null,{"$f":"P629","v":"Double bogey"},null,null,null,{"$f":"U629","v":0}]
[null,null,null,null,null,null,null,{"$f":"P630","v":"Triple bogey & plus"},null,null,null,{"$f":"U630","v":18}]
[]
[]
[]
[]
[null,null,null,null,null,"Nom",{"$f":"C33","v":0},null,null,null,null,"Slope",null,null,"SSS",null,"Coups reçus",null,null,null,null,null,null,null,null,"Date",{"$f":"$D$3","v":"00:00:00"}]
[null,null,null,null,null,"Index",{"$f":"E33","v":20},null,null,null,null,{"$f":"$F$3","v":133},null,null,{"$f":"$G$3","v":68.599999999999994},null,{"$f":"ROUND((G640*(L640/113)+(O640-AA643)),0)","v":20}]
[]
[null,null,null,null,null,"Trou",1,2,3,4,5,6,7,8,9,"Aller",10,11,12,13,14,15,16,17,18,"Retour","Total"]
[null,null,null,null,null,"PAR",{"$f":"G$7","v":4},{"$f":"H$7","v":4},5,4,3,5,3,5,3,{"$f":"SUM(G643:O643)","v":36},{"$f":"Q$7","v":4},4,3,5,3,4,4,5,4,{"$f":"SUM(Q643:Y643)","v":36},{"$f":"SUM(P643+Z643)","v":72}]
[null,null,null,null,null,"HCP trous",{"$f":"G$8","v":4},{"$f":"H$8","v":8},12,14,2,10,18,16,6,null,{"$f":"Q$8","v":1},9,11,5,17,15,3,13,7]
[null,null,null,null,null,"Coups reçus",{"$f":"IF($Q640<=18,IF(G644<=$Q640,1,0),IF($Q640<=36,IF(G644<=($Q640-18),2,1),IF($Q640>36,IF(G644<=($Q640-36),3,2))))","v":1},{"$f":"IF($Q640<=18,IF(H644<=$Q640,1,0),IF($Q640<=36,IF(H644<=($Q640-18),2,1),IF($Q640>36,IF(H644<=($Q640-36),3,2))))","v":1},1,1,2,1,1,1,1,{"$f":"SUM(G645:O645)","v":10},{"$f":"IF($Q640<=18,IF(Q644<=$Q640,1,0),IF($Q640<=36,IF(Q644<=($Q640-18),2,1),IF($Q640>36,IF(Q644<=($Q640-36),3,2))))","v":2},1,1,1,1,1,1,1,1,{"$f":"SUM(Q645:Y645)","v":10},{"$f":"P645+Z645","v":20}]
[null,null,null,null,null,"Stroke play",{"$f":"G33","v":10},10,10,10,10,10,10,10,10,{"$f":"SUM(G646:O646)","v":90},{"$f":"Q33","v":10},10,10,10,10,10,10,10,10,{"$f":"SUM(Q646:Y646)","v":90},{"$f":"P646+Z646","v":180}]
[null,null,null,null,null,"Net Stableford",{"$f":"IF(G646-G643=-1,3+G645)+IF(G646-G643=0,2+G645)+IF(G646-G643=1,1+G645)+IF(G646-G643=2,G645)+IF(G646-G643=3,IF(G645-1>0,G645-1,0))+IF(G646-G643=4,IF(G645-2>0,G645-2,0))","v":0},{"$f":"IF(H646-H643=-1,3+H645)+IF(H646-H643=0,2+H645)+IF(H646-H643=1,1+H645)+IF(H646-H643=2,H645)+IF(H646-H643=3,IF(H645-1>0,H645-1,0))+IF(H646-H643=4,IF(H645-2>0,H645-2,0))","v":0},0,0,0,0,0,0,0,{"$f":"SUM(G647:O647)","v":0},{"$f":"IF(Q646-Q643=-1,3+Q645)+IF(Q646-Q643=0,2+Q645)+IF(Q646-Q643=1,1+Q645)+IF(Q646-Q643=2,Q645)+IF(Q646-Q643=3,IF(Q645-1>0,Q645-1,0))+IF(Q646-Q643=4,IF(Q645-2>0,Q645-2,0))","v":0},0,0,0,0,0,0,0,0,{"$f":"SUM(Q647:Y647)","v":0},{"$f":"P647+Z647","v":0}]
[null,null,null,null,null,"Score Brut",{"$f":"IF(G646-G643=-2,4)+IF(G646-G643=-1,3)+IF(G646-G643=0,2)+IF(G646-G643=1,1)+IF(G646-G643>2,0)","v":0},0,0,0,0,0,0,0,0,{"$f":"SUM(G648:O648)","v":0},{"$f":"IF(Q646-Q643=-2,4)+IF(Q646-Q643=-1,3)+IF(Q646-Q643=0,2)+IF(Q646-Q643=1,1)+IF(Q646-Q643>2,0)","v":0},0,0,0,0,0,0,0,0,{"$f":"SUM(Q648:Y648)","v":0},{"$f":"P648+Z648","v":0}]
[null,null,null,null,null,null,{"$f":"G646-G643","v":6},{"$f":"H646-H643","v":6},5,6,7,5,7,5,7,null,{"$f":"Q646-Q643","v":6},6,7,5,7,6,6,5,6]
[]
[]
[null,null,null,null,null,"Statistiques scores",null,"Eagle & moins",null,null,null,{"$f":"COUNTIF(G649:Y649,\"<=-2\")","v":0},"Par",null,{"$f":"COUNTIF(G649:Y649,\"=0\")","v":0},"Double bogey",null,null,null,null,{"$f":"COUNTIF(G649:Y649,\"=2\")","v":0}]
[null,null,null,null,null,null,null,"Birdie",null,null,null,{"$f":"COUNTIF(G649:Y649,\"=-1\")","v":0},"Bogey",null,{"$f":"COUNTIF(G649:Y649,\"=1\")","v":0},"Triple bogey & plus",null,null,null,null,{"$f":"COUNTIF(G649:Y649,\">=3\")","v":18}]
[null,null,null,null,null,null,null,{"$f":"M652","v":"Par"},null,null,null,{"$f":"O652","v":0}]
[null,null,null,null,null,null,null,{"$f":"M653","v":"Bogey"},null,null,null,{"$f":"O653","v":0}]
[null,null,null,null,null,null,null,{"$f":"P652","v":"Double bogey"},null,null,null,{"$f":"U652","v":0}]
[null,null,null,null,null,null,null,{"$f":"P653","v":"Triple bogey & plus"},null,null,null,{"$f":"U653","v":18}]
[]
[]
[]
[]
[null,null,null,null,null,"Nom",{"$f":"C34","v":0},null,null,null,null,"Slope",null,null,"SSS",null,"Coups reçus",null,null,null,null,null,null,null,null,"Date",{"$f":"$D$3","v":"00:00:00"}]
[null,null,null,null,null,"Index",{"$f":"E34","v":20},null,null,null,null,{"$f":"$F$3","v":133},null,null,{"$f":"$G$3","v":68.599999999999994},null,{"$f":"ROUND((G663*(L663/113)+(O663-AA666)),0)","v":20}]
[]
[null,null,null,null,null,"Trou",1,2,3,4,5,6,7,8,9,"Aller",10,11,12,13,14,15,16,17,18,"Retour","Total"]
[null,null,null,null,null,"PAR",{"$f":"G$7","v":4},{"$f":"H$7","v":4},5,4,3,5,3,5,3,{"$f":"SUM(G666:O666)","v":36},{"$f":"Q$7","v":4},4,3,5,3,4,4,5,4,{"$f":"SUM(Q666:Y666)","v":36},{"$f":"SUM(P666+Z666)","v":72}]
[null,null,null,null,null,"HCP trous",{"$f":"G$8","v":4},{"$f":"H$8","v":8},12,14,2,10,18,16,6,null,{"$f":"Q$8","v":1},9,11,5,17,15,3,13,7]
[null,null,null,null,null,"Coups reçus",{"$f":"IF($Q663<=18,IF(G667<=$Q663,1,0),IF($Q663<=36,IF(G667<=($Q663-18),2,1),IF($Q663>36,IF(G667<=($Q663-36),3,2))))","v":1},{"$f":"IF($Q663<=18,IF(H667<=$Q663,1,0),IF($Q663<=36,IF(H667<=($Q663-18),2,1),IF($Q663>36,IF(H667<=($Q663-36),3,2))))","v":1},1,1,2,1,1,1,1,{"$f":"SUM(G668:O668)","v":10},{"$f":"IF($Q663<=18,IF(Q667<=$Q663,1,0),IF($Q663<=36,IF(Q667<=($Q663-18),2,1),IF($Q663>36,IF(Q667<=($Q663-36),3,2))))","v":2},1,1,1,1,1,1,1,1,{"$f":"SUM(Q668:Y668)","v":10},{"$f":"P668+Z668","v":20}]
[null,null,null,null,null,"Stroke play",{"$f":"G34","v":10},10,10,10,10,10,10,10,10,{"$f":"SUM(G669:O669)","v":90},{"$f":"Q34","v":10},10,10,10,10,10,10,10,10,{"$f":"SUM(Q669:Y669)","v":90},{"$f":"P669+Z669","v":180}]
[null,null,null,null,null,"Net Stableford",{"$f":"IF(G669-G666=-1,3+G668)+IF(G669-G666=0,2+G668)+IF(G669-G666=1,1+G668)+IF(G669-G666=2,G668)+IF(G669-G666=3,IF(G668-1>0,G668-1,0))+IF(G669-G666=4,IF(G668-2>0,G668-2,0))","v":0},{"$f":"IF(H669-H666=-1,3+H668)+IF(H669-H666=0,2+H668)+IF(H669-H666=1,1+H668)+IF(H669-H666=2,H668)+IF(H669-H666=3,IF(H668-1>0,H668-1,0))+IF(H669-H666=4,IF(H668-2>0,H668-2,0))","v":0},0,0,0,0,0,0,0,{"$f":"SUM(G670:O670)","v":0},{"$f":"IF(Q669-Q666=-1,3+Q668)+IF(Q669-Q666=0,2+Q668)+IF(Q669-Q666=1,1+Q668)+IF(Q669-Q666=2,Q668)+IF(Q669-Q666=3,IF(Q668-1>0,Q668-1,0))+IF(Q669-Q666=4,IF(Q668-2>0,Q668-2,0))","v":0},0,0,0,0,0,0,0,0,{"$f":"SUM(Q670:Y670)","v":0},{"$f":"P670+Z670","v":0}]
[null,null,null,null,null,"Score Brut",{"$f":"IF(G669-G666=-2,4)+IF(G669-G666=-1,3)+IF(G669-G666=0,2)+IF(G669-G666=1,1)+IF(G669-G666>2,0)","v":0},0,0,0,0,0,0,0,0,{"$f":"SUM(G671:O671)","v":0},{"$f":"IF(Q669-Q666=-2,4)+IF(Q669-Q666=-1,3)+IF(Q669-Q666=0,2)+IF(Q669-Q666=1,1)+IF(Q669-Q666>2,0)","v":0},0,0,0,0,0,0,0,0,{"$f":"SUM(Q671:Y671)","v":0},{"$f":"P671+Z671","v":0}]
[null,null,null,null,null,null,{"$f":"G669-G666","v":6},{"$f":"H669-H666","v":6},5,6,7,5,7,5,7,null,{"$f":"Q669-Q666","v":6},6,7,5,7,6,6,5,6]
[]
[]
[null,null,null,null,null,"Statistiques scores",null,"Eagle & moins",null,null,null,{"$f":"COUNTIF(G672:Y672,\"<=-2\")","v":0},"Par",null,{"$f":"COUNTIF(G672:Y672,\"=0\")","v":0},"Double bogey",null,null,null,null,{"$f":"COUNTIF(G672:Y672,\"=2\")","v":0}]
[null,null,null,null,null,null,null,"Birdie",null,null,null,{"$f":"COUNTIF(G672:Y672,\"=-1\")","v":0},"Bogey",null,{"$f":"COUNTIF(G672:Y672,\"=1\")","v":0},"Triple bogey & plus",null,null,null,null,{"$f":"COUNTIF(G672:Y672,\">=3\")","v":18}]
[null,null,null,null,null,null,null,{"$f":"M675","v":"Par"},null,null,null,{"$f":"O675","v":0}]
[null,null,null,null,null,null,null,{"$f":"M676","v":"Bogey"},null,null,null,{"$f":"O676","v":0}]
[null,null,null,null,null,null,null,{"$f":"P675","v":"Double bogey"},null,null,null,{"$f":"U675","v":0}]
[null,null,null,null,null,null,null,{"$f":"P676","v":"Triple bogey & plus"},null,null,null,{"$f":"U676","v":18}]
[]
[]
[]
[]
[null,null,null,null,null,"Nom",{"$f":"C35","v":0},null,null,null,null,"Slope",null,null,"SSS",null,"Coups reçus",null,null,null,null,null,null,null,null,"Date",{"$f":"$D$3","v":"00:00:00"}]
[null,null,null,null,null,"Index",{"$f":"E35","v":20},null,null,null,null,{"$f":"$F$3","v":133},null,null,{"$f":"$G$3","v":68.599999999999994},null,{"$f":"ROUND((G686*(L686/113)+(O686-AA689)),0)","v":20}]
[]
[null,null,null,null,null,"Trou",1,2,3,4,5,6,7,8,9,"Aller",10,11,12,13,14,15,16,17,18,"Retour","Total"]
[null,null,null,null,null,"PAR",{"$f":"G$7","v":4},{"$f":"H$7","v":4},5,4,3,5,3,5,3,{"$f":"SUM(G689:O689)","v":36},{"$f":"Q$7","v":4},4,3,5,3,4,4,5,4,{"$f":"SUM(Q689:Y689)","v":36},{"$f":"SUM(P689+Z689)","v":72}]
[null,null,null,null,null,"HCP trous",{"$f":"G$8","v":4},{"$f":"H$8","v":8},12,14,2,10,18,16,6,null,{"$f":"Q$8","v":1},9,11,5,17,15,3,13,7]
[null,null,null,null,null,"Coups reçus",{"$f":"IF($Q686<=18,IF(G690<=$Q686,1,0),IF($Q686<=36,IF(G690<=($Q686-18),2,1),IF($Q686>36,IF(G690<=($Q686-36),3,2))))","v":1},{"$f":"IF($Q686<=18,IF(H690<=$Q686,1,0),IF($Q686<=36,IF(H690<=($Q686-18),2,1),IF($Q686>36,IF(H690<=($Q686-36),3,2))))","v":1},1,1,2,1,1,1,1,{"$f":"SUM(G691:O691)","v":10},{"$f":"IF($Q686<=18,IF(Q690<=$Q686,1,0),IF($Q686<=36,IF(Q690<=($Q686-18),2,1),IF($Q686>36,IF(Q690<=($Q686-36),3,2))))","v":2},1,1,1,1,1,1,1,1,{"$f":"SUM(Q691:Y691)","v":10},{"$f":"P691+Z691","v":20}]
[null,null,null,null,null,"Stroke play",{"$f":"G35","v":10},10,10,10,10,10,10,10,10,{"$f":"SUM(G692:O692)","v":90},{"$f":"Q35","v":10},10,10,10,10,10,10,10,10,{"$f":"SUM(Q692:Y692)","v":90},{"$f":"P692+Z692","v":180}]
[null,null,null,null,null,"Net Stableford",{"$f":"IF(G692-G689=-1,3+G691)+IF(G692-G689=0,2+G691)+IF(G692-G689=1,1+G691)+IF(G692-G689=2,G691)+IF(G692-G689=3,IF(G691-1>0,G691-1,0))+IF(G692-G689=4,IF(G691-2>0,G691-2,0))","v":0},{"$f":"IF(H692-H689=-1,3+H691)+IF(H692-H689=0,2+H691)+IF(H692-H689=1,1+H691)+IF(H692-H689=2,H691)+IF(H692-H689=3,IF(H691-1>0,H691-1,0))+IF(H692-H689=4,IF(H691-2>0,H691-2,0))","v":0},0,0,0,0,0,0,0,{"$f":"SUM(G693:O693)","v":0},{"$f":"IF(Q692-Q689=-1,3+Q691)+IF(Q692-Q689=0,2+Q691)+IF(Q692-Q689=1,1+Q691)+IF(Q692-Q689=2,Q691)+IF(Q692-Q689=3,IF(Q691-1>0,Q691-1,0))+IF(Q692-Q689=4,IF(Q691-2>0,Q691-2,0))","v":0},0,0,0,0,0,0,0,0,{"$f":"SUM(Q693:Y693)","v":0},{"$f":"P693+Z693","v":0}]
[null,null,null,null,null,"Score Brut",{"$f":"IF(G692-G689=-2,4)+IF(G692-G689=-1,3)+IF(G692-G689=0,2)+IF(G692-G689=1,1)+IF(G692-G689>2,0)","v":0},0,0,0,0,0,0,0,0,{"$f":"SUM(G694:O694)","v":0},{"$f":"IF(Q692-Q689=-2,4)+IF(Q692-Q689=-1,3)+IF(Q692-Q689=0,2)+IF(Q692-Q689=1,1)+IF(Q692-Q689>2,0)","v":0},0,0,0,0,0,0,0,0,{"$f":"SUM(Q694:Y694)","v":0},{"$f":"P694+Z694","v":0}]
[null,null,null,null,null,null,{"$f":"G692-G689","v":6},{"$f":"H692-H689","v":6},5,6,7,5,7,5,7,null,{"$f":"Q692-Q689","v":6},6,7,5,7,6,6,5,6]
[]
[]
[null,null,null,null,null,"Statistiques scores",null,"Eagle & moins",null,null,null,{"$f":"COUNTIF(G695:Y695,\"<=-2\")","v":0},"Par",null,{"$f":"COUNTIF(G695:Y695,\"=0\")","v":0},"Double bogey",null,null,null,null,{"$f":"COUNTIF(G695:Y695,\"=2\")","v":0}]
[null,null,null,null,null,null,null,"Birdie",null,null,null,{"$f":"COUNTIF(G695:Y695,\"=-1\")","v":0},"Bogey",null,{"$f":"COUNTIF(G695:Y695,\"=1\")","v":0},"Triple bogey & plus",null,null,null,null,{"$f":"COUNTIF(G695:Y695,\">=3\")","v":18}]
[null,null,null,null,null,null,null,{"$f":"M698","v":"Par"},null,null,null,{"$f":"O698","v":0}]
[null,null,null,null,null,null,null,{"$f":"M699","v":"Bogey"},null,null,null,{"$f":"O699","v":0}]
[null,null,null,null,null,null,null,{"$f":"P698","v":"Double bogey"},null,null,null,{"$f":"U698","v":0}]
[null,null,null,null,null,null,null,{"$f":"P699","v":"Triple bogey & plus"},null,null,null,{"$f":"U699","v":18}]
[]
[]
[]
[]
[null,null,null,null,null,"Nom",{"$f":"C36","v":0},null,null,null,null,"Slope",null,null,"SSS",null,"Coups reçus",null,null,null,null,null,null,null,null,"Date",{"$f":"$D$3","v":"00:00:00"}]
[null,null,null,null,null,"Index",{"$f":"E36","v":20},null,null,null,null,{"$f":"$F$3","v":133},null,null,{"$f":"$G$3","v":68.599999999999994},null,{"$f":"ROUND((G709*(L709/113)+(O709-AA712)),0)","v":20}]
[]
[null,null,null,null,null,"Trou",1,2,3,4,5,6,7,8,9,"Aller",10,11,12,13,14,15,16,17,18,"Retour","Total"]
[null,null,null,null,null,"PAR",{"$f":"G$7","v":4},{"$f":"H$7","v":4},5,4,3,5,3,5,3,{"$f":"SUM(G712:O712)","v":36},{"$f":"Q$7","v":4},4,3,5,3,4,4,5,4,{"$f":"SUM(Q712:Y712)","v":36},{"$f":"SUM(P712+Z712)","v":72}]
[null,null,null,null,null,"HCP trous",{"$f":"G$8","v":4},{"$f":"H$8","v":8},12,14,2,10,18,16,6,null,{"$f":"Q$8","v":1},9,11,5,17,15,3,13,7]
[null,null,null,null,null,"Coups reçus",{"$f":"IF($Q709<=18,IF(G713<=$Q709,1,0),IF($Q709<=36,IF(G713<=($Q709-18),2,1),IF($Q709>36,IF(G713<=($Q709-36),3,2))))","v":1},{"$f":"IF($Q709<=18,IF(H713<=$Q709,1,0),IF($Q709<=36,IF(H713<=($Q709-18),2,1),IF($Q709>36,IF(H713<=($Q709-36),3,2))))","v":1},1,1,2,1,1,1,1,{"$f":"SUM(G714:O714)","v":10},{"$f":"IF($Q709<=18,IF(Q713<=$Q709,1,0),IF($Q709<=36,IF(Q713<=($Q709-18),2,1),IF($Q709>36,IF(Q713<=($Q709-36),3,2))))","v":2},1,1,1,1,1,1,1,1,{"$f":"SUM(Q714:Y714)","v":10},{"$f":"P714+Z714","v":20}]
[null,null,null,null,null,"Stroke play",{"$f":"G36","v":10},10,10,10,10,10,10,10,10,{"$f":"SUM(G715:O715)","v":90},{"$f":"Q36","v":10},10,10,10,10,10,10,10,10,{"$f":"SUM(Q715:Y715)","v":90},{"$f":"P715+Z715","v":180}]
[null,null,null,null,null,"Net Stableford",{"$f":"IF(G715-G712=-1,3+G714)+IF(G715-G712=0,2+G714)+IF(G715-G712=1,1+G714)+IF(G715-G712=2,G714)+IF(G715-G712=3,IF(G714-1>0,G714-1,0))+IF(G715-G712=4,IF(G714-2>0,G714-2,0))","v":0},{"$f":"IF(H715-H712=-1,3+H714)+IF(H715-H712=0,2+H714)+IF(H715-H712=1,1+H714)+IF(H715-H712=2,H714)+IF(H715-H712=3,IF(H714-1>0,H714-1,0))+IF(H715-H712=4,IF(H714-2>0,H714-2,0))","v":0},0,0,0,0,0,0,0,{"$f":"SUM(G716:O716)","v":0},{"$f":"IF(Q715-Q712=-1,3+Q714)+IF(Q715-Q712=0,2+Q714)+IF(Q715-Q712=1,1+Q714)+IF(Q715-Q712=2,Q714)+IF(Q715-Q712=3,IF(Q714-1>0,Q714-1,0))+IF(Q715-Q712=4,IF(Q714-2>0,Q714-2,0))","v":0},0,0,0,0,0,0,0,0,{"$f":"SUM(Q716:Y716)","v":0},{"$f":"P716+Z716","v":0}]
[null,null,null,null,null,"Score Brut",{"$f":"IF(G715-G712=-2,4)+IF(G715-G712=-1,3)+IF(G715-G712=0,2)+IF(G715-G712=1,1)+IF(G715-G712>2,0)","v":0},0,0,0,0,0,0,0,0,{"$f":"SUM(G717:O717)","v":0},{"$f":"IF(Q715-Q712=-2,4)+IF(Q715-Q712=-1,3)+IF(Q715-Q712=0,2)+IF(Q715-Q712=1,1)+IF(Q715-Q712>2,0)","v":0},0,0,0,0,0,0,0,0,{"$f":"SUM(Q717:Y717)","v":0},{"$f":"P717+Z717","v":0}]
[null,null,null,null,null,null,{"$f":"G715-G712","v":6},{"$f":"H715-H712","v":6},5,6,7,5,7,5,7,null,{"$f":"Q715-Q712","v":6},6,7,5,7,6,6,5,6]
[]
[]
[null,null,null,null,null,"Statistiques scores",null,"Eagle & moins",null,null,null,{"$f":"COUNTIF(G718:Y718,\"<=-2\")","v":0},"Par",null,{"$f":"COUNTIF(G718:Y718,\"=0\")","v":0},"Double bogey",null,null,null,null,{"$f":"COUNTIF(G718:Y718,\"=2\")","v":0}]
[null,null,null,null,null,null,null,"Birdie",null,null,null,{"$f":"COUNTIF(G718:Y718,\"=-1\")","v":0},"Bogey",null,{"$f":"COUNTIF(G718:Y718,\"=1\")","v":0},"Triple bogey & plus",null,null,null,null,{"$f":"COUNTIF(G718:Y718,\">=3\")","v":18}]
[null,null,null,null,null,null,null,{"$f":"M721","v":"Par"},null,null,null,{"$f":"O721","v":0}]
[null,null,null,null,null,null,null,{"$f":"M722","v":"Bogey"},null,null,null,{"$f":"O722","v":0}]
[null,null,null,null,null,null,null,{"$f":"P721","v":"Double bogey"},null,null,null,{"$f":"U721","v":0}]
[null,null,null,null,null,null,null,{"$f":"P722","v":"Triple bogey & plus"},null,null,null,{"$f":"U722","v":18}]
[]
[]
[]
[]
[null,null,null,null,null,"Nom",{"$f":"C37","v":0},null,null,null,null,"Slope",null,null,"SSS",null,"Coups reçus",null,null,null,null,null,null,null,null,"Date",{"$f":"$D$3","v":"00:00:00"}]
[null,null,null,null,null,"Index",{"$f":"E37","v":20},null,null,null,null,{"$f":"$F$3","v":133},null,null,{"$f":"$G$3","v":68.599999999999994},null,{"$f":"ROUND((G732*(L732/113)+(O732-AA735)),0)","v":20}]
[]
[null,null,null,null,null,"Trou",1,2,3,4,5,6,7,8,9,"Aller",10,11,12,13,14,15,16,17,18,"Retour","Total"]
[null,null,null,null,null,"PAR",{"$f":"G$7","v":4},{"$f":"H$7","v":4},5,4,3,5,3,5,3,{"$f":"SUM(G735:O735)","v":36},{"$f":"Q$7","v":4},4,3,5,3,4,4,5,4,{"$f":"SUM(Q735:Y735)","v":36},{"$f":"SUM(P735+Z735)","v":72}]
[null,null,null,null,null,"HCP trous",{"$f":"G$8","v":4},{"$f":"H$8","v":8},12,14,2,10,18,16,6,null,{"$f":"Q$8","v":1},9,11,5,17,15,3,13,7]
[null,null,null,null,null,"Coups reçus",{"$f":"IF($Q732<=18,IF(G736<=$Q732,1,0),IF($Q732<=36,IF(G736<=($Q732-18),2,1),IF($Q732>36,IF(G736<=($Q732-36),3,2))))","v":1},{"$f":"IF($Q732<=18,IF(H736<=$Q732,1,0),IF($Q732<=36,IF(H736<=($Q732-18),2,1),IF($Q732>36,IF(H736<=($Q732-36),3,2))))","v":1},1,1,2,1,1,1,1,{"$f":"SUM(G737:O737)","v":10},{"$f":"IF($Q732<=18,IF(Q736<=$Q732,1,0),IF($Q732<=36,IF(Q736<=($Q732-18),2,1),IF($Q732>36,IF(Q736<=($Q732-36),3,2))))","v":2},1,1,1,1,1,1,1,1,{"$f":"SUM(Q737:Y737)","v":10},{"$f":"P737+Z737","v":20}]
[null,null,null,null,null,"Stroke play",{"$f":"G37","v":10},10,10,10,10,10,10,10,10,{"$f":"SUM(G738:O738)","v":90},{"$f":"Q37","v":10},10,10,10,10,10,10,10,10,{"$f":"SUM(Q738:Y738)","v":90},{"$f":"P738+Z738","v":180}]
[null,null,null,null,null,"Net Stableford",{"$f":"IF(G738-G735=-1,3+G737)+IF(G738-G735=0,2+G737)+IF(G738-G735=1,1+G737)+IF(G738-G735=2,G737)+IF(G738-G735=3,IF(G737-1>0,G737-1,0))+IF(G738-G735=4,IF(G737-2>0,G737-2,0))","v":0},{"$f":"IF(H738-H735=-1,3+H737)+IF(H738-H735=0,2+H737)+IF(H738-H735=1,1+H737)+IF(H738-H735=2,H737)+IF(H738-H735=3,IF(H737-1>0,H737-1,0))+IF(H738-H735=4,IF(H737-2>0,H737-2,0))","v":0},0,0,0,0,0,0,0,{"$f":"SUM(G739:O739)","v":0},{"$f":"IF(Q738-Q735=-1,3+Q737)+IF(Q738-Q735=0,2+Q737)+IF(Q738-Q735=1,1+Q737)+IF(Q738-Q735=2,Q737)+IF(Q738-Q735=3,IF(Q737-1>0,Q737-1,0))+IF(Q738-Q735=4,IF(Q737-2>0,Q737-2,0))","v":0},0,0,0,0,0,0,0,0,{"$f":"SUM(Q739:Y739)","v":0},{"$f":"P739+Z739","v":0}]
[null,null,null,null,null,"Score Brut",{"$f":"IF(G738-G735=-2,4)+IF(G738-G735=-1,3)+IF(G738-G735=0,2)+IF(G738-G735=1,1)+IF(G738-G735>2,0)","v":0},0,0,0,0,0,0,0,0,{"$f":"SUM(G740:O740)","v":0},{"$f":"IF(Q738-Q735=-2,4)+IF(Q738-Q735=-1,3)+IF(Q738-Q735=0,2)+IF(Q738-Q735=1,1)+IF(Q738-Q735>2,0)","v":0},0,0,0,0,0,0,0,0,{"$f":"SUM(Q740:Y740)","v":0},{"$f":"P740+Z740","v":0}]
[null,null,null,null,null,null,{"$f":"G738-G735","v":6},{"$f":"H738-H735","v":6},5,6,7,5,7,5,7,null,{"$f":"Q738-Q735","v":6},6,7,5,7,6,6,5,6]
[]
[]
[null,null,null,null,null,"Statistiques scores",null,"Eagle & moins",null,null,null,{"$f":"COUNTIF(G741:Y741,\"<=-2\")","v":0},"Par",null,{"$f":"COUNTIF(G741:Y741,\"=0\")","v":0},"Double bogey",null,null,null,null,{"$f":"COUNTIF(G741:Y741,\"=2\")","v":0}]
[null,null,null,null,null,null,null,"Birdie",null,null,null,{"$f":"COUNTIF(G741:Y741,\"=-1\")","v":0},"Bogey",null,{"$f":"COUNTIF(G741:Y741,\"=1\")","v":0},"Triple bogey & plus",null,null,null,null,{"$f":"COUNTIF(G741:Y741,\">=3\")","v":18}]
[null,null,null,null,null,null,null,{"$f":"M744","v":"Par"},null,null,null,{"$f":"O744","v":0}]
[null,null,null,null,null,null,null,{"$f":"M745","v":"Bogey"},null,null,null,{"$f":"O745","v":0}]
[null,null,null,null,null,null,null,{"$f":"P744","v":"Double bogey"},null,null,null,{"$f":"U744","v":0}]
[null,null,null,null,null,null,null,{"$f":"P745","v":"Triple bogey & plus"},null,null,null,{"$f":"U745","v":18}]
[]
[]
[]
[]
[null,null,null,null,null,"Nom",{"$f":"C38","v":0},null,null,null,null,"Slope",null,null,"SSS",null,"Coups reçus",null,null,null,null,null,null,null,null,"Date",{"$f":"$D$3","v":"00:00:00"}]
[null,null,null,null,null,"Index",{"$f":"E38","v":20},null,null,null,null,{"$f":"$F$3","v":133},null,null,{"$f":"$G$3","v":68.599999999999994},null,{"$f":"ROUND((G755*(L755/113)+(O755-AA758)),0)","v":20}]
[]
[null,null,null,null,null,"Trou",1,2,3,4,5,6,7,8,9,"Aller",10,11,12,13,14,15,16,17,18,"Retour","Total"]
[null,null,null,null,null,"PAR",{"$f":"G$7","v":4},{"$f":"H$7","v":4},5,4,3,5,3,5,3,{"$f":"SUM(G758:O758)","v":36},{"$f":"Q$7","v":4},4,3,5,3,4,4,5,4,{"$f":"SUM(Q758:Y758)","v":36},{"$f":"SUM(P758+Z758)","v":72}]
[null,null,null,null,null,"HCP trous",{"$f":"G$8","v":4},{"$f":"H$8","v":8},12,14,2,10,18,16,6,null,{"$f":"Q$8","v":1},9,11,5,17,15,3,13,7]
[null,null,null,null,null,"Coups reçus",{"$f":"IF($Q755<=18,IF(G759<=$Q755,1,0),IF($Q755<=36,IF(G759<=($Q755-18),2,1),IF($Q755>36,IF(G759<=($Q755-36),3,2))))","v":1},{"$f":"IF($Q755<=18,IF(H759<=$Q755,1,0),IF($Q755<=36,IF(H759<=($Q755-18),2,1),IF($Q755>36,IF(H759<=($Q755-36),3,2))))","v":1},1,1,2,1,1,1,1,{"$f":"SUM(G760:O760)","v":10},{"$f":"IF($Q755<=18,IF(Q759<=$Q755,1,0),IF($Q755<=36,IF(Q759<=($Q755-18),2,1),IF($Q755>36,IF(Q759<=($Q755-36),3,2))))","v":2},1,1,1,1,1,1,1,1,{"$f":"SUM(Q760:Y760)","v":10},{"$f":"P760+Z760","v":20}]
[null,null,null,null,null,"Stroke play",{"$f":"G38","v":10},10,10,10,10,10,10,10,10,{"$f":"SUM(G761:O761)","v":90},{"$f":"Q38","v":10},10,10,10,10,10,10,10,10,{"$f":"SUM(Q761:Y761)","v":90},{"$f":"P761+Z761","v":180}]
[null,null,null,null,null,"Net Stableford",{"$f":"IF(G761-G758=-1,3+G760)+IF(G761-G758=0,2+G760)+IF(G761-G758=1,1+G760)+IF(G761-G758=2,G760)+IF(G761-G758=3,IF(G760-1>0,G760-1,0))+IF(G761-G758=4,IF(G760-2>0,G760-2,0))","v":0},{"$f":"IF(H761-H758=-1,3+H760)+IF(H761-H758=0,2+H760)+IF(H761-H758=1,1+H760)+IF(H761-H758=2,H760)+IF(H761-H758=3,IF(H760-1>0,H760-1,0))+IF(H761-H758=4,IF(H760-2>0,H760-2,0))","v":0},0,0,0,0,0,0,0,{"$f":"SUM(G762:O762)","v":0},{"$f":"IF(Q761-Q758=-1,3+Q760)+IF(Q761-Q758=0,2+Q760)+IF(Q761-Q758=1,1+Q760)+IF(Q761-Q758=2,Q760)+IF(Q761-Q758=3,IF(Q760-1>0,Q760-1,0))+IF(Q761-Q758=4,IF(Q760-2>0,Q760-2,0))","v":0},0,0,0,0,0,0,0,0,{"$f":"SUM(Q762:Y762)","v":0},{"$f":"P762+Z762","v":0}]
[null,null,null,null,null,"Score Brut",{"$f":"IF(G761-G758=-2,4)+IF(G761-G758=-1,3)+IF(G761-G758=0,2)+IF(G761-G758=1,1)+IF(G761-G758>2,0)","v":0},0,0,0,0,0,0,0,0,{"$f":"SUM(G763:O763)","v":0},{"$f":"IF(Q761-Q758=-2,4)+IF(Q761-Q758=-1,3)+IF(Q761-Q758=0,2)+IF(Q761-Q758=1,1)+IF(Q761-Q758>2,0)","v":0},0,0,0,0,0,0,0,0,{"$f":"SUM(Q763:Y763)","v":0},{"$f":"P763+Z763","v":0}]
[null,null,null,null,null,null,{"$f":"G761-G758","v":6},{"$f":"H761-H758","v":6},5,6,7,5,7,5,7,null,{"$f":"Q761-Q758","v":6},6,7,5,7,6,6,5,6]
[]
[]
[null,null,null,null,null,"Statistiques scores",null,"Eagle & moins",null,null,null,{"$f":"COUNTIF(G764:Y764,\"<=-2\")","v":0},"Par",null,{"$f":"COUNTIF(G764:Y764,\"=0\")","v":0},"Double bogey",null,null,null,null,{"$f":"COUNTIF(G764:Y764,\"=2\")","v":0}]
[null,null,null,null,null,null,null,"Birdie",null,null,null,{"$f":"COUNTIF(G764:Y764,\"=-1\")","v":0},"Bogey",null,{"$f":"COUNTIF(G764:Y764,\"=1\")","v":0},"Triple bogey & plus",null,null,null,null,{"$f":"COUNTIF(G764:Y764,\">=3\")","v":18}]
[null,null,null,null,null,null,null,{"$f":"M767","v":"Par"},null,null,null,{"$f":"O767","v":0}]
[null,null,null,null,null,null,null,{"$f":"M768","v":"Bogey"},null,null,null,{"$f":"O768","v":0}]
[null,null,null,null,null,null,null,{"$f":"P767","v":"Double bogey"},null,null,null,{"$f":"U767","v":0}]
[null,null,null,null,null,null,null,{"$f":"P768","v":"Triple bogey & plus"},null,null,null,{"$f":"U768","v":18}]

{"sheet":"sortie (10)","index":11,"n_rows":772,"n_cols":42,"rows_kept":772,"cut":false,"hidden":false,"merged":[[767,15,767,19],[768,7,768,8],[769,7,769,8],[754,6,754,9],[754,11,754,13],[754,14,754,15],[754,16,754,19],[766,5,767,6],[766,7,766,10],[766,12,766,13],[766,15,766,19],[767,7,767,10],[767,12,767,13],[744,15,744,19],[745,7,745,8],[746,7,746,8],[753,6,753,9],[753,11,753,13],[753,14,753,15],[753,16,753,19],[731,6,731,9],[731,11,731,13],[731,14,731,15],[731,16,731,19],[743,5,744,6],[743,7,743,10],[743,12,743,13],[743,15,743,19],[744,7,744,10],[744,12,744,13],[721,15,721,19],[722,7,722,8],[723,7,723,8],[730,6,730,9],[730,11,730,13],[730,14,730,15],[730,16,730,19],[708,6,708,9],[708,11,708,13],[708,14,708,15],[708,16,708,19],[720,5,721,6],[720,7,720,10],[720,12,720,13],[720,15,720,19],[721,7,721,10],[721,12,721,13],[698,15,698,19],[699,7,699,8],[700,7,700,8],[707,6,707,9],[707,11,707,13],[707,14,707,15],[707,16,707,19],[685,6,685,9],[685,11,685,13],[685,14,685,15],[685,16,685,19],[697,5,698,6],[697,7,697,10],[697,12,697,13],[697,15,697,19],[698,7,698,10],[698,12,698,13],[675,15,675,19],[676,7,676,8],[677,7,677,8],[684,6,684,9],[684,11,684,13],[684,14,684,15],[684,16,684,19],[662,6,662,9],[662,11,662,13],[662,14,662,15],[662,16,662,19],[674,5,675,6],[674,7,674,10],[674,12,674,13],[674,15,674,19],[675,7,675,10],[675,12,675,13],[652,15,652,19],[653,7,653,8],[654,7,654,8],[661,6,661,9],[661,11,661,13],[661,14,661,15],[661,16,661,19],[639,6,639,9],[639,11,639,13],[639,14,639,15],[639,16,639,19],[651,5,652,6],[651,7,651,10],[651,12,651,13],[651,15,651,19],[652,7,652,10],[652,12,652,13],[629,15,629,19],[630,7,630,8],[631,7,631,8],[638,6,638,9],[638,11,638,13],[638,14,638,15],[638,16,638,19],[616,6,616,9],[616,11,616,13],[616,14,616,15],[616,16,616,19],[628,5,629,6],[628,7,628,10],[628,12,628,13],[628,15,628,19],[629,7,629,10],[629,12,629,13],[606,15,606,19],[607,7,607,8],[608,7,608,8],[615,6,615,9],[615,11,615,13],[615,14,615,15],[615,16,615,19],[593,6,593,9],[593,11,593,13],[593,14,593,15],[593,16,593,19],[605,5,606,6],[605,7,605,10],[605,12,605,13],[605,15,605,19],[606,7,606,10],[606,12,606,13],[583,15,583,19],[584,7,584,8],[585,7,585,8],[592,6,592,9],[592,11,592,13],[592,14,592,15],[592,16,592,19],[570,6,570,9],[570,11,570,13],[570,14,570,15],[570,16,570,19],[582,5,583,6],[582,7,582,10],[582,12,582,13],[582,15,582,19],[583,7,583,10],[583,12,583,13],[560,15,560,19],[561,7,561,8],[562,7,562,8],[569,6,569,9],[569,11,569,13],[569,14,569,15],[569,16,569,19],[547,6,547,9],[547,11,547,13],[547,14,547,15],[547,16,547,19],[559,5,560,6],[559,7,559,10],[559,12,559,13],[559,15,559,19],[560,7,560,10],[560,12,560,13],[537,15,537,19],[538,7,538,8],[539,7,539,8],[546,6,546,9],[546,11,546,13],[546,14,546,15],[546,16,546,19],[524,6,524,9],[524,11,524,13],[524,14,524,15],[524,16,524,19],[536,5,537,6],[536,7,536,10],[536,12,536,13],[536,15,536,19],[537,7,537,10],[537,12,537,13],[514,15,514,19],[515,7,515,8],[516,7,516,8],[523,6,523,9],[523,11,523,13],[523,14,523,15],[523,16,523,19],[501,6,501,9],[501,11,501,13],[501,14,501,15],[501,16,501,19],[513,5,514,6],[513,7,513,10],[513,12,513,13],[513,15,513,19],[514,7,514,10],[514,12,514,13],[491,15,491,19],[492,7,492,8],[493,7,493,8],[500,6,500,9],[500,11,500,13],[500,14,500,15],[500,16,500,19],[478,6,478,9],[478,11,478,13],[478,14,478,15],[478,16,478,19],[490,5,491,6],[490,7,490,10],[490,12,490,13],[490,15,490,19],[491,7,491,10],[491,12,491,13],[468,15,468,19],[469,7,469,8],[470,7,470,8],[477,6,477,9],[477,11,477,13],[477,14,477,15],[477,16,477,19],[455,6,455,9],[455,11,455,13],[455,14,455,15],[455,16,455,19],[467,5,468,6],[467,7,467,10],[467,12,467,13],[467,15,467,19],[468,7,468,10],[468,12,468,13],[445,15,445,19],[446,7,446,8],[447,7,447,8],[454,6,454,9],[454,11,454,13],[454,14,454,15],[454,16,454,19],[432,6,432,9],[432,11,432,13],[432,14,432,15],[432,16,432,19],[444,5,445,6],[444,7,444,10],[444,12,444,13],[444,15,444,19],[445,7,445,10],[445,12,445,13],[422,15,422,19],[423,7,423,8],[424,7,424,8],[431,6,431,9],[431,11,431,13],[431,14,431,15],[431,16,431,19],[409,6,409,9],[409,11,409,13],[409,14,409,15],[409,16,409,19],[421,5,422,6],[421,7,421,10],[421,12,421,13],[421,15,421,19],[422,7,422,10],[422,12,422,13],[399,15,399,19],[400,7,400,8],[401,7,401,8],[408,6,408,9],[408,11,408,13],[408,14,408,15],[408,16,408,19],[386,6,386,9],[386,11,386,13],[386,14,386,15],[386,16,386,19],[398,5,399,6],[398,7,398,10],[398,12,398,13],[398,15,398,19],[399,7,399,10],[399,12,399,13],[376,15,376,19],[377,7,377,8],[378,7,378,8],[385,6,385,9],[385,11,385,13],[385,14,385,15],[385,16,385,19],[363,6,363,9],[363,11,363,13],[363,14,363,15],[363,16,363,19],[375,5,376,6],[375,7,375,10],[375,12,375,13],[375,15,375,19],[376,7,376,10],[376,12,376,13],[353,15,353,19],[354,7,354,8],[355,7,355,8],[362,6,362,9],[362,11,362,13],[362,14,362,15],[362,16,362,19],[340,6,340,9],[340,11,340,13],[340,14,340,15],[340,16,340,19],[352,5,353,6],[352,7,352,10],[352,12,352,13],[352,15,352,19],[353,7,353,10],[353,12,353,13],[330,15,330,19],[331,7,331,8],[332,7,332,8],[339,6,339,9],[339,11,339,13],[339,14,339,15],[339,16,339,19],[317,6,317,9],[317,11,317,13],[317,14,317,15],[317,16,317,19],[329,5,330,6],[329,7,329,10],[329,12,329,13],[329,15,329,19],[330,7,330,10],[330,12,330,13],[307,15,307,19],[308,7,308,8],[309,7,309,8],[316,6,316,9],[316,11,316,13],[316,14,316,15],[316,16,316,19],[294,6,294,9],[294,11,294,13],[294,14,294,15],[294,16,294,19],[306,5,307,6],[306,7,306,10],[306,12,306,13],[306,15,306,19],[307,7,307,10],[307,12,307,13],[284,15,284,19],[285,7,285,8],[286,7,286,8],[293,6,293,9],[293,11,293,13],[293,14,293,15],[293,16,293,19],[271,6,271,9],[271,11,271,13],[271,14,271,15],[271,16,271,19],[283,5,284,6],[283,7,283,10],[283,12,283,13],[283,15,283,19],[284,7,284,10],[284,12,284,13],[261,15,261,19],[262,7,262,8],[263,7,263,8],[270,6,270,9],[270,11,270,13],[270,14,270,15],[270,16,270,19],[248,6,248,9],[248,11,248,13],[248,14,248,15],[248,16,248,19],[260,5,261,6],[260,7,260,10],[260,12,260,13],[260,15,260,19],[261,7,261,10],[261,12,261,13],[238,15,238,19],[239,7,239,8],[240,7,240,8],[247,6,247,9],[247,11,247,13],[247,14,247,15],[247,16,247,19],[225,6,225,9],[225,11,225,13],[225,14,225,15],[225,16,225,19],[237,5,238,6],[237,7,237,10],[237,12,237,13],[237,15,237,19],[238,7,238,10],[238,12,238,13],[215,15,215,19],[216,7,216,8],[217,7,217,8],[224,6,224,9],[224,11,224,13],[224,14,224,15],[224,16,224,19],[202,6,202,9],[202,11,202,13],[202,14,202,15],[202,16,202,19],[214,5,215,6],[214,7,214,10],[214,12,214,13],[214,15,214,19],[215,7,215,10],[215,12,215,13],[192,15,192,19],[193,7,193,8],[194,7,194,8],[201,6,201,9],[201,11,201,13],[201,14,201,15],[201,16,201,19],[179,6,179,9],[179,11,179,13],[179,14,179,15],[179,16,179,19],[191,5,192,6],[191,7,191,10],[191,12,191,13],[191,15,191,19],[192,7,192,10],[192,12,192,13],[169,15,169,19],[170,7,170,8],[171,7,171,8],[178,6,178,9],[178,11,178,13],[178,14,178,15],[178,16,178,19],[156,6,156,9],[156,11,156,13],[156,14,156,15],[156,16,156,19],[168,5,169,6],[168,7,168,10],[168,12,168,13],[168,15,168,19],[169,7,169,10],[169,12,169,13],[146,15,146,19],[147,7,147,8],[148,7,148,8],[155,6,155,9],[155,11,155,13],[155,14,155,15],[155,16,155,19],[133,6,133,9],[133,11,133,13],[133,14,133,15],[133,16,133,19],[145,5,146,6],[145,7,145,10],[145,12,145,13],[145,15,145,19],[146,7,146,10],[146,12,146,13],[123,15,123,19],[124,7,124,8],[125,7,125,8],[132,6,132,9],[132,11,132,13],[132,14,132,15],[132,16,132,19],[110,6,110,9],[110,11,110,13],[110,14,110,15],[110,16,110,19],[122,5,123,6],[122,7,122,10],[122,12,122,13],[122,15,122,19],[123,7,123,10],[123,12,123,13],[100,15,100,19],[101,7,101,8],[102,7,102,8],[109,6,109,9],[109,11,109,13],[109,14,109,15],[109,16,109,19],[87,6,87,9],[87,11,87,13],[87,14,87,15],[87,16,87,19],[99,5,100,6],[99,7,99,10],[99,12,99,13],[99,15,99,19],[100,7,100,10],[100,12,100,13],[76,9,76,12],[76,13,76,15],[76,21,76,24],[76,25,76,26],[80,7,82,20],[86,6,86,9],[86,11,86,13],[86,14,86,15],[86,16,86,19],[74,9,74,12],[74,13,74,15],[74,21,74,24],[74,25,74,26],[75,9,75,12],[75,13,75,15],[75,21,75,24],[75,25,75,26],[72,9,72,12],[72,13,72,15],[72,21,72,24],[72,25,72,26],[73,9,73,12],[73,13,73,15],[73,21,73,24],[73,25,73,26],[70,9,70,12],[70,13,70,15],[70,21,70,24],[70,25,70,26],[71,9,71,12],[71,13,71,15],[71,21,71,24],[71,25,71,26],[68,9,68,12],[68,13,68,15],[68,21,68,24],[68,25,68,26],[69,9,69,12],[69,13,69,15],[69,21,69,24],[69,25,69,26],[66,9,66,12],[66,13,66,15],[66,21,66,24],[66,25,66,26],[67,9,67,12],[67,13,67,15],[67,21,67,24],[67,25,67,26],[64,9,64,12],[64,13,64,15],[64,21,64,24],[64,25,64,26],[65,9,65,12],[65,13,65,15],[65,21,65,24],[65,25,65,26],[62,9,62,12],[62,13,62,15],[62,21,62,24],[62,25,62,26],[63,9,63,12],[63,13,63,15],[63,21,63,24],[63,25,63,26],[60,9,60,12],[60,13,60,15],[60,21,60,24],[60,25,60,26],[61,9,61,12],[61,13,61,15],[61,21,61,24],[61,25,61,26],[58,9,58,12],[58,13,58,15],[58,21,58,24],[58,25,58,26],[59,9,59,12],[59,13,59,15],[59,21,59,24],[59,25,59,26],[56,9,56,12],[56,13,56,15],[56,21,56,24],[56,25,56,26],[57,9,57,12],[57,13,57,15],[57,21,57,24],[57,25,57,26],[54,9,54,12],[54,13,54,15],[54,21,54,24],[54,25,54,26],[55,9,55,12],[55,13,55,15],[55,21,55,24],[55,25,55,26],[52,9,52,12],[52,13,52,15],[52,21,52,24],[52,25,52,26],[53,9,53,12],[53,13,53,15],[53,21,53,24],[53,25,53,26],[1,6,1,9],[1,13,3,24],[2,6,2,9],[40,7,42,20],[50,9,50,12],[50,13,50,15],[50,21,50,24],[50,25,50,26],[51,9,51,12],[51,13,51,15],[51,21,51,24],[51,25,51,26],[48,9,48,12],[48,13,48,15],[48,21,48,24],[48,25,48,26],[49,9,49,12],[49,13,49,15],[49,21,49,24],[49,25,49,26],[44,2,44,4],[44,9,44,16],[44,21,44,27],[46,9,46,12],[46,13,46,15],[46,21,46,24],[46,25,46,26],[47,9,47,12],[47,13,47,15],[47,21,47,24],[47,25,47,26]]}
[]
[null,null,"Golf","I",null,"Slope","SSS",null,null,null,null,null,null,"CARTE DE SCORE"]
[null,null,"Date",null,null,133,68.599999999999994]
[]
[null,null,"Individuel Stableford BRUT/NET"]
[null,null,null,null,"Index","HCP trous",1,2,3,4,5,6,7,8,9,"Aller",10,11,12,13,14,15,16,17,18,"Retour","Total"]
[null,null,null,null,null,"PAR",4,4,5,4,3,5,3,5,3,{"$f":"SUM(G7:O7)","v":36},4,4,3,5,3,4,4,5,4,{"$f":"SUM(Q7:Y7)","v":36},{"$f":"SUM(P7+Z7)","v":72}]
[null,null,"Noms","Prénoms",null,"Trou",4,8,12,14,2,10,18,16,6,null,1,9,11,5,17,15,3,13,7,null,null,null,"NET","Classt","Rang","Points",null,"BRUT","Classt","Rang","Points",null,"STROKE","Classt","Rang","Points"]
[null,1,null,null,20,null,10,10,10,10,10,10,10,10,10,{"$f":"SUM(G9:O9)","v":90},10,10,10,10,10,10,10,10,10,{"$f":"SUM(Q9:Y9)","v":90},{"$f":"SUM(P9+Z9)","v":180},null,{"$f":"$AA$95","v":0},{"$f":"RANK(AC9,AC$9:AC$38,0)+COUNTIF(AC9:$AC$9,AC9)-1","v":1},{"$f":"RANK(AC9,AC$9:AC$38,0)","v":1},{"$f":"IF(ISBLANK($C9),0,1)*INDEX('Allocation Points'!$B$3:$AG$32,AE9,COUNTIF(AE$9:AE$38,AE9)+2)","v":0},null,{"$f":"AA96","v":0},{"$f":"RANK(AH9,AH$9:AH$38,0)+COUNTIF(AH9:$AH$9,AH9)-1","v":1},{"$f":"RANK(AH9,AH$9:AH$38,0)","v":1},{"$f":"IF(ISBLANK($C9),0,1)*INDEX('Allocation Points'!$B$3:$AG$32,AJ9,COUNTIF(AJ$9:AJ$38,AJ9)+2)","v":0},null,{"$f":"AA94","v":180},{"$f":"RANK(AM9,AM$9:AM$38,1)+COUNTIF(AM9:$AM$9,AM9)-1","v":1},{"$f":"RANK(AM9,AM$9:AM$38,1)","v":1},{"$f":"IF(ISBLANK($C9),0,1)*INDEX('Allocation Points'!$B$3:$AG$32,AO9,COUNTIF(AO$9:AO$38,AO9)+2)","v":0}]
[null,2,null,null,20,null,10,10,10,10,10,10,10,10,10,90,10,10,10,10,10,10,10,10,10,90,180,null,{"$f":"$AA$118","v":0},{"$f":"RANK(AC10,AC$9:AC$38,0)+COUNTIF(AC$9:$AC10,AC10)-1","v":2},{"$f":"RANK(AC10,AC$9:AC$38,0)","v":1},{"$f":"IF(ISBLANK($C10),0,1)*INDEX('Allocation Points'!$B$3:$AG$32,AE10,COUNTIF(AE$9:AE$38,AE10)+2)","v":0},null,{"$f":"AA119","v":0},{"$f":"RANK(AH10,AH$9:AH$38,0)+COUNTIF(AH$9:$AH10,AH10)-1","v":2},{"$f":"RANK(AH10,AH$9:AH$38,0)","v":1},{"$f":"IF(ISBLANK($C10),0,1)*INDEX('Allocation Points'!$B$3:$AG$32,AJ10,COUNTIF(AJ$9:AJ$38,AJ10)+2)","v":0},null,{"$f":"AA117","v":180},{"$f":"RANK(AM10,AM$9:AM$38,1)+COUNTIF(AM$9:$AM10,AM10)-1","v":2},{"$f":"RANK(AM10,AM$9:AM$38,1)","v":1},{"$f":"IF(ISBLANK($C10),0,1)*INDEX('Allocation Points'!$B$3:$AG$32,AO10,COUNTIF(AO$9:AO$38,AO10)+2)","v":0}]
[null,3,null,null,20,null,10,10,10,10,10,10,10,10,10,90,10,10,10,10,10,10,10,10,10,90,180,null,{"$f":"$AA$141","v":0},{"$f":"RANK(AC11,AC$9:AC$38,0)+COUNTIF(AC$9:$AC11,AC11)-1","v":3},1,{"$f":"IF(ISBLANK($C11),0,1)*INDEX('Allocation Points'!$B$3:$AG$32,AE11,COUNTIF(AE$9:AE$38,AE11)+2)","v":0},null,{"$f":"AA142","v":0},{"$f":"RANK(AH11,AH$9:AH$38,0)+COUNTIF(AH$9:$AH11,AH11)-1","v":3},1,{"$f":"IF(ISBLANK($C11),0,1)*INDEX('Allocation Points'!$B$3:$AG$32,AJ11,COUNTIF(AJ$9:AJ$38,AJ11)+2)","v":0},null,{"$f":"AA140","v":180},{"$f":"RANK(AM11,AM$9:AM$38,1)+COUNTIF(AM$9:$AM11,AM11)-1","v":3},1,{"$f":"IF(ISBLANK($C11),0,1)*INDEX('Allocation Points'!$B$3:$AG$32,AO11,COUNTIF(AO$9:AO$38,AO11)+2)","v":0}]
[null,4,null,null,20,null,10,10,10,10,10,10,10,10,10,90,10,10,10,10,10,10,10,10,10,90,180,null,{"$f":"$AA$164","v":0},{"$f":"RANK(AC12,AC$9:AC$38,0)+COUNTIF(AC$9:$AC12,AC12)-1","v":4},1,{"$f":"IF(ISBLANK($C12),0,1)*INDEX('Allocation Points'!$B$3:$AG$32,AE12,COUNTIF(AE$9:AE$38,AE12)+2)","v":0},null,{"$f":"AA165","v":0},{"$f":"RANK(AH12,AH$9:AH$38,0)+COUNTIF(AH$9:$AH12,AH12)-1","v":4},1,{"$f":"IF(ISBLANK($C12),0,1)*INDEX('Allocation Points'!$B$3:$AG$32,AJ12,COUNTIF(AJ$9:AJ$38,AJ12)+2)","v":0},null,{"$f":"AA163","v":180},{"$f":"RANK(AM12,AM$9:AM$38,1)+COUNTIF(AM$9:$AM12,AM12)-1","v":4},1,{"$f":"IF(ISBLANK($C12),0,1)*INDEX('Allocation Points'!$B$3:$AG$32,AO12,COUNTIF(AO$9:AO$38,AO12)+2)","v":0}]
[null,5,null,null,20,null,10,10,10,10,10,10,10,10,10,90,10,10,10,10,10,10,10,10,10,90,180,null,{"$f":"$AA$187","v":0},{"$f":"RANK(AC13,AC$9:AC$38,0)+COUNTIF(AC$9:$AC13,AC13)-1","v":5},1,{"$f":"IF(ISBLANK($C13),0,1)*INDEX('Allocation Points'!$B$3:$AG$32,AE13,COUNTIF(AE$9:AE$38,AE13)+2)","v":0},null,{"$f":"AA188","v":0},{"$f":"RANK(AH13,AH$9:AH$38,0)+COUNTIF(AH$9:$AH13,AH13)-1","v":5},1,{"$f":"IF(ISBLANK($C13),0,1)*INDEX('Allocation Points'!$B$3:$AG$32,AJ13,COUNTIF(AJ$9:AJ$38,AJ13)+2)","v":0},null,{"$f":"AA186","v":180},{"$f":"RANK(AM13,AM$9:AM$38,1)+COUNTIF(AM$9:$AM13,AM13)-1","v":5},1,{"$f":"IF(ISBLANK($C13),0,1)*INDEX('Allocation Points'!$B$3:$AG$32,AO13,COUNTIF(AO$9:AO$38,AO13)+2)","v":0}]
[null,6,null,null,20,null,10,10,10,10,10,10,10,10,10,90,10,10,10,10,10,10,10,10,10,90,180,null,{"$f":"$AA$210","v":0},{"$f":"RANK(AC14,AC$9:AC$38,0)+COUNTIF(AC$9:$AC14,AC14)-1","v":6},1,{"$f":"IF(ISBLANK($C14),0,1)*INDEX('Allocation Points'!$B$3:$AG$32,AE14,COUNTIF(AE$9:AE$38,AE14)+2)","v":0},null,{"$f":"AA211","v":0},{"$f":"RANK(AH14,AH$9:AH$38,0)+COUNTIF(AH$9:$AH14,AH14)-1","v":6},1,{"$f":"IF(ISBLANK($C14),0,1)*INDEX('Allocation Points'!$B$3:$AG$32,AJ14,COUNTIF(AJ$9:AJ$38,AJ14)+2)","v":0},null,{"$f":"AA209","v":180},{"$f":"RANK(AM14,AM$9:AM$38,1)+COUNTIF(AM$9:$AM14,AM14)-1","v":6},1,{"$f":"IF(ISBLANK($C14),0,1)*INDEX('Allocation Points'!$B$3:$AG$32,AO14,COUNTIF(AO$9:AO$38,AO14)+2)","v":0}]
[null,7,null,null,20,null,10,10,10,10,10,10,10,10,10,90,10,10,10,10,10,10,10,10,10,90,180,null,{"$f":"$AA$233","v":0},{"$f":"RANK(AC15,AC$9:AC$38,0)+COUNTIF(AC$9:$AC15,AC15)-1","v":7},1,{"$f":"IF(ISBLANK($C15),0,1)*INDEX('Allocation Points'!$B$3:$AG$32,AE15,COUNTIF(AE$9:AE$38,AE15)+2)","v":0},null,{"$f":"AA234","v":0},{"$f":"RANK(AH15,AH$9:AH$38,0)+COUNTIF(AH$9:$AH15,AH15)-1","v":7},1,{"$f":"IF(ISBLANK($C15),0,1)*INDEX('Allocation Points'!$B$3:$AG$32,AJ15,COUNTIF(AJ$9:AJ$38,AJ15)+2)","v":0},null,{"$f":"AA232","v":180},{"$f":"RANK(AM15,AM$9:AM$38,1)+COUNTIF(AM$9:$AM15,AM15)-1","v":7},1,{"$f":"IF(ISBLANK($C15),0,1)*INDEX('Allocation Points'!$B$3:$AG$32,AO15,COUNTIF(AO$9:AO$38,AO15)+2)","v":0}]
[null,8,null,null,20,null,10,10,10,10,10,10,10,10,10,90,10,10,10,10,10,10,10,10,10,90,180,null,{"$f":"$AA$256","v":0},{"$f":"RANK(AC16,AC$9:AC$38,0)+COUNTIF(AC$9:$AC16,AC16)-1","v":8},1,{"$f":"IF(ISBLANK($C16),0,1)*INDEX('Allocation Points'!$B$3:$AG$32,AE16,COUNTIF(AE$9:AE$38,AE16)+2)","v":0},null,{"$f":"AA257","v":0},{"$f":"RANK(AH16,AH$9:AH$38,0)+COUNTIF(AH$9:$AH16,AH16)-1","v":8},1,{"$f":"IF(ISBLANK($C16),0,1)*INDEX('Allocation Points'!$B$3:$AG$32,AJ16,COUNTIF(AJ$9:AJ$38,AJ16)+2)","v":0},null,{"$f":"AA255","v":180},{"$f":"RANK(AM16,AM$9:AM$38,1)+COUNTIF(AM$9:$AM16,AM16)-1","v":8},1,{"$f":"IF(ISBLANK($C16),0,1)*INDEX('Allocation Points'!$B$3:$AG$32,AO16,COUNTIF(AO$9:AO$38,AO16)+2)","v":0}]
[null,9,null,null,20,null,10,10,10,10,10,10,10,10,10,90,10,10,10,10,10,10,10,10,10,90,180,null,{"$f":"$AA$279","v":0},{"$f":"RANK(AC17,AC$9:AC$38,0)+COUNTIF(AC$9:$AC17,AC17)-1","v":9},1,{"$f":"IF(ISBLANK($C17),0,1)*INDEX('Allocation Points'!$B$3:$AG$32,AE17,COUNTIF(AE$9:AE$38,AE17)+2)","v":0},null,{"$f":"AA280","v":0},{"$f":"RANK(AH17,AH$9:AH$38,0)+COUNTIF(AH$9:$AH17,AH17)-1","v":9},1,{"$f":"IF(ISBLANK($C17),0,1)*INDEX('Allocation Points'!$B$3:$AG$32,AJ17,COUNTIF(AJ$9:AJ$38,AJ17)+2)","v":0},null,{"$f":"AA278","v":180},{"$f":"RANK(AM17,AM$9:AM$38,1)+COUNTIF(AM$9:$AM17,AM17)-1","v":9},1,{"$f":"IF(ISBLANK($C17),0,1)*INDEX('Allocation Points'!$B$3:$AG$32,AO17,COUNTIF(AO$9:AO$38,AO17)+2)","v":0}]
[null,10,null,null,20,null,10,10,10,10,10,10,10,10,10,90,10,10,10,10,10,10,10,10,10,90,180,null,{"$f":"$AA$302","v":0},{"$f":"RANK(AC18,AC$9:AC$38,0)+COUNTIF(AC$9:$AC18,AC18)-1","v":10},1,{"$f":"IF(ISBLANK($C18),0,1)*INDEX('Allocation Points'!$B$3:$AG$32,AE18,COUNTIF(AE$9:AE$38,AE18)+2)","v":0},null,{"$f":"AA303","v":0},{"$f":"RANK(AH18,AH$9:AH$38,0)+COUNTIF(AH$9:$AH18,AH18)-1","v":10},1,{"$f":"IF(ISBLANK($C18),0,1)*INDEX('Allocation Points'!$B$3:$AG$32,AJ18,COUNTIF(AJ$9:AJ$38,AJ18)+2)","v":0},null,{"$f":"AA301","v":180},{"$f":"RANK(AM18,AM$9:AM$38,1)+COUNTIF(AM$9:$AM18,AM18)-1","v":10},1,{"$f":"IF(ISBLANK($C18),0,1)*INDEX('Allocation Points'!$B$3:$AG$32,AO18,COUNTIF(AO$9:AO$38,AO18)+2)","v":0}]
[null,11,null,null,20,null,10,10,10,10,10,10,10,10,10,90,10,10,10,10,10,10,10,10,10,90,180,null,{"$f":"$AA$325","v":0},{"$f":"RANK(AC19,AC$9:AC$38,0)+COUNTIF(AC$9:$AC19,AC19)-1","v":11},1,{"$f":"IF(ISBLANK($C19),0,1)*INDEX('Allocation Points'!$B$3:$AG$32,AE19,COUNTIF(AE$9:AE$38,AE19)+2)","v":0},null,{"$f":"AA326","v":0},{"$f":"RANK(AH19,AH$9:AH$38,0)+COUNTIF(AH$9:$AH19,AH19)-1","v":11},1,{"$f":"IF(ISBLANK($C19),0,1)*INDEX('Allocation Points'!$B$3:$AG$32,AJ19,COUNTIF(AJ$9:AJ$38,AJ19)+2)","v":0},null,{"$f":"AA324","v":180},{"$f":"RANK(AM19,AM$9:AM$38,1)+COUNTIF(AM$9:$AM19,AM19)-1","v":11},1,{"$f":"IF(ISBLANK($C19),0,1)*INDEX('Allocation Points'!$B$3:$AG$32,AO19,COUNTIF(AO$9:AO$38,AO19)+2)","v":0}]
[null,12,null,null,20,null,10,10,10,10,10,10,10,10,10,90,10,10,10,10,10,10,10,10,10,90,180,null,{"$f":"$AA$348","v":0},{"$f":"RANK(AC20,AC$9:AC$38,0)+COUNTIF(AC$9:$AC20,AC20)-1","v":12},1,{"$f":"IF(ISBLANK($C20),0,1)*INDEX('Allocation Points'!$B$3:$AG$32,AE20,COUNTIF(AE$9:AE$38,AE20)+2)","v":0},null,{"$f":"AA349","v":0},{"$f":"RANK(AH20,AH$9:AH$38,0)+COUNTIF(AH$9:$AH20,AH20)-1","v":12},1,{"$f":"IF(ISBLANK($C20),0,1)*INDEX('Allocation Points'!$B$3:$AG$32,AJ20,COUNTIF(AJ$9:AJ$38,AJ20)+2)","v":0},null,{"$f":"AA347","v":180},{"$f":"RANK(AM20,AM$9:AM$38,1)+COUNTIF(AM$9:$AM20,AM20)-1","v":12},1,{"$f":"IF(ISBLANK($C20),0,1)*INDEX('Allocation Points'!$B$3:$AG$32,AO20,COUNTIF(AO$9:AO$38,AO20)+2)","v":0}]
[null,13,null,null,20,null,10,10,10,10,10,10,10,10,10,90,10,10,10,10,10,10,10,10,10,90,180,null,{"$f":"$AA$371","v":0},{"$f":"RANK(AC21,AC$9:AC$38,0)+COUNTIF(AC$9:$AC21,AC21)-1","v":13},1,{"$f":"IF(ISBLANK($C21),0,1)*INDEX('Allocation Points'!$B$3:$AG$32,AE21,COUNTIF(AE$9:AE$38,AE21)+2)","v":0},null,{"$f":"AA372","v":0},{"$f":"RANK(AH21,AH$9:AH$38,0)+COUNTIF(AH$9:$AH21,AH21)-1","v":13},1,{"$f":"IF(ISBLANK($C21),0,1)*INDEX('Allocation Points'!$B$3:$AG$32,AJ21,COUNTIF(AJ$9:AJ$38,AJ21)+2)","v":0},null,{"$f":"AA370","v":180},{"$f":"RANK(AM21,AM$9:AM$38,1)+COUNTIF(AM$9:$AM21,AM21)-1","v":13},1,{"$f":"IF(ISBLANK($C21),0,1)*INDEX('Allocation Points'!$B$3:$AG$32,AO21,COUNTIF(AO$9:AO$38,AO21)+2)","v":0}]
[null,14,null,null,20,null,10,10,10,10,10,10,10,10,10,90,10,10,10,10,10,10,10,10,10,90,180,null,{"$f":"$AA$394","v":0},{"$f":"RANK(AC22,AC$9:AC$38,0)+COUNTIF(AC$9:$AC22,AC22)-1","v":14},1,{"$f":"IF(ISBLANK($C22),0,1)*INDEX('Allocation Points'!$B$3:$AG$32,AE22,COUNTIF(AE$9:AE$38,AE22)+2)","v":0},null,{"$f":"AA395","v":0},{"$f":"RANK(AH22,AH$9:AH$38,0)+COUNTIF(AH$9:$AH22,AH22)-1","v":14},1,{"$f":"IF(ISBLANK($C22),0,1)*INDEX('Allocation Points'!$B$3:$AG$32,AJ22,COUNTIF(AJ$9:AJ$38,AJ22)+2)","v":0},null,{"$f":"AA393","v":180},{"$f":"RANK(AM22,AM$9:AM$38,1)+COUNTIF(AM$9:$AM22,AM22)-1","v":14},1,{"$f":"IF(ISBLANK($C22),0,1)*INDEX('Allocation Points'!$B$3:$AG$32,AO22,COUNTIF(AO$9:AO$38,AO22)+2)","v":0}]
[null,15,null,null,20,null,10,10,10,10,10,10,10,10,10,90,10,10,10,10,10,10,10,10,10,90,180,null,{"$f":"$AA$417","v":0},{"$f":"RANK(AC23,AC$9:AC$38,0)+COUNTIF(AC$9:$AC23,AC23)-1","v":15},1,{"$f":"IF(ISBLANK($C23),0,1)*INDEX('Allocation Points'!$B$3:$AG$32,AE23,COUNTIF(AE$9:AE$38,AE23)+2)","v":0},null,{"$f":"AA418","v":0},{"$f":"RANK(AH23,AH$9:AH$38,0)+COUNTIF(AH$9:$AH23,AH23)-1","v":15},1,{"$f":"IF(ISBLANK($C23),0,1)*INDEX('Allocation Points'!$B$3:$AG$32,AJ23,COUNTIF(AJ$9:AJ$38,AJ23)+2)","v":0},null,{"$f":"AA416","v":180},{"$f":"RANK(AM23,AM$9:AM$38,1)+COUNTIF(AM$9:$AM23,AM23)-1","v":15},1,{"$f":"IF(ISBLANK($C23),0,1)*INDEX('Allocation Points'!$B$3:$AG$32,AO23,COUNTIF(AO$9:AO$38,AO23)+2)","v":0}]
[null,16,null,null,20,null,10,10,10,10,10,10,10,10,10,90,10,10,10,10,10,10,10,10,10,90,180,null,{"$f":"$AA$440","v":0},{"$f":"RANK(AC24,AC$9:AC$38,0)+COUNTIF(AC$9:$AC24,AC24)-1","v":16},1,{"$f":"IF(ISBLANK($C24),0,1)*INDEX('Allocation Points'!$B$3:$AG$32,AE24,COUNTIF(AE$9:AE$38,AE24)+2)","v":0},null,{"$f":"AA441","v":0},{"$f":"RANK(AH24,AH$9:AH$38,0)+COUNTIF(AH$9:$AH24,AH24)-1","v":16},1,{"$f":"IF(ISBLANK($C24),0,1)*INDEX('Allocation Points'!$B$3:$AG$32,AJ24,COUNTIF(AJ$9:AJ$38,AJ24)+2)","v":0},null,{"$f":"AA439","v":180},{"$f":"RANK(AM24,AM$9:AM$38,1)+COUNTIF(AM$9:$AM24,AM24)-1","v":16},1,{"$f":"IF(ISBLANK($C24),0,1)*INDEX('Allocation Points'!$B$3:$AG$32,AO24,COUNTIF(AO$9:AO$38,AO24)+2)","v":0}]
[null,17,null,null,20,null,10,10,10,10,10,10,10,10,10,90,10,10,10,10,10,10,10,10,10,90,180,null,{"$f":"$AA$463","v":0},{"$f":"RANK(AC25,AC$9:AC$38,0)+COUNTIF(AC$9:$AC25,AC25)-1","v":17},1,{"$f":"IF(ISBLANK($C25),0,1)*INDEX('Allocation Points'!$B$3:$AG$32,AE25,COUNTIF(AE$9:AE$38,AE25)+2)","v":0},null,{"$f":"AA464","v":0},{"$f":"RANK(AH25,AH$9:AH$38,0)+COUNTIF(AH$9:$AH25,AH25)-1","v":17},1,{"$f":"IF(ISBLANK($C25),0,1)*INDEX('Allocation Points'!$B$3:$AG$32,AJ25,COUNTIF(AJ$9:AJ$38,AJ25)+2)","v":0},null,{"$f":"AA462","v":180},{"$f":"RANK(AM25,AM$9:AM$38,1)+COUNTIF(AM$9:$AM25,AM25)-1","v":17},1,{"$f":"IF(ISBLANK($C25),0,1)*INDEX('Allocation Points'!$B$3:$AG$32,AO25,COUNTIF(AO$9:AO$38,AO25)+2)","v":0}]
[null,18,null,null,20,null,10,10,10,10,10,10,10,10,10,90,10,10,10,10,10,10,10,10,10,90,180,null,{"$f":"$AA$486","v":0},{"$f":"RANK(AC26,AC$9:AC$38,0)+COUNTIF(AC$9:$AC26,AC26)-1","v":18},1,{"$f":"IF(ISBLANK($C26),0,1)*INDEX('Allocation Points'!$B$3:$AG$32,AE26,COUNTIF(AE$9:AE$38,AE26)+2)","v":0},null,{"$f":"AA487","v":0},{"$f":"RANK(AH26,AH$9:AH$38,0)+COUNTIF(AH$9:$AH26,AH26)-1","v":18},1,{"$f":"IF(ISBLANK($C26),0,1)*INDEX('Allocation Points'!$B$3:$AG$32,AJ26,COUNTIF(AJ$9:AJ$38,AJ26)+2)","v":0},null,{"$f":"AA485","v":180},{"$f":"RANK(AM26,AM$9:AM$38,1)+COUNTIF(AM$9:$AM26,AM26)-1","v":18},1,{"$f":"IF(ISBLANK($C26),0,1)*INDEX('Allocation Points'!$B$3:$AG$32,AO26,COUNTIF(AO$9:AO$38,AO26)+2)","v":0}]
[null,19,null,null,20,null,10,10,10,10,10,10,10,10,10,90,10,10,10,10,10,10,10,10,10,90,180,null,{"$f":"$AA$509","v":0},{"$f":"RANK(AC27,AC$9:AC$38,0)+COUNTIF(AC$9:$AC27,AC27)-1","v":19},1,{"$f":"IF(ISBLANK($C27),0,1)*INDEX('Allocation Points'!$B$3:$AG$32,AE27,COUNTIF(AE$9:AE$38,AE27)+2)","v":0},null,{"$f":"AA510","v":0},{"$f":"RANK(AH27,AH$9:AH$38,0)+COUNTIF(AH$9:$AH27,AH27)-1","v":19},1,{"$f":"IF(ISBLANK($C27),0,1)*INDEX('Allocation Points'!$B$3:$AG$32,AJ27,COUNTIF(AJ$9:AJ$38,AJ27)+2)","v":0},null,{"$f":"AA508","v":180},{"$f":"RANK(AM27,AM$9:AM$38,1)+COUNTIF(AM$9:$AM27,AM27)-1","v":19},1,{"$f":"IF(ISBLANK($C27),0,1)*INDEX('Allocation Points'!$B$3:$AG$32,AO27,COUNTIF(AO$9:AO$38,AO27)+2)","v":0}]
[null,20,null,null,20,null,10,10,10,10,10,10,10,10,10,90,10,10,10,10,10,10,10,10,10,90,180,null,{"$f":"$AA$532","v":0},{"$f":"RANK(AC28,AC$9:AC$38,0)+COUNTIF(AC$9:$AC28,AC28)-1","v":20},1,{"$f":"IF(ISBLANK($C28),0,1)*INDEX('Allocation Points'!$B$3:$AG$32,AE28,COUNTIF(AE$9:AE$38,AE28)+2)","v":0},null,{"$f":"AA533","v":0},{"$f":"RANK(AH28,AH$9:AH$38,0)+COUNTIF(AH$9:$AH28,AH28)-1","v":20},1,{"$f":"IF(ISBLANK($C28),0,1)*INDEX('Allocation Points'!$B$3:$AG$32,AJ28,COUNTIF(AJ$9:AJ$38,AJ28)+2)","v":0},null,{"$f":"AA531","v":180},{"$f":"RANK(AM28,AM$9:AM$38,1)+COUNTIF(AM$9:$AM28,AM28)-1","v":20},1,{"$f":"IF(ISBLANK($C28),0,1)*INDEX('Allocation Points'!$B$3:$AG$32,AO28,COUNTIF(AO$9:AO$38,AO28)+2)","v":0}]
[null,21,null,null,20,null,10,10,10,10,10,10,10,10,10,90,10,10,10,10,10,10,10,10,10,90,180,null,{"$f":"$AA$555","v":0},{"$f":"RANK(AC29,AC$9:AC$38,0)+COUNTIF(AC$9:$AC29,AC29)-1","v":21},1,{"$f":"IF(ISBLANK($C29),0,1)*INDEX('Allocation Points'!$B$3:$AG$32,AE29,COUNTIF(AE$9:AE$38,AE29)+2)","v":0},null,{"$f":"AA556","v":0},{"$f":"RANK(AH29,AH$9:AH$38,0)+COUNTIF(AH$9:$AH29,AH29)-1","v":21},1,{"$f":"IF(ISBLANK($C29),0,1)*INDEX('Allocation Points'!$B$3:$AG$32,AJ29,COUNTIF(AJ$9:AJ$38,AJ29)+2)","v":0},null,{"$f":"AA554","v":180},{"$f":"RANK(AM29,AM$9:AM$38,1)+COUNTIF(AM$9:$AM29,AM29)-1","v":21},1,{"$f":"IF(ISBLANK($C29),0,1)*INDEX('Allocation Points'!$B$3:$AG$32,AO29,COUNTIF(AO$9:AO$38,AO29)+2)","v":0}]
[null,22,null,null,20,null,10,10,10,10,10,10,10,10,10,90,10,10,10,10,10,10,10,10,10,90,180,null,{"$f":"$AA$578","v":0},{"$f":"RANK(AC30,AC$9:AC$38,0)+COUNTIF(AC$9:$AC30,AC30)-1","v":22},1,{"$f":"IF(ISBLANK($C30),0,1)*INDEX('Allocation Points'!$B$3:$AG$32,AE30,COUNTIF(AE$9:AE$38,AE30)+2)","v":0},null,{"$f":"AA579","v":0},{"$f":"RANK(AH30,AH$9:AH$38,0)+COUNTIF(AH$9:$AH30,AH30)-1","v":22},1,{"$f":"IF(ISBLANK($C30),0,1)*INDEX('Allocation Points'!$B$3:$AG$32,AJ30,COUNTIF(AJ$9:AJ$38,AJ30)+2)","v":0},null,{"$f":"AA577","v":180},{"$f":"RANK(AM30,AM$9:AM$38,1)+COUNTIF(AM$9:$AM30,AM30)-1","v":22},1,{"$f":"IF(ISBLANK($C30),0,1)*INDEX('Allocation Points'!$B$3:$AG$32,AO30,COUNTIF(AO$9:AO$38,AO30)+2)","v":0}]
[null,23,null,null,20,null,10,10,10,10,10,10,10,10,10,90,10,10,10,10,10,10,10,10,10,90,180,null,{"$f":"$AA$601","v":0},{"$f":"RANK(AC31,AC$9:AC$38,0)+COUNTIF(AC$9:$AC31,AC31)-1","v":23},1,{"$f":"IF(ISBLANK($C31),0,1)*INDEX('Allocation Points'!$B$3:$AG$32,AE31,COUNTIF(AE$9:AE$38,AE31)+2)","v":0},null,{"$f":"AA602","v":0},{"$f":"RANK(AH31,AH$9:AH$38,0)+COUNTIF(AH$9:$AH31,AH31)-1","v":23},1,{"$f":"IF(ISBLANK($C31),0,1)*INDEX('Allocation Points'!$B$3:$AG$32,AJ31,COUNTIF(AJ$9:AJ$38,AJ31)+2)","v":0},null,{"$f":"AA600","v":180},{"$f":"RANK(AM31,AM$9:AM$38,1)+COUNTIF(AM$9:$AM31,AM31)-1","v":23},1,{"$f":"IF(ISBLANK($C31),0,1)*INDEX('Allocation Points'!$B$3:$AG$32,AO31,COUNTIF(AO$9:AO$38,AO31)+2)","v":0}]
[null,24,null,null,20,null,10,10,10,10,10,10,10,10,10,90,10,10,10,10,10,10,10,10,10,90,180,null,{"$f":"$AA$624","v":0},{"$f":"RANK(AC32,AC$9:AC$38,0)+COUNTIF(AC$9:$AC32,AC32)-1","v":24},1,{"$f":"IF(ISBLANK($C32),0,1)*INDEX('Allocation Points'!$B$3:$AG$32,AE32,COUNTIF(AE$9:AE$38,AE32)+2)","v":0},null,{"$f":"AA625","v":0},{"$f":"RANK(AH32,AH$9:AH$38,0)+COUNTIF(AH$9:$AH32,AH32)-1","v":24},1,{"$f":"IF(ISBLANK($C32),0,1)*INDEX('Allocation Points'!$B$3:$AG$32,AJ32,COUNTIF(AJ$9:AJ$38,AJ32)+2)","v":0},null,{"$f":"AA623","v":180},{"$f":"RANK(AM32,AM$9:AM$38,1)+COUNTIF(AM$9:$AM32,AM32)-1","v":24},1,{"$f":"IF(ISBLANK($C32),0,1)*INDEX('Allocation Points'!$B$3:$AG$32,AO32,COUNTIF(AO$9:AO$38,AO32)+2)","v":0}]
[null,25,null,null,20,null,10,10,10,10,10,10,10,10,10,90,10,10,10,10,10,10,10,10,10,90,180,null,{"$f":"$AA$647","v":0},{"$f":"RANK(AC33,AC$9:AC$38,0)+COUNTIF(AC$9:$AC33,AC33)-1","v":25},1,{"$f":"IF(ISBLANK($C33),0,1)*INDEX('Allocation Points'!$B$3:$AG$32,AE33,COUNTIF(AE$9:AE$38,AE33)+2)","v":0},null,{"$f":"AA648","v":0},{"$f":"RANK(AH33,AH$9:AH$38,0)+COUNTIF(AH$9:$AH33,AH33)-1","v":25},1,{"$f":"IF(ISBLANK($C33),0,1)*INDEX('Allocation Points'!$B$3:$AG$32,AJ33,COUNTIF(AJ$9:AJ$38,AJ33)+2)","v":0},null,{"$f":"AA646","v":180},{"$f":"RANK(AM33,AM$9:AM$38,1)+COUNTIF(AM$9:$AM33,AM33)-1","v":25},1,{"$f":"IF(ISBLANK($C33),0,1)*INDEX('Allocation Points'!$B$3:$AG$32,AO33,COUNTIF(AO$9:AO$38,AO33)+2)","v":0}]
[null,26,null,null,20,null,10,10,10,10,10,10,10,10,10,90,10,10,10,10,10,10,10,10,10,90,180,null,{"$f":"$AA$670","v":0},{"$f":"RANK(AC34,AC$9:AC$38,0)+COUNTIF(AC$9:$AC34,AC34)-1","v":26},1,{"$f":"IF(ISBLANK($C34),0,1)*INDEX('Allocation Points'!$B$3:$AG$32,AE34,COUNTIF(AE$9:AE$38,AE34)+2)","v":0},null,{"$f":"AA671","v":0},{"$f":"RANK(AH34,AH$9:AH$38,0)+COUNTIF(AH$9:$AH34,AH34)-1","v":26},1,{"$f":"IF(ISBLANK($C34),0,1)*INDEX('Allocation Points'!$B$3:$AG$32,AJ34,COUNTIF(AJ$9:AJ$38,AJ34)+2)","v":0},null,{"$f":"AA669","v":180},{"$f":"RANK(AM34,AM$9:AM$38,1)+COUNTIF(AM$9:$AM34,AM34)-1","v":26},1,{"$f":"IF(ISBLANK($C34),0,1)*INDEX('Allocation Points'!$B$3:$AG$32,AO34,COUNTIF(AO$9:AO$38,AO34)+2)","v":0}]
[null,27,null,null,20,null,10,10,10,10,10,10,10,10,10,90,10,10,10,10,10,10,10,10,10,90,180,null,{"$f":"$AA$693","v":0},{"$f":"RANK(AC35,AC$9:AC$38,0)+COUNTIF(AC$9:$AC35,AC35)-1","v":27},1,{"$f":"IF(ISBLANK($C35),0,1)*INDEX('Allocation Points'!$B$3:$AG$32,AE35,COUNTIF(AE$9:AE$38,AE35)+2)","v":0},null,{"$f":"AA694","v":0},{"$f":"RANK(AH35,AH$9:AH$38,0)+COUNTIF(AH$9:$AH35,AH35)-1","v":27},1,{"$f":"IF(ISBLANK($C35),0,1)*INDEX('Allocation Points'!$B$3:$AG$32,AJ35,COUNTIF(AJ$9:AJ$38,AJ35)+2)","v":0},null,{"$f":"AA692","v":180},{"$f":"RANK(AM35,AM$9:AM$38,1)+COUNTIF(AM$9:$AM35,AM35)-1","v":27},1,{"$f":"IF(ISBLANK($C35),0,1)*INDEX('Allocation Points'!$B$3:$AG$32,AO35,COUNTIF(AO$9:AO$38,AO35)+2)","v":0}]
[null,28,null,null,20,null,10,10,10,10,10,10,10,10,10,90,10,10,10,10,10,10,10,10,10,90,180,null,{"$f":"$AA$716","v":0},{"$f":"RANK(AC36,AC$9:AC$38,0)+COUNTIF(AC$9:$AC36,AC36)-1","v":28},1,{"$f":"IF(ISBLANK($C36),0,1)*INDEX('Allocation Points'!$B$3:$AG$32,AE36,COUNTIF(AE$9:AE$38,AE36)+2)","v":0},null,{"$f":"AA717","v":0},{"$f":"RANK(AH36,AH$9:AH$38,0)+COUNTIF(AH$9:$AH36,AH36)-1","v":28},1,{"$f":"IF(ISBLANK($C36),0,1)*INDEX('Allocation Points'!$B$3:$AG$32,AJ36,COUNTIF(AJ$9:AJ$38,AJ36)+2)","v":0},null,{"$f":"AA715","v":180},{"$f":"RANK(AM36,AM$9:AM$38,1)+COUNTIF(AM$9:$AM36,AM36)-1","v":28},1,{"$f":"IF(ISBLANK($C36),0,1)*INDEX('Allocation Points'!$B$3:$AG$32,AO36,COUNTIF(AO$9:AO$38,AO36)+2)","v":0}]
[null,29,null,null,20,null,10,10,10,10,10,10,10,10,10,90,10,10,10,10,10,10,10,10,10,90,180,null,{"$f":"$AA$739","v":0},{"$f":"RANK(AC37,AC$9:AC$38,0)+COUNTIF(AC$9:$AC37,AC37)-1","v":29},1,{"$f":"IF(ISBLANK($C37),0,1)*INDEX('Allocation Points'!$B$3:$AG$32,AE37,COUNTIF(AE$9:AE$38,AE37)+2)","v":0},null,{"$f":"AA740","v":0},{"$f":"RANK(AH37,AH$9:AH$38,0)+COUNTIF(AH$9:$AH37,AH37)-1","v":29},1,{"$f":"IF(ISBLANK($C37),0,1)*INDEX('Allocation Points'!$B$3:$AG$32,AJ37,COUNTIF(AJ$9:AJ$38,AJ37)+2)","v":0},null,{"$f":"AA738","v":180},{"$f":"RANK(AM37,AM$9:AM$38,1)+COUNTIF(AM$9:$AM37,AM37)-1","v":29},1,{"$f":"IF(ISBLANK($C37),0,1)*INDEX('Allocation Points'!$B$3:$AG$32,AO37,COUNTIF(AO$9:AO$38,AO37)+2)","v":0}]
[null,30,null,null,20,null,10,10,10,10,10,10,10,10,10,90,10,10,10,10,10,10,10,10,10,90,180,null,{"$f":"$AA$762","v":0},{"$f":"RANK(AC38,AC$9:AC$38,0)+COUNTIF(AC$9:$AC38,AC38)-1","v":30},1,{"$f":"IF(ISBLANK($C38),0,1)*INDEX('Allocation Points'!$B$3:$AG$32,AE38,COUNTIF(AE$9:AE$38,AE38)+2)","v":0},null,{"$f":"AA763","v":0},{"$f":"RANK(AH38,AH$9:AH$38,0)+COUNTIF(AH$9:$AH38,AH38)-1","v":30},1,{"$f":"IF(ISBLANK($C38),0,1)*INDEX('Allocation Points'!$B$3:$AG$32,AJ38,COUNTIF(AJ$9:AJ$38,AJ38)+2)","v":0},null,{"$f":"AA761","v":180},{"$f":"RANK(AM38,AM$9:AM$38,1)+COUNTIF(AM$9:$AM38,AM38)-1","v":30},1,{"$f":"IF(ISBLANK($C38),0,1)*INDEX('Allocation Points'!$B$3:$AG$32,AO38,COUNTIF(AO$9:AO$38,AO38)+2)","v":0}]
[]
[]
[null,null,null,null,null,null,null,"CLASSEMENT"]
[]
[]
[]
[null,null,"NET",null,null,null,null,null,null,"BRUT",null,null,null,null,null,null,null,null,null,null,null,"STROKE"]
[]
[null,null,"Noms","Prénoms","NET",null,null,null,null,"Noms",null,null,null,"Prénoms",null,null,"BRUT",null,null,null,null,"Noms",null,null,null,"Prénoms",null,"STROKE"]
[null,1,{"$f":"INDEX($C$9:$AN$38,MATCH(B48,$AD$9:$AD$38,0),1)","v":0},{"$f":"INDEX($C$9:$AN$38,MATCH(B48,$AD$9:$AD$38,0),2)","v":0},{"$f":"INDEX($C$9:$AN$38,MATCH(B48,$AD$9:$AD$38,0),27)","v":0},null,null,null,1,{"$f":"INDEX($C$9:$AN$38,MATCH(I48,$AI$9:$AI$38,0),1)","v":0},null,null,null,{"$f":"INDEX($C$9:$AN$38,MATCH(I48,$AI$9:$AI$38,0),2)","v":0},null,null,{"$f":"INDEX($C$9:$AN$38,MATCH(I48,$AI$9:$AI$38,0),32)","v":0},null,null,null,1,{"$f":"INDEX($C$9:$AN$38,MATCH(U48,$AN$9:$AN$38,0),1)","v":0},null,null,null,{"$f":"INDEX($C$9:$AN$38,MATCH(U48,$AN$9:$AN$38,0),2)","v":0},null,{"$f":"INDEX($C$9:$AN$38,MATCH(U48,$AN$9:$AN$38,0),37)","v":180}]
[null,2,0,0,0,null,null,null,2,0,null,null,null,0,null,null,{"$f":"INDEX($C$9:$AN$38,MATCH(I49,$AI$9:$AI$38,0),32)","v":0},null,null,null,2,0,null,null,null,0,null,{"$f":"INDEX($C$9:$AN$38,MATCH(U49,$AN$9:$AN$38,0),37)","v":180}]
[null,3,0,0,0,null,null,null,3,0,null,null,null,0,null,null,0,null,null,null,3,0,null,null,null,0,null,180]
[null,4,0,0,0,null,null,null,4,0,null,null,null,0,null,null,0,null,null,null,4,0,null,null,null,0,null,180]
[null,5,0,0,0,null,null,null,5,0,null,null,null,0,null,null,0,null,null,null,5,0,null,null,null,0,null,180]
[null,6,0,0,0,null,null,null,6,0,null,null,null,0,null,null,0,null,null,null,6,0,null,null,null,0,null,180]
[null,7,0,0,0,null,null,null,7,0,null,null,null,0,null,null,0,null,null,null,7,0,null,null,null,0,null,180]
[null,8,0,0,0,null,null,null,8,0,null,null,null,0,null,null,0,null,null,null,8,0,null,null,null,0,null,180]
[null,9,0,0,0,null,null,null,9,0,null,null,null,0,null,null,0,null,null,null,9,0,null,null,null,0,null,180]
[null,10,0,0,0,null,null,null,10,0,null,null,null,0,null,null,0,null,null,null,10,0,null,null,null,0,null,180]
[null,11,0,0,0,null,null,null,11,0,null,null,null,0,null,null,0,null,null,null,11,0,null,null,null,0,null,180]
[null,12,0,0,0,null,null,null,12,0,null,null,null,0,null,null,0,null,null,null,12,0,null,null,null,0,null,180]
[null,13,0,0,0,null,null,null,13,0,null,null,null,0,null,null,0,null,null,null,13,0,null,null,null,0,null,180]
[null,14,0,0,0,null,null,null,14,0,null,null,null,0,null,null,0,null,null,null,14,0,null,null,null,0,null,180]
[null,15,0,0,0,null,null,null,15,0,null,null,null,0,null,null,0,null,null,null,15,0,null,null,null,0,null,180]
[null,16,0,0,0,null,null,null,16,0,null,null,null,0,null,null,0,null,null,null,16,0,null,null,null,0,null,180]
[null,17,0,0,0,null,null,null,17,0,null,null,null,0,null,null,0,null,null,null,17,0,null,null,null,0,null,180]
[null,18,0,0,0,null,null,null,18,0,null,null,null,0,null,null,0,null,null,null,18,0,null,null,null,0,null,180]
[null,19,0,0,0,null,null,null,19,0,null,null,null,0,null,null,0,null,null,null,19,0,null,null,null,0,null,180]
[null,20,0,0,0,null,null,null,20,0,null,null,null,0,null,null,0,null,null,null,20,0,null,null,null,0,null,180]
[null,21,0,0,0,null,null,null,21,0,null,null,null,0,null,null,0,null,null,null,21,0,null,null,null,0,null,180]
[null,22,0,0,0,null,null,null,22,0,null,null,null,0,null,null,0,null,null,null,22,0,null,null,null,0,null,180]
[null,23,0,0,0,null,null,null,23,0,null,null,null,0,null,null,0,null,null,null,23,0,null,null,null,0,null,180]
[null,24,0,0,0,null,null,null,24,0,null,null,null,0,null,null,0,null,null,null,24,0,null,null,null,0,null,180]
[null,25,0,0,0,null,null,null,25,0,null,null,null,0,null,null,0,null,null,null,25,0,null,null,null,0,null,180]
[null,26,0,0,0,null,null,null,26,0,null,null,null,0,null,null,0,null,null,null,26,0,null,null,null,0,null,180]
[null,27,0,0,0,null,null,null,27,0,null,null,null,0,null,null,0,null,null,null,27,0,null,null,null,0,null,180]
[null,28,0,0,0,null,null,null,28,0,null,null,null,0,null,null,0,null,null,null,28,0,null,null,null,0,null,180]
[null,29,0,0,0,null,null,null,29,0,null,null,null,0,null,null,0,null,null,null,29,0,null,null,null,0,null,180]
[null,30,0,0,0,null,null,null,30,0,null,null,null,0,null,null,0,null,null,null,30,0,null,null,null,0,null,180]
[]
[]
[]
[null,null,null,null,null,null,null,"STATISTIQUES INDIVIDUELLES"]
[]
[]
[]
[]
[]
[null,null,null,null,null,"Nom",{"$f":"C9","v":0},null,null,null,null,"Slope",null,null,"SSS",null,"Coups reçus",null,null,null,null,null,null,null,null,"Date",{"$f":"$D$3","v":"00:00:00"}]
[null,null,null,null,null,"Index",{"$f":"E9","v":20},null,null,null,null,{"$f":"$F$3","v":133},null,null,{"$f":"$G$3","v":68.599999999999994},null,{"$f":"ROUND((G88*(L88/113)+(O88-AA91)),0)","v":20}]
[]
[null,null,null,null,null,"Trou",1,2,3,4,5,6,7,8,9,"Aller",10,11,12,13,14,15,16,17,18,"Retour","Total"]
[null,null,null,null,null,"PAR",{"$f":"G$7","v":4},{"$f":"H$7","v":4},5,4,3,5,3,5,3,{"$f":"SUM(G91:O91)","v":36},{"$f":"Q$7","v":4},4,3,5,3,4,4,5,4,{"$f":"SUM(Q91:Y91)","v":36},{"$f":"SUM(P91+Z91)","v":72}]
[null,null,null,null,null,"HCP trous",{"$f":"G$8","v":4},{"$f":"H$8","v":8},12,14,2,10,18,16,6,null,{"$f":"Q$8","v":1},9,11,5,17,15,3,13,7]
[null,null,null,null,null,"Coups reçus",{"$f":"IF($Q88<=18,IF(G92<=$Q88,1,0),IF($Q88<=36,IF(G92<=($Q88-18),2,1),IF($Q88>36,IF(G92<=($Q88-36),3,2))))","v":1},{"$f":"IF($Q88<=18,IF(H92<=$Q88,1,0),IF($Q88<=36,IF(H92<=($Q88-18),2,1),IF($Q88>36,IF(H92<=($Q88-36),3,2))))","v":1},1,1,2,1,1,1,1,{"$f":"SUM(G93:O93)","v":10},{"$f":"IF($Q88<=18,IF(Q92<=$Q88,1,0),IF($Q88<=36,IF(Q92<=($Q88-18),2,1),IF($Q88>36,IF(Q92<=($Q88-36),3,2))))","v":2},1,1,1,1,1,1,1,1,{"$f":"SUM(Q93:Y93)","v":10},{"$f":"P93+Z93","v":20}]
[null,null,null,null,null,"Stroke play",{"$f":"G9","v":10},10,10,10,10,10,10,10,10,{"$f":"SUM(G94:O94)","v":90},{"$f":"Q9","v":10},10,10,10,10,10,10,10,10,{"$f":"SUM(Q94:Y94)","v":90},{"$f":"P94+Z94","v":180}]
[null,null,null,null,null,"Net Stableford",{"$f":"IF(G94-G91=-1,3+G93)+IF(G94-G91=0,2+G93)+IF(G94-G91=1,1+G93)+IF(G94-G91=2,G93)+IF(G94-G91=3,IF(G93-1>0,G93-1,0))+IF(G94-G91=4,IF(G93-2>0,G93-2,0))","v":0},{"$f":"IF(H94-H91=-1,3+H93)+IF(H94-H91=0,2+H93)+IF(H94-H91=1,1+H93)+IF(H94-H91=2,H93)+IF(H94-H91=3,IF(H93-1>0,H93-1,0))+IF(H94-H91=4,IF(H93-2>0,H93-2,0))","v":0},0,0,0,0,0,0,0,{"$f":"SUM(G95:O95)","v":0},{"$f":"IF(Q94-Q91=-1,3+Q93)+IF(Q94-Q91=0,2+Q93)+IF(Q94-Q91=1,1+Q93)+IF(Q94-Q91=2,Q93)+IF(Q94-Q91=3,IF(Q93-1>0,Q93-1,0))+IF(Q94-Q91=4,IF(Q93-2>0,Q93-2,0))","v":0},0,0,0,0,0,0,0,0,{"$f":"SUM(Q95:Y95)","v":0},{"$f":"P95+Z95","v":0}]
[null,null,null,null,null,"Score Brut",{"$f":"IF(G94-G91=-2,4)+IF(G94-G91=-1,3)+IF(G94-G91=0,2)+IF(G94-G91=1,1)+IF(G94-G91>2,0)","v":0},0,0,0,0,0,0,0,0,{"$f":"SUM(G96:O96)","v":0},{"$f":"IF(Q94-Q91=-2,4)+IF(Q94-Q91=-1,3)+IF(Q94-Q91=0,2)+IF(Q94-Q91=1,1)+IF(Q94-Q91>2,0)","v":0},0,0,0,0,0,0,0,0,{"$f":"SUM(Q96:Y96)","v":0},{"$f":"P96+Z96","v":0}]
[null,null,null,null,null,null,{"$f":"G94-G91","v":6},{"$f":"H94-H91","v":6},5,6,7,5,7,5,7,null,{"$f":"Q94-Q91","v":6},6,7,5,7,6,6,5,6]
[]
[]
[null,null,null,null,null,"Statistiques scores",null,"Eagle & moins",null,null,null,{"$f":"COUNTIF(G97:Y97,\"<=-2\")","v":0},"Par",null,{"$f":"COUNTIF(G97:Y97,\"=0\")","v":0},"Double bogey",null,null,null,null,{"$f":"COUNTIF(G97:Y97,\"=2\")","v":0}]
[null,null,null,null,null,null,null,"Birdie",null,null,null,{"$f":"COUNTIF(G97:Y97,\"=-1\")","v":0},"Bogey",null,{"$f":"COUNTIF(G97:Y97,\"=1\")","v":0},"Triple bogey & plus",null,null,null,null,{"$f":"COUNTIF(G97:Y97,\">=3\")","v":18}]
[null,null,null,null,null,null,null,{"$f":"M100","v":"Par"},null,null,null,{"$f":"O100","v":0}]
[null,null,null,null,null,null,null,{"$f":"M101","v":"Bogey"},null,null,null,{"$f":"O101","v":0}]
[null,null,null,null,null,null,null,{"$f":"P100","v":"Double bogey"},null,null,null,{"$f":"U100","v":0}]
[null,null,null,null,null,null,null,{"$f":"P101","v":"Triple bogey & plus"},null,null,null,{"$f":"U101","v":18}]
[]
[]
[]
[]
[null,null,null,null,null,"Nom",{"$f":"C10","v":0},null,null,null,null,"Slope",null,null,"SSS",null,"Coups reçus",null,null,null,null,null,null,null,null,"Date",{"$f":"$D$3","v":"00:00:00"}]
[null,null,null,null,null,"Index",{"$f":"E10","v":20},null,null,null,null,{"$f":"$F$3","v":133},null,null,{"$f":"$G$3","v":68.599999999999994},null,{"$f":"ROUND((G111*(L111/113)+(O111-AA114)),0)","v":20}]
[]
[null,null,null,null,null,"Trou",1,2,3,4,5,6,7,8,9,"Aller",10,11,12,13,14,15,16,17,18,"Retour","Total"]
[null,null,null,null,null,"PAR",{"$f":"G$7","v":4},{"$f":"H$7","v":4},5,4,3,5,3,5,3,{"$f":"SUM(G114:O114)","v":36},{"$f":"Q$7","v":4},4,3,5,3,4,4,5,4,{"$f":"SUM(Q114:Y114)","v":36},{"$f":"SUM(P114+Z114)","v":72}]
[null,null,null,null,null,"HCP trous",{"$f":"G$8","v":4},{"$f":"H$8","v":8},12,14,2,10,18,16,6,null,{"$f":"Q$8","v":1},9,11,5,17,15,3,13,7]
[null,null,null,null,null,"Coups reçus",{"$f":"IF($Q111<=18,IF(G115<=$Q111,1,0),IF($Q111<=36,IF(G115<=($Q111-18),2,1),IF($Q111>36,IF(G115<=($Q111-36),3,2))))","v":1},{"$f":"IF($Q111<=18,IF(H115<=$Q111,1,0),IF($Q111<=36,IF(H115<=($Q111-18),2,1),IF($Q111>36,IF(H115<=($Q111-36),3,2))))","v":1},1,1,2,1,1,1,1,{"$f":"SUM(G116:O116)","v":10},{"$f":"IF($Q111<=18,IF(Q115<=$Q111,1,0),IF($Q111<=36,IF(Q115<=($Q111-18),2,1),IF($Q111>36,IF(Q115<=($Q111-36),3,2))))","v":2},1,1,1,1,1,1,1,1,{"$f":"SUM(Q116:Y116)","v":10},{"$f":"P116+Z116","v":20}]
[null,null,null,null,null,"Stroke play",{"$f":"G10","v":10},10,10,10,10,10,10,10,10,{"$f":"SUM(G117:O117)","v":90},{"$f":"Q10","v":10},10,10,10,10,10,10,10,10,{"$f":"SUM(Q117:Y117)","v":90},{"$f":"P117+Z117","v":180}]
[null,null,null,null,null,"Net Stableford",{"$f":"IF(G117-G114=-1,3+G116)+IF(G117-G114=0,2+G116)+IF(G117-G114=1,1+G116)+IF(G117-G114=2,G116)+IF(G117-G114=3,IF(G116-1>0,G116-1,0))+IF(G117-G114=4,IF(G116-2>0,G116-2,0))","v":0},{"$f":"IF(H117-H114=-1,3+H116)+IF(H117-H114=0,2+H116)+IF(H117-H114=1,1+H116)+IF(H117-H114=2,H116)+IF(H117-H114=3,IF(H116-1>0,H116-1,0))+IF(H117-H114=4,IF(H116-2>0,H116-2,0))","v":0},0,0,0,0,0,0,0,{"$f":"SUM(G118:O118)","v":0},{"$f":"IF(Q117-Q114=-1,3+Q116)+IF(Q117-Q114=0,2+Q116)+IF(Q117-Q114=1,1+Q116)+IF(Q117-Q114=2,Q116)+IF(Q117-Q114=3,IF(Q116-1>0,Q116-1,0))+IF(Q117-Q114=4,IF(Q116-2>0,Q116-2,0))","v":0},0,0,0,0,0,0,0,0,{"$f":"SUM(Q118:Y118)","v":0},{"$f":"P118+Z118","v":0}]
[null,null,null,null,null,"Score Brut",{"$f":"IF(G117-G114=-2,4)+IF(G117-G114=-1,3)+IF(G117-G114=0,2)+IF(G117-G114=1,1)+IF(G117-G114>2,0)","v":0},0,0,0,0,0,0,0,0,{"$f":"SUM(G119:O119)","v":0},{"$f":"IF(Q117-Q114=-2,4)+IF(Q117-Q114=-1,3)+IF(Q117-Q114=0,2)+IF(Q117-Q114=1,1)+IF(Q117-Q114>2,0)","v":0},0,0,0,0,0,0,0,0,{"$f":"SUM(Q119:Y119)","v":0},{"$f":"P119+Z119","v":0}]
[null,null,null,null,null,null,{"$f":"G117-G114","v":6},{"$f":"H117-H114","v":6},5,6,7,5,7,5,7,null,{"$f":"Q117-Q114","v":6},6,7,5,7,6,6,5,6]
[]
[]
[null,null,null,null,null,"Statistiques scores",null,"Eagle & moins",null,null,null,{"$f":"COUNTIF(G120:Y120,\"<=-2\")","v":0},"Par",null,{"$f":"COUNTIF(G120:Y120,\"=0\")","v":0},"Double bogey",null,null,null,null,{"$f":"COUNTIF(G120:Y120,\"=2\")","v":0}]
[null,null,null,null,null,null,null,"Birdie",null,null,null,{"$f":"COUNTIF(G120:Y120,\"=-1\")","v":0},"Bogey",null,{"$f":"COUNTIF(G120:Y120,\"=1\")","v":0},"Triple bogey & plus",null,null,null,null,{"$f":"COUNTIF(G120:Y120,\">=3\")","v":18}]
[null,null,null,null,null,null,null,{"$f":"M123","v":"Par"},null,null,null,{"$f":"O123","v":0}]
[null,null,null,null,null,null,null,{"$f":"M124","v":"Bogey"},null,null,null,{"$f":"O124","v":0}]
[null,null,null,null,null,null,null,{"$f":"P123","v":"Double bogey"},null,null,null,{"$f":"U123","v":0}]
[null,null,null,null,null,null,null,{"$f":"P124","v":"Triple bogey & plus"},null,null,null,{"$f":"U124","v":18}]
[]
[]
[]
[]
[null,null,null,null,null,"Nom",{"$f":"C11","v":0},null,null,null,null,"Slope",null,null,"SSS",null,"Coups reçus",null,null,null,null,null,null,null,null,"Date",{"$f":"$D$3","v":"00:00:00"}]
[null,null,null,null,null,"Index",{"$f":"E11","v":20},null,null,null,null,{"$f":"$F$3","v":133},null,null,{"$f":"$G$3","v":68.599999999999994},null,{"$f":"ROUND((G134*(L134/113)+(O134-AA137)),0)","v":20}]
[]
[null,null,null,null,null,"Trou",1,2,3,4,5,6,7,8,9,"Aller",10,11,12,13,14,15,16,17,18,"Retour","Total"]
[null,null,null,null,null,"PAR",{"$f":"G$7","v":4},{"$f":"H$7","v":4},5,4,3,5,3,5,3,{"$f":"SUM(G137:O137)","v":36},{"$f":"Q$7","v":4},4,3,5,3,4,4,5,4,{"$f":"SUM(Q137:Y137)","v":36},{"$f":"SUM(P137+Z137)","v":72}]
[null,null,null,null,null,"HCP trous",{"$f":"G$8","v":4},{"$f":"H$8","v":8},12,14,2,10,18,16,6,null,{"$f":"Q$8","v":1},9,11,5,17,15,3,13,7]
[null,null,null,null,null,"Coups reçus",{"$f":"IF($Q134<=18,IF(G138<=$Q134,1,0),IF($Q134<=36,IF(G138<=($Q134-18),2,1),IF($Q134>36,IF(G138<=($Q134-36),3,2))))","v":1},{"$f":"IF($Q134<=18,IF(H138<=$Q134,1,0),IF($Q134<=36,IF(H138<=($Q134-18),2,1),IF($Q134>36,IF(H138<=($Q134-36),3,2))))","v":1},1,1,2,1,1,1,1,{"$f":"SUM(G139:O139)","v":10},{"$f":"IF($Q134<=18,IF(Q138<=$Q134,1,0),IF($Q134<=36,IF(Q138<=($Q134-18),2,1),IF($Q134>36,IF(Q138<=($Q134-36),3,2))))","v":2},1,1,1,1,1,1,1,1,{"$f":"SUM(Q139:Y139)","v":10},{"$f":"P139+Z139","v":20}]
[null,null,null,null,null,"Stroke play",{"$f":"G11","v":10},10,10,10,10,10,10,10,10,{"$f":"SUM(G140:O140)","v":90},{"$f":"Q11","v":10},10,10,10,10,10,10,10,10,{"$f":"SUM(Q140:Y140)","v":90},{"$f":"P140+Z140","v":180}]
[null,null,null,null,null,"Net Stableford",{"$f":"IF(G140-G137=-1,3+G139)+IF(G140-G137=0,2+G139)+IF(G140-G137=1,1+G139)+IF(G140-G137=2,G139)+IF(G140-G137=3,IF(G139-1>0,G139-1,0))+IF(G140-G137=4,IF(G139-2>0,G139-2,0))","v":0},{"$f":"IF(H140-H137=-1,3+H139)+IF(H140-H137=0,2+H139)+IF(H140-H137=1,1+H139)+IF(H140-H137=2,H139)+IF(H140-H137=3,IF(H139-1>0,H139-1,0))+IF(H140-H137=4,IF(H139-2>0,H139-2,0))","v":0},0,0,0,0,0,0,0,{"$f":"SUM(G141:O141)","v":0},{"$f":"IF(Q140-Q137=-1,3+Q139)+IF(Q140-Q137=0,2+Q139)+IF(Q140-Q137=1,1+Q139)+IF(Q140-Q137=2,Q139)+IF(Q140-Q137=3,IF(Q139-1>0,Q139-1,0))+IF(Q140-Q137=4,IF(Q139-2>0,Q139-2,0))","v":0},0,0,0,0,0,0,0,0,{"$f":"SUM(Q141:Y141)","v":0},{"$f":"P141+Z141","v":0}]
[null,null,null,null,null,"Score Brut",{"$f":"IF(G140-G137=-2,4)+IF(G140-G137=-1,3)+IF(G140-G137=0,2)+IF(G140-G137=1,1)+IF(G140-G137>2,0)","v":0},0,0,0,0,0,0,0,0,{"$f":"SUM(G142:O142)","v":0},{"$f":"IF(Q140-Q137=-2,4)+IF(Q140-Q137=-1,3)+IF(Q140-Q137=0,2)+IF(Q140-Q137=1,1)+IF(Q140-Q137>2,0)","v":0},0,0,0,0,0,0,0,0,{"$f":"SUM(Q142:Y142)","v":0},{"$f":"P142+Z142","v":0}]
[null,null,null,null,null,null,{"$f":"G140-G137","v":6},{"$f":"H140-H137","v":6},5,6,7,5,7,5,7,null,{"$f":"Q140-Q137","v":6},6,7,5,7,6,6,5,6]
[]
[]
[null,null,null,null,null,"Statistiques scores",null,"Eagle & moins",null,null,null,{"$f":"COUNTIF(G143:Y143,\"<=-2\")","v":0},"Par",null,{"$f":"COUNTIF(G143:Y143,\"=0\")","v":0},"Double bogey",null,null,null,null,{"$f":"COUNTIF(G143:Y143,\"=2\")","v":0}]
[null,null,null,null,null,null,null,"Birdie",null,null,null,{"$f":"COUNTIF(G143:Y143,\"=-1\")","v":0},"Bogey",null,{"$f":"COUNTIF(G143:Y143,\"=1\")","v":0},"Triple bogey & plus",null,null,null,null,{"$f":"COUNTIF(G143:Y143,\">=3\")","v":18}]
[null,null,null,null,null,null,null,{"$f":"M146","v":"Par"},null,null,null,{"$f":"O146","v":0}]
[null,null,null,null,null,null,null,{"$f":"M147","v":"Bogey"},null,null,null,{"$f":"O147","v":0}]
[null,null,null,null,null,null,null,{"$f":"P146","v":"Double bogey"},null,null,null,{"$f":"U146","v":0}]
[null,null,null,null,null,null,null,{"$f":"P147","v":"Triple bogey & plus"},null,null,null,{"$f":"U147","v":18}]
[]
[]
[]
[]
[null,null,null,null,null,"Nom",{"$f":"C12","v":0},null,null,null,null,"Slope",null,null,"SSS",null,"Coups reçus",null,null,null,null,null,null,null,null,"Date",{"$f":"$D$3","v":"00:00:00"}]
[null,null,null,null,null,"Index",{"$f":"E12","v":20},null,null,null,null,{"$f":"$F$3","v":133},null,null,{"$f":"$G$3","v":68.599999999999994},null,{"$f":"ROUND((G157*(L157/113)+(O157-AA160)),0)","v":20}]
[]
[null,null,null,null,null,"Trou",1,2,3,4,5,6,7,8,9,"Aller",10,11,12,13,14,15,16,17,18,"Retour","Total"]
[null,null,null,null,null,"PAR",{"$f":"G$7","v":4},{"$f":"H$7","v":4},5,4,3,5,3,5,3,{"$f":"SUM(G160:O160)","v":36},{"$f":"Q$7","v":4},4,3,5,3,4,4,5,4,{"$f":"SUM(Q160:Y160)","v":36},{"$f":"SUM(P160+Z160)","v":72}]
[null,null,null,null,null,"HCP trous",{"$f":"G$8","v":4},{"$f":"H$8","v":8},12,14,2,10,18,16,6,null,{"$f":"Q$8","v":1},9,11,5,17,15,3,13,7]
[null,null,null,null,null,"Coups reçus",{"$f":"IF($Q157<=18,IF(G161<=$Q157,1,0),IF($Q157<=36,IF(G161<=($Q157-18),2,1),IF($Q157>36,IF(G161<=($Q157-36),3,2))))","v":1},{"$f":"IF($Q157<=18,IF(H161<=$Q157,1,0),IF($Q157<=36,IF(H161<=($Q157-18),2,1),IF($Q157>36,IF(H161<=($Q157-36),3,2))))","v":1},1,1,2,1,1,1,1,{"$f":"SUM(G162:O162)","v":10},{"$f":"IF($Q157<=18,IF(Q161<=$Q157,1,0),IF($Q157<=36,IF(Q161<=($Q157-18),2,1),IF($Q157>36,IF(Q161<=($Q157-36),3,2))))","v":2},1,1,1,1,1,1,1,1,{"$f":"SUM(Q162:Y162)","v":10},{"$f":"P162+Z162","v":20}]
[null,null,null,null,null,"Stroke play",{"$f":"G12","v":10},10,10,10,10,10,10,10,10,{"$f":"SUM(G163:O163)","v":90},{"$f":"Q12","v":10},10,10,10,10,10,10,10,10,{"$f":"SUM(Q163:Y163)","v":90},{"$f":"P163+Z163","v":180}]
[null,null,null,null,null,"Net Stableford",{"$f":"IF(G163-G160=-1,3+G162)+IF(G163-G160=0,2+G162)+IF(G163-G160=1,1+G162)+IF(G163-G160=2,G162)+IF(G163-G160=3,IF(G162-1>0,G162-1,0))+IF(G163-G160=4,IF(G162-2>0,G162-2,0))","v":0},{"$f":"IF(H163-H160=-1,3+H162)+IF(H163-H160=0,2+H162)+IF(H163-H160=1,1+H162)+IF(H163-H160=2,H162)+IF(H163-H160=3,IF(H162-1>0,H162-1,0))+IF(H163-H160=4,IF(H162-2>0,H162-2,0))","v":0},0,0,0,0,0,0,0,{"$f":"SUM(G164:O164)","v":0},{"$f":"IF(Q163-Q160=-1,3+Q162)+IF(Q163-Q160=0,2+Q162)+IF(Q163-Q160=1,1+Q162)+IF(Q163-Q160=2,Q162)+IF(Q163-Q160=3,IF(Q162-1>0,Q162-1,0))+IF(Q163-Q160=4,IF(Q162-2>0,Q162-2,0))","v":0},0,0,0,0,0,0,0,0,{"$f":"SUM(Q164:Y164)","v":0},{"$f":"P164+Z164","v":0}]
[null,null,null,null,null,"Score Brut",{"$f":"IF(G163-G160=-2,4)+IF(G163-G160=-1,3)+IF(G163-G160=0,2)+IF(G163-G160=1,1)+IF(G163-G160>2,0)","v":0},0,0,0,0,0,0,0,0,{"$f":"SUM(G165:O165)","v":0},{"$f":"IF(Q163-Q160=-2,4)+IF(Q163-Q160=-1,3)+IF(Q163-Q160=0,2)+IF(Q163-Q160=1,1)+IF(Q163-Q160>2,0)","v":0},0,0,0,0,0,0,0,0,{"$f":"SUM(Q165:Y165)","v":0},{"$f":"P165+Z165","v":0}]
[null,null,null,null,null,null,{"$f":"G163-G160","v":6},{"$f":"H163-H160","v":6},5,6,7,5,7,5,7,null,{"$f":"Q163-Q160","v":6},6,7,5,7,6,6,5,6]
[]
[]
[null,null,null,null,null,"Statistiques scores",null,"Eagle & moins",null,null,null,{"$f":"COUNTIF(G166:Y166,\"<=-2\")","v":0},"Par",null,{"$f":"COUNTIF(G166:Y166,\"=0\")","v":0},"Double bogey",null,null,null,null,{"$f":"COUNTIF(G166:Y166,\"=2\")","v":0}]
[null,null,null,null,null,null,null,"Birdie",null,null,null,{"$f":"COUNTIF(G166:Y166,\"=-1\")","v":0},"Bogey",null,{"$f":"COUNTIF(G166:Y166,\"=1\")","v":0},"Triple bogey & plus",null,null,null,null,{"$f":"COUNTIF(G166:Y166,\">=3\")","v":18}]
[null,null,null,null,null,null,null,{"$f":"M169","v":"Par"},null,null,null,{"$f":"O169","v":0}]
[null,null,null,null,null,null,null,{"$f":"M170","v":"Bogey"},null,null,null,{"$f":"O170","v":0}]
[null,null,null,null,null,null,null,{"$f":"P169","v":"Double bogey"},null,null,null,{"$f":"U169","v":0}]
[null,null,null,null,null,null,null,{"$f":"P170","v":"Triple bogey & plus"},null,null,null,{"$f":"U170","v":18}]
[]
[]
[]
[]
[null,null,null,null,null,"Nom",{"$f":"C13","v":0},null,null,null,null,"Slope",null,null,"SSS",null,"Coups reçus",null,null,null,null,null,null,null,null,"Date",{"$f":"$D$3","v":"00:00:00"}]
[null,null,null,null,null,"Index",{"$f":"E13","v":20},null,null,null,null,{"$f":"$F$3","v":133},null,null,{"$f":"$G$3","v":68.599999999999994},null,{"$f":"ROUND((G180*(L180/113)+(O180-AA183)),0)","v":20}]
[]
[null,null,null,null,null,"Trou",1,2,3,4,5,6,7,8,9,"Aller",10,11,12,13,14,15,16,17,18,"Retour","Total"]
[null,null,null,null,null,"PAR",{"$f":"G$7","v":4},{"$f":"H$7","v":4},5,4,3,5,3,5,3,{"$f":"SUM(G183:O183)","v":36},{"$f":"Q$7","v":4},4,3,5,3,4,4,5,4,{"$f":"SUM(Q183:Y183)","v":36},{"$f":"SUM(P183+Z183)","v":72}]
[null,null,null,null,null,"HCP trous",{"$f":"G$8","v":4},{"$f":"H$8","v":8},12,14,2,10,18,16,6,null,{"$f":"Q$8","v":1},9,11,5,17,15,3,13,7]
[null,null,null,null,null,"Coups reçus",{"$f":"IF($Q180<=18,IF(G184<=$Q180,1,0),IF($Q180<=36,IF(G184<=($Q180-18),2,1),IF($Q180>36,IF(G184<=($Q180-36),3,2))))","v":1},{"$f":"IF($Q180<=18,IF(H184<=$Q180,1,0),IF($Q180<=36,IF(H184<=($Q180-18),2,1),IF($Q180>36,IF(H184<=($Q180-36),3,2))))","v":1},1,1,2,1,1,1,1,{"$f":"SUM(G185:O185)","v":10},{"$f":"IF($Q180<=18,IF(Q184<=$Q180,1,0),IF($Q180<=36,IF(Q184<=($Q180-18),2,1),IF($Q180>36,IF(Q184<=($Q180-36),3,2))))","v":2},1,1,1,1,1,1,1,1,{"$f":"SUM(Q185:Y185)","v":10},{"$f":"P185+Z185","v":20}]
[null,null,null,null,null,"Stroke play",{"$f":"G13","v":10},10,10,10,10,10,10,10,10,{"$f":"SUM(G186:O186)","v":90},{"$f":"Q13","v":10},10,10,10,10,10,10,10,10,{"$f":"SUM(Q186:Y186)","v":90},{"$f":"P186+Z186","v":180}]
[null,null,null,null,null,"Net Stableford",{"$f":"IF(G186-G183=-1,3+G185)+IF(G186-G183=0,2+G185)+IF(G186-G183=1,1+G185)+IF(G186-G183=2,G185)+IF(G186-G183=3,IF(G185-1>0,G185-1,0))+IF(G186-G183=4,IF(G185-2>0,G185-2,0))","v":0},{"$f":"IF(H186-H183=-1,3+H185)+IF(H186-H183=0,2+H185)+IF(H186-H183=1,1+H185)+IF(H186-H183=2,H185)+IF(H186-H183=3,IF(H185-1>0,H185-1,0))+IF(H186-H183=4,IF(H185-2>0,H185-2,0))","v":0},0,0,0,0,0,0,0,{"$f":"SUM(G187:O187)","v":0},{"$f":"IF(Q186-Q183=-1,3+Q185)+IF(Q186-Q183=0,2+Q185)+IF(Q186-Q183=1,1+Q185)+IF(Q186-Q183=2,Q185)+IF(Q186-Q183=3,IF(Q185-1>0,Q185-1,0))+IF(Q186-Q183=4,IF(Q185-2>0,Q185-2,0))","v":0},0,0,0,0,0,0,0,0,{"$f":"SUM(Q187:Y187)","v":0},{"$f":"P187+Z187","v":0}]
[null,null,null,null,null,"Score Brut",{"$f":"IF(G186-G183=-2,4)+IF(G186-G183=-1,3)+IF(G186-G183=0,2)+IF(G186-G183=1,1)+IF(G186-G183>2,0)","v":0},0,0,0,0,0,0,0,0,{"$f":"SUM(G188:O188)","v":0},{"$f":"IF(Q186-Q183=-2,4)+IF(Q186-Q183=-1,3)+IF(Q186-Q183=0,2)+IF(Q186-Q183=1,1)+IF(Q186-Q183>2,0)","v":0},0,0,0,0,0,0,0,0,{"$f":"SUM(Q188:Y188)","v":0},{"$f":"P188+Z188","v":0}]
[null,null,null,null,null,null,{"$f":"G186-G183","v":6},{"$f":"H186-H183","v":6},5,6,7,5,7,5,7,null,{"$f":"Q186-Q183","v":6},6,7,5,7,6,6,5,6]
[]
[]
[null,null,null,null,null,"Statistiques scores",null,"Eagle & moins",null,null,null,{"$f":"COUNTIF(G189:Y189,\"<=-2\")","v":0},"Par",null,{"$f":"COUNTIF(G189:Y189,\"=0\")","v":0},"Double bogey",null,null,null,null,{"$f":"COUNTIF(G189:Y189,\"=2\")","v":0}]
[null,null,null,null,null,null,null,"Birdie",null,null,null,{"$f":"COUNTIF(G189:Y189,\"=-1\")","v":0},"Bogey",null,{"$f":"COUNTIF(G189:Y189,\"=1\")","v":0},"Triple bogey & plus",null,null,null,null,{"$f":"COUNTIF(G189:Y189,\">=3\")","v":18}]
[null,null,null,null,null,null,null,{"$f":"M192","v":"Par"},null,null,null,{"$f":"O192","v":0}]
[null,null,null,null,null,null,null,{"$f":"M193","v":"Bogey"},null,null,null,{"$f":"O193","v":0}]
[null,null,null,null,null,null,null,{"$f":"P192","v":"Double bogey"},null,null,null,{"$f":"U192","v":0}]
[null,null,null,null,null,null,null,{"$f":"P193","v":"Triple bogey & plus"},null,null,null,{"$f":"U193","v":18}]
[]
[]
[]
[]
[null,null,null,null,null,"Nom",{"$f":"C14","v":0},null,null,null,null,"Slope",null,null,"SSS",null,"Coups reçus",null,null,null,null,null,null,null,null,"Date",{"$f":"$D$3","v":"00:00:00"}]
[null,null,null,null,null,"Index",{"$f":"E14","v":20},null,null,null,null,{"$f":"$F$3","v":133},null,null,{"$f":"$G$3","v":68.599999999999994},null,{"$f":"ROUND((G203*(L203/113)+(O203-AA206)),0)","v":20}]
[]
[null,null,null,null,null,"Trou",1,2,3,4,5,6,7,8,9,"Aller",10,11,12,13,14,15,16,17,18,"Retour","Total"]
[null,null,null,null,null,"PAR",{"$f":"G$7","v":4},{"$f":"H$7","v":4},5,4,3,5,3,5,3,{"$f":"SUM(G206:O206)","v":36},{"$f":"Q$7","v":4},4,3,5,3,4,4,5,4,{"$f":"SUM(Q206:Y206)","v":36},{"$f":"SUM(P206+Z206)","v":72}]
[null,null,null,null,null,"HCP trous",{"$f":"G$8","v":4},{"$f":"H$8","v":8},12,14,2,10,18,16,6,null,{"$f":"Q$8","v":1},9,11,5,17,15,3,13,7]
[null,null,null,null,null,"Coups reçus",{"$f":"IF($Q203<=18,IF(G207<=$Q203,1,0),IF($Q203<=36,IF(G207<=($Q203-18),2,1),IF($Q203>36,IF(G207<=($Q203-36),3,2))))","v":1},{"$f":"IF($Q203<=18,IF(H207<=$Q203,1,0),IF($Q203<=36,IF(H207<=($Q203-18),2,1),IF($Q203>36,IF(H207<=($Q203-36),3,2))))","v":1},1,1,2,1,1,1,1,{"$f":"SUM(G208:O208)","v":10},{"$f":"IF($Q203<=18,IF(Q207<=$Q203,1,0),IF($Q203<=36,IF(Q207<=($Q203-18),2,1),IF($Q203>36,IF(Q207<=($Q203-36),3,2))))","v":2},1,1,1,1,1,1,1,1,{"$f":"SUM(Q208:Y208)","v":10},{"$f":"P208+Z208","v":20}]
[null,null,null,null,null,"Stroke play",{"$f":"G14","v":10},10,10,10,10,10,10,10,10,{"$f":"SUM(G209:O209)","v":90},{"$f":"Q14","v":10},10,10,10,10,10,10,10,10,{"$f":"SUM(Q209:Y209)","v":90},{"$f":"P209+Z209","v":180}]
[null,null,null,null,null,"Net Stableford",{"$f":"IF(G209-G206=-1,3+G208)+IF(G209-G206=0,2+G208)+IF(G209-G206=1,1+G208)+IF(G209-G206=2,G208)+IF(G209-G206=3,IF(G208-1>0,G208-1,0))+IF(G209-G206=4,IF(G208-2>0,G208-2,0))","v":0},{"$f":"IF(H209-H206=-1,3+H208)+IF(H209-H206=0,2+H208)+IF(H209-H206=1,1+H208)+IF(H209-H206=2,H208)+IF(H209-H206=3,IF(H208-1>0,H208-1,0))+IF(H209-H206=4,IF(H208-2>0,H208-2,0))","v":0},0,0,0,0,0,0,0,{"$f":"SUM(G210:O210)","v":0},{"$f":"IF(Q209-Q206=-1,3+Q208)+IF(Q209-Q206=0,2+Q208)+IF(Q209-Q206=1,1+Q208)+IF(Q209-Q206=2,Q208)+IF(Q209-Q206=3,IF(Q208-1>0,Q208-1,0))+IF(Q209-Q206=4,IF(Q208-2>0,Q208-2,0))","v":0},0,0,0,0,0,0,0,0,{"$f":"SUM(Q210:Y210)","v":0},{"$f":"P210+Z210","v":0}]
[null,null,null,null,null,"Score Brut",{"$f":"IF(G209-G206=-2,4)+IF(G209-G206=-1,3)+IF(G209-G206=0,2)+IF(G209-G206=1,1)+IF(G209-G206>2,0)","v":0},0,0,0,0,0,0,0,0,{"$f":"SUM(G211:O211)","v":0},{"$f":"IF(Q209-Q206=-2,4)+IF(Q209-Q206=-1,3)+IF(Q209-Q206=0,2)+IF(Q209-Q206=1,1)+IF(Q209-Q206>2,0)","v":0},0,0,0,0,0,0,0,0,{"$f":"SUM(Q211:Y211)","v":0},{"$f":"P211+Z211","v":0}]
[null,null,null,null,null,null,{"$f":"G209-G206","v":6},{"$f":"H209-H206","v":6},5,6,7,5,7,5,7,null,{"$f":"Q209-Q206","v":6},6,7,5,7,6,6,5,6]
[]
[]
[null,null,null,null,null,"Statistiques scores",null,"Eagle & moins",null,null,null,{"$f":"COUNTIF(G212:Y212,\"<=-2\")","v":0},"Par",null,{"$f":"COUNTIF(G212:Y212,\"=0\")","v":0},"Double bogey",null,null,null,null,{"$f":"COUNTIF(G212:Y212,\"=2\")","v":0}]
[null,null,null,null,null,null,null,"Birdie",null,null,null,{"$f":"COUNTIF(G212:Y212,\"=-1\")","v":0},"Bogey",null,{"$f":"COUNTIF(G212:Y212,\"=1\")","v":0},"Triple bogey & plus",null,null,null,null,{"$f":"COUNTIF(G212:Y212,\">=3\")","v":18}]
[null,null,null,null,null,null,null,{"$f":"M215","v":"Par"},null,null,null,{"$f":"O215","v":0}]
[null,null,null,null,null,null,null,{"$f":"M216","v":"Bogey"},null,null,null,{"$f":"O216","v":0}]
[null,null,null,null,null,null,null,{"$f":"P215","v":"Double bogey"},null,null,null,{"$f":"U215","v":0}]
[null,null,null,null,null,null,null,{"$f":"P216","v":"Triple bogey & plus"},null,null,null,{"$f":"U216","v":18}]
[]
[]
[]
[]
[null,null,null,null,null,"Nom",{"$f":"C15","v":0},null,null,null,null,"Slope",null,null,"SSS",null,"Coups reçus",null,null,null,null,null,null,null,null,"Date",{"$f":"$D$3","v":"00:00:00"}]
[null,null,null,null,null,"Index",{"$f":"E15","v":20},null,null,null,null,{"$f":"$F$3","v":133},null,null,{"$f":"$G$3","v":68.599999999999994},null,{"$f":"ROUND((G226*(L226/113)+(O226-AA229)),0)","v":20}]
[]
[null,null,null,null,null,"Trou",1,2,3,4,5,6,7,8,9,"Aller",10,11,12,13,14,15,16,17,18,"Retour","Total"]
[null,null,null,null,null,"PAR",{"$f":"G$7","v":4},{"$f":"H$7","v":4},5,4,3,5,3,5,3,{"$f":"SUM(G229:O229)","v":36},{"$f":"Q$7","v":4},4,3,5,3,4,4,5,4,{"$f":"SUM(Q229:Y229)","v":36},{"$f":"SUM(P229+Z229)","v":72}]
[null,null,null,null,null,"HCP trous",{"$f":"G$8","v":4},{"$f":"H$8","v":8},12,14,2,10,18,16,6,null,{"$f":"Q$8","v":1},9,11,5,17,15,3,13,7]
[null,null,null,null,null,"Coups reçus",{"$f":"IF($Q226<=18,IF(G230<=$Q226,1,0),IF($Q226<=36,IF(G230<=($Q226-18),2,1),IF($Q226>36,IF(G230<=($Q226-36),3,2))))","v":1},{"$f":"IF($Q226<=18,IF(H230<=$Q226,1,0),IF($Q226<=36,IF(H230<=($Q226-18),2,1),IF($Q226>36,IF(H230<=($Q226-36),3,2))))","v":1},1,1,2,1,1,1,1,{"$f":"SUM(G231:O231)","v":10},{"$f":"IF($Q226<=18,IF(Q230<=$Q226,1,0),IF($Q226<=36,IF(Q230<=($Q226-18),2,1),IF($Q226>36,IF(Q230<=($Q226-36),3,2))))","v":2},1,1,1,1,1,1,1,1,{"$f":"SUM(Q231:Y231)","v":10},{"$f":"P231+Z231","v":20}]
[null,null,null,null,null,"Stroke play",{"$f":"G15","v":10},10,10,10,10,10,10,10,10,{"$f":"SUM(G232:O232)","v":90},{"$f":"Q15","v":10},10,10,10,10,10,10,10,10,{"$f":"SUM(Q232:Y232)","v":90},{"$f":"P232+Z232","v":180}]
[null,null,null,null,null,"Net Stableford",{"$f":"IF(G232-G229=-1,3+G231)+IF(G232-G229=0,2+G231)+IF(G232-G229=1,1+G231)+IF(G232-G229=2,G231)+IF(G232-G229=3,IF(G231-1>0,G231-1,0))+IF(G232-G229=4,IF(G231-2>0,G231-2,0))","v":0},{"$f":"IF(H232-H229=-1,3+H231)+IF(H232-H229=0,2+H231)+IF(H232-H229=1,1+H231)+IF(H232-H229=2,H231)+IF(H232-H229=3,IF(H231-1>0,H231-1,0))+IF(H232-H229=4,IF(H231-2>0,H231-2,0))","v":0},0,0,0,0,0,0,0,{"$f":"SUM(G233:O233)","v":0},{"$f":"IF(Q232-Q229=-1,3+Q231)+IF(Q232-Q229=0,2+Q231)+IF(Q232-Q229=1,1+Q231)+IF(Q232-Q229=2,Q231)+IF(Q232-Q229=3,IF(Q231-1>0,Q231-1,0))+IF(Q232-Q229=4,IF(Q231-2>0,Q231-2,0))","v":0},0,0,0,0,0,0,0,0,{"$f":"SUM(Q233:Y233)","v":0},{"$f":"P233+Z233","v":0}]
[null,null,null,null,null,"Score Brut",{"$f":"IF(G232-G229=-2,4)+IF(G232-G229=-1,3)+IF(G232-G229=0,2)+IF(G232-G229=1,1)+IF(G232-G229>2,0)","v":0},0,0,0,0,0,0,0,0,{"$f":"SUM(G234:O234)","v":0},{"$f":"IF(Q232-Q229=-2,4)+IF(Q232-Q229=-1,3)+IF(Q232-Q229=0,2)+IF(Q232-Q229=1,1)+IF(Q232-Q229>2,0)","v":0},0,0,0,0,0,0,0,0,{"$f":"SUM(Q234:Y234)","v":0},{"$f":"P234+Z234","v":0}]
[null,null,null,null,null,null,{"$f":"G232-G229","v":6},{"$f":"H232-H229","v":6},5,6,7,5,7,5,7,null,{"$f":"Q232-Q229","v":6},6,7,5,7,6,6,5,6]
[]
[]
[null,null,null,null,null,"Statistiques scores",null,"Eagle & moins",null,null,null,{"$f":"COUNTIF(G235:Y235,\"<=-2\")","v":0},"Par",null,{"$f":"COUNTIF(G235:Y235,\"=0\")","v":0},"Double bogey",null,null,null,null,{"$f":"COUNTIF(G235:Y235,\"=2\")","v":0}]
[null,null,null,null,null,null,null,"Birdie",null,null,null,{"$f":"COUNTIF(G235:Y235,\"=-1\")","v":0},"Bogey",null,{"$f":"COUNTIF(G235:Y235,\"=1\")","v":0},"Triple bogey & plus",null,null,null,null,{"$f":"COUNTIF(G235:Y235,\">=3\")","v":18}]
[null,null,null,null,null,null,null,{"$f":"M238","v":"Par"},null,null,null,{"$f":"O238","v":0}]
[null,null,null,null,null,null,null,{"$f":"M239","v":"Bogey"},null,null,null,{"$f":"O239","v":0}]
[null,null,null,null,null,null,null,{"$f":"P238","v":"Double bogey"},null,null,null,{"$f":"U238","v":0}]
[null,null,null,null,null,null,null,{"$f":"P239","v":"Triple bogey & plus"},null,null,null,{"$f":"U239","v":18}]
[]
[]
[]
[]
[null,null,null,null,null,"Nom",{"$f":"C16","v":0},null,null,null,null,"Slope",null,null,"SSS",null,"Coups reçus",null,null,null,null,null,null,null,null,"Date",{"$f":"$D$3","v":"00:00:00"}]
[null,null,null,null,null,"Index",{"$f":"E16","v":20},null,null,null,null,{"$f":"$F$3","v":133},null,null,{"$f":"$G$3","v":68.599999999999994},null,{"$f":"ROUND((G249*(L249/113)+(O249-AA252)),0)","v":20}]
[]
[null,null,null,null,null,"Trou",1,2,3,4,5,6,7,8,9,"Aller",10,11,12,13,14,15,16,17,18,"Retour","Total"]
[null,null,null,null,null,"PAR",{"$f":"G$7","v":4},{"$f":"H$7","v":4},5,4,3,5,3,5,3,{"$f":"SUM(G252:O252)","v":36},{"$f":"Q$7","v":4},4,3,5,3,4,4,5,4,{"$f":"SUM(Q252:Y252)","v":36},{"$f":"SUM(P252+Z252)","v":72}]
[null,null,null,null,null,"HCP trous",{"$f":"G$8","v":4},{"$f":"H$8","v":8},12,14,2,10,18,16,6,null,{"$f":"Q$8","v":1},9,11,5,17,15,3,13,7]
[null,null,null,null,null,"Coups reçus",{"$f":"IF($Q249<=18,IF(G253<=$Q249,1,0),IF($Q249<=36,IF(G253<=($Q249-18),2,1),IF($Q249>36,IF(G253<=($Q249-36),3,2))))","v":1},{"$f":"IF($Q249<=18,IF(H253<=$Q249,1,0),IF($Q249<=36,IF(H253<=($Q249-18),2,1),IF($Q249>36,IF(H253<=($Q249-36),3,2))))","v":1},1,1,2,1,1,1,1,{"$f":"SUM(G254:O254)","v":10},{"$f":"IF($Q249<=18,IF(Q253<=$Q249,1,0),IF($Q249<=36,IF(Q253<=($Q249-18),2,1),IF($Q249>36,IF(Q253<=($Q249-36),3,2))))","v":2},1,1,1,1,1,1,1,1,{"$f":"SUM(Q254:Y254)","v":10},{"$f":"P254+Z254","v":20}]
[null,null,null,null,null,"Stroke play",{"$f":"G16","v":10},10,10,10,10,10,10,10,10,{"$f":"SUM(G255:O255)","v":90},{"$f":"Q16","v":10},10,10,10,10,10,10,10,10,{"$f":"SUM(Q255:Y255)","v":90},{"$f":"P255+Z255","v":180}]
[null,null,null,null,null,"Net Stableford",{"$f":"IF(G255-G252=-1,3+G254)+IF(G255-G252=0,2+G254)+IF(G255-G252=1,1+G254)+IF(G255-G252=2,G254)+IF(G255-G252=3,IF(G254-1>0,G254-1,0))+IF(G255-G252=4,IF(G254-2>0,G254-2,0))","v":0},{"$f":"IF(H255-H252=-1,3+H254)+IF(H255-H252=0,2+H254)+IF(H255-H252=1,1+H254)+IF(H255-H252=2,H254)+IF(H255-H252=3,IF(H254-1>0,H254-1,0))+IF(H255-H252=4,IF(H254-2>0,H254-2,0))","v":0},0,0,0,0,0,0,0,{"$f":"SUM(G256:O256)","v":0},{"$f":"IF(Q255-Q252=-1,3+Q254)+IF(Q255-Q252=0,2+Q254)+IF(Q255-Q252=1,1+Q254)+IF(Q255-Q252=2,Q254)+IF(Q255-Q252=3,IF(Q254-1>0,Q254-1,0))+IF(Q255-Q252=4,IF(Q254-2>0,Q254-2,0))","v":0},0,0,0,0,0,0,0,0,{"$f":"SUM(Q256:Y256)","v":0},{"$f":"P256+Z256","v":0}]
[null,null,null,null,null,"Score Brut",{"$f":"IF(G255-G252=-2,4)+IF(G255-G252=-1,3)+IF(G255-G252=0,2)+IF(G255-G252=1,1)+IF(G255-G252>2,0)","v":0},0,0,0,0,0,0,0,0,{"$f":"SUM(G257:O257)","v":0},{"$f":"IF(Q255-Q252=-2,4)+IF(Q255-Q252=-1,3)+IF(Q255-Q252=0,2)+IF(Q255-Q252=1,1)+IF(Q255-Q252>2,0)","v":0},0,0,0,0,0,0,0,0,{"$f":"SUM(Q257:Y257)","v":0},{"$f":"P257+Z257","v":0}]
[null,null,null,null,null,null,{"$f":"G255-G252","v":6},{"$f":"H255-H252","v":6},5,6,7,5,7,5,7,null,{"$f":"Q255-Q252","v":6},6,7,5,7,6,6,5,6]
[]
[]
[null,null,null,null,null,"Statistiques scores",null,"Eagle & moins",null,null,null,{"$f":"COUNTIF(G258:Y258,\"<=-2\")","v":0},"Par",null,{"$f":"COUNTIF(G258:Y258,\"=0\")","v":0},"Double bogey",null,null,null,null,{"$f":"COUNTIF(G258:Y258,\"=2\")","v":0}]
[null,null,null,null,null,null,null,"Birdie",null,null,null,{"$f":"COUNTIF(G258:Y258,\"=-1\")","v":0},"Bogey",null,{"$f":"COUNTIF(G258:Y258,\"=1\")","v":0},"Triple bogey & plus",null,null,null,null,{"$f":"COUNTIF(G258:Y258,\">=3\")","v":18}]
[null,null,null,null,null,null,null,{"$f":"M261","v":"Par"},null,null,null,{"$f":"O261","v":0}]
[null,null,null,null,null,null,null,{"$f":"M262","v":"Bogey"},null,null,null,{"$f":"O262","v":0}]
[null,null,null,null,null,null,null,{"$f":"P261","v":"Double bogey"},null,null,null,{"$f":"U261","v":0}]
[null,null,null,null,null,null,null,{"$f":"P262","v":"Triple bogey & plus"},null,null,null,{"$f":"U262","v":18}]
[]
[]
[]
[]
[null,null,null,null,null,"Nom",{"$f":"C17","v":0},null,null,null,null,"Slope",null,null,"SSS",null,"Coups reçus",null,null,null,null,null,null,null,null,"Date",{"$f":"$D$3","v":"00:00:00"}]
[null,null,null,null,null,"Index",{"$f":"E17","v":20},null,null,null,null,{"$f":"$F$3","v":133},null,null,{"$f":"$G$3","v":68.599999999999994},null,{"$f":"ROUND((G272*(L272/113)+(O272-AA275)),0)","v":20}]
[]
[null,null,null,null,null,"Trou",1,2,3,4,5,6,7,8,9,"Aller",10,11,12,13,14,15,16,17,18,"Retour","Total"]
[null,null,null,null,null,"PAR",{"$f":"G$7","v":4},{"$f":"H$7","v":4},5,4,3,5,3,5,3,{"$f":"SUM(G275:O275)","v":36},{"$f":"Q$7","v":4},4,3,5,3,4,4,5,4,{"$f":"SUM(Q275:Y275)","v":36},{"$f":"SUM(P275+Z275)","v":72}]
[null,null,null,null,null,"HCP trous",{"$f":"G$8","v":4},{"$f":"H$8","v":8},12,14,2,10,18,16,6,null,{"$f":"Q$8","v":1},9,11,5,17,15,3,13,7]
[null,null,null,null,null,"Coups reçus",{"$f":"IF($Q272<=18,IF(G276<=$Q272,1,0),IF($Q272<=36,IF(G276<=($Q272-18),2,1),IF($Q272>36,IF(G276<=($Q272-36),3,2))))","v":1},{"$f":"IF($Q272<=18,IF(H276<=$Q272,1,0),IF($Q272<=36,IF(H276<=($Q272-18),2,1),IF($Q272>36,IF(H276<=($Q272-36),3,2))))","v":1},1,1,2,1,1,1,1,{"$f":"SUM(G277:O277)","v":10},{"$f":"IF($Q272<=18,IF(Q276<=$Q272,1,0),IF($Q272<=36,IF(Q276<=($Q272-18),2,1),IF($Q272>36,IF(Q276<=($Q272-36),3,2))))","v":2},1,1,1,1,1,1,1,1,{"$f":"SUM(Q277:Y277)","v":10},{"$f":"P277+Z277","v":20}]
[null,null,null,null,null,"Stroke play",{"$f":"G17","v":10},10,10,10,10,10,10,10,10,{"$f":"SUM(G278:O278)","v":90},{"$f":"Q17","v":10},10,10,10,10,10,10,10,10,{"$f":"SUM(Q278:Y278)","v":90},{"$f":"P278+Z278","v":180}]
[null,null,null,null,null,"Net Stableford",{"$f":"IF(G278-G275=-1,3+G277)+IF(G278-G275=0,2+G277)+IF(G278-G275=1,1+G277)+IF(G278-G275=2,G277)+IF(G278-G275=3,IF(G277-1>0,G277-1,0))+IF(G278-G275=4,IF(G277-2>0,G277-2,0))","v":0},{"$f":"IF(H278-H275=-1,3+H277)+IF(H278-H275=0,2+H277)+IF(H278-H275=1,1+H277)+IF(H278-H275=2,H277)+IF(H278-H275=3,IF(H277-1>0,H277-1,0))+IF(H278-H275=4,IF(H277-2>0,H277-2,0))","v":0},0,0,0,0,0,0,0,{"$f":"SUM(G279:O279)","v":0},{"$f":"IF(Q278-Q275=-1,3+Q277)+IF(Q278-Q275=0,2+Q277)+IF(Q278-Q275=1,1+Q277)+IF(Q278-Q275=2,Q277)+IF(Q278-Q275=3,IF(Q277-1>0,Q277-1,0))+IF(Q278-Q275=4,IF(Q277-2>0,Q277-2,0))","v":0},0,0,0,0,0,0,0,0,{"$f":"SUM(Q279:Y279)","v":0},{"$f":"P279+Z279","v":0}]
[null,null,null,null,null,"Score Brut",{"$f":"IF(G278-G275=-2,4)+IF(G278-G275=-1,3)+IF(G278-G275=0,2)+IF(G278-G275=1,1)+IF(G278-G275>2,0)","v":0},0,0,0,0,0,0,0,0,{"$f":"SUM(G280:O280)","v":0},{"$f":"IF(Q278-Q275=-2,4)+IF(Q278-Q275=-1,3)+IF(Q278-Q275=0,2)+IF(Q278-Q275=1,1)+IF(Q278-Q275>2,0)","v":0},0,0,0,0,0,0,0,0,{"$f":"SUM(Q280:Y280)","v":0},{"$f":"P280+Z280","v":0}]
[null,null,null,null,null,null,{"$f":"G278-G275","v":6},{"$f":"H278-H275","v":6},5,6,7,5,7,5,7,null,{"$f":"Q278-Q275","v":6},6,7,5,7,6,6,5,6]
[]
[]
[null,null,null,null,null,"Statistiques scores",null,"Eagle & moins",null,null,null,{"$f":"COUNTIF(G281:Y281,\"<=-2\")","v":0},"Par",null,{"$f":"COUNTIF(G281:Y281,\"=0\")","v":0},"Double bogey",null,null,null,null,{"$f":"COUNTIF(G281:Y281,\"=2\")","v":0}]
[null,null,null,null,null,null,null,"Birdie",null,null,null,{"$f":"COUNTIF(G281:Y281,\"=-1\")","v":0},"Bogey",null,{"$f":"COUNTIF(G281:Y281,\"=1\")","v":0},"Triple bogey & plus",null,null,null,null,{"$f":"COUNTIF(G281:Y281,\">=3\")","v":18}]
[null,null,null,null,null,null,null,{"$f":"M284","v":"Par"},null,null,null,{"$f":"O284","v":0}]
[null,null,null,null,null,null,null,{"$f":"M285","v":"Bogey"},null,null,null,{"$f":"O285","v":0}]
[null,null,null,null,null,null,null,{"$f":"P284","v":"Double bogey"},null,null,null,{"$f":"U284","v":0}]
[null,null,null,null,null,null,null,{"$f":"P285","v":"Triple bogey & plus"},null,null,null,{"$f":"U285","v":18}]
[]
[]
[]
[]
[null,null,null,null,null,"Nom",{"$f":"C18","v":0},null,null,null,null,"Slope",null,null,"SSS",null,"Coups reçus",null,null,null,null,null,null,null,null,"Date",{"$f":"$D$3","v":"00:00:00"}]
[null,null,null,null,null,"Index",{"$f":"E18","v":20},null,null,null,null,{"$f":"$F$3","v":133},null,null,{"$f":"$G$3","v":68.599999999999994},null,{"$f":"ROUND((G295*(L295/113)+(O295-AA298)),0)","v":20}]
[]
[null,null,null,null,null,"Trou",1,2,3,4,5,6,7,8,9,"Aller",10,11,12,13,14,15,16,17,18,"Retour","Total"]
[null,null,null,null,null,"PAR",{"$f":"G$7","v":4},{"$f":"H$7","v":4},5,4,3,5,3,5,3,{"$f":"SUM(G298:O298)","v":36},{"$f":"Q$7","v":4},4,3,5,3,4,4,5,4,{"$f":"SUM(Q298:Y298)","v":36},{"$f":"SUM(P298+Z298)","v":72}]
[null,null,null,null,null,"HCP trous",{"$f":"G$8","v":4},{"$f":"H$8","v":8},12,14,2,10,18,16,6,null,{"$f":"Q$8","v":1},9,11,5,17,15,3,13,7]
[null,null,null,null,null,"Coups reçus",{"$f":"IF($Q295<=18,IF(G299<=$Q295,1,0),IF($Q295<=36,IF(G299<=($Q295-18),2,1),IF($Q295>36,IF(G299<=($Q295-36),3,2))))","v":1},{"$f":"IF($Q295<=18,IF(H299<=$Q295,1,0),IF($Q295<=36,IF(H299<=($Q295-18),2,1),IF($Q295>36,IF(H299<=($Q295-36),3,2))))","v":1},1,1,2,1,1,1,1,{"$f":"SUM(G300:O300)","v":10},{"$f":"IF($Q295<=18,IF(Q299<=$Q295,1,0),IF($Q295<=36,IF(Q299<=($Q295-18),2,1),IF($Q295>36,IF(Q299<=($Q295-36),3,2))))","v":2},1,1,1,1,1,1,1,1,{"$f":"SUM(Q300:Y300)","v":10},{"$f":"P300+Z300","v":20}]
[null,null,null,null,null,"Stroke play",{"$f":"G18","v":10},10,10,10,10,10,10,10,10,{"$f":"SUM(G301:O301)","v":90},{"$f":"Q18","v":10},10,10,10,10,10,10,10,10,{"$f":"SUM(Q301:Y301)","v":90},{"$f":"P301+Z301","v":180}]
[null,null,null,null,null,"Net Stableford",{"$f":"IF(G301-G298=-1,3+G300)+IF(G301-G298=0,2+G300)+IF(G301-G298=1,1+G300)+IF(G301-G298=2,G300)+IF(G301-G298=3,IF(G300-1>0,G300-1,0))+IF(G301-G298=4,IF(G300-2>0,G300-2,0))","v":0},{"$f":"IF(H301-H298=-1,3+H300)+IF(H301-H298=0,2+H300)+IF(H301-H298=1,1+H300)+IF(H301-H298=2,H300)+IF(H301-H298=3,IF(H300-1>0,H300-1,0))+IF(H301-H298=4,IF(H300-2>0,H300-2,0))","v":0},0,0,0,0,0,0,0,{"$f":"SUM(G302:O302)","v":0},{"$f":"IF(Q301-Q298=-1,3+Q300)+IF(Q301-Q298=0,2+Q300)+IF(Q301-Q298=1,1+Q300)+IF(Q301-Q298=2,Q300)+IF(Q301-Q298=3,IF(Q300-1>0,Q300-1,0))+IF(Q301-Q298=4,IF(Q300-2>0,Q300-2,0))","v":0},0,0,0,0,0,0,0,0,{"$f":"SUM(Q302:Y302)","v":0},{"$f":"P302+Z302","v":0}]
[null,null,null,null,null,"Score Brut",{"$f":"IF(G301-G298=-2,4)+IF(G301-G298=-1,3)+IF(G301-G298=0,2)+IF(G301-G298=1,1)+IF(G301-G298>2,0)","v":0},0,0,0,0,0,0,0,0,{"$f":"SUM(G303:O303)","v":0},{"$f":"IF(Q301-Q298=-2,4)+IF(Q301-Q298=-1,3)+IF(Q301-Q298=0,2)+IF(Q301-Q298=1,1)+IF(Q301-Q298>2,0)","v":0},0,0,0,0,0,0,0,0,{"$f":"SUM(Q303:Y303)","v":0},{"$f":"P303+Z303","v":0}]
[null,null,null,null,null,null,{"$f":"G301-G298","v":6},{"$f":"H301-H298","v":6},5,6,7,5,7,5,7,null,{"$f":"Q301-Q298","v":6},6,7,5,7,6,6,5,6]
[]
[]
[null,null,null,null,null,"Statistiques scores",null,"Eagle & moins",null,null,null,{"$f":"COUNTIF(G304:Y304,\"<=-2\")","v":0},"Par",null,{"$f":"COUNTIF(G304:Y304,\"=0\")","v":0},"Double bogey",null,null,null,null,{"$f":"COUNTIF(G304:Y304,\"=2\")","v":0}]
[null,null,null,null,null,null,null,"Birdie",null,null,null,{"$f":"COUNTIF(G304:Y304,\"=-1\")","v":0},"Bogey",null,{"$f":"COUNTIF(G304:Y304,\"=1\")","v":0},"Triple bogey & plus",null,null,null,null,{"$f":"COUNTIF(G304:Y304,\">=3\")","v":18}]
[null,null,null,null,null,null,null,{"$f":"M307","v":"Par"},null,null,null,{"$f":"O307","v":0}]
[null,null,null,null,null,null,null,{"$f":"M308","v":"Bogey"},null,null,null,{"$f":"O308","v":0}]
[null,null,null,null,null,null,null,{"$f":"P307","v":"Double bogey"},null,null,null,{"$f":"U307","v":0}]
[null,null,null,null,null,null,null,{"$f":"P308","v":"Triple bogey & plus"},null,null,null,{"$f":"U308","v":18}]
[]
[]
[]
[]
[null,null,null,null,null,"Nom",{"$f":"C19","v":0},null,null,null,null,"Slope",null,null,"SSS",null,"Coups reçus",null,null,null,null,null,null,null,null,"Date",{"$f":"$D$3","v":"00:00:00"}]
[null,null,null,null,null,"Index",{"$f":"E19","v":20},null,null,null,null,{"$f":"$F$3","v":133},null,null,{"$f":"$G$3","v":68.599999999999994},null,{"$f":"ROUND((G318*(L318/113)+(O318-AA321)),0)","v":20}]
[]
[null,null,null,null,null,"Trou",1,2,3,4,5,6,7,8,9,"Aller",10,11,12,13,14,15,16,17,18,"Retour","Total"]
[null,null,null,null,null,"PAR",{"$f":"G$7","v":4},{"$f":"H$7","v":4},5,4,3,5,3,5,3,{"$f":"SUM(G321:O321)","v":36},{"$f":"Q$7","v":4},4,3,5,3,4,4,5,4,{"$f":"SUM(Q321:Y321)","v":36},{"$f":"SUM(P321+Z321)","v":72}]
[null,null,null,null,null,"HCP trous",{"$f":"G$8","v":4},{"$f":"H$8","v":8},12,14,2,10,18,16,6,null,{"$f":"Q$8","v":1},9,11,5,17,15,3,13,7]
[null,null,null,null,null,"Coups reçus",{"$f":"IF($Q318<=18,IF(G322<=$Q318,1,0),IF($Q318<=36,IF(G322<=($Q318-18),2,1),IF($Q318>36,IF(G322<=($Q318-36),3,2))))","v":1},{"$f":"IF($Q318<=18,IF(H322<=$Q318,1,0),IF($Q318<=36,IF(H322<=($Q318-18),2,1),IF($Q318>36,IF(H322<=($Q318-36),3,2))))","v":1},1,1,2,1,1,1,1,{"$f":"SUM(G323:O323)","v":10},{"$f":"IF($Q318<=18,IF(Q322<=$Q318,1,0),IF($Q318<=36,IF(Q322<=($Q318-18),2,1),IF($Q318>36,IF(Q322<=($Q318-36),3,2))))","v":2},1,1,1,1,1,1,1,1,{"$f":"SUM(Q323:Y323)","v":10},{"$f":"P323+Z323","v":20}]
[null,null,null,null,null,"Stroke play",{"$f":"G19","v":10},10,10,10,10,10,10,10,10,{"$f":"SUM(G324:O324)","v":90},{"$f":"Q19","v":10},10,10,10,10,10,10,10,10,{"$f":"SUM(Q324:Y324)","v":90},{"$f":"P324+Z324","v":180}]
[null,null,null,null,null,"Net Stableford",{"$f":"IF(G324-G321=-1,3+G323)+IF(G324-G321=0,2+G323)+IF(G324-G321=1,1+G323)+IF(G324-G321=2,G323)+IF(G324-G321=3,IF(G323-1>0,G323-1,0))+IF(G324-G321=4,IF(G323-2>0,G323-2,0))","v":0},{"$f":"IF(H324-H321=-1,3+H323)+IF(H324-H321=0,2+H323)+IF(H324-H321=1,1+H323)+IF(H324-H321=2,H323)+IF(H324-H321=3,IF(H323-1>0,H323-1,0))+IF(H324-H321=4,IF(H323-2>0,H323-2,0))","v":0},0,0,0,0,0,0,0,{"$f":"SUM(G325:O325)","v":0},{"$f":"IF(Q324-Q321=-1,3+Q323)+IF(Q324-Q321=0,2+Q323)+IF(Q324-Q321=1,1+Q323)+IF(Q324-Q321=2,Q323)+IF(Q324-Q321=3,IF(Q323-1>0,Q323-1,0))+IF(Q324-Q321=4,IF(Q323-2>0,Q323-2,0))","v":0},0,0,0,0,0,0,0,0,{"$f":"SUM(Q325:Y325)","v":0},{"$f":"P325+Z325","v":0}]
[null,null,null,null,null,"Score Brut",{"$f":"IF(G324-G321=-2,4)+IF(G324-G321=-1,3)+IF(G324-G321=0,2)+IF(G324-G321=1,1)+IF(G324-G321>2,0)","v":0},0,0,0,0,0,0,0,0,{"$f":"SUM(G326:O326)","v":0},{"$f":"IF(Q324-Q321=-2,4)+IF(Q324-Q321=-1,3)+IF(Q324-Q321=0,2)+IF(Q324-Q321=1,1)+IF(Q324-Q321>2,0)","v":0},0,0,0,0,0,0,0,0,{"$f":"SUM(Q326:Y326)","v":0},{"$f":"P326+Z326","v":0}]
[null,null,null,null,null,null,{"$f":"G324-G321","v":6},{"$f":"H324-H321","v":6},5,6,7,5,7,5,7,null,{"$f":"Q324-Q321","v":6},6,7,5,7,6,6,5,6]
[]
[]
[null,null,null,null,null,"Statistiques scores",null,"Eagle & moins",null,null,null,{"$f":"COUNTIF(G327:Y327,\"<=-2\")","v":0},"Par",null,{"$f":"COUNTIF(G327:Y327,\"=0\")","v":0},"Double bogey",null,null,null,null,{"$f":"COUNTIF(G327:Y327,\"=2\")","v":0}]
[null,null,null,null,null,null,null,"Birdie",null,null,null,{"$f":"COUNTIF(G327:Y327,\"=-1\")","v":0},"Bogey",null,{"$f":"COUNTIF(G327:Y327,\"=1\")","v":0},"Triple bogey & plus",null,null,null,null,{"$f":"COUNTIF(G327:Y327,\">=3\")","v":18}]
[null,null,null,null,null,null,null,{"$f":"M330","v":"Par"},null,null,null,{"$f":"O330","v":0}]
[null,null,null,null,null,null,null,{"$f":"M331","v":"Bogey"},null,null,null,{"$f":"O331","v":0}]
[null,null,null,null,null,null,null,{"$f":"P330","v":"Double bogey"},null,null,null,{"$f":"U330","v":0}]
[null,null,null,null,null,null,null,{"$f":"P331","v":"Triple bogey & plus"},null,null,null,{"$f":"U331","v":18}]
[]
[]
[]
[]
[null,null,null,null,null,"Nom",{"$f":"C20","v":0},null,null,null,null,"Slope",null,null,"SSS",null,"Coups reçus",null,null,null,null,null,null,null,null,"Date",{"$f":"$D$3","v":"00:00:00"}]
[null,null,null,null,null,"Index",{"$f":"E20","v":20},null,null,null,null,{"$f":"$F$3","v":133},null,null,{"$f":"$G$3","v":68.599999999999994},null,{"$f":"ROUND((G341*(L341/113)+(O341-AA344)),0)","v":20}]
[]
[null,null,null,null,null,"Trou",1,2,3,4,5,6,7,8,9,"Aller",10,11,12,13,14,15,16,17,18,"Retour","Total"]
[null,null,null,null,null,"PAR",{"$f":"G$7","v":4},{"$f":"H$7","v":4},5,4,3,5,3,5,3,{"$f":"SUM(G344:O344)","v":36},{"$f":"Q$7","v":4},4,3,5,3,4,4,5,4,{"$f":"SUM(Q344:Y344)","v":36},{"$f":"SUM(P344+Z344)","v":72}]
[null,null,null,null,null,"HCP trous",{"$f":"G$8","v":4},{"$f":"H$8","v":8},12,14,2,10,18,16,6,null,{"$f":"Q$8","v":1},9,11,5,17,15,3,13,7]
[null,null,null,null,null,"Coups reçus",{"$f":"IF($Q341<=18,IF(G345<=$Q341,1,0),IF($Q341<=36,IF(G345<=($Q341-18),2,1),IF($Q341>36,IF(G345<=($Q341-36),3,2))))","v":1},{"$f":"IF($Q341<=18,IF(H345<=$Q341,1,0),IF($Q341<=36,IF(H345<=($Q341-18),2,1),IF($Q341>36,IF(H345<=($Q341-36),3,2))))","v":1},1,1,2,1,1,1,1,{"$f":"SUM(G346:O346)","v":10},{"$f":"IF($Q341<=18,IF(Q345<=$Q341,1,0),IF($Q341<=36,IF(Q345<=($Q341-18),2,1),IF($Q341>36,IF(Q345<=($Q341-36),3,2))))","v":2},1,1,1,1,1,1,1,1,{"$f":"SUM(Q346:Y346)","v":10},{"$f":"P346+Z346","v":20}]
[null,null,null,null,null,"Stroke play",{"$f":"G20","v":10},10,10,10,10,10,10,10,10,{"$f":"SUM(G347:O347)","v":90},{"$f":"Q20","v":10},10,10,10,10,10,10,10,10,{"$f":"SUM(Q347:Y347)","v":90},{"$f":"P347+Z347","v":180}]
[null,null,null,null,null,"Net Stableford",{"$f":"IF(G347-G344=-1,3+G346)+IF(G347-G344=0,2+G346)+IF(G347-G344=1,1+G346)+IF(G347-G344=2,G346)+IF(G347-G344=3,IF(G346-1>0,G346-1,0))+IF(G347-G344=4,IF(G346-2>0,G346-2,0))","v":0},{"$f":"IF(H347-H344=-1,3+H346)+IF(H347-H344=0,2+H346)+IF(H347-H344=1,1+H346)+IF(H347-H344=2,H346)+IF(H347-H344=3,IF(H346-1>0,H346-1,0))+IF(H347-H344=4,IF(H346-2>0,H346-2,0))","v":0},0,0,0,0,0,0,0,{"$f":"SUM(G348:O348)","v":0},{"$f":"IF(Q347-Q344=-1,3+Q346)+IF(Q347-Q344=0,2+Q346)+IF(Q347-Q344=1,1+Q346)+IF(Q347-Q344=2,Q346)+IF(Q347-Q344=3,IF(Q346-1>0,Q346-1,0))+IF(Q347-Q344=4,IF(Q346-2>0,Q346-2,0))","v":0},0,0,0,0,0,0,0,0,{"$f":"SUM(Q348:Y348)","v":0},{"$f":"P348+Z348","v":0}]
[null,null,null,null,null,"Score Brut",{"$f":"IF(G347-G344=-2,4)+IF(G347-G344=-1,3)+IF(G347-G344=0,2)+IF(G347-G344=1,1)+IF(G347-G344>2,0)","v":0},0,0,0,0,0,0,0,0,{"$f":"SUM(G349:O349)","v":0},{"$f":"IF(Q347-Q344=-2,4)+IF(Q347-Q344=-1,3)+IF(Q347-Q344=0,2)+IF(Q347-Q344=1,1)+IF(Q347-Q344>2,0)","v":0},0,0,0,0,0,0,0,0,{"$f":"SUM(Q349:Y349)","v":0},{"$f":"P349+Z349","v":0}]
[null,null,null,null,null,null,{"$f":"G347-G344","v":6},{"$f":"H347-H344","v":6},5,6,7,5,7,5,7,null,{"$f":"Q347-Q344","v":6},6,7,5,7,6,6,5,6]
[]
[]
[null,null,null,null,null,"Statistiques scores",null,"Eagle & moins",null,null,null,{"$f":"COUNTIF(G350:Y350,\"<=-2\")","v":0},"Par",null,{"$f":"COUNTIF(G350:Y350,\"=0\")","v":0},"Double bogey",null,null,null,null,{"$f":"COUNTIF(G350:Y350,\"=2\")","v":0}]
[null,null,null,null,null,null,null,"Birdie",null,null,null,{"$f":"COUNTIF(G350:Y350,\"=-1\")","v":0},"Bogey",null,{"$f":"COUNTIF(G350:Y350,\"=1\")","v":0},"Triple bogey & plus",null,null,null,null,{"$f":"COUNTIF(G350:Y350,\">=3\")","v":18}]
[null,null,null,null,null,null,null,{"$f":"M353","v":"Par"},null,null,null,{"$f":"O353","v":0}]
[null,null,null,null,null,null,null,{"$f":"M354","v":"Bogey"},null,null,null,{"$f":"O354","v":0}]
[null,null,null,null,null,null,null,{"$f":"P353","v":"Double bogey"},null,null,null,{"$f":"U353","v":0}]
[null,null,null,null,null,null,null,{"$f":"P354","v":"Triple bogey & plus"},null,null,null,{"$f":"U354","v":18}]
[]
[]
[]
[]
[null,null,null,null,null,"Nom",{"$f":"C21","v":0},null,null,null,null,"Slope",null,null,"SSS",null,"Coups reçus",null,null,null,null,null,null,null,null,"Date",{"$f":"$D$3","v":"00:00:00"}]
[null,null,null,null,null,"Index",{"$f":"E21","v":20},null,null,null,null,{"$f":"$F$3","v":133},null,null,{"$f":"$G$3","v":68.599999999999994},null,{"$f":"ROUND((G364*(L364/113)+(O364-AA367)),0)","v":20}]
[]
[null,null,null,null,null,"Trou",1,2,3,4,5,6,7,8,9,"Aller",10,11,12,13,14,15,16,17,18,"Retour","Total"]
[null,null,null,null,null,"PAR",{"$f":"G$7","v":4},{"$f":"H$7","v":4},5,4,3,5,3,5,3,{"$f":"SUM(G367:O367)","v":36},{"$f":"Q$7","v":4},4,3,5,3,4,4,5,4,{"$f":"SUM(Q367:Y367)","v":36},{"$f":"SUM(P367+Z367)","v":72}]
[null,null,null,null,null,"HCP trous",{"$f":"G$8","v":4},{"$f":"H$8","v":8},12,14,2,10,18,16,6,null,{"$f":"Q$8","v":1},9,11,5,17,15,3,13,7]
[null,null,null,null,null,"Coups reçus",{"$f":"IF($Q364<=18,IF(G368<=$Q364,1,0),IF($Q364<=36,IF(G368<=($Q364-18),2,1),IF($Q364>36,IF(G368<=($Q364-36),3,2))))","v":1},{"$f":"IF($Q364<=18,IF(H368<=$Q364,1,0),IF($Q364<=36,IF(H368<=($Q364-18),2,1),IF($Q364>36,IF(H368<=($Q364-36),3,2))))","v":1},1,1,2,1,1,1,1,{"$f":"SUM(G369:O369)","v":10},{"$f":"IF($Q364<=18,IF(Q368<=$Q364,1,0),IF($Q364<=36,IF(Q368<=($Q364-18),2,1),IF($Q364>36,IF(Q368<=($Q364-36),3,2))))","v":2},1,1,1,1,1,1,1,1,{"$f":"SUM(Q369:Y369)","v":10},{"$f":"P369+Z369","v":20}]
[null,null,null,null,null,"Stroke play",{"$f":"G21","v":10},10,10,10,10,10,10,10,10,{"$f":"SUM(G370:O370)","v":90},{"$f":"Q21","v":10},10,10,10,10,10,10,10,10,{"$f":"SUM(Q370:Y370)","v":90},{"$f":"P370+Z370","v":180}]
[null,null,null,null,null,"Net Stableford",{"$f":"IF(G370-G367=-1,3+G369)+IF(G370-G367=0,2+G369)+IF(G370-G367=1,1+G369)+IF(G370-G367=2,G369)+IF(G370-G367=3,IF(G369-1>0,G369-1,0))+IF(G370-G367=4,IF(G369-2>0,G369-2,0))","v":0},{"$f":"IF(H370-H367=-1,3+H369)+IF(H370-H367=0,2+H369)+IF(H370-H367=1,1+H369)+IF(H370-H367=2,H369)+IF(H370-H367=3,IF(H369-1>0,H369-1,0))+IF(H370-H367=4,IF(H369-2>0,H369-2,0))","v":0},0,0,0,0,0,0,0,{"$f":"SUM(G371:O371)","v":0},{"$f":"IF(Q370-Q367=-1,3+Q369)+IF(Q370-Q367=0,2+Q369)+IF(Q370-Q367=1,1+Q369)+IF(Q370-Q367=2,Q369)+IF(Q370-Q367=3,IF(Q369-1>0,Q369-1,0))+IF(Q370-Q367=4,IF(Q369-2>0,Q369-2,0))","v":0},0,0,0,0,0,0,0,0,{"$f":"SUM(Q371:Y371)","v":0},{"$f":"P371+Z371","v":0}]
[null,null,null,null,null,"Score Brut",{"$f":"IF(G370-G367=-2,4)+IF(G370-G367=-1,3)+IF(G370-G367=0,2)+IF(G370-G367=1,1)+IF(G370-G367>2,0)","v":0},0,0,0,0,0,0,0,0,{"$f":"SUM(G372:O372)","v":0},{"$f":"IF(Q370-Q367=-2,4)+IF(Q370-Q367=-1,3)+IF(Q370-Q367=0,2)+IF(Q370-Q367=1,1)+IF(Q370-Q367>2,0)","v":0},0,0,0,0,0,0,0,0,{"$f":"SUM(Q372:Y372)","v":0},{"$f":"P372+Z372","v":0}]
[null,null,null,null,null,null,{"$f":"G370-G367","v":6},{"$f":"H370-H367","v":6},5,6,7,5,7,5,7,null,{"$f":"Q370-Q367","v":6},6,7,5,7,6,6,5,6]
[]
[]
[null,null,null,null,null,"Statistiques scores",null,"Eagle & moins",null,null,null,{"$f":"COUNTIF(G373:Y373,\"<=-2\")","v":0},"Par",null,{"$f":"COUNTIF(G373:Y373,\"=0\")","v":0},"Double bogey",null,null,null,null,{"$f":"COUNTIF(G373:Y373,\"=2\")","v":0}]
[null,null,null,null,null,null,null,"Birdie",null,null,null,{"$f":"COUNTIF(G373:Y373,\"=-1\")","v":0},"Bogey",null,{"$f":"COUNTIF(G373:Y373,\"=1\")","v":0},"Triple bogey & plus",null,null,null,null,{"$f":"COUNTIF(G373:Y373,\">=3\")","v":18}]
[null,null,null,null,null,null,null,{"$f":"M376","v":"Par"},null,null,null,{"$f":"O376","v":0}]
[null,null,null,null,null,null,null,{"$f":"M377","v":"Bogey"},null,null,null,{"$f":"O377","v":0}]
[null,null,null,null,null,null,null,{"$f":"P376","v":"Double bogey"},null,null,null,{"$f":"U376","v":0}]
[null,null,null,null,null,null,null,{"$f":"P377","v":"Triple bogey & plus"},null,null,null,{"$f":"U377","v":18}]
[]
[]
[]
[]
[null,null,null,null,null,"Nom",{"$f":"C22","v":0},null,null,null,null,"Slope",null,null,"SSS",null,"Coups reçus",null,null,null,null,null,null,null,null,"Date",{"$f":"$D$3","v":"00:00:00"}]
[null,null,null,null,null,"Index",{"$f":"E22","v":20},null,null,null,null,{"$f":"$F$3","v":133},null,null,{"$f":"$G$3","v":68.599999999999994},null,{"$f":"ROUND((G387*(L387/113)+(O387-AA390)),0)","v":20}]
[]
[null,null,null,null,null,"Trou",1,2,3,4,5,6,7,8,9,"Aller",10,11,12,13,14,15,16,17,18,"Retour","Total"]
[null,null,null,null,null,"PAR",{"$f":"G$7","v":4},{"$f":"H$7","v":4},5,4,3,5,3,5,3,{"$f":"SUM(G390:O390)","v":36},{"$f":"Q$7","v":4},4,3,5,3,4,4,5,4,{"$f":"SUM(Q390:Y390)","v":36},{"$f":"SUM(P390+Z390)","v":72}]
[null,null,null,null,null,"HCP trous",{"$f":"G$8","v":4},{"$f":"H$8","v":8},12,14,2,10,18,16,6,null,{"$f":"Q$8","v":1},9,11,5,17,15,3,13,7]
[null,null,null,null,null,"Coups reçus",{"$f":"IF($Q387<=18,IF(G391<=$Q387,1,0),IF($Q387<=36,IF(G391<=($Q387-18),2,1),IF($Q387>36,IF(G391<=($Q387-36),3,2))))","v":1},{"$f":"IF($Q387<=18,IF(H391<=$Q387,1,0),IF($Q387<=36,IF(H391<=($Q387-18),2,1),IF($Q387>36,IF(H391<=($Q387-36),3,2))))","v":1},1,1,2,1,1,1,1,{"$f":"SUM(G392:O392)","v":10},{"$f":"IF($Q387<=18,IF(Q391<=$Q387,1,0),IF($Q387<=36,IF(Q391<=($Q387-18),2,1),IF($Q387>36,IF(Q391<=($Q387-36),3,2))))","v":2},1,1,1,1,1,1,1,1,{"$f":"SUM(Q392:Y392)","v":10},{"$f":"P392+Z392","v":20}]
[null,null,null,null,null,"Stroke play",{"$f":"G22","v":10},10,10,10,10,10,10,10,10,{"$f":"SUM(G393:O393)","v":90},{"$f":"Q22","v":10},10,10,10,10,10,10,10,10,{"$f":"SUM(Q393:Y393)","v":90},{"$f":"P393+Z393","v":180}]
[null,null,null,null,null,"Net Stableford",{"$f":"IF(G393-G390=-1,3+G392)+IF(G393-G390=0,2+G392)+IF(G393-G390=1,1+G392)+IF(G393-G390=2,G392)+IF(G393-G390=3,IF(G392-1>0,G392-1,0))+IF(G393-G390=4,IF(G392-2>0,G392-2,0))","v":0},{"$f":"IF(H393-H390=-1,3+H392)+IF(H393-H390=0,2+H392)+IF(H393-H390=1,1+H392)+IF(H393-H390=2,H392)+IF(H393-H390=3,IF(H392-1>0,H392-1,0))+IF(H393-H390=4,IF(H392-2>0,H392-2,0))","v":0},0,0,0,0,0,0,0,{"$f":"SUM(G394:O394)","v":0},{"$f":"IF(Q393-Q390=-1,3+Q392)+IF(Q393-Q390=0,2+Q392)+IF(Q393-Q390=1,1+Q392)+IF(Q393-Q390=2,Q392)+IF(Q393-Q390=3,IF(Q392-1>0,Q392-1,0))+IF(Q393-Q390=4,IF(Q392-2>0,Q392-2,0))","v":0},0,0,0,0,0,0,0,0,{"$f":"SUM(Q394:Y394)","v":0},{"$f":"P394+Z394","v":0}]
[null,null,null,null,null,"Score Brut",{"$f":"IF(G393-G390=-2,4)+IF(G393-G390=-1,3)+IF(G393-G390=0,2)+IF(G393-G390=1,1)+IF(G393-G390>2,0)","v":0},0,0,0,0,0,0,0,0,{"$f":"SUM(G395:O395)","v":0},{"$f":"IF(Q393-Q390=-2,4)+IF(Q393-Q390=-1,3)+IF(Q393-Q390=0,2)+IF(Q393-Q390=1,1)+IF(Q393-Q390>2,0)","v":0},0,0,0,0,0,0,0,0,{"$f":"SUM(Q395:Y395)","v":0},{"$f":"P395+Z395","v":0}]
[null,null,null,null,null,null,{"$f":"G393-G390","v":6},{"$f":"H393-H390","v":6},5,6,7,5,7,5,7,null,{"$f":"Q393-Q390","v":6},6,7,5,7,6,6,5,6]
[]
[]
[null,null,null,null,null,"Statistiques scores",null,"Eagle & moins",null,null,null,{"$f":"COUNTIF(G396:Y396,\"<=-2\")","v":0},"Par",null,{"$f":"COUNTIF(G396:Y396,\"=0\")","v":0},"Double bogey",null,null,null,null,{"$f":"COUNTIF(G396:Y396,\"=2\")","v":0}]
[null,null,null,null,null,null,null,"Birdie",null,null,null,{"$f":"COUNTIF(G396:Y396,\"=-1\")","v":0},"Bogey",null,{"$f":"COUNTIF(G396:Y396,\"=1\")","v":0},"Triple bogey & plus",null,null,null,null,{"$f":"COUNTIF(G396:Y396,\">=3\")","v":18}]
[null,null,null,null,null,null,null,{"$f":"M399","v":"Par"},null,null,null,{"$f":"O399","v":0}]
[null,null,null,null,null,null,null,{"$f":"M400","v":"Bogey"},null,null,null,{"$f":"O400","v":0}]
[null,null,null,null,null,null,null,{"$f":"P399","v":"Double bogey"},null,null,null,{"$f":"U399","v":0}]
[null,null,null,null,null,null,null,{"$f":"P400","v":"Triple bogey & plus"},null,null,null,{"$f":"U400","v":18}]
[]
[]
[]
[]
[null,null,null,null,null,"Nom",{"$f":"C23","v":0},null,null,null,null,"Slope",null,null,"SSS",null,"Coups reçus",null,null,null,null,null,null,null,null,"Date",{"$f":"$D$3","v":"00:00:00"}]
[null,null,null,null,null,"Index",{"$f":"E23","v":20},null,null,null,null,{"$f":"$F$3","v":133},null,null,{"$f":"$G$3","v":68.599999999999994},null,{"$f":"ROUND((G410*(L410/113)+(O410-AA413)),0)","v":20}]
[]
[null,null,null,null,null,"Trou",1,2,3,4,5,6,7,8,9,"Aller",10,11,12,13,14,15,16,17,18,"Retour","Total"]
[null,null,null,null,null,"PAR",{"$f":"G$7","v":4},{"$f":"H$7","v":4},5,4,3,5,3,5,3,{"$f":"SUM(G413:O413)","v":36},{"$f":"Q$7","v":4},4,3,5,3,4,4,5,4,{"$f":"SUM(Q413:Y413)","v":36},{"$f":"SUM(P413+Z413)","v":72}]
[null,null,null,null,null,"HCP trous",{"$f":"G$8","v":4},{"$f":"H$8","v":8},12,14,2,10,18,16,6,null,{"$f":"Q$8","v":1},9,11,5,17,15,3,13,7]
[null,null,null,null,null,"Coups reçus",{"$f":"IF($Q410<=18,IF(G414<=$Q410,1,0),IF($Q410<=36,IF(G414<=($Q410-18),2,1),IF($Q410>36,IF(G414<=($Q410-36),3,2))))","v":1},{"$f":"IF($Q410<=18,IF(H414<=$Q410,1,0),IF($Q410<=36,IF(H414<=($Q410-18),2,1),IF($Q410>36,IF(H414<=($Q410-36),3,2))))","v":1},1,1,2,1,1,1,1,{"$f":"SUM(G415:O415)","v":10},{"$f":"IF($Q410<=18,IF(Q414<=$Q410,1,0),IF($Q410<=36,IF(Q414<=($Q410-18),2,1),IF($Q410>36,IF(Q414<=($Q410-36),3,2))))","v":2},1,1,1,1,1,1,1,1,{"$f":"SUM(Q415:Y415)","v":10},{"$f":"P415+Z415","v":20}]
[null,null,null,null,null,"Stroke play",{"$f":"G23","v":10},10,10,10,10,10,10,10,10,{"$f":"SUM(G416:O416)","v":90},{"$f":"Q23","v":10},10,10,10,10,10,10,10,10,{"$f":"SUM(Q416:Y416)","v":90},{"$f":"P416+Z416","v":180}]
[null,null,null,null,null,"Net Stableford",{"$f":"IF(G416-G413=-1,3+G415)+IF(G416-G413=0,2+G415)+IF(G416-G413=1,1+G415)+IF(G416-G413=2,G415)+IF(G416-G413=3,IF(G415-1>0,G415-1,0))+IF(G416-G413=4,IF(G415-2>0,G415-2,0))","v":0},{"$f":"IF(H416-H413=-1,3+H415)+IF(H416-H413=0,2+H415)+IF(H416-H413=1,1+H415)+IF(H416-H413=2,H415)+IF(H416-H413=3,IF(H415-1>0,H415-1,0))+IF(H416-H413=4,IF(H415-2>0,H415-2,0))","v":0},0,0,0,0,0,0,0,{"$f":"SUM(G417:O417)","v":0},{"$f":"IF(Q416-Q413=-1,3+Q415)+IF(Q416-Q413=0,2+Q415)+IF(Q416-Q413=1,1+Q415)+IF(Q416-Q413=2,Q415)+IF(Q416-Q413=3,IF(Q415-1>0,Q415-1,0))+IF(Q416-Q413=4,IF(Q415-2>0,Q415-2,0))","v":0},0,0,0,0,0,0,0,0,{"$f":"SUM(Q417:Y417)","v":0},{"$f":"P417+Z417","v":0}]
[null,null,null,null,null,"Score Brut",{"$f":"IF(G416-G413=-2,4)+IF(G416-G413=-1,3)+IF(G416-G413=0,2)+IF(G416-G413=1,1)+IF(G416-G413>2,0)","v":0},0,0,0,0,0,0,0,0,{"$f":"SUM(G418:O418)","v":0},{"$f":"IF(Q416-Q413=-2,4)+IF(Q416-Q413=-1,3)+IF(Q416-Q413=0,2)+IF(Q416-Q413=1,1)+IF(Q416-Q413>2,0)","v":0},0,0,0,0,0,0,0,0,{"$f":"SUM(Q418:Y418)","v":0},{"$f":"P418+Z418","v":0}]
[null,null,null,null,null,null,{"$f":"G416-G413","v":6},{"$f":"H416-H413","v":6},5,6,7,5,7,5,7,null,{"$f":"Q416-Q413","v":6},6,7,5,7,6,6,5,6]
[]
[]
[null,null,null,null,null,"Statistiques scores",null,"Eagle & moins",null,null,null,{"$f":"COUNTIF(G419:Y419,\"<=-2\")","v":0},"Par",null,{"$f":"COUNTIF(G419:Y419,\"=0\")","v":0},"Double bogey",null,null,null,null,{"$f":"COUNTIF(G419:Y419,\"=2\")","v":0}]
[null,null,null,null,null,null,null,"Birdie",null,null,null,{"$f":"COUNTIF(G419:Y419,\"=-1\")","v":0},"Bogey",null,{"$f":"COUNTIF(G419:Y419,\"=1\")","v":0},"Triple bogey & plus",null,null,null,null,{"$f":"COUNTIF(G419:Y419,\">=3\")","v":18}]
[null,null,null,null,null,null,null,{"$f":"M422","v":"Par"},null,null,null,{"$f":"O422","v":0}]
[null,null,null,null,null,null,null,{"$f":"M423","v":"Bogey"},null,null,null,{"$f":"O423","v":0}]
[null,null,null,null,null,null,null,{"$f":"P422","v":"Double bogey"},null,null,null,{"$f":"U422","v":0}]
[null,null,null,null,null,null,null,{"$f":"P423","v":"Triple bogey & plus"},null,null,null,{"$f":"U423","v":18}]
[]
[]
[]
[]
[null,null,null,null,null,"Nom",{"$f":"C24","v":0},null,null,null,null,"Slope",null,null,"SSS",null,"Coups reçus",null,null,null,null,null,null,null,null,"Date",{"$f":"$D$3","v":"00:00:00"}]
[null,null,null,null,null,"Index",{"$f":"E24","v":20},null,null,null,null,{"$f":"$F$3","v":133},null,null,{"$f":"$G$3","v":68.599999999999994},null,{"$f":"ROUND((G433*(L433/113)+(O433-AA436)),0)","v":20}]
[]
[null,null,null,null,null,"Trou",1,2,3,4,5,6,7,8,9,"Aller",10,11,12,13,14,15,16,17,18,"Retour","Total"]
[null,null,null,null,null,"PAR",{"$f":"G$7","v":4},{"$f":"H$7","v":4},5,4,3,5,3,5,3,{"$f":"SUM(G436:O436)","v":36},{"$f":"Q$7","v":4},4,3,5,3,4,4,5,4,{"$f":"SUM(Q436:Y436)","v":36},{"$f":"SUM(P436+Z436)","v":72}]
[null,null,null,null,null,"HCP trous",{"$f":"G$8","v":4},{"$f":"H$8","v":8},12,14,2,10,18,16,6,null,{"$f":"Q$8","v":1},9,11,5,17,15,3,13,7]
[null,null,null,null,null,"Coups reçus",{"$f":"IF($Q433<=18,IF(G437<=$Q433,1,0),IF($Q433<=36,IF(G437<=($Q433-18),2,1),IF($Q433>36,IF(G437<=($Q433-36),3,2))))","v":1},{"$f":"IF($Q433<=18,IF(H437<=$Q433,1,0),IF($Q433<=36,IF(H437<=($Q433-18),2,1),IF($Q433>36,IF(H437<=($Q433-36),3,2))))","v":1},1,1,2,1,1,1,1,{"$f":"SUM(G438:O438)","v":10},{"$f":"IF($Q433<=18,IF(Q437<=$Q433,1,0),IF($Q433<=36,IF(Q437<=($Q433-18),2,1),IF($Q433>36,IF(Q437<=($Q433-36),3,2))))","v":2},1,1,1,1,1,1,1,1,{"$f":"SUM(Q438:Y438)","v":10},{"$f":"P438+Z438","v":20}]
[null,null,null,null,null,"Stroke play",{"$f":"G24","v":10},10,10,10,10,10,10,10,10,{"$f":"SUM(G439:O439)","v":90},{"$f":"Q24","v":10},10,10,10,10,10,10,10,10,{"$f":"SUM(Q439:Y439)","v":90},{"$f":"P439+Z439","v":180}]
[null,null,null,null,null,"Net Stableford",{"$f":"IF(G439-G436=-1,3+G438)+IF(G439-G436=0,2+G438)+IF(G439-G436=1,1+G438)+IF(G439-G436=2,G438)+IF(G439-G436=3,IF(G438-1>0,G438-1,0))+IF(G439-G436=4,IF(G438-2>0,G438-2,0))","v":0},{"$f":"IF(H439-H436=-1,3+H438)+IF(H439-H436=0,2+H438)+IF(H439-H436=1,1+H438)+IF(H439-H436=2,H438)+IF(H439-H436=3,IF(H438-1>0,H438-1,0))+IF(H439-H436=4,IF(H438-2>0,H438-2,0))","v":0},0,0,0,0,0,0,0,{"$f":"SUM(G440:O440)","v":0},{"$f":"IF(Q439-Q436=-1,3+Q438)+IF(Q439-Q436=0,2+Q438)+IF(Q439-Q436=1,1+Q438)+IF(Q439-Q436=2,Q438)+IF(Q439-Q436=3,IF(Q438-1>0,Q438-1,0))+IF(Q439-Q436=4,IF(Q438-2>0,Q438-2,0))","v":0},0,0,0,0,0,0,0,0,{"$f":"SUM(Q440:Y440)","v":0},{"$f":"P440+Z440","v":0}]
[null,null,null,null,null,"Score Brut",{"$f":"IF(G439-G436=-2,4)+IF(G439-G436=-1,3)+IF(G439-G436=0,2)+IF(G439-G436=1,1)+IF(G439-G436>2,0)","v":0},0,0,0,0,0,0,0,0,{"$f":"SUM(G441:O441)","v":0},{"$f":"IF(Q439-Q436=-2,4)+IF(Q439-Q436=-1,3)+IF(Q439-Q436=0,2)+IF(Q439-Q436=1,1)+IF(Q439-Q436>2,0)","v":0},0,0,0,0,0,0,0,0,{"$f":"SUM(Q441:Y441)","v":0},{"$f":"P441+Z441","v":0}]
[null,null,null,null,null,null,{"$f":"G439-G436","v":6},{"$f":"H439-H436","v":6},5,6,7,5,7,5,7,null,{"$f":"Q439-Q436","v":6},6,7,5,7,6,6,5,6]
[]
[]
[null,null,null,null,null,"Statistiques scores",null,"Eagle & moins",null,null,null,{"$f":"COUNTIF(G442:Y442,\"<=-2\")","v":0},"Par",null,{"$f":"COUNTIF(G442:Y442,\"=0\")","v":0},"Double bogey",null,null,null,null,{"$f":"COUNTIF(G442:Y442,\"=2\")","v":0}]
[null,null,null,null,null,null,null,"Birdie",null,null,null,{"$f":"COUNTIF(G442:Y442,\"=-1\")","v":0},"Bogey",null,{"$f":"COUNTIF(G442:Y442,\"=1\")","v":0},"Triple bogey & plus",null,null,null,null,{"$f":"COUNTIF(G442:Y442,\">=3\")","v":18}]
[null,null,null,null,null,null,null,{"$f":"M445","v":"Par"},null,null,null,{"$f":"O445","v":0}]
[null,null,null,null,null,null,null,{"$f":"M446","v":"Bogey"},null,null,null,{"$f":"O446","v":0}]
[null,null,null,null,null,null,null,{"$f":"P445","v":"Double bogey"},null,null,null,{"$f":"U445","v":0}]
[null,null,null,null,null,null,null,{"$f":"P446","v":"Triple bogey & plus"},null,null,null,{"$f":"U446","v":18}]
[]
[]
[]
[]
[null,null,null,null,null,"Nom",{"$f":"C25","v":0},null,null,null,null,"Slope",null,null,"SSS",null,"Coups reçus",null,null,null,null,null,null,null,null,"Date",{"$f":"$D$3","v":"00:00:00"}]
[null,null,null,null,null,"Index",{"$f":"E25","v":20},null,null,null,null,{"$f":"$F$3","v":133},null,null,{"$f":"$G$3","v":68.599999999999994},null,{"$f":"ROUND((G456*(L456/113)+(O456-AA459)),0)","v":20}]
[]
[null,null,null,null,null,"Trou",1,2,3,4,5,6,7,8,9,"Aller",10,11,12,13,14,15,16,17,18,"Retour","Total"]
[null,null,null,null,null,"PAR",{"$f":"G$7","v":4},{"$f":"H$7","v":4},5,4,3,5,3,5,3,{"$f":"SUM(G459:O459)","v":36},{"$f":"Q$7","v":4},4,3,5,3,4,4,5,4,{"$f":"SUM(Q459:Y459)","v":36},{"$f":"SUM(P459+Z459)","v":72}]
[null,null,null,null,null,"HCP trous",{"$f":"G$8","v":4},{"$f":"H$8","v":8},12,14,2,10,18,16,6,null,{"$f":"Q$8","v":1},9,11,5,17,15,3,13,7]
[null,null,null,null,null,"Coups reçus",{"$f":"IF($Q456<=18,IF(G460<=$Q456,1,0),IF($Q456<=36,IF(G460<=($Q456-18),2,1),IF($Q456>36,IF(G460<=($Q456-36),3,2))))","v":1},{"$f":"IF($Q456<=18,IF(H460<=$Q456,1,0),IF($Q456<=36,IF(H460<=($Q456-18),2,1),IF($Q456>36,IF(H460<=($Q456-36),3,2))))","v":1},1,1,2,1,1,1,1,{"$f":"SUM(G461:O461)","v":10},{"$f":"IF($Q456<=18,IF(Q460<=$Q456,1,0),IF($Q456<=36,IF(Q460<=($Q456-18),2,1),IF($Q456>36,IF(Q460<=($Q456-36),3,2))))","v":2},1,1,1,1,1,1,1,1,{"$f":"SUM(Q461:Y461)","v":10},{"$f":"P461+Z461","v":20}]
[null,null,null,null,null,"Stroke play",{"$f":"G25","v":10},10,10,10,10,10,10,10,10,{"$f":"SUM(G462:O462)","v":90},{"$f":"Q25","v":10},10,10,10,10,10,10,10,10,{"$f":"SUM(Q462:Y462)","v":90},{"$f":"P462+Z462","v":180}]
[null,null,null,null,null,"Net Stableford",{"$f":"IF(G462-G459=-1,3+G461)+IF(G462-G459=0,2+G461)+IF(G462-G459=1,1+G461)+IF(G462-G459=2,G461)+IF(G462-G459=3,IF(G461-1>0,G461-1,0))+IF(G462-G459=4,IF(G461-2>0,G461-2,0))","v":0},{"$f":"IF(H462-H459=-1,3+H461)+IF(H462-H459=0,2+H461)+IF(H462-H459=1,1+H461)+IF(H462-H459=2,H461)+IF(H462-H459=3,IF(H461-1>0,H461-1,0))+IF(H462-H459=4,IF(H461-2>0,H461-2,0))","v":0},0,0,0,0,0,0,0,{"$f":"SUM(G463:O463)","v":0},{"$f":"IF(Q462-Q459=-1,3+Q461)+IF(Q462-Q459=0,2+Q461)+IF(Q462-Q459=1,1+Q461)+IF(Q462-Q459=2,Q461)+IF(Q462-Q459=3,IF(Q461-1>0,Q461-1,0))+IF(Q462-Q459=4,IF(Q461-2>0,Q461-2,0))","v":0},0,0,0,0,0,0,0,0,{"$f":"SUM(Q463:Y463)","v":0},{"$f":"P463+Z463","v":0}]
[null,null,null,null,null,"Score Brut",{"$f":"IF(G462-G459=-2,4)+IF(G462-G459=-1,3)+IF(G462-G459=0,2)+IF(G462-G459=1,1)+IF(G462-G459>2,0)","v":0},0,0,0,0,0,0,0,0,{"$f":"SUM(G464:O464)","v":0},{"$f":"IF(Q462-Q459=-2,4)+IF(Q462-Q459=-1,3)+IF(Q462-Q459=0,2)+IF(Q462-Q459=1,1)+IF(Q462-Q459>2,0)","v":0},0,0,0,0,0,0,0,0,{"$f":"SUM(Q464:Y464)","v":0},{"$f":"P464+Z464","v":0}]
[null,null,null,null,null,null,{"$f":"G462-G459","v":6},{"$f":"H462-H459","v":6},5,6,7,5,7,5,7,null,{"$f":"Q462-Q459","v":6},6,7,5,7,6,6,5,6]
[]
[]
[null,null,null,null,null,"Statistiques scores",null,"Eagle & moins",null,null,null,{"$f":"COUNTIF(G465:Y465,\"<=-2\")","v":0},"Par",null,{"$f":"COUNTIF(G465:Y465,\"=0\")","v":0},"Double bogey",null,null,null,null,{"$f":"COUNTIF(G465:Y465,\"=2\")","v":0}]
[null,null,null,null,null,null,null,"Birdie",null,null,null,{"$f":"COUNTIF(G465:Y465,\"=-1\")","v":0},"Bogey",null,{"$f":"COUNTIF(G465:Y465,\"=1\")","v":0},"Triple bogey & plus",null,null,null,null,{"$f":"COUNTIF(G465:Y465,\">=3\")","v":18}]
[null,null,null,null,null,null,null,{"$f":"M468","v":"Par"},null,null,null,{"$f":"O468","v":0}]
[null,null,null,null,null,null,null,{"$f":"M469","v":"Bogey"},null,null,null,{"$f":"O469","v":0}]
[null,null,null,null,null,null,null,{"$f":"P468","v":"Double bogey"},null,null,null,{"$f":"U468","v":0}]
[null,null,null,null,null,null,null,{"$f":"P469","v":"Triple bogey & plus"},null,null,null,{"$f":"U469","v":18}]
[]
[]
[]
[]
[null,null,null,null,null,"Nom",{"$f":"C26","v":0},null,null,null,null,"Slope",null,null,"SSS",null,"Coups reçus",null,null,null,null,null,null,null,null,"Date",{"$f":"$D$3","v":"00:00:00"}]
[null,null,null,null,null,"Index",{"$f":"E26","v":20},null,null,null,null,{"$f":"$F$3","v":133},null,null,{"$f":"$G$3","v":68.599999999999994},null,{"$f":"ROUND((G479*(L479/113)+(O479-AA482)),0)","v":20}]
[]
[null,null,null,null,null,"Trou",1,2,3,4,5,6,7,8,9,"Aller",10,11,12,13,14,15,16,17,18,"Retour","Total"]
[null,null,null,null,null,"PAR",{"$f":"G$7","v":4},{"$f":"H$7","v":4},5,4,3,5,3,5,3,{"$f":"SUM(G482:O482)","v":36},{"$f":"Q$7","v":4},4,3,5,3,4,4,5,4,{"$f":"SUM(Q482:Y482)","v":36},{"$f":"SUM(P482+Z482)","v":72}]
[null,null,null,null,null,"HCP trous",{"$f":"G$8","v":4},{"$f":"H$8","v":8},12,14,2,10,18,16,6,null,{"$f":"Q$8","v":1},9,11,5,17,15,3,13,7]
[null,null,null,null,null,"Coups reçus",{"$f":"IF($Q479<=18,IF(G483<=$Q479,1,0),IF($Q479<=36,IF(G483<=($Q479-18),2,1),IF($Q479>36,IF(G483<=($Q479-36),3,2))))","v":1},{"$f":"IF($Q479<=18,IF(H483<=$Q479,1,0),IF($Q479<=36,IF(H483<=($Q479-18),2,1),IF($Q479>36,IF(H483<=($Q479-36),3,2))))","v":1},1,1,2,1,1,1,1,{"$f":"SUM(G484:O484)","v":10},{"$f":"IF($Q479<=18,IF(Q483<=$Q479,1,0),IF($Q479<=36,IF(Q483<=($Q479-18),2,1),IF($Q479>36,IF(Q483<=($Q479-36),3,2))))","v":2},1,1,1,1,1,1,1,1,{"$f":"SUM(Q484:Y484)","v":10},{"$f":"P484+Z484","v":20}]
[null,null,null,null,null,"Stroke play",{"$f":"G26","v":10},10,10,10,10,10,10,10,10,{"$f":"SUM(G485:O485)","v":90},{"$f":"Q26","v":10},10,10,10,10,10,10,10,10,{"$f":"SUM(Q485:Y485)","v":90},{"$f":"P485+Z485","v":180}]
[null,null,null,null,null,"Net Stableford",{"$f":"IF(G485-G482=-1,3+G484)+IF(G485-G482=0,2+G484)+IF(G485-G482=1,1+G484)+IF(G485-G482=2,G484)+IF(G485-G482=3,IF(G484-1>0,G484-1,0))+IF(G485-G482=4,IF(G484-2>0,G484-2,0))","v":0},{"$f":"IF(H485-H482=-1,3+H484)+IF(H485-H482=0,2+H484)+IF(H485-H482=1,1+H484)+IF(H485-H482=2,H484)+IF(H485-H482=3,IF(H484-1>0,H484-1,0))+IF(H485-H482=4,IF(H484-2>0,H484-2,0))","v":0},0,0,0,0,0,0,0,{"$f":"SUM(G486:O486)","v":0},{"$f":"IF(Q485-Q482=-1,3+Q484)+IF(Q485-Q482=0,2+Q484)+IF(Q485-Q482=1,1+Q484)+IF(Q485-Q482=2,Q484)+IF(Q485-Q482=3,IF(Q484-1>0,Q484-1,0))+IF(Q485-Q482=4,IF(Q484-2>0,Q484-2,0))","v":0},0,0,0,0,0,0,0,0,{"$f":"SUM(Q486:Y486)","v":0},{"$f":"P486+Z486","v":0}]
[null,null,null,null,null,"Score Brut",{"$f":"IF(G485-G482=-2,4)+IF(G485-G482=-1,3)+IF(G485-G482=0,2)+IF(G485-G482=1,1)+IF(G485-G482>2,0)","v":0},0,0,0,0,0,0,0,0,{"$f":"SUM(G487:O487)","v":0},{"$f":"IF(Q485-Q482=-2,4)+IF(Q485-Q482=-1,3)+IF(Q485-Q482=0,2)+IF(Q485-Q482=1,1)+IF(Q485-Q482>2,0)","v":0},0,0,0,0,0,0,0,0,{"$f":"SUM(Q487:Y487)","v":0},{"$f":"P487+Z487","v":0}]
[null,null,null,null,null,null,{"$f":"G485-G482","v":6},{"$f":"H485-H482","v":6},5,6,7,5,7,5,7,null,{"$f":"Q485-Q482","v":6},6,7,5,7,6,6,5,6]
[]
[]
[null,null,null,null,null,"Statistiques scores",null,"Eagle & moins",null,null,null,{"$f":"COUNTIF(G488:Y488,\"<=-2\")","v":0},"Par",null,{"$f":"COUNTIF(G488:Y488,\"=0\")","v":0},"Double bogey",null,null,null,null,{"$f":"COUNTIF(G488:Y488,\"=2\")","v":0}]
[null,null,null,null,null,null,null,"Birdie",null,null,null,{"$f":"COUNTIF(G488:Y488,\"=-1\")","v":0},"Bogey",null,{"$f":"COUNTIF(G488:Y488,\"=1\")","v":0},"Triple bogey & plus",null,null,null,null,{"$f":"COUNTIF(G488:Y488,\">=3\")","v":18}]
[null,null,null,null,null,null,null,{"$f":"M491","v":"Par"},null,null,null,{"$f":"O491","v":0}]
[null,null,null,null,null,null,null,{"$f":"M492","v":"Bogey"},null,null,null,{"$f":"O492","v":0}]
[null,null,null,null,null,null,null,{"$f":"P491","v":"Double bogey"},null,null,null,{"$f":"U491","v":0}]
[null,null,null,null,null,null,null,{"$f":"P492","v":"Triple bogey & plus"},null,null,null,{"$f":"U492","v":18}]
[]
[]
[]
[]
[null,null,null,null,null,"Nom",{"$f":"C27","v":0},null,null,null,null,"Slope",null,null,"SSS",null,"Coups reçus",null,null,null,null,null,null,null,null,"Date",{"$f":"$D$3","v":"00:00:00"}]
[null,null,null,null,null,"Index",{"$f":"E27","v":20},null,null,null,null,{"$f":"$F$3","v":133},null,null,{"$f":"$G$3","v":68.599999999999994},null,{"$f":"ROUND((G502*(L502/113)+(O502-AA505)),0)","v":20}]
[]
[null,null,null,null,null,"Trou",1,2,3,4,5,6,7,8,9,"Aller",10,11,12,13,14,15,16,17,18,"Retour","Total"]
[null,null,null,null,null,"PAR",{"$f":"G$7","v":4},{"$f":"H$7","v":4},5,4,3,5,3,5,3,{"$f":"SUM(G505:O505)","v":36},{"$f":"Q$7","v":4},4,3,5,3,4,4,5,4,{"$f":"SUM(Q505:Y505)","v":36},{"$f":"SUM(P505+Z505)","v":72}]
[null,null,null,null,null,"HCP trous",{"$f":"G$8","v":4},{"$f":"H$8","v":8},12,14,2,10,18,16,6,null,{"$f":"Q$8","v":1},9,11,5,17,15,3,13,7]
[null,null,null,null,null,"Coups reçus",{"$f":"IF($Q502<=18,IF(G506<=$Q502,1,0),IF($Q502<=36,IF(G506<=($Q502-18),2,1),IF($Q502>36,IF(G506<=($Q502-36),3,2))))","v":1},{"$f":"IF($Q502<=18,IF(H506<=$Q502,1,0),IF($Q502<=36,IF(H506<=($Q502-18),2,1),IF($Q502>36,IF(H506<=($Q502-36),3,2))))","v":1},1,1,2,1,1,1,1,{"$f":"SUM(G507:O507)","v":10},{"$f":"IF($Q502<=18,IF(Q506<=$Q502,1,0),IF($Q502<=36,IF(Q506<=($Q502-18),2,1),IF($Q502>36,IF(Q506<=($Q502-36),3,2))))","v":2},1,1,1,1,1,1,1,1,{"$f":"SUM(Q507:Y507)","v":10},{"$f":"P507+Z507","v":20}]
[null,null,null,null,null,"Stroke play",{"$f":"G27","v":10},10,10,10,10,10,10,10,10,{"$f":"SUM(G508:O508)","v":90},{"$f":"Q27","v":10},10,10,10,10,10,10,10,10,{"$f":"SUM(Q508:Y508)","v":90},{"$f":"P508+Z508","v":180}]
[null,null,null,null,null,"Net Stableford",{"$f":"IF(G508-G505=-1,3+G507)+IF(G508-G505=0,2+G507)+IF(G508-G505=1,1+G507)+IF(G508-G505=2,G507)+IF(G508-G505=3,IF(G507-1>0,G507-1,0))+IF(G508-G505=4,IF(G507-2>0,G507-2,0))","v":0},{"$f":"IF(H508-H505=-1,3+H507)+IF(H508-H505=0,2+H507)+IF(H508-H505=1,1+H507)+IF(H508-H505=2,H507)+IF(H508-H505=3,IF(H507-1>0,H507-1,0))+IF(H508-H505=4,IF(H507-2>0,H507-2,0))","v":0},0,0,0,0,0,0,0,{"$f":"SUM(G509:O509)","v":0},{"$f":"IF(Q508-Q505=-1,3+Q507)+IF(Q508-Q505=0,2+Q507)+IF(Q508-Q505=1,1+Q507)+IF(Q508-Q505=2,Q507)+IF(Q508-Q505=3,IF(Q507-1>0,Q507-1,0))+IF(Q508-Q505=4,IF(Q507-2>0,Q507-2,0))","v":0},0,0,0,0,0,0,0,0,{"$f":"SUM(Q509:Y509)","v":0},{"$f":"P509+Z509","v":0}]
[null,null,null,null,null,"Score Brut",{"$f":"IF(G508-G505=-2,4)+IF(G508-G505=-1,3)+IF(G508-G505=0,2)+IF(G508-G505=1,1)+IF(G508-G505>2,0)","v":0},0,0,0,0,0,0,0,0,{"$f":"SUM(G510:O510)","v":0},{"$f":"IF(Q508-Q505=-2,4)+IF(Q508-Q505=-1,3)+IF(Q508-Q505=0,2)+IF(Q508-Q505=1,1)+IF(Q508-Q505>2,0)","v":0},0,0,0,0,0,0,0,0,{"$f":"SUM(Q510:Y510)","v":0},{"$f":"P510+Z510","v":0}]
[null,null,null,null,null,null,{"$f":"G508-G505","v":6},{"$f":"H508-H505","v":6},5,6,7,5,7,5,7,null,{"$f":"Q508-Q505","v":6},6,7,5,7,6,6,5,6]
[]
[]
[null,null,null,null,null,"Statistiques scores",null,"Eagle & moins",null,null,null,{"$f":"COUNTIF(G511:Y511,\"<=-2\")","v":0},"Par",null,{"$f":"COUNTIF(G511:Y511,\"=0\")","v":0},"Double bogey",null,null,null,null,{"$f":"COUNTIF(G511:Y511,\"=2\")","v":0}]
[null,null,null,null,null,null,null,"Birdie",null,null,null,{"$f":"COUNTIF(G511:Y511,\"=-1\")","v":0},"Bogey",null,{"$f":"COUNTIF(G511:Y511,\"=1\")","v":0},"Triple bogey & plus",null,null,null,null,{"$f":"COUNTIF(G511:Y511,\">=3\")","v":18}]
[null,null,null,null,null,null,null,{"$f":"M514","v":"Par"},null,null,null,{"$f":"O514","v":0}]
[null,null,null,null,null,null,null,{"$f":"M515","v":"Bogey"},null,null,null,{"$f":"O515","v":0}]
[null,null,null,null,null,null,null,{"$f":"P514","v":"Double bogey"},null,null,null,{"$f":"U514","v":0}]
[null,null,null,null,null,null,null,{"$f":"P515","v":"Triple bogey & plus"},null,null,null,{"$f":"U515","v":18}]
[]
[]
[]
[]
[null,null,null,null,null,"Nom",{"$f":"C28","v":0},null,null,null,null,"Slope",null,null,"SSS",null,"Coups reçus",null,null,null,null,null,null,null,null,"Date",{"$f":"$D$3","v":"00:00:00"}]
[null,null,null,null,null,"Index",{"$f":"E28","v":20},null,null,null,null,{"$f":"$F$3","v":133},null,null,{"$f":"$G$3","v":68.599999999999994},null,{"$f":"ROUND((G525*(L525/113)+(O525-AA528)),0)","v":20}]
[]
[null,null,null,null,null,"Trou",1,2,3,4,5,6,7,8,9,"Aller",10,11,12,13,14,15,16,17,18,"Retour","Total"]
[null,null,null,null,null,"PAR",{"$f":"G$7","v":4},{"$f":"H$7","v":4},5,4,3,5,3,5,3,{"$f":"SUM(G528:O528)","v":36},{"$f":"Q$7","v":4},4,3,5,3,4,4,5,4,{"$f":"SUM(Q528:Y528)","v":36},{"$f":"SUM(P528+Z528)","v":72}]
[null,null,null,null,null,"HCP trous",{"$f":"G$8","v":4},{"$f":"H$8","v":8},12,14,2,10,18,16,6,null,{"$f":"Q$8","v":1},9,11,5,17,15,3,13,7]
[null,null,null,null,null,"Coups reçus",{"$f":"IF($Q525<=18,IF(G529<=$Q525,1,0),IF($Q525<=36,IF(G529<=($Q525-18),2,1),IF($Q525>36,IF(G529<=($Q525-36),3,2))))","v":1},{"$f":"IF($Q525<=18,IF(H529<=$Q525,1,0),IF($Q525<=36,IF(H529<=($Q525-18),2,1),IF($Q525>36,IF(H529<=($Q525-36),3,2))))","v":1},1,1,2,1,1,1,1,{"$f":"SUM(G530:O530)","v":10},{"$f":"IF($Q525<=18,IF(Q529<=$Q525,1,0),IF($Q525<=36,IF(Q529<=($Q525-18),2,1),IF($Q525>36,IF(Q529<=($Q525-36),3,2))))","v":2},1,1,1,1,1,1,1,1,{"$f":"SUM(Q530:Y530)","v":10},{"$f":"P530+Z530","v":20}]
[null,null,null,null,null,"Stroke play",{"$f":"G28","v":10},10,10,10,10,10,10,10,10,{"$f":"SUM(G531:O531)","v":90},{"$f":"Q28","v":10},10,10,10,10,10,10,10,10,{"$f":"SUM(Q531:Y531)","v":90},{"$f":"P531+Z531","v":180}]
[null,null,null,null,null,"Net Stableford",{"$f":"IF(G531-G528=-1,3+G530)+IF(G531-G528=0,2+G530)+IF(G531-G528=1,1+G530)+IF(G531-G528=2,G530)+IF(G531-G528=3,IF(G530-1>0,G530-1,0))+IF(G531-G528=4,IF(G530-2>0,G530-2,0))","v":0},{"$f":"IF(H531-H528=-1,3+H530)+IF(H531-H528=0,2+H530)+IF(H531-H528=1,1+H530)+IF(H531-H528=2,H530)+IF(H531-H528=3,IF(H530-1>0,H530-1,0))+IF(H531-H528=4,IF(H530-2>0,H530-2,0))","v":0},0,0,0,0,0,0,0,{"$f":"SUM(G532:O532)","v":0},{"$f":"IF(Q531-Q528=-1,3+Q530)+IF(Q531-Q528=0,2+Q530)+IF(Q531-Q528=1,1+Q530)+IF(Q531-Q528=2,Q530)+IF(Q531-Q528=3,IF(Q530-1>0,Q530-1,0))+IF(Q531-Q528=4,IF(Q530-2>0,Q530-2,0))","v":0},0,0,0,0,0,0,0,0,{"$f":"SUM(Q532:Y532)","v":0},{"$f":"P532+Z532","v":0}]
[null,null,null,null,null,"Score Brut",{"$f":"IF(G531-G528=-2,4)+IF(G531-G528=-1,3)+IF(G531-G528=0,2)+IF(G531-G528=1,1)+IF(G531-G528>2,0)","v":0},0,0,0,0,0,0,0,0,{"$f":"SUM(G533:O533)","v":0},{"$f":"IF(Q531-Q528=-2,4)+IF(Q531-Q528=-1,3)+IF(Q531-Q528=0,2)+IF(Q531-Q528=1,1)+IF(Q531-Q528>2,0)","v":0},0,0,0,0,0,0,0,0,{"$f":"SUM(Q533:Y533)","v":0},{"$f":"P533+Z533","v":0}]
[null,null,null,null,null,null,{"$f":"G531-G528","v":6},{"$f":"H531-H528","v":6},5,6,7,5,7,5,7,null,{"$f":"Q531-Q528","v":6},6,7,5,7,6,6,5,6]
[]
[]
[null,null,null,null,null,"Statistiques scores",null,"Eagle & moins",null,null,null,{"$f":"COUNTIF(G534:Y534,\"<=-2\")","v":0},"Par",null,{"$f":"COUNTIF(G534:Y534,\"=0\")","v":0},"Double bogey",null,null,null,null,{"$f":"COUNTIF(G534:Y534,\"=2\")","v":0}]
[null,null,null,null,null,null,null,"Birdie",null,null,null,{"$f":"COUNTIF(G534:Y534,\"=-1\")","v":0},"Bogey",null,{"$f":"COUNTIF(G534:Y534,\"=1\")","v":0},"Triple bogey & plus",null,null,null,null,{"$f":"COUNTIF(G534:Y534,\">=3\")","v":18}]
[null,null,null,null,null,null,null,{"$f":"M537","v":"Par"},null,null,null,{"$f":"O537","v":0}]
[null,null,null,null,null,null,null,{"$f":"M538","v":"Bogey"},null,null,null,{"$f":"O538","v":0}]
[null,null,null,null,null,null,null,{"$f":"P537","v":"Double bogey"},null,null,null,{"$f":"U537","v":0}]
[null,null,null,null,null,null,null,{"$f":"P538","v":"Triple bogey & plus"},null,null,null,{"$f":"U538","v":18}]
[]
[]
[]
[]
[null,null,null,null,null,"Nom",{"$f":"C29","v":0},null,null,null,null,"Slope",null,null,"SSS",null,"Coups reçus",null,null,null,null,null,null,null,null,"Date",{"$f":"$D$3","v":"00:00:00"}]
[null,null,null,null,null,"Index",{"$f":"E29","v":20},null,null,null,null,{"$f":"$F$3","v":133},null,null,{"$f":"$G$3","v":68.599999999999994},null,{"$f":"ROUND((G548*(L548/113)+(O548-AA551)),0)","v":20}]
[]
[null,null,null,null,null,"Trou",1,2,3,4,5,6,7,8,9,"Aller",10,11,12,13,14,15,16,17,18,"Retour","Total"]
[null,null,null,null,null,"PAR",{"$f":"G$7","v":4},{"$f":"H$7","v":4},5,4,3,5,3,5,3,{"$f":"SUM(G551:O551)","v":36},{"$f":"Q$7","v":4},4,3,5,3,4,4,5,4,{"$f":"SUM(Q551:Y551)","v":36},{"$f":"SUM(P551+Z551)","v":72}]
[null,null,null,null,null,"HCP trous",{"$f":"G$8","v":4},{"$f":"H$8","v":8},12,14,2,10,18,16,6,null,{"$f":"Q$8","v":1},9,11,5,17,15,3,13,7]
[null,null,null,null,null,"Coups reçus",{"$f":"IF($Q548<=18,IF(G552<=$Q548,1,0),IF($Q548<=36,IF(G552<=($Q548-18),2,1),IF($Q548>36,IF(G552<=($Q548-36),3,2))))","v":1},{"$f":"IF($Q548<=18,IF(H552<=$Q548,1,0),IF($Q548<=36,IF(H552<=($Q548-18),2,1),IF($Q548>36,IF(H552<=($Q548-36),3,2))))","v":1},1,1,2,1,1,1,1,{"$f":"SUM(G553:O553)","v":10},{"$f":"IF($Q548<=18,IF(Q552<=$Q548,1,0),IF($Q548<=36,IF(Q552<=($Q548-18),2,1),IF($Q548>36,IF(Q552<=($Q548-36),3,2))))","v":2},1,1,1,1,1,1,1,1,{"$f":"SUM(Q553:Y553)","v":10},{"$f":"P553+Z553","v":20}]
[null,null,null,null,null,"Stroke play",{"$f":"G29","v":10},10,10,10,10,10,10,10,10,{"$f":"SUM(G554:O554)","v":90},{"$f":"Q29","v":10},10,10,10,10,10,10,10,10,{"$f":"SUM(Q554:Y554)","v":90},{"$f":"P554+Z554","v":180}]
[null,null,null,null,null,"Net Stableford",{"$f":"IF(G554-G551=-1,3+G553)+IF(G554-G551=0,2+G553)+IF(G554-G551=1,1+G553)+IF(G554-G551=2,G553)+IF(G554-G551=3,IF(G553-1>0,G553-1,0))+IF(G554-G551=4,IF(G553-2>0,G553-2,0))","v":0},{"$f":"IF(H554-H551=-1,3+H553)+IF(H554-H551=0,2+H553)+IF(H554-H551=1,1+H553)+IF(H554-H551=2,H553)+IF(H554-H551=3,IF(H553-1>0,H553-1,0))+IF(H554-H551=4,IF(H553-2>0,H553-2,0))","v":0},0,0,0,0,0,0,0,{"$f":"SUM(G555:O555)","v":0},{"$f":"IF(Q554-Q551=-1,3+Q553)+IF(Q554-Q551=0,2+Q553)+IF(Q554-Q551=1,1+Q553)+IF(Q554-Q551=2,Q553)+IF(Q554-Q551=3,IF(Q553-1>0,Q553-1,0))+IF(Q554-Q551=4,IF(Q553-2>0,Q553-2,0))","v":0},0,0,0,0,0,0,0,0,{"$f":"SUM(Q555:Y555)","v":0},{"$f":"P555+Z555","v":0}]
[null,null,null,null,null,"Score Brut",{"$f":"IF(G554-G551=-2,4)+IF(G554-G551=-1,3)+IF(G554-G551=0,2)+IF(G554-G551=1,1)+IF(G554-G551>2,0)","v":0},0,0,0,0,0,0,0,0,{"$f":"SUM(G556:O556)","v":0},{"$f":"IF(Q554-Q551=-2,4)+IF(Q554-Q551=-1,3)+IF(Q554-Q551=0,2)+IF(Q554-Q551=1,1)+IF(Q554-Q551>2,0)","v":0},0,0,0,0,0,0,0,0,{"$f":"SUM(Q556:Y556)","v":0},{"$f":"P556+Z556","v":0}]
[null,null,null,null,null,null,{"$f":"G554-G551","v":6},{"$f":"H554-H551","v":6},5,6,7,5,7,5,7,null,{"$f":"Q554-Q551","v":6},6,7,5,7,6,6,5,6]
[]
[]
[null,null,null,null,null,"Statistiques scores",null,"Eagle & moins",null,null,null,{"$f":"COUNTIF(G557:Y557,\"<=-2\")","v":0},"Par",null,{"$f":"COUNTIF(G557:Y557,\"=0\")","v":0},"Double bogey",null,null,null,null,{"$f":"COUNTIF(G557:Y557,\"=2\")","v":0}]
[null,null,null,null,null,null,null,"Birdie",null,null,null,{"$f":"COUNTIF(G557:Y557,\"=-1\")","v":0},"Bogey",null,{"$f":"COUNTIF(G557:Y557,\"=1\")","v":0},"Triple bogey & plus",null,null,null,null,{"$f":"COUNTIF(G557:Y557,\">=3\")","v":18}]
[null,null,null,null,null,null,null,{"$f":"M560","v":"Par"},null,null,null,{"$f":"O560","v":0}]
[null,null,null,null,null,null,null,{"$f":"M561","v":"Bogey"},null,null,null,{"$f":"O561","v":0}]
[null,null,null,null,null,null,null,{"$f":"P560","v":"Double bogey"},null,null,null,{"$f":"U560","v":0}]
[null,null,null,null,null,null,null,{"$f":"P561","v":"Triple bogey & plus"},null,null,null,{"$f":"U561","v":18}]
[]
[]
[]
[]
[null,null,null,null,null,"Nom",{"$f":"C30","v":0},null,null,null,null,"Slope",null,null,"SSS",null,"Coups reçus",null,null,null,null,null,null,null,null,"Date",{"$f":"$D$3","v":"00:00:00"}]
[null,null,null,null,null,"Index",{"$f":"E30","v":20},null,null,null,null,{"$f":"$F$3","v":133},null,null,{"$f":"$G$3","v":68.599999999999994},null,{"$f":"ROUND((G571*(L571/113)+(O571-AA574)),0)","v":20}]
[]
[null,null,null,null,null,"Trou",1,2,3,4,5,6,7,8,9,"Aller",10,11,12,13,14,15,16,17,18,"Retour","Total"]
[null,null,null,null,null,"PAR",{"$f":"G$7","v":4},{"$f":"H$7","v":4},5,4,3,5,3,5,3,{"$f":"SUM(G574:O574)","v":36},{"$f":"Q$7","v":4},4,3,5,3,4,4,5,4,{"$f":"SUM(Q574:Y574)","v":36},{"$f":"SUM(P574+Z574)","v":72}]
[null,null,null,null,null,"HCP trous",{"$f":"G$8","v":4},{"$f":"H$8","v":8},12,14,2,10,18,16,6,null,{"$f":"Q$8","v":1},9,11,5,17,15,3,13,7]
[null,null,null,null,null,"Coups reçus",{"$f":"IF($Q571<=18,IF(G575<=$Q571,1,0),IF($Q571<=36,IF(G575<=($Q571-18),2,1),IF($Q571>36,IF(G575<=($Q571-36),3,2))))","v":1},{"$f":"IF($Q571<=18,IF(H575<=$Q571,1,0),IF($Q571<=36,IF(H575<=($Q571-18),2,1),IF($Q571>36,IF(H575<=($Q571-36),3,2))))","v":1},1,1,2,1,1,1,1,{"$f":"SUM(G576:O576)","v":10},{"$f":"IF($Q571<=18,IF(Q575<=$Q571,1,0),IF($Q571<=36,IF(Q575<=($Q571-18),2,1),IF($Q571>36,IF(Q575<=($Q571-36),3,2))))","v":2},1,1,1,1,1,1,1,1,{"$f":"SUM(Q576:Y576)","v":10},{"$f":"P576+Z576","v":20}]
[null,null,null,null,null,"Stroke play",{"$f":"G30","v":10},10,10,10,10,10,10,10,10,{"$f":"SUM(G577:O577)","v":90},{"$f":"Q30","v":10},10,10,10,10,10,10,10,10,{"$f":"SUM(Q577:Y577)","v":90},{"$f":"P577+Z577","v":180}]
[null,null,null,null,null,"Net Stableford",{"$f":"IF(G577-G574=-1,3+G576)+IF(G577-G574=0,2+G576)+IF(G577-G574=1,1+G576)+IF(G577-G574=2,G576)+IF(G577-G574=3,IF(G576-1>0,G576-1,0))+IF(G577-G574=4,IF(G576-2>0,G576-2,0))","v":0},{"$f":"IF(H577-H574=-1,3+H576)+IF(H577-H574=0,2+H576)+IF(H577-H574=1,1+H576)+IF(H577-H574=2,H576)+IF(H577-H574=3,IF(H576-1>0,H576-1,0))+IF(H577-H574=4,IF(H576-2>0,H576-2,0))","v":0},0,0,0,0,0,0,0,{"$f":"SUM(G578:O578)","v":0},{"$f":"IF(Q577-Q574=-1,3+Q576)+IF(Q577-Q574=0,2+Q576)+IF(Q577-Q574=1,1+Q576)+IF(Q577-Q574=2,Q576)+IF(Q577-Q574=3,IF(Q576-1>0,Q576-1,0))+IF(Q577-Q574=4,IF(Q576-2>0,Q576-2,0))","v":0},0,0,0,0,0,0,0,0,{"$f":"SUM(Q578:Y578)","v":0},{"$f":"P578+Z578","v":0}]
[null,null,null,null,null,"Score Brut",{"$f":"IF(G577-G574=-2,4)+IF(G577-G574=-1,3)+IF(G577-G574=0,2)+IF(G577-G574=1,1)+IF(G577-G574>2,0)","v":0},0,0,0,0,0,0,0,0,{"$f":"SUM(G579:O579)","v":0},{"$f":"IF(Q577-Q574=-2,4)+IF(Q577-Q574=-1,3)+IF(Q577-Q574=0,2)+IF(Q577-Q574=1,1)+IF(Q577-Q574>2,0)","v":0},0,0,0,0,0,0,0,0,{"$f":"SUM(Q579:Y579)","v":0},{"$f":"P579+Z579","v":0}]
[null,null,null,null,null,null,{"$f":"G577-G574","v":6},{"$f":"H577-H574","v":6},5,6,7,5,7,5,7,null,{"$f":"Q577-Q574","v":6},6,7,5,7,6,6,5,6]
[]
[]
[null,null,null,null,null,"Statistiques scores",null,"Eagle & moins",null,null,null,{"$f":"COUNTIF(G580:Y580,\"<=-2\")","v":0},"Par",null,{"$f":"COUNTIF(G580:Y580,\"=0\")","v":0},"Double bogey",null,null,null,null,{"$f":"COUNTIF(G580:Y580,\"=2\")","v":0}]
[null,null,null,null,null,null,null,"Birdie",null,null,null,{"$f":"COUNTIF(G580:Y580,\"=-1\")","v":0},"Bogey",null,{"$f":"COUNTIF(G580:Y580,\"=1\")","v":0},"Triple bogey & plus",null,null,null,null,{"$f":"COUNTIF(G580:Y580,\">=3\")","v":18}]
[null,null,null,null,null,null,null,{"$f":"M583","v":"Par"},null,null,null,{"$f":"O583","v":0}]
[null,null,null,null,null,null,null,{"$f":"M584","v":"Bogey"},null,null,null,{"$f":"O584","v":0}]
[null,null,null,null,null,null,null,{"$f":"P583","v":"Double bogey"},null,null,null,{"$f":"U583","v":0}]
[null,null,null,null,null,null,null,{"$f":"P584","v":"Triple bogey & plus"},null,null,null,{"$f":"U584","v":18}]
[]
[]
[]
[]
[null,null,null,null,null,"Nom",{"$f":"C31","v":0},null,null,null,null,"Slope",null,null,"SSS",null,"Coups reçus",null,null,null,null,null,null,null,null,"Date",{"$f":"$D$3","v":"00:00:00"}]
[null,null,null,null,null,"Index",{"$f":"E31","v":20},null,null,null,null,{"$f":"$F$3","v":133},null,null,{"$f":"$G$3","v":68.599999999999994},null,{"$f":"ROUND((G594*(L594/113)+(O594-AA597)),0)","v":20}]
[]
[null,null,null,null,null,"Trou",1,2,3,4,5,6,7,8,9,"Aller",10,11,12,13,14,15,16,17,18,"Retour","Total"]
[null,null,null,null,null,"PAR",{"$f":"G$7","v":4},{"$f":"H$7","v":4},5,4,3,5,3,5,3,{"$f":"SUM(G597:O597)","v":36},{"$f":"Q$7","v":4},4,3,5,3,4,4,5,4,{"$f":"SUM(Q597:Y597)","v":36},{"$f":"SUM(P597+Z597)","v":72}]
[null,null,null,null,null,"HCP trous",{"$f":"G$8","v":4},{"$f":"H$8","v":8},12,14,2,10,18,16,6,null,{"$f":"Q$8","v":1},9,11,5,17,15,3,13,7]
[null,null,null,null,null,"Coups reçus",{"$f":"IF($Q594<=18,IF(G598<=$Q594,1,0),IF($Q594<=36,IF(G598<=($Q594-18),2,1),IF($Q594>36,IF(G598<=($Q594-36),3,2))))","v":1},{"$f":"IF($Q594<=18,IF(H598<=$Q594,1,0),IF($Q594<=36,IF(H598<=($Q594-18),2,1),IF($Q594>36,IF(H598<=($Q594-36),3,2))))","v":1},1,1,2,1,1,1,1,{"$f":"SUM(G599:O599)","v":10},{"$f":"IF($Q594<=18,IF(Q598<=$Q594,1,0),IF($Q594<=36,IF(Q598<=($Q594-18),2,1),IF($Q594>36,IF(Q598<=($Q594-36),3,2))))","v":2},1,1,1,1,1,1,1,1,{"$f":"SUM(Q599:Y599)","v":10},{"$f":"P599+Z599","v":20}]
[null,null,null,null,null,"Stroke play",{"$f":"G31","v":10},10,10,10,10,10,10,10,10,{"$f":"SUM(G600:O600)","v":90},{"$f":"Q31","v":10},10,10,10,10,10,10,10,10,{"$f":"SUM(Q600:Y600)","v":90},{"$f":"P600+Z600","v":180}]
[null,null,null,null,null,"Net Stableford",{"$f":"IF(G600-G597=-1,3+G599)+IF(G600-G597=0,2+G599)+IF(G600-G597=1,1+G599)+IF(G600-G597=2,G599)+IF(G600-G597=3,IF(G599-1>0,G599-1,0))+IF(G600-G597=4,IF(G599-2>0,G599-2,0))","v":0},{"$f":"IF(H600-H597=-1,3+H599)+IF(H600-H597=0,2+H599)+IF(H600-H597=1,1+H599)+IF(H600-H597=2,H599)+IF(H600-H597=3,IF(H599-1>0,H599-1,0))+IF(H600-H597=4,IF(H599-2>0,H599-2,0))","v":0},0,0,0,0,0,0,0,{"$f":"SUM(G601:O601)","v":0},{"$f":"IF(Q600-Q597=-1,3+Q599)+IF(Q600-Q597=0,2+Q599)+IF(Q600-Q597=1,1+Q599)+IF(Q600-Q597=2,Q599)+IF(Q600-Q597=3,IF(Q599-1>0,Q599-1,0))+IF(Q600-Q597=4,IF(Q599-2>0,Q599-2,0))","v":0},0,0,0,0,0,0,0,0,{"$f":"SUM(Q601:Y601)","v":0},{"$f":"P601+Z601","v":0}]
[null,null,null,null,null,"Score Brut",{"$f":"IF(G600-G597=-2,4)+IF(G600-G597=-1,3)+IF(G600-G597=0,2)+IF(G600-G597=1,1)+IF(G600-G597>2,0)","v":0},0,0,0,0,0,0,0,0,{"$f":"SUM(G602:O602)","v":0},{"$f":"IF(Q600-Q597=-2,4)+IF(Q600-Q597=-1,3)+IF(Q600-Q597=0,2)+IF(Q600-Q597=1,1)+IF(Q600-Q597>2,0)","v":0},0,0,0,0,0,0,0,0,{"$f":"SUM(Q602:Y602)","v":0},{"$f":"P602+Z602","v":0}]
[null,null,null,null,null,null,{"$f":"G600-G597","v":6},{"$f":"H600-H597","v":6},5,6,7,5,7,5,7,null,{"$f":"Q600-Q597","v":6},6,7,5,7,6,6,5,6]
[]
[]
[null,null,null,null,null,"Statistiques scores",null,"Eagle & moins",null,null,null,{"$f":"COUNTIF(G603:Y603,\"<=-2\")","v":0},"Par",null,{"$f":"COUNTIF(G603:Y603,\"=0\")","v":0},"Double bogey",null,null,null,null,{"$f":"COUNTIF(G603:Y603,\"=2\")","v":0}]
[null,null,null,null,null,null,null,"Birdie",null,null,null,{"$f":"COUNTIF(G603:Y603,\"=-1\")","v":0},"Bogey",null,{"$f":"COUNTIF(G603:Y603,\"=1\")","v":0},"Triple bogey & plus",null,null,null,null,{"$f":"COUNTIF(G603:Y603,\">=3\")","v":18}]
[null,null,null,null,null,null,null,{"$f":"M606","v":"Par"},null,null,null,{"$f":"O606","v":0}]
[null,null,null,null,null,null,null,{"$f":"M607","v":"Bogey"},null,null,null,{"$f":"O607","v":0}]
[null,null,null,null,null,null,null,{"$f":"P606","v":"Double bogey"},null,null,null,{"$f":"U606","v":0}]
[null,null,null,null,null,null,null,{"$f":"P607","v":"Triple bogey & plus"},null,null,null,{"$f":"U607","v":18}]
[]
[]
[]
[]
[null,null,null,null,null,"Nom",{"$f":"C32","v":0},null,null,null,null,"Slope",null,null,"SSS",null,"Coups reçus",null,null,null,null,null,null,null,null,"Date",{"$f":"$D$3","v":"00:00:00"}]
[null,null,null,null,null,"Index",{"$f":"E32","v":20},null,null,null,null,{"$f":"$F$3","v":133},null,null,{"$f":"$G$3","v":68.599999999999994},null,{"$f":"ROUND((G617*(L617/113)+(O617-AA620)),0)","v":20}]
[]
[null,null,null,null,null,"Trou",1,2,3,4,5,6,7,8,9,"Aller",10,11,12,13,14,15,16,17,18,"Retour","Total"]
[null,null,null,null,null,"PAR",{"$f":"G$7","v":4},{"$f":"H$7","v":4},5,4,3,5,3,5,3,{"$f":"SUM(G620:O620)","v":36},{"$f":"Q$7","v":4},4,3,5,3,4,4,5,4,{"$f":"SUM(Q620:Y620)","v":36},{"$f":"SUM(P620+Z620)","v":72}]
[null,null,null,null,null,"HCP trous",{"$f":"G$8","v":4},{"$f":"H$8","v":8},12,14,2,10,18,16,6,null,{"$f":"Q$8","v":1},9,11,5,17,15,3,13,7]
[null,null,null,null,null,"Coups reçus",{"$f":"IF($Q617<=18,IF(G621<=$Q617,1,0),IF($Q617<=36,IF(G621<=($Q617-18),2,1),IF($Q617>36,IF(G621<=($Q617-36),3,2))))","v":1},{"$f":"IF($Q617<=18,IF(H621<=$Q617,1,0),IF($Q617<=36,IF(H621<=($Q617-18),2,1),IF($Q617>36,IF(H621<=($Q617-36),3,2))))","v":1},1,1,2,1,1,1,1,{"$f":"SUM(G622:O622)","v":10},{"$f":"IF($Q617<=18,IF(Q621<=$Q617,1,0),IF($Q617<=36,IF(Q621<=($Q617-18),2,1),IF($Q617>36,IF(Q621<=($Q617-36),3,2))))","v":2},1,1,1,1,1,1,1,1,{"$f":"SUM(Q622:Y622)","v":10},{"$f":"P622+Z622","v":20}]
[null,null,null,null,null,"Stroke play",{"$f":"G32","v":10},10,10,10,10,10,10,10,10,{"$f":"SUM(G623:O623)","v":90},{"$f":"Q32","v":10},10,10,10,10,10,10,10,10,{"$f":"SUM(Q623:Y623)","v":90},{"$f":"P623+Z623","v":180}]
[null,null,null,null,null,"Net Stableford",{"$f":"IF(G623-G620=-1,3+G622)+IF(G623-G620=0,2+G622)+IF(G623-G620=1,1+G622)+IF(G623-G620=2,G622)+IF(G623-G620=3,IF(G622-1>0,G622-1,0))+IF(G623-G620=4,IF(G622-2>0,G622-2,0))","v":0},{"$f":"IF(H623-H620=-1,3+H622)+IF(H623-H620=0,2+H622)+IF(H623-H620=1,1+H622)+IF(H623-H620=2,H622)+IF(H623-H620=3,IF(H622-1>0,H622-1,0))+IF(H623-H620=4,IF(H622-2>0,H622-2,0))","v":0},0,0,0,0,0,0,0,{"$f":"SUM(G624:O624)","v":0},{"$f":"IF(Q623-Q620=-1,3+Q622)+IF(Q623-Q620=0,2+Q622)+IF(Q623-Q620=1,1+Q622)+IF(Q623-Q620=2,Q622)+IF(Q623-Q620=3,IF(Q622-1>0,Q622-1,0))+IF(Q623-Q620=4,IF(Q622-2>0,Q622-2,0))","v":0},0,0,0,0,0,0,0,0,{"$f":"SUM(Q624:Y624)","v":0},{"$f":"P624+Z624","v":0}]
[null,null,null,null,null,"Score Brut",{"$f":"IF(G623-G620=-2,4)+IF(G623-G620=-1,3)+IF(G623-G620=0,2)+IF(G623-G620=1,1)+IF(G623-G620>2,0)","v":0},0,0,0,0,0,0,0,0,{"$f":"SUM(G625:O625)","v":0},{"$f":"IF(Q623-Q620=-2,4)+IF(Q623-Q620=-1,3)+IF(Q623-Q620=0,2)+IF(Q623-Q620=1,1)+IF(Q623-Q620>2,0)","v":0},0,0,0,0,0,0,0,0,{"$f":"SUM(Q625:Y625)","v":0},{"$f":"P625+Z625","v":0}]
[null,null,null,null,null,null,{"$f":"G623-G620","v":6},{"$f":"H623-H620","v":6},5,6,7,5,7,5,7,null,{"$f":"Q623-Q620","v":6},6,7,5,7,6,6,5,6]
[]
[]
[null,null,null,null,null,"Statistiques scores",null,"Eagle & moins",null,null,null,{"$f":"COUNTIF(G626:Y626,\"<=-2\")","v":0},"Par",null,{"$f":"COUNTIF(G626:Y626,\"=0\")","v":0},"Double bogey",null,null,null,null,{"$f":"COUNTIF(G626:Y626,\"=2\")","v":0}]
[null,null,null,null,null,null,null,"Birdie",null,null,null,{"$f":"COUNTIF(G626:Y626,\"=-1\")","v":0},"Bogey",null,{"$f":"COUNTIF(G626:Y626,\"=1\")","v":0},"Triple bogey & plus",null,null,null,null,{"$f":"COUNTIF(G626:Y626,\">=3\")","v":18}]
[null,null,null,null,null,null,null,{"$f":"M629","v":"Par"},null,null,null,{"$f":"O629","v":0}]
[null,null,null,null,null,null,null,{"$f":"M630","v":"Bogey"},null,null,null,{"$f":"O630","v":0}]
[null,null,null,null,null,null,null,{"$f":"P629","v":"Double bogey"},null,null,null,{"$f":"U629","v":0}]
[null,null,null,null,null,null,null,{"$f":"P630","v":"Triple bogey & plus"},null,null,null,{"$f":"U630","v":18}]
[]
[]
[]
[]
[null,null,null,null,null,"Nom",{"$f":"C33","v":0},null,null,null,null,"Slope",null,null,"SSS",null,"Coups reçus",null,null,null,null,null,null,null,null,"Date",{"$f":"$D$3","v":"00:00:00"}]
[null,null,null,null,null,"Index",{"$f":"E33","v":20},null,null,null,null,{"$f":"$F$3","v":133},null,null,{"$f":"$G$3","v":68.599999999999994},null,{"$f":"ROUND((G640*(L640/113)+(O640-AA643)),0)","v":20}]
[]
[null,null,null,null,null,"Trou",1,2,3,4,5,6,7,8,9,"Aller",10,11,12,13,14,15,16,17,18,"Retour","Total"]
[null,null,null,null,null,"PAR",{"$f":"G$7","v":4},{"$f":"H$7","v":4},5,4,3,5,3,5,3,{"$f":"SUM(G643:O643)","v":36},{"$f":"Q$7","v":4},4,3,5,3,4,4,5,4,{"$f":"SUM(Q643:Y643)","v":36},{"$f":"SUM(P643+Z643)","v":72}]
[null,null,null,null,null,"HCP trous",{"$f":"G$8","v":4},{"$f":"H$8","v":8},12,14,2,10,18,16,6,null,{"$f":"Q$8","v":1},9,11,5,17,15,3,13,7]
[null,null,null,null,null,"Coups reçus",{"$f":"IF($Q640<=18,IF(G644<=$Q640,1,0),IF($Q640<=36,IF(G644<=($Q640-18),2,1),IF($Q640>36,IF(G644<=($Q640-36),3,2))))","v":1},{"$f":"IF($Q640<=18,IF(H644<=$Q640,1,0),IF($Q640<=36,IF(H644<=($Q640-18),2,1),IF($Q640>36,IF(H644<=($Q640-36),3,2))))","v":1},1,1,2,1,1,1,1,{"$f":"SUM(G645:O645)","v":10},{"$f":"IF($Q640<=18,IF(Q644<=$Q640,1,0),IF($Q640<=36,IF(Q644<=($Q640-18),2,1),IF($Q640>36,IF(Q644<=($Q640-36),3,2))))","v":2},1,1,1,1,1,1,1,1,{"$f":"SUM(Q645:Y645)","v":10},{"$f":"P645+Z645","v":20}]
[null,null,null,null,null,"Stroke play",{"$f":"G33","v":10},10,10,10,10,10,10,10,10,{"$f":"SUM(G646:O646)","v":90},{"$f":"Q33","v":10},10,10,10,10,10,10,10,10,{"$f":"SUM(Q646:Y646)","v":90},{"$f":"P646+Z646","v":180}]
[null,null,null,null,null,"Net Stableford",{"$f":"IF(G646-G643=-1,3+G645)+IF(G646-G643=0,2+G645)+IF(G646-G643=1,1+G645)+IF(G646-G643=2,G645)+IF(G646-G643=3,IF(G645-1>0,G645-1,0))+IF(G646-G643=4,IF(G645-2>0,G645-2,0))","v":0},{"$f":"IF(H646-H643=-1,3+H645)+IF(H646-H643=0,2+H645)+IF(H646-H643=1,1+H645)+IF(H646-H643=2,H645)+IF(H646-H643=3,IF(H645-1>0,H645-1,0))+IF(H646-H643=4,IF(H645-2>0,H645-2,0))","v":0},0,0,0,0,0,0,0,{"$f":"SUM(G647:O647)","v":0},{"$f":"IF(Q646-Q643=-1,3+Q645)+IF(Q646-Q643=0,2+Q645)+IF(Q646-Q643=1,1+Q645)+IF(Q646-Q643=2,Q645)+IF(Q646-Q643=3,IF(Q645-1>0,Q645-1,0))+IF(Q646-Q643=4,IF(Q645-2>0,Q645-2,0))","v":0},0,0,0,0,0,0,0,0,{"$f":"SUM(Q647:Y647)","v":0},{"$f":"P647+Z647","v":0}]
[null,null,null,null,null,"Score Brut",{"$f":"IF(G646-G643=-2,4)+IF(G646-G643=-1,3)+IF(G646-G643=0,2)+IF(G646-G643=1,1)+IF(G646-G643>2,0)","v":0},0,0,0,0,0,0,0,0,{"$f":"SUM(G648:O648)","v":0},{"$f":"IF(Q646-Q643=-2,4)+IF(Q646-Q643=-1,3)+IF(Q646-Q643=0,2)+IF(Q646-Q643=1,1)+IF(Q646-Q643>2,0)","v":0},0,0,0,0,0,0,0,0,{"$f":"SUM(Q648:Y648)","v":0},{"$f":"P648+Z648","v":0}]
[null,null,null,null,null,null,{"$f":"G646-G643","v":6},{"$f":"H646-H643","v":6},5,6,7,5,7,5,7,null,{"$f":"Q646-Q643","v":6},6,7,5,7,6,6,5,6]
[]
[]
[null,null,null,null,null,"Statistiques scores",null,"Eagle & moins",null,null,null,{"$f":"COUNTIF(G649:Y649,\"<=-2\")","v":0},"Par",null,{"$f":"COUNTIF(G649:Y649,\"=0\")","v":0},"Double bogey",null,null,null,null,{"$f":"COUNTIF(G649:Y649,\"=2\")","v":0}]
[null,null,null,null,null,null,null,"Birdie",null,null,null,{"$f":"COUNTIF(G649:Y649,\"=-1\")","v":0},"Bogey",null,{"$f":"COUNTIF(G649:Y649,\"=1\")","v":0},"Triple bogey & plus",null,null,null,null,{"$f":"COUNTIF(G649:Y649,\">=3\")","v":18}]
[null,null,null,null,null,null,null,{"$f":"M652","v":"Par"},null,null,null,{"$f":"O652","v":0}]
[null,null,null,null,null,null,null,{"$f":"M653","v":"Bogey"},null,null,null,{"$f":"O653","v":0}]
[null,null,null,null,null,null,null,{"$f":"P652","v":"Double bogey"},null,null,null,{"$f":"U652","v":0}]
[null,null,null,null,null,null,null,{"$f":"P653","v":"Triple bogey & plus"},null,null,null,{"$f":"U653","v":18}]
[]
[]
[]
[]
[null,null,null,null,null,"Nom",{"$f":"C34","v":0},null,null,null,null,"Slope",null,null,"SSS",null,"Coups reçus",null,null,null,null,null,null,null,null,"Date",{"$f":"$D$3","v":"00:00:00"}]
[null,null,null,null,null,"Index",{"$f":"E34","v":20},null,null,null,null,{"$f":"$F$3","v":133},null,null,{"$f":"$G$3","v":68.599999999999994},null,{"$f":"ROUND((G663*(L663/113)+(O663-AA666)),0)","v":20}]
[]
[null,null,null,null,null,"Trou",1,2,3,4,5,6,7,8,9,"Aller",10,11,12,13,14,15,16,17,18,"Retour","Total"]
[null,null,null,null,null,"PAR",{"$f":"G$7","v":4},{"$f":"H$7","v":4},5,4,3,5,3,5,3,{"$f":"SUM(G666:O666)","v":36},{"$f":"Q$7","v":4},4,3,5,3,4,4,5,4,{"$f":"SUM(Q666:Y666)","v":36},{"$f":"SUM(P666+Z666)","v":72}]
[null,null,null,null,null,"HCP trous",{"$f":"G$8","v":4},{"$f":"H$8","v":8},12,14,2,10,18,16,6,null,{"$f":"Q$8","v":1},9,11,5,17,15,3,13,7]
[null,null,null,null,null,"Coups reçus",{"$f":"IF($Q663<=18,IF(G667<=$Q663,1,0),IF($Q663<=36,IF(G667<=($Q663-18),2,1),IF($Q663>36,IF(G667<=($Q663-36),3,2))))","v":1},{"$f":"IF($Q663<=18,IF(H667<=$Q663,1,0),IF($Q663<=36,IF(H667<=($Q663-18),2,1),IF($Q663>36,IF(H667<=($Q663-36),3,2))))","v":1},1,1,2,1,1,1,1,{"$f":"SUM(G668:O668)","v":10},{"$f":"IF($Q663<=18,IF(Q667<=$Q663,1,0),IF($Q663<=36,IF(Q667<=($Q663-18),2,1),IF($Q663>36,IF(Q667<=($Q663-36),3,2))))","v":2},1,1,1,1,1,1,1,1,{"$f":"SUM(Q668:Y668)","v":10},{"$f":"P668+Z668","v":20}]
[null,null,null,null,null,"Stroke play",{"$f":"G34","v":10},10,10,10,10,10,10,10,10,{"$f":"SUM(G669:O669)","v":90},{"$f":"Q34","v":10},10,10,10,10,10,10,10,10,{"$f":"SUM(Q669:Y669)","v":90},{"$f":"P669+Z669","v":180}]
[null,null,null,null,null,"Net Stableford",{"$f":"IF(G669-G666=-1,3+G668)+IF(G669-G666=0,2+G668)+IF(G669-G666=1,1+G668)+IF(G669-G666=2,G668)+IF(G669-G666=3,IF(G668-1>0,G668-1,0))+IF(G669-G666=4,IF(G668-2>0,G668-2,0))","v":0},{"$f":"IF(H669-H666=-1,3+H668)+IF(H669-H666=0,2+H668)+IF(H669-H666=1,1+H668)+IF(H669-H666=2,H668)+IF(H669-H666=3,IF(H668-1>0,H668-1,0))+IF(H669-H666=4,IF(H668-2>0,H668-2,0))","v":0},0,0,0,0,0,0,0,{"$f":"SUM(G670:O670)","v":0},{"$f":"IF(Q669-Q666=-1,3+Q668)+IF(Q669-Q666=0,2+Q668)+IF(Q669-Q666=1,1+Q668)+IF(Q669-Q666=2,Q668)+IF(Q669-Q666=3,IF(Q668-1>0,Q668-1,0))+IF(Q669-Q666=4,IF(Q668-2>0,Q668-2,0))","v":0},0,0,0,0,0,0,0,0,{"$f":"SUM(Q670:Y670)","v":0},{"$f":"P670+Z670","v":0}]
[null,null,null,null,null,"Score Brut",{"$f":"IF(G669-G666=-2,4)+IF(G669-G666=-1,3)+IF(G669-G666=0,2)+IF(G669-G666=1,1)+IF(G669-G666>2,0)","v":0},0,0,0,0,0,0,0,0,{"$f":"SUM(G671:O671)","v":0},{"$f":"IF(Q669-Q666=-2,4)+IF(Q669-Q666=-1,3)+IF(Q669-Q666=0,2)+IF(Q669-Q666=1,1)+IF(Q669-Q666>2,0)","v":0},0,0,0,0,0,0,0,0,{"$f":"SUM(Q671:Y671)","v":0},{"$f":"P671+Z671","v":0}]
[null,null,null,null,null,null,{"$f":"G669-G666","v":6},{"$f":"H669-H666","v":6},5,6,7,5,7,5,7,null,{"$f":"Q669-Q666","v":6},6,7,5,7,6,6,5,6]
[]
[]
[null,null,null,null,null,"Statistiques scores",null,"Eagle & moins",null,null,null,{"$f":"COUNTIF(G672:Y672,\"<=-2\")","v":0},"Par",null,{"$f":"COUNTIF(G672:Y672,\"=0\")","v":0},"Double bogey",null,null,null,null,{"$f":"COUNTIF(G672:Y672,\"=2\")","v":0}]
[null,null,null,null,null,null,null,"Birdie",null,null,null,{"$f":"COUNTIF(G672:Y672,\"=-1\")","v":0},"Bogey",null,{"$f":"COUNTIF(G672:Y672,\"=1\")","v":0},"Triple bogey & plus",null,null,null,null,{"$f":"COUNTIF(G672:Y672,\">=3\")","v":18}]
[null,null,null,null,null,null,null,{"$f":"M675","v":"Par"},null,null,null,{"$f":"O675","v":0}]
[null,null,null,null,null,null,null,{"$f":"M676","v":"Bogey"},null,null,null,{"$f":"O676","v":0}]
[null,null,null,null,null,null,null,{"$f":"P675","v":"Double bogey"},null,null,null,{"$f":"U675","v":0}]
[null,null,null,null,null,null,null,{"$f":"P676","v":"Triple bogey & plus"},null,null,null,{"$f":"U676","v":18}]
[]
[]
[]
[]
[null,null,null,null,null,"Nom",{"$f":"C35","v":0},null,null,null,null,"Slope",null,null,"SSS",null,"Coups reçus",null,null,null,null,null,null,null,null,"Date",{"$f":"$D$3","v":"00:00:00"}]
[null,null,null,null,null,"Index",{"$f":"E35","v":20},null,null,null,null,{"$f":"$F$3","v":133},null,null,{"$f":"$G$3","v":68.599999999999994},null,{"$f":"ROUND((G686*(L686/113)+(O686-AA689)),0)","v":20}]
[]
[null,null,null,null,null,"Trou",1,2,3,4,5,6,7,8,9,"Aller",10,11,12,13,14,15,16,17,18,"Retour","Total"]
[null,null,null,null,null,"PAR",{"$f":"G$7","v":4},{"$f":"H$7","v":4},5,4,3,5,3,5,3,{"$f":"SUM(G689:O689)","v":36},{"$f":"Q$7","v":4},4,3,5,3,4,4,5,4,{"$f":"SUM(Q689:Y689)","v":36},{"$f":"SUM(P689+Z689)","v":72}]
[null,null,null,null,null,"HCP trous",{"$f":"G$8","v":4},{"$f":"H$8","v":8},12,14,2,10,18,16,6,null,{"$f":"Q$8","v":1},9,11,5,17,15,3,13,7]
[null,null,null,null,null,"Coups reçus",{"$f":"IF($Q686<=18,IF(G690<=$Q686,1,0),IF($Q686<=36,IF(G690<=($Q686-18),2,1),IF($Q686>36,IF(G690<=($Q686-36),3,2))))","v":1},{"$f":"IF($Q686<=18,IF(H690<=$Q686,1,0),IF($Q686<=36,IF(H690<=($Q686-18),2,1),IF($Q686>36,IF(H690<=($Q686-36),3,2))))","v":1},1,1,2,1,1,1,1,{"$f":"SUM(G691:O691)","v":10},{"$f":"IF($Q686<=18,IF(Q690<=$Q686,1,0),IF($Q686<=36,IF(Q690<=($Q686-18),2,1),IF($Q686>36,IF(Q690<=($Q686-36),3,2))))","v":2},1,1,1,1,1,1,1,1,{"$f":"SUM(Q691:Y691)","v":10},{"$f":"P691+Z691","v":20}]
[null,null,null,null,null,"Stroke play",{"$f":"G35","v":10},10,10,10,10,10,10,10,10,{"$f":"SUM(G692:O692)","v":90},{"$f":"Q35","v":10},10,10,10,10,10,10,10,10,{"$f":"SUM(Q692:Y692)","v":90},{"$f":"P692+Z692","v":180}]
[null,null,null,null,null,"Net Stableford",{"$f":"IF(G692-G689=-1,3+G691)+IF(G692-G689=0,2+G691)+IF(G692-G689=1,1+G691)+IF(G692-G689=2,G691)+IF(G692-G689=3,IF(G691-1>0,G691-1,0))+IF(G692-G689=4,IF(G691-2>0,G691-2,0))","v":0},{"$f":"IF(H692-H689=-1,3+H691)+IF(H692-H689=0,2+H691)+IF(H692-H689=1,1+H691)+IF(H692-H689=2,H691)+IF(H692-H689=3,IF(H691-1>0,H691-1,0))+IF(H692-H689=4,IF(H691-2>0,H691-2,0))","v":0},0,0,0,0,0,0,0,{"$f":"SUM(G693:O693)","v":0},{"$f":"IF(Q692-Q689=-1,3+Q691)+IF(Q692-Q689=0,2+Q691)+IF(Q692-Q689=1,1+Q691)+IF(Q692-Q689=2,Q691)+IF(Q692-Q689=3,IF(Q691-1>0,Q691-1,0))+IF(Q692-Q689=4,IF(Q691-2>0,Q691-2,0))","v":0},0,0,0,0,0,0,0,0,{"$f":"SUM(Q693:Y693)","v":0},{"$f":"P693+Z693","v":0}]
[null,null,null,null,null,"Score Brut",{"$f":"IF(G692-G689=-2,4)+IF(G692-G689=-1,3)+IF(G692-G689=0,2)+IF(G692-G689=1,1)+IF(G692-G689>2,0)","v":0},0,0,0,0,0,0,0,0,{"$f":"SUM(G694:O694)","v":0},{"$f":"IF(Q692-Q689=-2,4)+IF(Q692-Q689=-1,3)+IF(Q692-Q689=0,2)+IF(Q692-Q689=1,1)+IF(Q692-Q689>2,0)","v":0},0,0,0,0,0,0,0,0,{"$f":"SUM(Q694:Y694)","v":0},{"$f":"P694+Z694","v":0}]
[null,null,null,null,null,null,{"$f":"G692-G689","v":6},{"$f":"H692-H689","v":6},5,6,7,5,7,5,7,null,{"$f":"Q692-Q689","v":6},6,7,5,7,6,6,5,6]
[]
[]
[null,null,null,null,null,"Statistiques scores",null,"Eagle & moins",null,null,null,{"$f":"COUNTIF(G695:Y695,\"<=-2\")","v":0},"Par",null,{"$f":"COUNTIF(G695:Y695,\"=0\")","v":0},"Double bogey",null,null,null,null,{"$f":"COUNTIF(G695:Y695,\"=2\")","v":0}]
[null,null,null,null,null,null,null,"Birdie",null,null,null,{"$f":"COUNTIF(G695:Y695,\"=-1\")","v":0},"Bogey",null,{"$f":"COUNTIF(G695:Y695,\"=1\")","v":0},"Triple bogey & plus",null,null,null,null,{"$f":"COUNTIF(G695:Y695,\">=3\")","v":18}]
[null,null,null,null,null,null,null,{"$f":"M698","v":"Par"},null,null,null,{"$f":"O698","v":0}]
[null,null,null,null,null,null,null,{"$f":"M699","v":"Bogey"},null,null,null,{"$f":"O699","v":0}]
[null,null,null,null,null,null,null,{"$f":"P698","v":"Double bogey"},null,null,null,{"$f":"U698","v":0}]
[null,null,null,null,null,null,null,{"$f":"P699","v":"Triple bogey & plus"},null,null,null,{"$f":"U699","v":18}]
[]
[]
[]
[]
[null,null,null,null,null,"Nom",{"$f":"C36","v":0},null,null,null,null,"Slope",null,null,"SSS",null,"Coups reçus",null,null,null,null,null,null,null,null,"Date",{"$f":"$D$3","v":"00:00:00"}]
[null,null,null,null,null,"Index",{"$f":"E36","v":20},null,null,null,null,{"$f":"$F$3","v":133},null,null,{"$f":"$G$3","v":68.599999999999994},null,{"$f":"ROUND((G709*(L709/113)+(O709-AA712)),0)","v":20}]
[]
[null,null,null,null,null,"Trou",1,2,3,4,5,6,7,8,9,"Aller",10,11,12,13,14,15,16,17,18,"Retour","Total"]
[null,null,null,null,null,"PAR",{"$f":"G$7","v":4},{"$f":"H$7","v":4},5,4,3,5,3,5,3,{"$f":"SUM(G712:O712)","v":36},{"$f":"Q$7","v":4},4,3,5,3,4,4,5,4,{"$f":"SUM(Q712:Y712)","v":36},{"$f":"SUM(P712+Z712)","v":72}]
[null,null,null,null,null,"HCP trous",{"$f":"G$8","v":4},{"$f":"H$8","v":8},12,14,2,10,18,16,6,null,{"$f":"Q$8","v":1},9,11,5,17,15,3,13,7]
[null,null,null,null,null,"Coups reçus",{"$f":"IF($Q709<=18,IF(G713<=$Q709,1,0),IF($Q709<=36,IF(G713<=($Q709-18),2,1),IF($Q709>36,IF(G713<=($Q709-36),3,2))))","v":1},{"$f":"IF($Q709<=18,IF(H713<=$Q709,1,0),IF($Q709<=36,IF(H713<=($Q709-18),2,1),IF($Q709>36,IF(H713<=($Q709-36),3,2))))","v":1},1,1,2,1,1,1,1,{"$f":"SUM(G714:O714)","v":10},{"$f":"IF($Q709<=18,IF(Q713<=$Q709,1,0),IF($Q709<=36,IF(Q713<=($Q709-18),2,1),IF($Q709>36,IF(Q713<=($Q709-36),3,2))))","v":2},1,1,1,1,1,1,1,1,{"$f":"SUM(Q714:Y714)","v":10},{"$f":"P714+Z714","v":20}]
[null,null,null,null,null,"Stroke play",{"$f":"G36","v":10},10,10,10,10,10,10,10,10,{"$f":"SUM(G715:O715)","v":90},{"$f":"Q36","v":10},10,10,10,10,10,10,10,10,{"$f":"SUM(Q715:Y715)","v":90},{"$f":"P715+Z715","v":180}]
[null,null,null,null,null,"Net Stableford",{"$f":"IF(G715-G712=-1,3+G714)+IF(G715-G712=0,2+G714)+IF(G715-G712=1,1+G714)+IF(G715-G712=2,G714)+IF(G715-G712=3,IF(G714-1>0,G714-1,0))+IF(G715-G712=4,IF(G714-2>0,G714-2,0))","v":0},{"$f":"IF(H715-H712=-1,3+H714)+IF(H715-H712=0,2+H714)+IF(H715-H712=1,1+H714)+IF(H715-H712=2,H714)+IF(H715-H712=3,IF(H714-1>0,H714-1,0))+IF(H715-H712=4,IF(H714-2>0,H714-2,0))","v":0},0,0,0,0,0,0,0,{"$f":"SUM(G716:O716)","v":0},{"$f":"IF(Q715-Q712=-1,3+Q714)+IF(Q715-Q712=0,2+Q714)+IF(Q715-Q712=1,1+Q714)+IF(Q715-Q712=2,Q714)+IF(Q715-Q712=3,IF(Q714-1>0,Q714-1,0))+IF(Q715-Q712=4,IF(Q714-2>0,Q714-2,0))","v":0},0,0,0,0,0,0,0,0,{"$f":"SUM(Q716:Y716)","v":0},{"$f":"P716+Z716","v":0}]
[null,null,null,null,null,"Score Brut",{"$f":"IF(G715-G712=-2,4)+IF(G715-G712=-1,3)+IF(G715-G712=0,2)+IF(G715-G712=1,1)+IF(G715-G712>2,0)","v":0},0,0,0,0,0,0,0,0,{"$f":"SUM(G717:O717)","v":0},{"$f":"IF(Q715-Q712=-2,4)+IF(Q715-Q712=-1,3)+IF(Q715-Q712=0,2)+IF(Q715-Q712=1,1)+IF(Q715-Q712>2,0)","v":0},0,0,0,0,0,0,0,0,{"$f":"SUM(Q717:Y717)","v":0},{"$f":"P717+Z717","v":0}]
[null,null,null,null,null,null,{"$f":"G715-G712","v":6},{"$f":"H715-H712","v":6},5,6,7,5,7,5,7,null,{"$f":"Q715-Q712","v":6},6,7,5,7,6,6,5,6]
[]
[]
[null,null,null,null,null,"Statistiques scores",null,"Eagle & moins",null,null,null,{"$f":"COUNTIF(G718:Y718,\"<=-2\")","v":0},"Par",null,{"$f":"COUNTIF(G718:Y718,\"=0\")","v":0},"Double bogey",null,null,null,null,{"$f":"COUNTIF(G718:Y718,\"=2\")","v":0}]
[null,null,null,null,null,null,null,"Birdie",null,null,null,{"$f":"COUNTIF(G718:Y718,\"=-1\")","v":0},"Bogey",null,{"$f":"COUNTIF(G718:Y718,\"=1\")","v":0},"Triple bogey & plus",null,null,null,null,{"$f":"COUNTIF(G718:Y718,\">=3\")","v":18}]
[null,null,null,null,null,null,null,{"$f":"M721","v":"Par"},null,null,null,{"$f":"O721","v":0}]
[null,null,null,null,null,null,null,{"$f":"M722","v":"Bogey"},null,null,null,{"$f":"O722","v":0}]
[null,null,null,null,null,null,null,{"$f":"P721","v":"Double bogey"},null,null,null,{"$f":"U721","v":0}]
[null,null,null,null,null,null,null,{"$f":"P722","v":"Triple bogey & plus"},null,null,null,{"$f":"U722","v":18}]
[]
[]
[]
[]
[null,null,null,null,null,"Nom",{"$f":"C37","v":0},null,null,null,null,"Slope",null,null,"SSS",null,"Coups reçus",null,null,null,null,null,null,null,null,"Date",{"$f":"$D$3","v":"00:00:00"}]
[null,null,null,null,null,"Index",{"$f":"E37","v":20},null,null,null,null,{"$f":"$F$3","v":133},null,null,{"$f":"$G$3","v":68.599999999999994},null,{"$f":"ROUND((G732*(L732/113)+(O732-AA735)),0)","v":20}]
[]
[null,null,null,null,null,"Trou",1,2,3,4,5,6,7,8,9,"Aller",10,11,12,13,14,15,16,17,18,"Retour","Total"]
[null,null,null,null,null,"PAR",{"$f":"G$7","v":4},{"$f":"H$7","v":4},5,4,3,5,3,5,3,{"$f":"SUM(G735:O735)","v":36},{"$f":"Q$7","v":4},4,3,5,3,4,4,5,4,{"$f":"SUM(Q735:Y735)","v":36},{"$f":"SUM(P735+Z735)","v":72}]
[null,null,null,null,null,"HCP trous",{"$f":"G$8","v":4},{"$f":"H$8","v":8},12,14,2,10,18,16,6,null,{"$f":"Q$8","v":1},9,11,5,17,15,3,13,7]
[null,null,null,null,null,"Coups reçus",{"$f":"IF($Q732<=18,IF(G736<=$Q732,1,0),IF($Q732<=36,IF(G736<=($Q732-18),2,1),IF($Q732>36,IF(G736<=($Q732-36),3,2))))","v":1},{"$f":"IF($Q732<=18,IF(H736<=$Q732,1,0),IF($Q732<=36,IF(H736<=($Q732-18),2,1),IF($Q732>36,IF(H736<=($Q732-36),3,2))))","v":1},1,1,2,1,1,1,1,{"$f":"SUM(G737:O737)","v":10},{"$f":"IF($Q732<=18,IF(Q736<=$Q732,1,0),IF($Q732<=36,IF(Q736<=($Q732-18),2,1),IF($Q732>36,IF(Q736<=($Q732-36),3,2))))","v":2},1,1,1,1,1,1,1,1,{"$f":"SUM(Q737:Y737)","v":10},{"$f":"P737+Z737","v":20}]
[null,null,null,null,null,"Stroke play",{"$f":"G37","v":10},10,10,10,10,10,10,10,10,{"$f":"SUM(G738:O738)","v":90},{"$f":"Q37","v":10},10,10,10,10,10,10,10,10,{"$f":"SUM(Q738:Y738)","v":90},{"$f":"P738+Z738","v":180}]
[null,null,null,null,null,"Net Stableford",{"$f":"IF(G738-G735=-1,3+G737)+IF(G738-G735=0,2+G737)+IF(G738-G735=1,1+G737)+IF(G738-G735=2,G737)+IF(G738-G735=3,IF(G737-1>0,G737-1,0))+IF(G738-G735=4,IF(G737-2>0,G737-2,0))","v":0},{"$f":"IF(H738-H735=-1,3+H737)+IF(H738-H735=0,2+H737)+IF(H738-H735=1,1+H737)+IF(H738-H735=2,H737)+IF(H738-H735=3,IF(H737-1>0,H737-1,0))+IF(H738-H735=4,IF(H737-2>0,H737-2,0))","v":0},0,0,0,0,0,0,0,{"$f":"SUM(G739:O739)","v":0},{"$f":"IF(Q738-Q735=-1,3+Q737)+IF(Q738-Q735=0,2+Q737)+IF(Q738-Q735=1,1+Q737)+IF(Q738-Q735=2,Q737)+IF(Q738-Q735=3,IF(Q737-1>0,Q737-1,0))+IF(Q738-Q735=4,IF(Q737-2>0,Q737-2,0))","v":0},0,0,0,0,0,0,0,0,{"$f":"SUM(Q739:Y739)","v":0},{"$f":"P739+Z739","v":0}]
[null,null,null,null,null,"Score Brut",{"$f":"IF(G738-G735=-2,4)+IF(G738-G735=-1,3)+IF(G738-G735=0,2)+IF(G738-G735=1,1)+IF(G738-G735>2,0)","v":0},0,0,0,0,0,0,0,0,{"$f":"SUM(G740:O740)","v":0},{"$f":"IF(Q738-Q735=-2,4)+IF(Q738-Q735=-1,3)+IF(Q738-Q735=0,2)+IF(Q738-Q735=1,1)+IF(Q738-Q735>2,0)","v":0},0,0,0,0,0,0,0,0,{"$f":"SUM(Q740:Y740)","v":0},{"$f":"P740+Z740","v":0}]
[null,null,null,null,null,null,{"$f":"G738-G735","v":6},{"$f":"H738-H735","v":6},5,6,7,5,7,5,7,null,{"$f":"Q738-Q735","v":6},6,7,5,7,6,6,5,6]
[]
[]
[null,null,null,null,null,"Statistiques scores",null,"Eagle & moins",null,null,null,{"$f":"COUNTIF(G741:Y741,\"<=-2\")","v":0},"Par",null,{"$f":"COUNTIF(G741:Y741,\"=0\")","v":0},"Double bogey",null,null,null,null,{"$f":"COUNTIF(G741:Y741,\"=2\")","v":0}]
[null,null,null,null,null,null,null,"Birdie",null,null,null,{"$f":"COUNTIF(G741:Y741,\"=-1\")","v":0},"Bogey",null,{"$f":"COUNTIF(G741:Y741,\"=1\")","v":0},"Triple bogey & plus",null,null,null,null,{"$f":"COUNTIF(G741:Y741,\">=3\")","v":18}]
[null,null,null,null,null,null,null,{"$f":"M744","v":"Par"},null,null,null,{"$f":"O744","v":0}]
[null,null,null,null,null,null,null,{"$f":"M745","v":"Bogey"},null,null,null,{"$f":"O745","v":0}]
[null,null,null,null,null,null,null,{"$f":"P744","v":"Double bogey"},null,null,null,{"$f":"U744","v":0}]
[null,null,null,null,null,null,null,{"$f":"P745","v":"Triple bogey & plus"},null,null,null,{"$f":"U745","v":18}]
[]
[]
[]
[]
[null,null,null,null,null,"Nom",{"$f":"C38","v":0},null,null,null,null,"Slope",null,null,"SSS",null,"Coups reçus",null,null,null,null,null,null,null,null,"Date",{"$f":"$D$3","v":"00:00:00"}]
[null,null,null,null,null,"Index",{"$f":"E38","v":20},null,null,null,null,{"$f":"$F$3","v":133},null,null,{"$f":"$G$3","v":68.599999999999994},null,{"$f":"ROUND((G755*(L755/113)+(O755-AA758)),0)","v":20}]
[]
[null,null,null,null,null,"Trou",1,2,3,4,5,6,7,8,9,"Aller",10,11,12,13,14,15,16,17,18,"Retour","Total"]
[null,null,null,null,null,"PAR",{"$f":"G$7","v":4},{"$f":"H$7","v":4},5,4,3,5,3,5,3,{"$f":"SUM(G758:O758)","v":36},{"$f":"Q$7","v":4},4,3,5,3,4,4,5,4,{"$f":"SUM(Q758:Y758)","v":36},{"$f":"SUM(P758+Z758)","v":72}]
[null,null,null,null,null,"HCP trous",{"$f":"G$8","v":4},{"$f":"H$8","v":8},12,14,2,10,18,16,6,null,{"$f":"Q$8","v":1},9,11,5,17,15,3,13,7]
[null,null,null,null,null,"Coups reçus",{"$f":"IF($Q755<=18,IF(G759<=$Q755,1,0),IF($Q755<=36,IF(G759<=($Q755-18),2,1),IF($Q755>36,IF(G759<=($Q755-36),3,2))))","v":1},{"$f":"IF($Q755<=18,IF(H759<=$Q755,1,0),IF($Q755<=36,IF(H759<=($Q755-18),2,1),IF($Q755>36,IF(H759<=($Q755-36),3,2))))","v":1},1,1,2,1,1,1,1,{"$f":"SUM(G760:O760)","v":10},{"$f":"IF($Q755<=18,IF(Q759<=$Q755,1,0),IF($Q755<=36,IF(Q759<=($Q755-18),2,1),IF($Q755>36,IF(Q759<=($Q755-36),3,2))))","v":2},1,1,1,1,1,1,1,1,{"$f":"SUM(Q760:Y760)","v":10},{"$f":"P760+Z760","v":20}]
[null,null,null,null,null,"Stroke play",{"$f":"G38","v":10},10,10,10,10,10,10,10,10,{"$f":"SUM(G761:O761)","v":90},{"$f":"Q38","v":10},10,10,10,10,10,10,10,10,{"$f":"SUM(Q761:Y761)","v":90},{"$f":"P761+Z761","v":180}]
[null,null,null,null,null,"Net Stableford",{"$f":"IF(G761-G758=-1,3+G760)+IF(G761-G758=0,2+G760)+IF(G761-G758=1,1+G760)+IF(G761-G758=2,G760)+IF(G761-G758=3,IF(G760-1>0,G760-1,0))+IF(G761-G758=4,IF(G760-2>0,G760-2,0))","v":0},{"$f":"IF(H761-H758=-1,3+H760)+IF(H761-H758=0,2+H760)+IF(H761-H758=1,1+H760)+IF(H761-H758=2,H760)+IF(H761-H758=3,IF(H760-1>0,H760-1,0))+IF(H761-H758=4,IF(H760-2>0,H760-2,0))","v":0},0,0,0,0,0,0,0,{"$f":"SUM(G762:O762)","v":0},{"$f":"IF(Q761-Q758=-1,3+Q760)+IF(Q761-Q758=0,2+Q760)+IF(Q761-Q758=1,1+Q760)+IF(Q761-Q758=2,Q760)+IF(Q761-Q758=3,IF(Q760-1>0,Q760-1,0))+IF(Q761-Q758=4,IF(Q760-2>0,Q760-2,0))","v":0},0,0,0,0,0,0,0,0,{"$f":"SUM(Q762:Y762)","v":0},{"$f":"P762+Z762","v":0}]
[null,null,null,null,null,"Score Brut",{"$f":"IF(G761-G758=-2,4)+IF(G761-G758=-1,3)+IF(G761-G758=0,2)+IF(G761-G758=1,1)+IF(G761-G758>2,0)","v":0},0,0,0,0,0,0,0,0,{"$f":"SUM(G763:O763)","v":0},{"$f":"IF(Q761-Q758=-2,4)+IF(Q761-Q758=-1,3)+IF(Q761-Q758=0,2)+IF(Q761-Q758=1,1)+IF(Q761-Q758>2,0)","v":0},0,0,0,0,0,0,0,0,{"$f":"SUM(Q763:Y763)","v":0},{"$f":"P763+Z763","v":0}]
[null,null,null,null,null,null,{"$f":"G761-G758","v":6},{"$f":"H761-H758","v":6},5,6,7,5,7,5,7,null,{"$f":"Q761-Q758","v":6},6,7,5,7,6,6,5,6]
[]
[]
[null,null,null,null,null,"Statistiques scores",null,"Eagle & moins",null,null,null,{"$f":"COUNTIF(G764:Y764,\"<=-2\")","v":0},"Par",null,{"$f":"COUNTIF(G764:Y764,\"=0\")","v":0},"Double bogey",null,null,null,null,{"$f":"COUNTIF(G764:Y764,\"=2\")","v":0}]
[null,null,null,null,null,null,null,"Birdie",null,null,null,{"$f":"COUNTIF(G764:Y764,\"=-1\")","v":0},"Bogey",null,{"$f":"COUNTIF(G764:Y764,\"=1\")","v":0},"Triple bogey & plus",null,null,null,null,{"$f":"COUNTIF(G764:Y764,\">=3\")","v":18}]
[null,null,null,null,null,null,null,{"$f":"M767","v":"Par"},null,null,null,{"$f":"O767","v":0}]
[null,null,null,null,null,null,null,{"$f":"M768","v":"Bogey"},null,null,null,{"$f":"O768","v":0}]
[null,null,null,null,null,null,null,{"$f":"P767","v":"Double bogey"},null,null,null,{"$f":"U767","v":0}]
[null,null,null,null,null,null,null,{"$f":"P768","v":"Triple bogey & plus"},null,null,null,{"$f":"U768","v":18}]

{"sheet":"Allocation Points","index":12,"n_rows":32,"n_cols":33,"rows_kept":32,"cut":false,"hidden":false,"merged":[[0,3,0,9]]}
[null,null,null,"Nb de participants avec le même rang"]
[null,"Rang","Points",1,2,3,4,5,6,7,8,9,10,11,12,13,14,15,16,17,18,19,20,21,22,23,24,25,26,27,28,29,30]
[null,1,30,{"$f":"C3","v":30},{"$f":"ROUNDDOWN((C3+C4)/2,0)","v":27},{"$f":"ROUNDDOWN((C3+C4+C5)/3,0)","v":25},{"$f":"ROUNDDOWN((C3+C4+C5+C6)/4,0)","v":22},{"$f":"ROUNDDOWN(SUM(C3:C7)/5,0)","v":20},{"$f":"ROUNDDOWN(SUM(C3:C8)/6,0)","v":18},{"$f":"ROUNDDOWN(SUM(C3:C9)/7,0)","v":16},{"$f":"ROUNDDOWN(SUM(C3:C10)/8,0)","v":15},{"$f":"ROUNDDOWN(SUM(C3:C11)/9,0)","v":14},{"$f":"ROUNDDOWN(SUM(C3:C12)/10,0)","v":13},{"$f":"ROUNDDOWN(SUM(C3:C13)/11,0)","v":12},{"$f":"ROUNDDOWN(SUM(C3:C14)/12,0)","v":11},{"$f":"ROUNDDOWN(SUM(C3:C15)/13,0)","v":11},{"$f":"ROUNDDOWN(SUM(C3:C16)/14,0)","v":10},{"$f":"ROUNDDOWN(SUM(C3:C17)/15,0)","v":9},{"$f":"ROUNDDOWN(SUM(C3:C18)/S$2,0)","v":9},{"$f":"ROUNDDOWN(SUM(C3:C19)/T$2,0)","v":8},{"$f":"ROUNDDOWN(SUM(C3:C20)/U$2,0)","v":8},{"$f":"ROUNDDOWN(SUM(C3:C21)/V$2,0)","v":7},{"$f":"ROUNDDOWN(SUM(C3:C22)/W$2,0)","v":7},{"$f":"ROUNDDOWN(SUM(C3:C23)/X$2,0)","v":7},{"$f":"ROUNDDOWN(SUM(C3:C24)/Y$2,0)","v":6},{"$f":"ROUNDDOWN(SUM(C3:C25)/Z$2,0)","v":6},{"$f":"ROUNDDOWN(SUM(C3:C26)/AA$2,0)","v":6},{"$f":"ROUNDDOWN(SUM(C3:C27)/AB$2,0)","v":6},{"$f":"ROUNDDOWN(SUM(C3:C28)/AC$2,0)","v":6},{"$f":"ROUNDDOWN(SUM(C3:C29)/AD$2,0)","v":5},{"$f":"ROUNDDOWN(SUM(C3:C30)/AE$2,0)","v":5},{"$f":"ROUNDDOWN(SUM(C3:C31)/AF$2,0)","v":5},{"$f":"ROUNDDOWN(SUM(C3:C32)/AG$2,0)","v":5}]
[null,2,25,{"$f":"C4","v":25},{"$f":"ROUNDDOWN((C4+C5)/2,0)","v":22},{"$f":"ROUNDDOWN((C4+C5+C6)/3,0)","v":20},{"$f":"ROUNDDOWN((C4+C5+C6+C7)/4,0)","v":17},{"$f":"ROUNDDOWN(SUM(C4:C8)/5,0)","v":15},{"$f":"ROUNDDOWN(SUM(C4:C9)/6,0)","v":14},{"$f":"ROUNDDOWN(SUM(C4:C10)/7,0)","v":13},{"$f":"ROUNDDOWN(SUM(C4:C11)/8,0)","v":12},{"$f":"ROUNDDOWN(SUM(C4:C12)/9,0)","v":11},{"$f":"ROUNDDOWN(SUM(C4:C13)/10,0)","v":10},{"$f":"ROUNDDOWN(SUM(C4:C14)/11,0)","v":10},{"$f":"ROUNDDOWN(SUM(C4:C15)/12,0)","v":9},{"$f":"ROUNDDOWN(SUM(C4:C16)/13,0)","v":8},{"$f":"ROUNDDOWN(SUM(C4:C17)/14,0)","v":8},{"$f":"ROUNDDOWN(SUM(C4:C18)/15,0)","v":7},{"$f":"ROUNDDOWN(SUM(C4:C19)/S$2,0)","v":7},{"$f":"ROUNDDOWN(SUM(C4:C20)/T$2,0)","v":7},{"$f":"ROUNDDOWN(SUM(C4:C21)/U$2,0)","v":6},{"$f":"ROUNDDOWN(SUM(C4:C22)/V$2,0)","v":6},{"$f":"ROUNDDOWN(SUM(C4:C23)/W$2,0)","v":6},{"$f":"ROUNDDOWN(SUM(C4:C24)/X$2,0)","v":5},{"$f":"ROUNDDOWN(SUM(C4:C25)/Y$2,0)","v":5},{"$f":"ROUNDDOWN(SUM(C4:C26)/Z$2,0)","v":5},{"$f":"ROUNDDOWN(SUM(C4:C27)/AA$2,0)","v":5},{"$f":"ROUNDDOWN(SUM(C4:C28)/AB$2,0)","v":5},{"$f":"ROUNDDOWN(SUM(C4:C29)/AC$2,0)","v":4},{"$f":"ROUNDDOWN(SUM(C4:C30)/AD$2,0)","v":4},{"$f":"ROUNDDOWN(SUM(C4:C31)/AE$2,0)","v":4},{"$f":"ROUNDDOWN(SUM(C4:C32)/AF$2,0)","v":4},{"$f":"ROUNDDOWN(SUM(C4:C33)/AG$2,0)","v":4}]
[null,3,20,20,17,15,13,12,11,10,10,9,8,8,7,7,6,6,5,5,5,5,4,4,4,4,4,4,4,3,3,3,3]
[null,4,15,15,12,11,10,9,9,8,8,7,6,6,5,5,5,4,4,4,4,4,3,3,3,3,3,3,3,3,3,2,2]
[null,5,10,10,9,9,8,8,7,7,6,6,5,5,4,4,4,4,3,3,3,3,3,3,3,2,2,2,2,2,2,2,2]
[null,6,9,9,8,8,7,7,6,6,5,5,4,4,4,3,3,3,3,3,3,2,2,2,2,2,2,2,2,2,2,2,2]
[null,7,8,8,7,7,6,6,5,5,4,4,3,3,3,3,3,2,2,2,2,2,2,2,2,2,2,2,2,1,1,1,1]
[null,8,7,7,6,6,5,5,4,4,3,3,3,2,2,2,2,2,2,2,2,2,2,2,1,1,1,1,1,1,1,1,1]
[null,9,6,6,5,5,4,4,3,3,2,2,2,2,2,2,2,2,1,1,1,1,1,1,1,1,1,1,1,1,1,1,1]
[null,10,5,5,4,4,3,3,2,2,2,2,2,1,1,1,1,1,1,1,1,1,1,1,1,1,1,1,1,1,1,1,1]
[null,11,4,4,3,3,2,2,2,1,1,1,1,1,1,1,1,1,1,1,1,1,1,1,1,1,1,1,1,1,1,1,1]
[null,12,3,3,2,2,1,1,1,1,1,1,1,1,1,1,1,1,1,1,1,1,1,1,1,1,1,1,1,1,1,1,1]
[null,13,2,2,1,1,1,1,1,1,1,1,1,1,1,1,1,1,1,1,1,1,1,1,1,1,1,1,1,1,1,1,1]
[null,14,1,1,1,1,1,1,1,1,1,1,1,1,1,1,1,1,1,1,1,1,1,1,1,1,1,1,1,1,1,1,1]
[null,15,1,1,1,1,1,1,1,1,1,1,1,1,1,1,1,1,1,1,1,1,1,1,1,1,1,1,1,1,1,1,1]
[null,16,1,1,1,1,1,1,1,1,1,1,1,1,1,1,1,1,1,1,1,1,1,1,1,1,1,1,1,1,1,1,1]
[null,17,1,1,1,1,1,1,1,1,1,1,1,1,1,1,1,1,1,1,1,1,1,1,1,1,1,1,1,1,1,1,1]
[null,18,1,1,1,1,1,1,1,1,1,1,1,1,1,1,1,1,1,1,1,1,1,1,1,1,1,1,1,1,1,1,1]
[null,19,1,1,1,1,1,1,1,1,1,1,1,1,1,1,1,1,1,1,1,1,1,1,1,1,1,1,1,1,1,1,1]
[null,20,1,1,1,1,1,1,1,1,1,1,1,1,1,1,1,1,1,1,1,1,1,1,1,1,1,1,1,1,1,1,1]
[null,21,1,1,1,1,1,1,1,1,1,1,1,1,1,1,1,1,1,1,1,1,1,1,1,1,1,1,1,1,1,1,1]
[null,22,1,1,1,1,1,1,1,1,1,1,1,1,1,1,1,1,1,1,1,1,1,1,1,1,1,1,1,1,1,1,1]
[null,23,1,1,1,1,1,1,1,1,1,1,1,1,1,1,1,1,1,1,1,1,1,1,1,1,1,1,1,1,1,1,1]
[null,24,1,1,1,1,1,1,1,1,1,1,1,1,1,1,1,1,1,1,1,1,1,1,1,1,1,1,1,1,1,1,1]
[null,25,1,1,1,1,1,1,1,1,1,1,1,1,1,1,1,1,1,1,1,1,1,1,1,1,1,1,1,1,1,1,1]
[null,26,1,1,1,1,1,1,1,1,1,1,1,1,1,1,1,1,1,1,1,1,1,1,1,1,1,1,1,1,1,1,1]
[null,27,1,1,1,1,1,1,1,1,1,1,1,1,1,1,1,1,1,1,1,1,1,1,1,1,1,1,1,1,1,1,1]
[null,28,1,1,1,1,1,1,1,1,1,1,1,1,1,1,1,1,1,1,1,1,1,1,1,1,1,1,1,1,1,1,1]
[null,29,1,1,1,1,1,1,1,1,1,1,1,1,1,1,1,1,1,1,1,1,1,1,1,1,1,1,1,1,1,1,1]
[null,30,1,1,1,1,1,1,1,1,1,1,1,1,1,1,1,1,1,1,1,1,1,1,1,1,1,1,1,1,1,1,1]